{"text_format":"3","workbook":"xlsx","n_sheets":3,"sheets":["Дашборд","Данные","Расчеты"],"not_rendered":{"charts":5,"images":2,"macros":1,"defined_names":21},"read":"whole","date_system":"1900"}

{"sheet":"Дашборд","index":0,"n_rows":23,"n_cols":18,"rows_kept":23,"merged":[[5,7,5,8],[5,10,5,11],[5,13,5,14],[15,5,15,14]]}
[]
[{"$nulls":16},"Начало 4-недельного периода","2013-08-30"]
[]
[]
[]
[{"$nulls":3},"Звонков",null,"Тренд",null,"Длительность звонков",null,null,"Индекс решения",null,null,"Удовлетворенность",null,null,"Доп продажи","Конверсия"]
[]
[null,"Итого",null,{"$f":"Расчеты!C38","v":{"v":8170,"d":"8,170"}},{"$nulls":3},{"$f":"Расчеты!F38","v":75},"сек",null,{"$f":"L8","v":{"v":0.9504283965728274,"d":"95%"}},{"$f":"Расчеты!I38","v":{"v":0.9504283965728274,"d":"95%"}},null,{"$f":"Расчеты!L38","v":{"v":2.993096695226438,"d":"2.99"}},null,null,{"$f":"Расчеты!O39","v":"29604.9 т.р."},{"$f":"Расчеты!O42","v":{"v":0.6037943696450428,"d":"60%"}}]
[]
[null,{"$f":"Расчеты!E4","v":"Софт"},null,{"$f":"Расчеты!D38","v":{"v":1347,"d":"1,347"}},{"$nulls":3},{"$f":"Расчеты!G38","v":75},"сек",null,{"$f":"L10","v":{"v":0.9561989606533037,"d":"96%"}},{"$f":"Расчеты!J38","v":{"v":0.9561989606533037,"d":"95.6%"}},null,{"$f":"Расчеты!M38","v":{"v":3.0223459539717896,"d":"3.02"}},null,null,{"$f":"Расчеты!P39","v":"4805.7 т.р."},{"$f":"Расчеты!P42","v":{"v":0.5976243504083147,"d":"60%"}}]
[]
[null,{"$f":"Расчеты!G4","v":"Ноутбук"},null,{"$f":"Расчеты!E38","v":{"v":1351,"d":"1,351"}},{"$nulls":3},{"$f":"Расчеты!H38","v":75},"сек",null,{"$f":"L12","v":{"v":0.9533678756476683,"d":"95%"}},{"$f":"Расчеты!K38","v":{"v":0.9533678756476683,"d":"95.3%"}},null,{"$f":"Расчеты!N38","v":{"v":2.9918578830495925,"d":"2.99"}},null,null,{"$f":"Расчеты!Q39","v":"4718.4 т.р."},{"$f":"Расчеты!Q42","v":{"v":0.5958549222797928,"d":"60%"}}]
[{"$nulls":14},"1 2 3 4 5"]
[]
[]
[]
[]
[null,{"$f":"Расчеты!B65","v":"Монитор"},null,{"$f":"Расчеты!D65","v":"13,84 звонков"},{"$nulls":12},{"$f":"B18","v":"Монитор"},{"$f":"D18","v":"13,84 звонков"}]
[null,{"$f":"Расчеты!B66","v":"Персональный ПК"},null,{"$f":"Расчеты!D66","v":"13,47"},{"$nulls":12},"Персональный ПК","13,47"]
[null,{"$f":"Расчеты!B67","v":"Ноутбук"},null,{"$f":"Расчеты!D67","v":"13,51"},{"$nulls":12},"Ноутбук","13,51"]
[null,{"$f":"Расчеты!B68","v":"Аксессуары"},null,{"$f":"Расчеты!D68","v":"13,47"},{"$nulls":12},"Аксессуары","13,47"]
[null,{"$f":"Расчеты!B69","v":"Софт"},null,{"$f":"Расчеты!D69","v":"13,47"},{"$nulls":12},"Софт","13,47"]
[null,{"$f":"Расчеты!B70","v":"Другое"},null,{"$f":"Расчеты!D70","v":"13,94"},{"$nulls":12},{"$f":"B23","v":"Другое"},{"$f":"D23","v":"13,94"}]

{"sheet":"Данные","index":1,"n_rows":14837,"n_cols":16,"rows_kept":4500,"cut":true,"bounds":{"rows_first":2000,"rows_last":500,"rows_between":2000,"halvings":0}}
[null,"Данные"]
[]
[]
[{"$nulls":6},"Секунды","Да/ Нет",null,"Сумма (0, если нет доп продаж)",null,null,"Мета данные"]
[null,"Звонок ID","Дата/Время","Категория продукта","Регион","Категория клиента","Длительность звонка","Решен","Индекс удовлетворенности","Доп продажи","Агент",null,"Продукт","Регион","Категории клиент","Агент"]
[null,"CL00001","2013-08-27T09:01:23.047","Персональный ПК","Центр","Частные клиенты",94,"Да",3.2,{"v":5100,"d":"5,100р."},"Колин Фаррел",null,"Монитор","Север","Корпорация","Колин Фаррел"]
[null,"CL00002","2013-08-27T09:01:59.806","Ноутбук","Запад","Малый бизнес",83,"Да",2.4,{"v":7500,"d":"7,500р."},"Чак Норрис",null,"Персональный ПК","Юг","Малый бизнес","Чак Норрис"]
[null,"CL00003","2013-08-27T09:04:33.505","Другое","Север","Частные клиенты",76,"Да",2.7,{"v":4800,"d":"4,800р."},"Джеки Чан",null,"Ноутбук","Восток","Частные клиенты","Джеки Чан"]
[null,"CL00004","2013-08-27T09:09:29.428","Другое","Запад","Корпорация",76,"Нет",2.7,{"v":5100,"d":"5,100р."},"Бред Питт",null,"Аксессуары","Центр","Некоммерческие","Бред Питт"]
[null,"CL00005","2013-08-27T09:12:48.293","Ноутбук","Восток","Малый бизнес",67,"Да",2.7,0,"Джеки Чан",null,"Софт","Запад",{"$f":"NA()","v":{"$error":"#N/A"}},"Джонни Депп"]
[null,"CL00006","2013-08-27T09:17:48.923","Монитор","Восток","Малый бизнес",62,"Да",2.9,{"v":7200,"d":"7,200р."},"Джеки Чан",null,"Другое",{"$f":"NA()","v":{"$error":"#N/A"}},{"$f":"NA()","v":{"$error":"#N/A"}},"Уилл Смит"]
[null,"CL00007","2013-08-27T09:21:22.993","Другое","Запад","Малый бизнес",84,"Да",3.2,0,"Чак Норрис"]
[null,"CL00008","2013-08-27T09:23:46.368","Ноутбук","Центр","Малый бизнес",63,"Да",2.2,{"v":3600,"d":"3,600р."},"Джеки Чан"]
[null,"CL00009","2013-08-27T09:24:41.998","Монитор","Север","Малый бизнес",81,"Да",3.2,{"v":4800,"d":"4,800р."},"Чак Норрис",null,"Подвал"]
[null,"CL00010","2013-08-27T09:29:22.992","Персональный ПК","Север","Некоммерческие",79,"Да",3.5,{"v":8700,"d":"8,700р."},"Джеки Чан",null,"Дашборд подготовлен сайтом Exceltip.ru,"]
[null,"CL00011","2013-08-27T09:34:45.825","Ноутбук","Центр","Корпорация",63,"Да",3.4,0,"Джонни Депп"]
[null,"CL00012","2013-08-27T09:34:46.251","Персональный ПК","Юг","Корпорация",75,"Да",3.3,{"v":6900,"d":"6,900р."},"Джонни Депп"]
[null,"CL00013","2013-08-27T09:39:01.107","Софт","Центр","Малый бизнес",67,"Да",{"v":4,"d":"4.0"},{"v":6000,"d":"6,000р."},"Бред Питт"]
[null,"CL00014","2013-08-27T09:39:31.335","Софт","Юг","Частные клиенты",86,"Да",3.4,{"v":7500,"d":"7,500р."},"Бред Питт"]
[null,"CL00015","2013-08-27T09:41:24.766","Монитор","Центр","Некоммерческие",90,"Да",3.4,0,"Джонни Депп"]
[null,"CL00016","2013-08-27T09:44:55.464","Аксессуары","Восток","Некоммерческие",77,"Да",2.3,{"v":5700,"d":"5,700р."},"Уилл Смит"]
[null,"CL00017","2013-08-27T09:46:03.784","Ноутбук","Запад","Некоммерческие",87,"Нет",2.4,{"v":6000,"d":"6,000р."},"Уилл Смит"]
[null,"CL00018","2013-08-27T09:51:06.743","Софт","Восток","Частные клиенты",69,"Да",3.2,{"v":7200,"d":"7,200р."},"Чак Норрис"]
[null,"CL00019","2013-08-27T09:54:37.798","Другое","Север","Частные клиенты",76,"Да",2.4,{"v":6000,"d":"6,000р."},"Джеки Чан"]
[null,"CL00020","2013-08-27T09:57:39.830","Софт","Восток","Некоммерческие",87,"Да",3.3,{"v":5100,"d":"5,100р."},"Уилл Смит"]
[null,"CL00021","2013-08-27T09:58:33.159","Ноутбук","Центр","Частные клиенты",86,"Да",3.1,{"v":4500,"d":"4,500р."},"Чак Норрис"]
[null,"CL00022","2013-08-27T10:02:51.245","Софт","Восток","Корпорация",79,"Да",2.5,{"v":5100,"d":"5,100р."},"Джеки Чан"]
[null,"CL00023","2013-08-27T10:05:54.040","Другое","Север","Некоммерческие",65,"Да",2.4,{"v":6300,"d":"6,300р."},"Уилл Смит"]
[null,"CL00024","2013-08-27T10:09:30.895","Ноутбук","Восток","Малый бизнес",77,"Да",2.8,{"v":6000,"d":"6,000р."},"Бред Питт"]
[null,"CL00025","2013-08-27T10:14:09.833","Софт","Юг","Некоммерческие",82,"Да",3.9,{"v":7200,"d":"7,200р."},"Бред Питт"]
[null,"CL00026","2013-08-27T10:15:54.571","Софт","Юг","Малый бизнес",76,"Да",3.4,{"v":4500,"d":"4,500р."},"Джонни Депп"]
[null,"CL00027","2013-08-27T10:20:40.022","Персональный ПК","Север","Малый бизнес",76,"Да",2.8,0,"Уилл Смит"]
[null,"CL00028","2013-08-27T10:21:00.415","Софт","Восток","Корпорация",83,"Да",2.6,{"v":6000,"d":"6,000р."},"Бред Питт"]
[null,"CL00029","2013-08-27T10:26:12.901","Ноутбук","Север","Некоммерческие",78,"Да",3.8,{"v":8400,"d":"8,400р."},"Джеки Чан"]
[null,"CL00030","2013-08-27T10:27:28","Персональный ПК","Центр","Корпорация",75,"Да",3.8,{"v":7500,"d":"7,500р."},"Чак Норрис"]
[null,"CL00031","2013-08-27T10:28:32.710","Ноутбук","Восток","Частные клиенты",69,"Да",2.8,{"v":4200,"d":"4,200р."},"Джонни Депп"]
[null,"CL00032","2013-08-27T10:32:34.270","Ноутбук","Север","Частные клиенты",82,"Да",3.6,0,"Колин Фаррел"]
[null,"CL00033","2013-08-27T10:32:51.428","Аксессуары","Север","Корпорация",66,"Да",{"v":4,"d":"4.0"},0,"Джеки Чан"]
[null,"CL00034","2013-08-27T10:36:33.024","Другое","Восток","Малый бизнес",77,"Да",2.9,0,"Джонни Депп"]
[null,"CL00035","2013-08-27T10:41:03.994","Монитор","Север","Корпорация",69,"Да",3.6,{"v":6600,"d":"6,600р."},"Уилл Смит"]
[null,"CL00036","2013-08-27T10:41:06.347","Монитор","Центр","Частные клиенты",75,"Да",2.9,{"v":5400,"d":"5,400р."},"Уилл Смит"]
[null,"CL00037","2013-08-27T10:44:24.884","Монитор","Центр","Частные клиенты",77,"Да",2.3,0,"Уилл Смит"]
[null,"CL00038","2013-08-27T10:45:27.803","Аксессуары","Восток","Некоммерческие",78,"Да",3.2,0,"Джеки Чан"]
[null,"CL00039","2013-08-27T10:46:22.383","Монитор","Запад","Корпорация",82,"Да",2.8,{"v":7800,"d":"7,800р."},"Джонни Депп"]
[null,"CL00040","2013-08-27T10:48:50.529","Персональный ПК","Запад","Некоммерческие",56,"Да",{"v":3,"d":"3.0"},{"v":7200,"d":"7,200р."},"Чак Норрис"]
[null,"CL00041","2013-08-27T10:52:44.157","Аксессуары","Юг","Корпорация",86,"Да",{"v":4,"d":"4.0"},{"v":5700,"d":"5,700р."},"Чак Норрис"]
[null,"CL00042","2013-08-27T10:55:29.119","Софт","Север","Частные клиенты",66,"Да",2.8,0,"Чак Норрис"]
[null,"CL00043","2013-08-27T11:00:23.095","Персональный ПК","Центр","Корпорация",96,"Да",2.8,{"v":5700,"d":"5,700р."},"Уилл Смит"]
[null,"CL00044","2013-08-27T11:03:02.252","Другое","Центр","Малый бизнес",60,"Да",2.7,0,"Колин Фаррел"]
[null,"CL00045","2013-08-27T11:06:11.481","Софт","Центр","Некоммерческие",70,"Да",3.8,{"v":5400,"d":"5,400р."},"Чак Норрис"]
[null,"CL00046","2013-08-27T11:07:28.767","Ноутбук","Запад","Некоммерческие",78,"Да",2.1,{"v":8400,"d":"8,400р."},"Чак Норрис"]
[null,"CL00047","2013-08-27T11:10:19","Ноутбук","Юг","Частные клиенты",74,"Да",3.5,{"v":5700,"d":"5,700р."},"Колин Фаррел"]
[null,"CL00048","2013-08-27T11:14:47.903","Ноутбук","Юг","Корпорация",79,"Да",2.9,{"v":4800,"d":"4,800р."},"Бред Питт"]
[null,"CL00049","2013-08-27T11:17:49.645","Другое","Запад","Малый бизнес",76,"Да",{"v":3,"d":"3.0"},{"v":2700,"d":"2,700р."},"Чак Норрис"]
[null,"CL00050","2013-08-27T11:18:39.436","Персональный ПК","Центр","Частные клиенты",72,"Да",1.9,0,"Джонни Депп"]
[null,"CL00051","2013-08-27T11:23:12.907","Ноутбук","Запад","Частные клиенты",65,"Да",2.7,0,"Уилл Смит"]
[null,"CL00052","2013-08-27T11:28:16.168","Персональный ПК","Север","Корпорация",78,"Да",3.4,{"v":5100,"d":"5,100р."},"Чак Норрис"]
[null,"CL00053","2013-08-27T11:30:52.407","Ноутбук","Запад","Некоммерческие",78,"Да",2.6,{"v":8100,"d":"8,100р."},"Чак Норрис"]
[null,"CL00054","2013-08-27T11:34:46.791","Софт","Восток","Частные клиенты",78,"Да",2.5,{"v":5400,"d":"5,400р."},"Джонни Депп"]
[null,"CL00055","2013-08-27T11:35:25.036","Ноутбук","Восток","Малый бизнес",65,"Да",2.7,{"v":4500,"d":"4,500р."},"Колин Фаррел"]
[null,"CL00056","2013-08-27T11:37:50.861","Монитор","Центр","Некоммерческие",58,"Да",3.8,{"v":7200,"d":"7,200р."},"Колин Фаррел"]
[null,"CL00057","2013-08-27T11:41:12.402","Персональный ПК","Юг","Корпорация",67,"Да",3.1,0,"Бред Питт"]
[null,"CL00058","2013-08-27T11:42:15.895","Другое","Центр","Частные клиенты",75,"Нет",2.5,0,"Бред Питт"]
[null,"CL00059","2013-08-27T11:47:31.474","Другое","Восток","Малый бизнес",83,"Да",2.9,{"v":5700,"d":"5,700р."},"Чак Норрис"]
[null,"CL00060","2013-08-27T11:51:19.940","Ноутбук","Юг","Частные клиенты",67,"Да",2.6,{"v":3900,"d":"3,900р."},"Бред Питт"]
[null,"CL00061","2013-08-27T11:55:00.304","Аксессуары","Запад","Малый бизнес",60,"Да",2.4,0,"Джонни Депп"]
[null,"CL00062","2013-08-27T11:58:05.666","Персональный ПК","Север","Некоммерческие",76,"Да",3.3,{"v":6600,"d":"6,600р."},"Джонни Депп"]
[null,"CL00063","2013-08-27T12:01:59.526","Ноутбук","Центр","Частные клиенты",73,"Да",3.5,{"v":6600,"d":"6,600р."},"Уилл Смит"]
[null,"CL00064","2013-08-27T12:07:38.989","Ноутбук","Восток","Малый бизнес",82,"Да",{"v":3,"d":"3.0"},{"v":4200,"d":"4,200р."},"Уилл Смит"]
[null,"CL00065","2013-08-27T12:09:46.285","Другое","Север","Корпорация",72,"Да",2.8,{"v":4800,"d":"4,800р."},"Джонни Депп"]
[null,"CL00066","2013-08-27T12:11:30.826","Софт","Восток","Малый бизнес",69,"Да",2.6,{"v":9900,"d":"9,900р."},"Бред Питт"]
[null,"CL00067","2013-08-27T12:15:15.874","Ноутбук","Восток","Некоммерческие",76,"Да",3.8,{"v":3000,"d":"3,000р."},"Колин Фаррел"]
[null,"CL00068","2013-08-27T12:15:28.830","Другое","Центр","Некоммерческие",64,"Да",3.4,{"v":7500,"d":"7,500р."},"Колин Фаррел"]
[null,"CL00069","2013-08-27T12:17:56.398","Персональный ПК","Запад","Корпорация",69,"Да",3.6,{"v":5400,"d":"5,400р."},"Колин Фаррел"]
[null,"CL00070","2013-08-27T12:21:31.874","Монитор","Север","Частные клиенты",78,"Да",3.3,{"v":6000,"d":"6,000р."},"Уилл Смит"]
[null,"CL00071","2013-08-27T12:23:37.432","Монитор","Центр","Частные клиенты",80,"Да",2.9,{"v":3300,"d":"3,300р."},"Чак Норрис"]
[null,"CL00072","2013-08-27T12:28:02.221","Софт","Центр","Малый бизнес",84,"Да",2.6,0,"Колин Фаррел"]
[null,"CL00073","2013-08-27T12:30:53.007","Монитор","Центр","Некоммерческие",80,"Да",{"v":3,"d":"3.0"},{"v":4500,"d":"4,500р."},"Уилл Смит"]
[null,"CL00074","2013-08-27T12:34:14.055","Ноутбук","Восток","Некоммерческие",77,"Да",2.6,0,"Чак Норрис"]
[null,"CL00075","2013-08-27T12:34:33.126","Ноутбук","Юг","Корпорация",73,"Да",2.7,0,"Джеки Чан"]
[null,"CL00076","2013-08-27T12:35:06.854","Аксессуары","Центр","Корпорация",78,"Да",3.1,{"v":6900,"d":"6,900р."},"Джеки Чан"]
[null,"CL00077","2013-08-27T12:38:20.966","Софт","Юг","Некоммерческие",79,"Да",3.8,{"v":5100,"d":"5,100р."},"Колин Фаррел"]
[null,"CL00078","2013-08-27T12:42:03.235","Персональный ПК","Центр","Некоммерческие",81,"Да",2.9,{"v":5700,"d":"5,700р."},"Джонни Депп"]
[null,"CL00079","2013-08-27T12:42:54.022","Софт","Центр","Некоммерческие",69,"Да",2.8,{"v":7500,"d":"7,500р."},"Колин Фаррел"]
[null,"CL00080","2013-08-27T12:47:32.405","Другое","Запад","Корпорация",72,"Да",3.1,0,"Бред Питт"]
[null,"CL00081","2013-08-27T12:49:51.320","Другое","Центр","Некоммерческие",70,"Да",2.2,{"v":8100,"d":"8,100р."},"Джонни Депп"]
[null,"CL00082","2013-08-27T12:54:20.255","Персональный ПК","Центр","Некоммерческие",84,"Да",3.7,{"v":4200,"d":"4,200р."},"Джонни Депп"]
[null,"CL00083","2013-08-27T12:56:44.317","Монитор","Север","Корпорация",78,"Да",2.7,{"v":6900,"d":"6,900р."},"Джеки Чан"]
[null,"CL00084","2013-08-27T12:58:38.979","Персональный ПК","Восток","Частные клиенты",79,"Да",3.5,0,"Колин Фаррел"]
[null,"CL00085","2013-08-27T13:01:54.769","Софт","Центр","Корпорация",71,"Да",2.8,{"v":6900,"d":"6,900р."},"Уилл Смит"]
[null,"CL00086","2013-08-27T13:05:04.625","Аксессуары","Запад","Некоммерческие",70,"Да",3.3,0,"Бред Питт"]
[null,"CL00087","2013-08-27T13:07:09.544","Аксессуары","Восток","Корпорация",85,"Да",2.8,0,"Бред Питт"]
[null,"CL00088","2013-08-27T13:11:28.600","Аксессуары","Запад","Некоммерческие",67,"Да",{"v":2,"d":"2.0"},0,"Колин Фаррел"]
[null,"CL00089","2013-08-27T13:16:29.184","Монитор","Центр","Малый бизнес",77,"Нет",2.3,{"v":7800,"d":"7,800р."},"Джонни Депп"]
[null,"CL00090","2013-08-27T13:20:43.691","Другое","Восток","Малый бизнес",78,"Да",3.7,{"v":9600,"d":"9,600р."},"Колин Фаррел"]
[null,"CL00091","2013-08-27T13:25:57.021","Софт","Юг","Малый бизнес",64,"Да",3.2,{"v":7500,"d":"7,500р."},"Уилл Смит"]
[null,"CL00092","2013-08-27T13:26:50.205","Персональный ПК","Юг","Некоммерческие",67,"Да",3.6,{"v":6000,"d":"6,000р."},"Уилл Смит"]
[null,"CL00093","2013-08-27T13:26:53.621","Аксессуары","Восток","Некоммерческие",62,"Да",2.8,{"v":3900,"d":"3,900р."},"Колин Фаррел"]
[null,"CL00094","2013-08-27T13:31:14.663","Софт","Центр","Частные клиенты",73,"Да",3.1,{"v":5700,"d":"5,700р."},"Чак Норрис"]
[null,"CL00095","2013-08-27T13:35:09.154","Другое","Восток","Корпорация",96,"Да",2.3,{"v":6000,"d":"6,000р."},"Колин Фаррел"]
[null,"CL00096","2013-08-27T13:36:19.473","Софт","Запад","Частные клиенты",69,"Да",3.5,{"v":9600,"d":"9,600р."},"Джонни Депп"]
[null,"CL00097","2013-08-27T13:41:46.840","Софт","Север","Частные клиенты",82,"Да",{"v":3,"d":"3.0"},{"v":6900,"d":"6,900р."},"Джонни Депп"]
[null,"CL00098","2013-08-27T13:45:29.916","Ноутбук","Запад","Частные клиенты",76,"Да",3.4,0,"Джеки Чан"]
[null,"CL00099","2013-08-27T13:47:34.723","Аксессуары","Центр","Частные клиенты",73,"Да",2.8,{"v":6600,"d":"6,600р."},"Джонни Депп"]
[null,"CL00100","2013-08-27T13:52:36.514","Другое","Север","Некоммерческие",78,"Да",3.2,0,"Джеки Чан"]
[null,"CL00101","2013-08-27T13:52:47.540","Другое","Запад","Частные клиенты",63,"Да",{"v":3,"d":"3.0"},0,"Колин Фаррел"]
[null,"CL00102","2013-08-27T13:52:59.660","Аксессуары","Восток","Некоммерческие",73,"Да",2.8,0,"Джонни Депп"]
[null,"CL00103","2013-08-27T13:57:47.061","Монитор","Запад","Некоммерческие",66,"Да",2.8,{"v":7200,"d":"7,200р."},"Уилл Смит"]
[null,"CL00104","2013-08-27T13:58:52.195","Ноутбук","Центр","Корпорация",77,"Да",2.8,{"v":6900,"d":"6,900р."},"Джеки Чан"]
[null,"CL00105","2013-08-27T14:02:21.032","Другое","Север","Частные клиенты",62,"Да",3.3,0,"Чак Норрис"]
[null,"CL00106","2013-08-27T14:06:23.634","Ноутбук","Восток","Частные клиенты",94,"Да",2.3,0,"Джеки Чан"]
[null,"CL00107","2013-08-27T14:06:51.290","Персональный ПК","Юг","Некоммерческие",69,"Нет",2.7,{"v":6900,"d":"6,900р."},"Джеки Чан"]
[null,"CL00108","2013-08-27T14:10:03.249","Аксессуары","Север","Корпорация",79,"Да",3.2,0,"Чак Норрис"]
[null,"CL00109","2013-08-27T14:12:09.559","Другое","Юг","Корпорация",74,"Да",2.8,0,"Джонни Депп"]
[null,"CL00110","2013-08-27T14:12:51.856","Ноутбук","Центр","Корпорация",62,"Да",3.9,{"v":5100,"d":"5,100р."},"Колин Фаррел"]
[null,"CL00111","2013-08-27T14:16:31.523","Ноутбук","Юг","Малый бизнес",81,"Нет",2.5,{"v":5400,"d":"5,400р."},"Джонни Депп"]
[null,"CL00112","2013-08-27T14:21:58.501","Другое","Юг","Некоммерческие",72,"Да",{"v":3,"d":"3.0"},{"v":1500,"d":"1,500р."},"Колин Фаррел"]
[null,"CL00113","2013-08-27T14:23:19.253","Ноутбук","Юг","Частные клиенты",76,"Да",3.4,0,"Колин Фаррел"]
[null,"CL00114","2013-08-27T14:25:03.447","Персональный ПК","Восток","Некоммерческие",84,"Да",2.5,{"v":7500,"d":"7,500р."},"Уилл Смит"]
[null,"CL00115","2013-08-27T14:26:07.838","Персональный ПК","Север","Корпорация",77,"Да",3.3,{"v":5400,"d":"5,400р."},"Чак Норрис"]
[null,"CL00116","2013-08-27T14:28:40.107","Персональный ПК","Центр","Малый бизнес",77,"Да",3.5,{"v":8700,"d":"8,700р."},"Джеки Чан"]
[null,"CL00117","2013-08-27T14:28:48.420","Персональный ПК","Юг","Частные клиенты",73,"Да",{"v":2,"d":"2.0"},{"v":5400,"d":"5,400р."},"Чак Норрис"]
[null,"CL00118","2013-08-27T14:32:47.856","Аксессуары","Запад","Малый бизнес",74,"Да",3.1,0,"Уилл Смит"]
[null,"CL00119","2013-08-27T14:36:14.421","Ноутбук","Центр","Малый бизнес",80,"Да",2.6,0,"Джеки Чан"]
[null,"CL00120","2013-08-27T14:40:33.512","Софт","Запад","Корпорация",74,"Да",2.5,0,"Бред Питт"]
[null,"CL00121","2013-08-27T14:44:05.863","Другое","Восток","Корпорация",80,"Да",3.6,{"v":7200,"d":"7,200р."},"Джеки Чан"]
[null,"CL00122","2013-08-27T14:45:49.876","Софт","Центр","Частные клиенты",72,"Да",3.3,{"v":8100,"d":"8,100р."},"Джонни Депп"]
[null,"CL00123","2013-08-27T14:49:06.750","Софт","Север","Некоммерческие",78,"Да",3.1,{"v":9900,"d":"9,900р."},"Уилл Смит"]
[null,"CL00124","2013-08-27T14:50:46.947","Аксессуары","Юг","Малый бизнес",83,"Да",3.1,0,"Джонни Депп"]
[null,"CL00125","2013-08-27T14:55:33.630","Софт","Запад","Малый бизнес",71,"Да",2.3,0,"Джеки Чан"]
[null,"CL00126","2013-08-27T14:56:34.858","Софт","Запад","Некоммерческие",81,"Да",3.2,0,"Чак Норрис"]
[null,"CL00127","2013-08-27T14:56:47.950","Аксессуары","Центр","Частные клиенты",84,"Да",3.3,{"v":7500,"d":"7,500р."},"Уилл Смит"]
[null,"CL00128","2013-08-27T14:57:48.007","Другое","Юг","Малый бизнес",68,"Да",2.2,0,"Уилл Смит"]
[null,"CL00129","2013-08-27T15:01:25.662","Аксессуары","Центр","Корпорация",69,"Да",2.4,0,"Джонни Депп"]
[null,"CL00130","2013-08-27T15:06:14.068","Персональный ПК","Центр","Частные клиенты",70,"Да",3.5,{"v":5400,"d":"5,400р."},"Чак Норрис"]
[null,"CL00131","2013-08-27T15:06:30.295","Софт","Запад","Корпорация",73,"Да",3.2,0,"Чак Норрис"]
[null,"CL00132","2013-08-27T15:07:35.245","Монитор","Юг","Корпорация",73,"Да",2.9,0,"Уилл Смит"]
[null,"CL00133","2013-08-27T15:10:15.574","Аксессуары","Север","Частные клиенты",86,"Да",3.1,0,"Джонни Депп"]
[null,"CL00134","2013-08-27T15:12:37.543","Аксессуары","Север","Некоммерческие",63,"Да",4.6,{"v":6600,"d":"6,600р."},"Джеки Чан"]
[null,"CL00135","2013-08-27T15:16:15.815","Ноутбук","Север","Корпорация",77,"Да",3.8,{"v":8100,"d":"8,100р."},"Уилл Смит"]
[null,"CL00136","2013-08-27T15:21:48.809","Другое","Север","Корпорация",73,"Да",3.1,{"v":7500,"d":"7,500р."},"Чак Норрис"]
[null,"CL00137","2013-08-27T15:24:17.453","Другое","Юг","Частные клиенты",76,"Да",2.6,0,"Джонни Депп"]
[null,"CL00138","2013-08-27T15:28:06.568","Другое","Юг","Некоммерческие",61,"Да",2.3,{"v":5700,"d":"5,700р."},"Уилл Смит"]
[null,"CL00139","2013-08-27T15:33:18.306","Монитор","Юг","Частные клиенты",84,"Да",3.1,0,"Уилл Смит"]
[null,"CL00140","2013-08-27T15:33:58.936","Аксессуары","Запад","Частные клиенты",82,"Да",2.9,{"v":4500,"d":"4,500р."},"Чак Норрис"]
[null,"CL00141","2013-08-27T15:34:32.564","Персональный ПК","Юг","Некоммерческие",74,"Да",3.1,{"v":7800,"d":"7,800р."},"Джеки Чан"]
[null,"CL00142","2013-08-27T15:35:45.093","Аксессуары","Север","Корпорация",71,"Да",{"v":3,"d":"3.0"},0,"Колин Фаррел"]
[null,"CL00143","2013-08-27T15:36:13.557","Монитор","Юг","Частные клиенты",77,"Да",2.7,0,"Бред Питт"]
[null,"CL00144","2013-08-27T15:37:05.321","Аксессуары","Север","Частные клиенты",69,"Да",2.8,{"v":6300,"d":"6,300р."},"Чак Норрис"]
[null,"CL00145","2013-08-27T15:40:07.929","Софт","Восток","Частные клиенты",95,"Да",3.6,{"v":8400,"d":"8,400р."},"Уилл Смит"]
[null,"CL00146","2013-08-27T15:41:23.901","Другое","Юг","Корпорация",76,"Да",2.8,{"v":7800,"d":"7,800р."},"Джонни Депп"]
[null,"CL00147","2013-08-27T15:41:25.552","Другое","Юг","Корпорация",71,"Да",3.3,{"v":5100,"d":"5,100р."},"Джонни Депп"]
[null,"CL00148","2013-08-27T15:41:45.721","Софт","Север","Некоммерческие",67,"Да",3.2,{"v":3900,"d":"3,900р."},"Уилл Смит"]
[null,"CL00149","2013-08-27T15:45:17.846","Аксессуары","Север","Малый бизнес",77,"Да",2.6,{"v":8400,"d":"8,400р."},"Бред Питт"]
[null,"CL00150","2013-08-27T15:48:42.171","Софт","Запад","Корпорация",76,"Да",{"v":3,"d":"3.0"},0,"Колин Фаррел"]
[null,"CL00151","2013-08-27T15:50:35.957","Другое","Север","Некоммерческие",88,"Да",{"v":3,"d":"3.0"},{"v":6000,"d":"6,000р."},"Колин Фаррел"]
[null,"CL00152","2013-08-27T15:52:11.252","Ноутбук","Север","Корпорация",87,"Да",2.9,0,"Джеки Чан"]
[null,"CL00153","2013-08-27T15:55:49.490","Другое","Центр","Частные клиенты",82,"Да",4.1,{"v":8700,"d":"8,700р."},"Джонни Депп"]
[null,"CL00154","2013-08-27T15:58:38.601","Персональный ПК","Центр","Корпорация",62,"Да",2.6,{"v":5700,"d":"5,700р."},"Джонни Депп"]
[null,"CL00155","2013-08-27T16:02:36.093","Аксессуары","Запад","Частные клиенты",66,"Да",1.9,0,"Джонни Депп"]
[null,"CL00156","2013-08-27T16:03:17.922","Монитор","Юг","Некоммерческие",78,"Да",3.3,{"v":5100,"d":"5,100р."},"Бред Питт"]
[null,"CL00157","2013-08-27T16:03:58.108","Ноутбук","Восток","Корпорация",82,"Да",1.7,0,"Бред Питт"]
[null,"CL00158","2013-08-27T16:06:39.745","Софт","Восток","Малый бизнес",77,"Да",2.3,{"v":3000,"d":"3,000р."},"Джонни Депп"]
[null,"CL00159","2013-08-27T16:06:53.640","Ноутбук","Север","Корпорация",82,"Да",2.7,0,"Чак Норрис"]
[null,"CL00160","2013-08-27T16:11:24.198","Аксессуары","Запад","Малый бизнес",72,"Да",3.1,0,"Колин Фаррел"]
[null,"CL00161","2013-08-27T16:15:36.207","Софт","Центр","Малый бизнес",62,"Нет",2.7,{"v":6300,"d":"6,300р."},"Чак Норрис"]
[null,"CL00162","2013-08-27T16:17:10.269","Другое","Юг","Частные клиенты",77,"Да",2.2,{"v":6000,"d":"6,000р."},"Колин Фаррел"]
[null,"CL00163","2013-08-27T16:22:45.869","Другое","Север","Частные клиенты",84,"Да",2.8,0,"Бред Питт"]
[null,"CL00164","2013-08-27T16:28:23.515","Монитор","Север","Некоммерческие",65,"Да",2.3,0,"Джонни Депп"]
[null,"CL00165","2013-08-27T16:33:18.644","Монитор","Север","Малый бизнес",74,"Да",{"v":3,"d":"3.0"},0,"Чак Норрис"]
[null,"CL00166","2013-08-27T16:38:18.281","Персональный ПК","Юг","Некоммерческие",87,"Да",{"v":4,"d":"4.0"},0,"Колин Фаррел"]
[null,"CL00167","2013-08-27T16:41:14.234","Другое","Восток","Малый бизнес",69,"Да",{"v":3,"d":"3.0"},0,"Бред Питт"]
[null,"CL00168","2013-08-27T16:42:38.262","Софт","Центр","Некоммерческие",80,"Да",2.9,{"v":6600,"d":"6,600р."},"Бред Питт"]
[null,"CL00169","2013-08-27T16:45:31.300","Аксессуары","Юг","Малый бизнес",79,"Да",3.3,0,"Уилл Смит"]
[null,"CL00170","2013-08-27T16:49:03.869","Ноутбук","Центр","Малый бизнес",54,"Да",3.7,{"v":6600,"d":"6,600р."},"Бред Питт"]
[null,"CL00171","2013-08-27T16:49:05.464","Аксессуары","Центр","Малый бизнес",61,"Да",3.2,{"v":5400,"d":"5,400р."},"Колин Фаррел"]
[null,"CL00172","2013-08-27T16:54:04.301","Монитор","Восток","Малый бизнес",72,"Да",2.4,0,"Бред Питт"]
[null,"CL00173","2013-08-27T16:58:26.661","Ноутбук","Восток","Частные клиенты",68,"Да",2.9,0,"Колин Фаррел"]
[null,"CL00174","2013-08-27T17:04:05.157","Монитор","Центр","Частные клиенты",74,"Да",{"v":3,"d":"3.0"},{"v":8400,"d":"8,400р."},"Чак Норрис"]
[null,"CL00175","2013-08-27T17:05:15.993","Другое","Восток","Корпорация",68,"Да",2.9,0,"Чак Норрис"]
[null,"CL00176","2013-08-27T17:10:17.804","Персональный ПК","Юг","Корпорация",76,"Нет",3.4,{"v":8400,"d":"8,400р."},"Уилл Смит"]
[null,"CL00177","2013-08-27T17:15:11.378","Аксессуары","Юг","Малый бизнес",88,"Да",{"v":3,"d":"3.0"},{"v":6300,"d":"6,300р."},"Бред Питт"]
[null,"CL00178","2013-08-27T17:19:58.455","Другое","Восток","Корпорация",59,"Да",{"v":3,"d":"3.0"},{"v":8700,"d":"8,700р."},"Колин Фаррел"]
[null,"CL00179","2013-08-27T17:20:57.766","Софт","Восток","Частные клиенты",69,"Да",3.1,0,"Чак Норрис"]
[null,"CL00180","2013-08-27T17:21:40.324","Ноутбук","Юг","Некоммерческие",76,"Да",3.3,{"v":3900,"d":"3,900р."},"Бред Питт"]
[null,"CL00181","2013-08-27T17:22:05.568","Аксессуары","Центр","Корпорация",77,"Да",3.2,{"v":2100,"d":"2,100р."},"Уилл Смит"]
[null,"CL00182","2013-08-27T17:23:15.999","Персональный ПК","Запад","Некоммерческие",74,"Да",2.6,0,"Чак Норрис"]
[null,"CL00183","2013-08-27T17:26:33.168","Софт","Запад","Частные клиенты",83,"Да",3.4,{"v":6900,"d":"6,900р."},"Джеки Чан"]
[null,"CL00184","2013-08-27T17:26:37.431","Аксессуары","Восток","Корпорация",67,"Да",2.9,{"v":3900,"d":"3,900р."},"Уилл Смит"]
[null,"CL00185","2013-08-27T17:30:43.635","Софт","Юг","Корпорация",76,"Да",3.1,{"v":7200,"d":"7,200р."},"Чак Норрис"]
[null,"CL00186","2013-08-27T17:33:20.072","Другое","Запад","Частные клиенты",85,"Да",4.2,{"v":5400,"d":"5,400р."},"Колин Фаррел"]
[null,"CL00187","2013-08-27T17:33:32.374","Ноутбук","Центр","Частные клиенты",72,"Да",3.4,0,"Джонни Депп"]
[null,"CL00188","2013-08-27T17:34:07.247","Другое","Юг","Некоммерческие",57,"Да",2.3,{"v":3600,"d":"3,600р."},"Уилл Смит"]
[null,"CL00189","2013-08-27T17:37:11.144","Ноутбук","Запад","Корпорация",85,"Да",3.1,0,"Бред Питт"]
[null,"CL00190","2013-08-27T17:37:47.619","Другое","Юг","Малый бизнес",61,"Да",2.4,{"v":5100,"d":"5,100р."},"Бред Питт"]
[null,"CL00191","2013-08-27T17:41:57.271","Монитор","Запад","Корпорация",78,"Да",2.8,0,"Уилл Смит"]
[null,"CL00192","2013-08-27T17:46:21.975","Ноутбук","Центр","Частные клиенты",68,"Да",2.6,{"v":7500,"d":"7,500р."},"Уилл Смит"]
[null,"CL00193","2013-08-27T17:50:19.995","Монитор","Запад","Корпорация",68,"Да",2.9,{"v":9300,"d":"9,300р."},"Колин Фаррел"]
[null,"CL00194","2013-08-27T17:54:26.311","Ноутбук","Восток","Корпорация",87,"Да",3.4,0,"Чак Норрис"]
[null,"CL00195","2013-08-27T17:59:17.836","Персональный ПК","Север","Корпорация",60,"Да",2.4,{"v":5400,"d":"5,400р."},"Уилл Смит"]
[null,"CL00196","2013-08-27T18:01:37.199","Аксессуары","Центр","Некоммерческие",66,"Да",2.5,{"v":6600,"d":"6,600р."},"Бред Питт"]
[null,"CL00197","2013-08-27T18:02:22.372","Персональный ПК","Юг","Корпорация",63,"Да",3.5,0,"Джеки Чан"]
[null,"CL00198","2013-08-27T18:05:58.644","Персональный ПК","Восток","Корпорация",78,"Да",2.8,{"v":6000,"d":"6,000р."},"Джеки Чан"]
[null,"CL00199","2013-08-27T18:06:32.571","Аксессуары","Запад","Малый бизнес",62,"Да",2.3,0,"Бред Питт"]
[null,"CL00200","2013-08-27T18:11:08.381","Персональный ПК","Восток","Малый бизнес",87,"Да",2.7,{"v":7200,"d":"7,200р."},"Уилл Смит"]
[null,"CL00201","2013-08-27T18:16:25.250","Аксессуары","Центр","Частные клиенты",90,"Да",2.9,{"v":8400,"d":"8,400р."},"Уилл Смит"]
[null,"CL00202","2013-08-27T18:17:12.920","Монитор","Юг","Малый бизнес",78,"Да",2.8,{"v":6600,"d":"6,600р."},"Бред Питт"]
[null,"CL00203","2013-08-27T18:21:19.494","Монитор","Центр","Малый бизнес",72,"Да",2.9,0,"Джонни Депп"]
[null,"CL00204","2013-08-27T18:24:44.500","Другое","Восток","Некоммерческие",72,"Да",1.4,0,"Чак Норрис"]
[null,"CL00205","2013-08-27T18:29:19.474","Ноутбук","Восток","Корпорация",78,"Да",2.2,{"v":5100,"d":"5,100р."},"Бред Питт"]
[null,"CL00206","2013-08-27T18:34:04.590","Ноутбук","Север","Частные клиенты",77,"Да",2.8,{"v":6000,"d":"6,000р."},"Джеки Чан"]
[null,"CL00207","2013-08-27T18:35:02.696","Монитор","Юг","Частные клиенты",75,"Да",3.4,0,"Джеки Чан"]
[null,"CL00208","2013-08-27T18:36:17.879","Софт","Юг","Малый бизнес",83,"Да",2.5,{"v":4800,"d":"4,800р."},"Джонни Депп"]
[null,"CL00209","2013-08-27T18:36:52.760","Софт","Восток","Малый бизнес",80,"Да",3.2,0,"Бред Питт"]
[null,"CL00210","2013-08-27T18:41:39.925","Аксессуары","Восток","Корпорация",68,"Да",2.9,{"v":5700,"d":"5,700р."},"Колин Фаррел"]
[null,"CL00211","2013-08-27T18:42:22.393","Другое","Юг","Некоммерческие",65,"Нет",2.7,{"v":8100,"d":"8,100р."},"Джонни Депп"]
[null,"CL00212","2013-08-27T18:46:44.944","Персональный ПК","Юг","Некоммерческие",70,"Да",2.8,{"v":6600,"d":"6,600р."},"Джонни Депп"]
[null,"CL00213","2013-08-27T18:49:58.701","Софт","Север","Частные клиенты",92,"Да",3.6,{"v":7200,"d":"7,200р."},"Джеки Чан"]
[null,"CL00214","2013-08-27T18:51:37.702","Софт","Восток","Малый бизнес",77,"Да",3.3,0,"Джеки Чан"]
[null,"CL00215","2013-08-27T18:55:10.180","Аксессуары","Юг","Некоммерческие",68,"Да",2.8,{"v":3000,"d":"3,000р."},"Колин Фаррел"]
[null,"CL00216","2013-08-27T19:00:00.928","Софт","Восток","Малый бизнес",69,"Да",2.4,0,"Бред Питт"]
[null,"CL00217","2013-08-27T19:02:11.784","Аксессуары","Север","Некоммерческие",72,"Да",3.4,{"v":4200,"d":"4,200р."},"Чак Норрис"]
[null,"CL00218","2013-08-27T19:06:50.076","Софт","Центр","Некоммерческие",77,"Да",2.9,{"v":7200,"d":"7,200р."},"Бред Питт"]
[null,"CL00219","2013-08-27T19:09:40.528","Персональный ПК","Восток","Малый бизнес",71,"Да",{"v":3,"d":"3.0"},{"v":5100,"d":"5,100р."},"Джеки Чан"]
[null,"CL00220","2013-08-27T19:09:48.251","Монитор","Север","Некоммерческие",77,"Да",3.3,0,"Чак Норрис"]
[null,"CL00221","2013-08-27T19:12:38.786","Персональный ПК","Центр","Некоммерческие",87,"Да",2.6,{"v":6300,"d":"6,300р."},"Джеки Чан"]
[null,"CL00222","2013-08-27T19:17:17.694","Монитор","Север","Корпорация",68,"Да",3.4,{"v":6900,"d":"6,900р."},"Колин Фаррел"]
[null,"CL00223","2013-08-27T19:19:26.423","Монитор","Восток","Малый бизнес",78,"Да",3.4,{"v":300,"d":"300р."},"Чак Норрис"]
[null,"CL00224","2013-08-27T19:23:16.849","Персональный ПК","Север","Корпорация",84,"Да",3.2,{"v":8400,"d":"8,400р."},"Джонни Депп"]
[null,"CL00225","2013-08-27T19:26:28.368","Софт","Восток","Малый бизнес",76,"Да",3.2,{"v":7200,"d":"7,200р."},"Колин Фаррел"]
[null,"CL00226","2013-08-27T19:30:52.297","Ноутбук","Юг","Корпорация",80,"Да",2.4,0,"Бред Питт"]
[null,"CL00227","2013-08-27T19:33:50.050","Аксессуары","Запад","Некоммерческие",85,"Да",2.6,{"v":6300,"d":"6,300р."},"Уилл Смит"]
[null,"CL00228","2013-08-27T19:36:38.547","Монитор","Центр","Корпорация",74,"Да",2.9,{"v":7200,"d":"7,200р."},"Джонни Депп"]
[null,"CL00229","2013-08-27T19:40:52.626","Персональный ПК","Восток","Корпорация",87,"Да",2.9,{"v":8700,"d":"8,700р."},"Джонни Депп"]
[null,"CL00230","2013-08-27T19:45:53.258","Аксессуары","Юг","Частные клиенты",75,"Да",2.9,{"v":2100,"d":"2,100р."},"Джонни Депп"]
[null,"CL00231","2013-08-27T19:51:32.971","Аксессуары","Север","Малый бизнес",72,"Да",2.8,{"v":8400,"d":"8,400р."},"Джонни Депп"]
[null,"CL00232","2013-08-27T19:51:42.679","Софт","Запад","Малый бизнес",61,"Да",2.1,0,"Бред Питт"]
[null,"CL00233","2013-08-27T19:56:37.787","Другое","Юг","Частные клиенты",92,"Да",2.9,{"v":6300,"d":"6,300р."},"Бред Питт"]
[null,"CL00234","2013-08-27T20:00:30.520","Другое","Север","Малый бизнес",75,"Да",3.5,{"v":7200,"d":"7,200р."},"Джонни Депп"]
[null,"CL00235","2013-08-27T20:05:43.204","Аксессуары","Центр","Некоммерческие",77,"Да",3.1,0,"Колин Фаррел"]
[null,"CL00236","2013-08-27T20:08:42.479","Монитор","Запад","Частные клиенты",66,"Да",3.1,{"v":5700,"d":"5,700р."},"Джеки Чан"]
[null,"CL00237","2013-08-27T20:11:43.870","Другое","Запад","Малый бизнес",48,"Да",2.8,{"v":6000,"d":"6,000р."},"Чак Норрис"]
[null,"CL00238","2013-08-27T20:11:48.892","Персональный ПК","Юг","Некоммерческие",75,"Да",3.1,0,"Колин Фаррел"]
[null,"CL00239","2013-08-27T20:15:05.797","Другое","Север","Некоммерческие",77,"Да",3.1,{"v":6600,"d":"6,600р."},"Колин Фаррел"]
[null,"CL00240","2013-08-27T20:18:35.267","Монитор","Восток","Корпорация",65,"Да",2.9,{"v":1800,"d":"1,800р."},"Колин Фаррел"]
[null,"CL00241","2013-08-27T20:21:52.167","Ноутбук","Север","Корпорация",74,"Да",3.3,{"v":5700,"d":"5,700р."},"Джеки Чан"]
[null,"CL00242","2013-08-27T20:26:50.593","Софт","Центр","Малый бизнес",66,"Да",2.1,0,"Джонни Депп"]
[null,"CL00243","2013-08-27T20:31:18.288","Софт","Запад","Частные клиенты",74,"Да",{"v":3,"d":"3.0"},0,"Чак Норрис"]
[null,"CL00244","2013-08-27T20:34:47.445","Ноутбук","Восток","Частные клиенты",78,"Да",2.9,{"v":6000,"d":"6,000р."},"Уилл Смит"]
[null,"CL00245","2013-08-27T20:35:00.204","Персональный ПК","Запад","Корпорация",70,"Да",2.8,0,"Колин Фаррел"]
[null,"CL00246","2013-08-27T20:37:48.108","Софт","Запад","Корпорация",80,"Да",2.5,0,"Колин Фаррел"]
[null,"CL00247","2013-08-27T20:42:03.519","Аксессуары","Восток","Некоммерческие",63,"Нет",2.7,0,"Бред Питт"]
[null,"CL00248","2013-08-27T20:44:08.797","Аксессуары","Север","Малый бизнес",90,"Да",2.4,0,"Чак Норрис"]
[null,"CL00249","2013-08-27T20:44:34.498","Аксессуары","Запад","Малый бизнес",71,"Да",3.2,{"v":6300,"d":"6,300р."},"Чак Норрис"]
[null,"CL00250","2013-08-27T20:47:47.914","Софт","Запад","Корпорация",63,"Да",2.9,{"v":6900,"d":"6,900р."},"Джеки Чан"]
[null,"CL00251","2013-08-27T20:48:34.863","Софт","Запад","Малый бизнес",77,"Да",2.5,{"v":7500,"d":"7,500р."},"Колин Фаррел"]
[null,"CL00252","2013-08-27T20:51:37.936","Монитор","Север","Частные клиенты",81,"Да",2.6,0,"Джеки Чан"]
[null,"CL00253","2013-08-27T20:52:51.903","Персональный ПК","Юг","Корпорация",85,"Нет",3.5,{"v":6000,"d":"6,000р."},"Бред Питт"]
[null,"CL00254","2013-08-27T20:58:21.796","Ноутбук","Север","Корпорация",78,"Да",2.7,{"v":4200,"d":"4,200р."},"Джеки Чан"]
[null,"CL00255","2013-08-27T21:03:32.123","Персональный ПК","Запад","Малый бизнес",88,"Да",3.7,0,"Джеки Чан"]
[null,"CL00256","2013-08-27T21:03:54.422","Другое","Запад","Частные клиенты",69,"Да",2.9,{"v":4500,"d":"4,500р."},"Колин Фаррел"]
[null,"CL00257","2013-08-27T21:06:05.736","Монитор","Север","Корпорация",74,"Да",3.1,0,"Джеки Чан"]
[null,"CL00258","2013-08-27T21:09:38.355","Другое","Запад","Малый бизнес",85,"Да",3.6,{"v":5700,"d":"5,700р."},"Бред Питт"]
[null,"CL00259","2013-08-27T21:09:43.651","Другое","Запад","Малый бизнес",67,"Да",2.9,0,"Чак Норрис"]
[null,"CL00260","2013-08-27T21:14:57.993","Другое","Восток","Малый бизнес",73,"Да",{"v":3,"d":"3.0"},{"v":4200,"d":"4,200р."},"Чак Норрис"]
[null,"CL00261","2013-08-27T21:15:29.576","Софт","Юг","Некоммерческие",62,"Нет",3.3,0,"Колин Фаррел"]
[null,"CL00262","2013-08-27T21:16:08.872","Ноутбук","Восток","Частные клиенты",57,"Да",3.5,0,"Джонни Депп"]
[null,"CL00263","2013-08-27T21:18:56.774","Монитор","Юг","Некоммерческие",80,"Да",2.2,{"v":5700,"d":"5,700р."},"Колин Фаррел"]
[null,"CL00264","2013-08-27T21:19:02.448","Ноутбук","Запад","Частные клиенты",80,"Да",2.1,{"v":3300,"d":"3,300р."},"Джонни Депп"]
[null,"CL00265","2013-08-27T21:20:19.180","Софт","Восток","Некоммерческие",76,"Да",{"v":3,"d":"3.0"},0,"Колин Фаррел"]
[null,"CL00266","2013-08-27T21:20:45.817","Монитор","Восток","Малый бизнес",72,"Да",2.5,{"v":6300,"d":"6,300р."},"Уилл Смит"]
[null,"CL00267","2013-08-27T21:24:42.193","Ноутбук","Запад","Корпорация",74,"Да",2.1,{"v":7800,"d":"7,800р."},"Уилл Смит"]
[null,"CL00268","2013-08-27T21:29:50.712","Другое","Юг","Некоммерческие",64,"Да",3.2,0,"Уилл Смит"]
[null,"CL00269","2013-08-27T21:32:27.369","Ноутбук","Центр","Малый бизнес",69,"Да",2.9,0,"Уилл Смит"]
[null,"CL00270","2013-08-27T21:36:43.695","Аксессуары","Север","Корпорация",68,"Да",2.8,{"v":4800,"d":"4,800р."},"Джеки Чан"]
[null,"CL00271","2013-08-27T21:39:09.835","Аксессуары","Север","Корпорация",78,"Да",2.6,0,"Джеки Чан"]
[null,"CL00272","2013-08-27T21:39:11.418","Другое","Запад","Малый бизнес",67,"Да",4.1,{"v":3600,"d":"3,600р."},"Уилл Смит"]
[null,"CL00273","2013-08-27T21:41:29.352","Софт","Восток","Корпорация",81,"Да",2.6,0,"Уилл Смит"]
[null,"CL00274","2013-08-27T21:44:48.360","Аксессуары","Запад","Некоммерческие",80,"Да",3.2,{"v":4200,"d":"4,200р."},"Уилл Смит"]
[null,"CL00275","2013-08-27T21:45:36.780","Другое","Восток","Некоммерческие",81,"Да",2.8,{"v":3600,"d":"3,600р."},"Бред Питт"]
[null,"CL00276","2013-08-27T21:46:30.713","Ноутбук","Восток","Корпорация",90,"Да",2.6,0,"Джонни Депп"]
[null,"CL00277","2013-08-27T21:51:08.655","Аксессуары","Север","Малый бизнес",83,"Да",{"v":3,"d":"3.0"},{"v":5100,"d":"5,100р."},"Чак Норрис"]
[null,"CL00278","2013-08-27T21:51:44.651","Софт","Юг","Корпорация",83,"Да",2.9,{"v":6600,"d":"6,600р."},"Бред Питт"]
[null,"CL00279","2013-08-27T21:53:46.308","Ноутбук","Север","Некоммерческие",90,"Да",3.4,{"v":6600,"d":"6,600р."},"Джеки Чан"]
[null,"CL00280","2013-08-27T21:56:01.510","Монитор","Запад","Малый бизнес",91,"Да",3.3,0,"Чак Норрис"]
[null,"CL00281","2013-08-27T22:00:48.187","Аксессуары","Юг","Частные клиенты",69,"Да",2.8,{"v":6600,"d":"6,600р."},"Бред Питт"]
[null,"CL00282","2013-08-28T08:01:02.396","Монитор","Юг","Малый бизнес",75,"Да",3.2,{"v":6300,"d":"6,300р."},"Уилл Смит"]
[null,"CL00283","2013-08-28T08:06:07.443","Другое","Юг","Некоммерческие",81,"Да",3.8,0,"Колин Фаррел"]
[null,"CL00284","2013-08-28T08:07:50.977","Персональный ПК","Север","Малый бизнес",68,"Да",{"v":3,"d":"3.0"},0,"Бред Питт"]
[null,"CL00285","2013-08-28T08:10:16.741","Софт","Восток","Частные клиенты",75,"Да",3.2,{"v":7200,"d":"7,200р."},"Уилл Смит"]
[null,"CL00286","2013-08-28T08:12:38.648","Ноутбук","Восток","Некоммерческие",82,"Да",3.3,{"v":6900,"d":"6,900р."},"Чак Норрис"]
[null,"CL00287","2013-08-28T08:14:50.430","Аксессуары","Запад","Малый бизнес",80,"Да",3.2,0,"Джеки Чан"]
[null,"CL00288","2013-08-28T08:14:55.609","Монитор","Запад","Малый бизнес",69,"Да",{"v":3,"d":"3.0"},{"v":9000,"d":"9,000р."},"Джонни Депп"]
[null,"CL00289","2013-08-28T08:19:23.509","Ноутбук","Восток","Частные клиенты",75,"Да",2.8,{"v":5700,"d":"5,700р."},"Джеки Чан"]
[null,"CL00290","2013-08-28T08:23:53.483","Софт","Юг","Малый бизнес",82,"Да",3.4,0,"Уилл Смит"]
[null,"CL00291","2013-08-28T08:28:32.866","Аксессуары","Запад","Малый бизнес",82,"Да",3.1,{"v":5400,"d":"5,400р."},"Джеки Чан"]
[null,"CL00292","2013-08-28T08:31:02.427","Аксессуары","Запад","Корпорация",67,"Да",3.8,0,"Джонни Депп"]
[null,"CL00293","2013-08-28T08:33:09.675","Другое","Север","Малый бизнес",75,"Нет",2.9,{"v":6600,"d":"6,600р."},"Бред Питт"]
[null,"CL00294","2013-08-28T08:36:49.318","Ноутбук","Центр","Малый бизнес",81,"Да",3.5,{"v":3000,"d":"3,000р."},"Чак Норрис"]
[null,"CL00295","2013-08-28T08:40:50.948","Монитор","Север","Частные клиенты",76,"Да",2.5,0,"Колин Фаррел"]
[null,"CL00296","2013-08-28T08:41:43.584","Персональный ПК","Север","Некоммерческие",71,"Да",2.3,{"v":6900,"d":"6,900р."},"Чак Норрис"]
[null,"CL00297","2013-08-28T08:43:47.288","Персональный ПК","Север","Корпорация",77,"Нет",2.7,{"v":8100,"d":"8,100р."},"Джонни Депп"]
[null,"CL00298","2013-08-28T08:48:16.868","Ноутбук","Запад","Некоммерческие",71,"Нет",2.2,{"v":4200,"d":"4,200р."},"Бред Питт"]
[null,"CL00299","2013-08-28T08:49:20.163","Ноутбук","Север","Малый бизнес",66,"Да",3.4,0,"Джонни Депп"]
[null,"CL00300","2013-08-28T08:50:53.755","Аксессуары","Восток","Корпорация",73,"Да",2.5,{"v":6600,"d":"6,600р."},"Бред Питт"]
[null,"CL00301","2013-08-28T08:56:23.551","Аксессуары","Восток","Некоммерческие",76,"Да",2.8,{"v":3600,"d":"3,600р."},"Чак Норрис"]
[null,"CL00302","2013-08-28T09:01:55.426","Софт","Восток","Частные клиенты",80,"Да",3.5,{"v":6900,"d":"6,900р."},"Уилл Смит"]
[null,"CL00303","2013-08-28T09:07:11.695","Аксессуары","Восток","Корпорация",82,"Да",{"v":4,"d":"4.0"},{"v":5700,"d":"5,700р."},"Колин Фаррел"]
[null,"CL00304","2013-08-28T09:12:42.040","Ноутбук","Восток","Корпорация",60,"Да",3.5,0,"Чак Норрис"]
[null,"CL00305","2013-08-28T09:12:44.030","Другое","Север","Малый бизнес",77,"Да",2.9,{"v":7500,"d":"7,500р."},"Джеки Чан"]
[null,"CL00306","2013-08-28T09:13:17.042","Другое","Запад","Малый бизнес",64,"Да",2.5,0,"Колин Фаррел"]
[null,"CL00307","2013-08-28T09:15:04.696","Персональный ПК","Юг","Корпорация",78,"Да",2.6,0,"Джонни Депп"]
[null,"CL00308","2013-08-28T09:15:20.803","Монитор","Юг","Малый бизнес",85,"Да",2.8,{"v":6600,"d":"6,600р."},"Колин Фаррел"]
[null,"CL00309","2013-08-28T09:19:23.869","Ноутбук","Запад","Корпорация",81,"Да",4.2,{"v":8700,"d":"8,700р."},"Чак Норрис"]
[null,"CL00310","2013-08-28T09:19:27.110","Монитор","Восток","Корпорация",82,"Да",2.8,{"v":7200,"d":"7,200р."},"Уилл Смит"]
[null,"CL00311","2013-08-28T09:24:10.489","Аксессуары","Центр","Малый бизнес",66,"Да",3.5,{"v":4800,"d":"4,800р."},"Чак Норрис"]
[null,"CL00312","2013-08-28T09:26:26.466","Монитор","Восток","Частные клиенты",75,"Да",3.3,{"v":4800,"d":"4,800р."},"Чак Норрис"]
[null,"CL00313","2013-08-28T09:30:23.521","Ноутбук","Центр","Некоммерческие",63,"Да",3.4,0,"Колин Фаррел"]
[null,"CL00314","2013-08-28T09:31:08.463","Персональный ПК","Запад","Частные клиенты",80,"Да",3.1,{"v":9300,"d":"9,300р."},"Уилл Смит"]
[null,"CL00315","2013-08-28T09:33:08.722","Аксессуары","Север","Корпорация",73,"Да",{"v":3,"d":"3.0"},0,"Джонни Депп"]
[null,"CL00316","2013-08-28T09:36:49.295","Аксессуары","Восток","Малый бизнес",82,"Да",2.4,0,"Бред Питт"]
[null,"CL00317","2013-08-28T09:41:55.429","Другое","Юг","Частные клиенты",74,"Да",2.7,0,"Джеки Чан"]
[null,"CL00318","2013-08-28T09:47:19.249","Ноутбук","Восток","Некоммерческие",68,"Да",3.3,0,"Бред Питт"]
[null,"CL00319","2013-08-28T09:50:34.394","Монитор","Запад","Корпорация",70,"Да",{"v":3,"d":"3.0"},0,"Уилл Смит"]
[null,"CL00320","2013-08-28T09:50:40.275","Софт","Центр","Малый бизнес",70,"Да",2.6,0,"Джеки Чан"]
[null,"CL00321","2013-08-28T09:52:48.238","Монитор","Центр","Корпорация",67,"Да",3.2,{"v":4200,"d":"4,200р."},"Уилл Смит"]
[null,"CL00322","2013-08-28T09:57:22.131","Персональный ПК","Юг","Некоммерческие",72,"Да",2.4,{"v":6900,"d":"6,900р."},"Джеки Чан"]
[null,"CL00323","2013-08-28T09:58:05.676","Другое","Восток","Корпорация",71,"Да",1.9,{"v":6300,"d":"6,300р."},"Чак Норрис"]
[null,"CL00324","2013-08-28T10:00:48.758","Монитор","Запад","Частные клиенты",79,"Да",2.7,0,"Бред Питт"]
[null,"CL00325","2013-08-28T10:02:48.043","Монитор","Север","Корпорация",61,"Да",{"v":3,"d":"3.0"},0,"Джеки Чан"]
[null,"CL00326","2013-08-28T10:04:58.409","Персональный ПК","Юг","Некоммерческие",71,"Да",3.2,{"v":6600,"d":"6,600р."},"Бред Питт"]
[null,"CL00327","2013-08-28T10:07:55.720","Другое","Запад","Частные клиенты",73,"Да",2.8,{"v":8100,"d":"8,100р."},"Бред Питт"]
[null,"CL00328","2013-08-28T10:10:55.791","Софт","Запад","Корпорация",94,"Да",2.8,{"v":5700,"d":"5,700р."},"Чак Норрис"]
[null,"CL00329","2013-08-28T10:13:14.961","Софт","Юг","Некоммерческие",71,"Да",3.1,{"v":5400,"d":"5,400р."},"Джеки Чан"]
[null,"CL00330","2013-08-28T10:14:01.920","Персональный ПК","Север","Некоммерческие",64,"Нет",2.9,{"v":3000,"d":"3,000р."},"Уилл Смит"]
[null,"CL00331","2013-08-28T10:17:04.457","Софт","Восток","Малый бизнес",81,"Да",3.1,{"v":5700,"d":"5,700р."},"Джонни Депп"]
[null,"CL00332","2013-08-28T10:20:36.685","Персональный ПК","Центр","Частные клиенты",74,"Да",2.6,0,"Колин Фаррел"]
[null,"CL00333","2013-08-28T10:25:15.564","Софт","Центр","Корпорация",82,"Да",2.9,0,"Чак Норрис"]
[null,"CL00334","2013-08-28T10:26:58.527","Монитор","Запад","Малый бизнес",86,"Нет",3.8,0,"Уилл Смит"]
[null,"CL00335","2013-08-28T10:27:07.492","Софт","Восток","Малый бизнес",77,"Да",2.4,0,"Джонни Депп"]
[null,"CL00336","2013-08-28T10:32:10.502","Софт","Восток","Частные клиенты",80,"Да",2.9,{"v":6300,"d":"6,300р."},"Бред Питт"]
[null,"CL00337","2013-08-28T10:33:11.687","Другое","Восток","Частные клиенты",72,"Да",3.4,0,"Джонни Депп"]
[null,"CL00338","2013-08-28T10:35:47.495","Софт","Юг","Частные клиенты",73,"Да",2.4,{"v":6000,"d":"6,000р."},"Чак Норрис"]
[null,"CL00339","2013-08-28T10:38:14.938","Аксессуары","Восток","Частные клиенты",72,"Да",2.9,0,"Джонни Депп"]
[null,"CL00340","2013-08-28T10:39:46.634","Аксессуары","Юг","Корпорация",66,"Да",2.9,0,"Джеки Чан"]
[null,"CL00341","2013-08-28T10:41:10.492","Персональный ПК","Восток","Корпорация",87,"Да",2.9,{"v":7800,"d":"7,800р."},"Бред Питт"]
[null,"CL00342","2013-08-28T10:44:57.644","Софт","Запад","Корпорация",65,"Да",2.6,{"v":6000,"d":"6,000р."},"Джеки Чан"]
[null,"CL00343","2013-08-28T10:45:02.489","Софт","Юг","Частные клиенты",75,"Да",2.9,{"v":5100,"d":"5,100р."},"Джеки Чан"]
[null,"CL00344","2013-08-28T10:45:32.183","Софт","Юг","Малый бизнес",69,"Да",2.4,{"v":7800,"d":"7,800р."},"Колин Фаррел"]
[null,"CL00345","2013-08-28T10:49:44.627","Аксессуары","Юг","Малый бизнес",85,"Да",3.3,{"v":4500,"d":"4,500р."},"Колин Фаррел"]
[null,"CL00346","2013-08-28T10:50:22.953","Монитор","Восток","Малый бизнес",86,"Да",3.2,0,"Чак Норрис"]
[null,"CL00347","2013-08-28T10:55:08.988","Ноутбук","Юг","Некоммерческие",70,"Да",3.1,0,"Чак Норрис"]
[null,"CL00348","2013-08-28T10:57:50.541","Аксессуары","Восток","Корпорация",77,"Да",2.4,{"v":6600,"d":"6,600р."},"Уилл Смит"]
[null,"CL00349","2013-08-28T10:58:34.619","Ноутбук","Север","Корпорация",80,"Да",3.3,0,"Джонни Депп"]
[null,"CL00350","2013-08-28T11:00:27.386","Ноутбук","Юг","Корпорация",87,"Да",3.8,{"v":5700,"d":"5,700р."},"Бред Питт"]
[null,"CL00351","2013-08-28T11:02:45.926","Персональный ПК","Север","Некоммерческие",74,"Да",2.3,{"v":4500,"d":"4,500р."},"Джеки Чан"]
[null,"CL00352","2013-08-28T11:03:55.688","Персональный ПК","Центр","Малый бизнес",84,"Да",2.8,0,"Чак Норрис"]
[null,"CL00353","2013-08-28T11:07:02.764","Софт","Юг","Частные клиенты",80,"Да",2.7,0,"Уилл Смит"]
[null,"CL00354","2013-08-28T11:11:35.946","Другое","Восток","Некоммерческие",61,"Да",2.5,0,"Бред Питт"]
[null,"CL00355","2013-08-28T11:17:18.777","Софт","Юг","Частные клиенты",62,"Да",2.7,{"v":4200,"d":"4,200р."},"Чак Норрис"]
[null,"CL00356","2013-08-28T11:18:01.146","Ноутбук","Восток","Корпорация",80,"Да",4.1,0,"Бред Питт"]
[null,"CL00357","2013-08-28T11:21:13.401","Софт","Юг","Некоммерческие",62,"Да",{"v":3,"d":"3.0"},{"v":8100,"d":"8,100р."},"Чак Норрис"]
[null,"CL00358","2013-08-28T11:24:44.873","Другое","Восток","Малый бизнес",84,"Да",3.1,0,"Бред Питт"]
[null,"CL00359","2013-08-28T11:29:50.522","Персональный ПК","Восток","Некоммерческие",78,"Да",{"v":3,"d":"3.0"},0,"Колин Фаррел"]
[null,"CL00360","2013-08-28T11:34:57.534","Ноутбук","Север","Частные клиенты",83,"Да",3.4,0,"Чак Норрис"]
[null,"CL00361","2013-08-28T11:37:46.150","Аксессуары","Центр","Некоммерческие",74,"Да",3.5,{"v":7200,"d":"7,200р."},"Джонни Депп"]
[null,"CL00362","2013-08-28T11:41:10.908","Персональный ПК","Центр","Некоммерческие",79,"Да",3.3,0,"Джонни Депп"]
[null,"CL00363","2013-08-28T11:46:06.069","Ноутбук","Север","Корпорация",81,"Да",{"v":4,"d":"4.0"},{"v":4500,"d":"4,500р."},"Джонни Депп"]
[null,"CL00364","2013-08-28T11:47:44.571","Другое","Север","Некоммерческие",66,"Да",2.3,0,"Чак Норрис"]
[null,"CL00365","2013-08-28T11:49:30.379","Другое","Юг","Малый бизнес",78,"Да",{"v":3,"d":"3.0"},{"v":6900,"d":"6,900р."},"Чак Норрис"]
[null,"CL00366","2013-08-28T11:50:54.605","Софт","Восток","Малый бизнес",79,"Да",{"v":2,"d":"2.0"},{"v":6600,"d":"6,600р."},"Бред Питт"]
[null,"CL00367","2013-08-28T11:53:47.993","Ноутбук","Центр","Малый бизнес",81,"Да",3.7,{"v":4800,"d":"4,800р."},"Колин Фаррел"]
[null,"CL00368","2013-08-28T11:55:23.032","Ноутбук","Восток","Частные клиенты",85,"Да",2.5,{"v":6300,"d":"6,300р."},"Бред Питт"]
[null,"CL00369","2013-08-28T12:00:18.833","Аксессуары","Север","Некоммерческие",65,"Да",2.9,0,"Уилл Смит"]
[null,"CL00370","2013-08-28T12:05:18.678","Софт","Запад","Малый бизнес",88,"Да",2.6,{"v":6600,"d":"6,600р."},"Чак Норрис"]
[null,"CL00371","2013-08-28T12:08:23.314","Аксессуары","Север","Корпорация",66,"Нет",3.8,{"v":4500,"d":"4,500р."},"Уилл Смит"]
[null,"CL00372","2013-08-28T12:08:58.043","Персональный ПК","Север","Малый бизнес",67,"Да",3.8,{"v":6300,"d":"6,300р."},"Джеки Чан"]
[null,"CL00373","2013-08-28T12:13:46.624","Ноутбук","Восток","Малый бизнес",70,"Да",3.3,{"v":2100,"d":"2,100р."},"Бред Питт"]
[null,"CL00374","2013-08-28T12:18:55.406","Ноутбук","Восток","Частные клиенты",80,"Да",3.4,{"v":8700,"d":"8,700р."},"Джонни Депп"]
[null,"CL00375","2013-08-28T12:22:36.459","Другое","Юг","Некоммерческие",91,"Да",2.3,{"v":4500,"d":"4,500р."},"Бред Питт"]
[null,"CL00376","2013-08-28T12:23:19.597","Софт","Восток","Корпорация",66,"Да",3.6,{"v":8100,"d":"8,100р."},"Джонни Депп"]
[null,"CL00377","2013-08-28T12:25:21.685","Софт","Север","Некоммерческие",76,"Да",2.6,{"v":3900,"d":"3,900р."},"Джонни Депп"]
[null,"CL00378","2013-08-28T12:29:15.458","Другое","Центр","Корпорация",67,"Да",3.1,0,"Бред Питт"]
[null,"CL00379","2013-08-28T12:30:06.946","Ноутбук","Центр","Частные клиенты",80,"Да",2.9,{"v":6300,"d":"6,300р."},"Джонни Депп"]
[null,"CL00380","2013-08-28T12:30:17.102","Персональный ПК","Север","Малый бизнес",76,"Да",4.1,{"v":7200,"d":"7,200р."},"Джеки Чан"]
[null,"CL00381","2013-08-28T12:32:20.671","Ноутбук","Восток","Частные клиенты",68,"Да",3.7,0,"Колин Фаррел"]
[null,"CL00382","2013-08-28T12:37:04.522","Софт","Север","Корпорация",88,"Да",2.3,0,"Чак Норрис"]
[null,"CL00383","2013-08-28T12:38:58.685","Аксессуары","Север","Некоммерческие",74,"Да",3.3,0,"Джонни Депп"]
[null,"CL00384","2013-08-28T12:41:09.299","Аксессуары","Восток","Некоммерческие",72,"Да",2.5,{"v":4800,"d":"4,800р."},"Уилл Смит"]
[null,"CL00385","2013-08-28T12:43:30.109","Монитор","Запад","Некоммерческие",79,"Да",3.1,{"v":6000,"d":"6,000р."},"Колин Фаррел"]
[null,"CL00386","2013-08-28T12:48:51.710","Персональный ПК","Центр","Некоммерческие",70,"Да",3.4,0,"Чак Норрис"]
[null,"CL00387","2013-08-28T12:51:07.296","Другое","Север","Корпорация",78,"Да",1.8,0,"Джеки Чан"]
[null,"CL00388","2013-08-28T12:52:22.504","Аксессуары","Север","Некоммерческие",76,"Да",2.2,{"v":1800,"d":"1,800р."},"Чак Норрис"]
[null,"CL00389","2013-08-28T12:57:19.208","Другое","Восток","Частные клиенты",63,"Нет",2.7,0,"Чак Норрис"]
[null,"CL00390","2013-08-28T12:59:17.264","Персональный ПК","Запад","Некоммерческие",71,"Да",2.1,0,"Джеки Чан"]
[null,"CL00391","2013-08-28T12:59:52.950","Другое","Юг","Некоммерческие",77,"Да",2.3,{"v":5700,"d":"5,700р."},"Колин Фаррел"]
[null,"CL00392","2013-08-28T13:01:09.377","Монитор","Восток","Корпорация",64,"Да",3.2,{"v":5100,"d":"5,100р."},"Джеки Чан"]
[null,"CL00393","2013-08-28T13:06:11.061","Другое","Юг","Частные клиенты",70,"Да",3.4,{"v":6300,"d":"6,300р."},"Бред Питт"]
[null,"CL00394","2013-08-28T13:08:44.530","Ноутбук","Центр","Частные клиенты",86,"Да",2.8,{"v":5100,"d":"5,100р."},"Бред Питт"]
[null,"CL00395","2013-08-28T13:12:24.580","Софт","Юг","Корпорация",78,"Да",3.7,{"v":4800,"d":"4,800р."},"Колин Фаррел"]
[null,"CL00396","2013-08-28T13:18:05.573","Другое","Север","Малый бизнес",74,"Да",3.3,{"v":3900,"d":"3,900р."},"Бред Питт"]
[null,"CL00397","2013-08-28T13:18:42.542","Софт","Запад","Некоммерческие",91,"Нет",3.5,0,"Колин Фаррел"]
[null,"CL00398","2013-08-28T13:21:06.435","Персональный ПК","Север","Частные клиенты",81,"Да",3.9,0,"Джеки Чан"]
[null,"CL00399","2013-08-28T13:22:21.394","Другое","Юг","Некоммерческие",80,"Да",3.6,{"v":9300,"d":"9,300р."},"Джонни Депп"]
[null,"CL00400","2013-08-28T13:25:03.479","Другое","Юг","Некоммерческие",83,"Да",3.3,{"v":5700,"d":"5,700р."},"Колин Фаррел"]
[null,"CL00401","2013-08-28T13:25:53.766","Аксессуары","Юг","Некоммерческие",78,"Да",1.7,{"v":8100,"d":"8,100р."},"Джеки Чан"]
[null,"CL00402","2013-08-28T13:31:31.198","Аксессуары","Центр","Частные клиенты",86,"Да",2.9,0,"Чак Норрис"]
[null,"CL00403","2013-08-28T13:36:06.717","Аксессуары","Восток","Корпорация",78,"Да",2.7,0,"Бред Питт"]
[null,"CL00404","2013-08-28T13:41:11.253","Аксессуары","Запад","Частные клиенты",90,"Да",{"v":3,"d":"3.0"},0,"Колин Фаррел"]
[null,"CL00405","2013-08-28T13:43:17.132","Ноутбук","Запад","Малый бизнес",79,"Да",2.7,{"v":7800,"d":"7,800р."},"Бред Питт"]
[null,"CL00406","2013-08-28T13:43:33.260","Монитор","Центр","Корпорация",69,"Да",2.2,{"v":4800,"d":"4,800р."},"Колин Фаррел"]
[null,"CL00407","2013-08-28T13:47:05.968","Ноутбук","Восток","Малый бизнес",70,"Да",3.1,{"v":8100,"d":"8,100р."},"Бред Питт"]
[null,"CL00408","2013-08-28T13:52:29.783","Софт","Центр","Корпорация",65,"Да",2.1,{"v":4500,"d":"4,500р."},"Чак Норрис"]
[null,"CL00409","2013-08-28T13:57:02.822","Софт","Восток","Корпорация",67,"Да",2.8,{"v":6300,"d":"6,300р."},"Колин Фаррел"]
[null,"CL00410","2013-08-28T13:58:27.909","Софт","Центр","Частные клиенты",80,"Да",2.7,{"v":4500,"d":"4,500р."},"Джонни Депп"]
[null,"CL00411","2013-08-28T14:03:46.916","Монитор","Запад","Частные клиенты",88,"Да",2.5,{"v":6600,"d":"6,600р."},"Чак Норрис"]
[null,"CL00412","2013-08-28T14:06:38.294","Аксессуары","Юг","Частные клиенты",72,"Да",3.7,{"v":4800,"d":"4,800р."},"Уилл Смит"]
[null,"CL00413","2013-08-28T14:08:48.836","Другое","Север","Малый бизнес",73,"Да",3.1,{"v":4500,"d":"4,500р."},"Джонни Депп"]
[null,"CL00414","2013-08-28T14:11:43.670","Аксессуары","Север","Частные клиенты",68,"Да",3.3,{"v":4500,"d":"4,500р."},"Чак Норрис"]
[null,"CL00415","2013-08-28T14:11:46.452","Ноутбук","Север","Корпорация",80,"Да",1.9,0,"Колин Фаррел"]
[null,"CL00416","2013-08-28T14:15:22.873","Монитор","Запад","Малый бизнес",76,"Да",4.3,0,"Чак Норрис"]
[null,"CL00417","2013-08-28T14:15:46.230","Другое","Центр","Частные клиенты",94,"Да",3.2,0,"Колин Фаррел"]
[null,"CL00418","2013-08-28T14:18:53.016","Аксессуары","Восток","Корпорация",80,"Да",{"v":2,"d":"2.0"},{"v":5700,"d":"5,700р."},"Колин Фаррел"]
[null,"CL00419","2013-08-28T14:20:59.345","Ноутбук","Север","Корпорация",86,"Да",3.1,0,"Джонни Депп"]
[null,"CL00420","2013-08-28T14:26:20.279","Персональный ПК","Центр","Корпорация",74,"Да",3.7,{"v":7200,"d":"7,200р."},"Джонни Депп"]
[null,"CL00421","2013-08-28T14:26:40.303","Аксессуары","Центр","Малый бизнес",75,"Да",3.6,0,"Джеки Чан"]
[null,"CL00422","2013-08-28T14:26:54.988","Аксессуары","Север","Малый бизнес",87,"Нет",3.1,{"v":4800,"d":"4,800р."},"Чак Норрис"]
[null,"CL00423","2013-08-28T14:31:29.888","Софт","Север","Некоммерческие",62,"Да",2.9,0,"Колин Фаррел"]
[null,"CL00424","2013-08-28T14:36:38.730","Ноутбук","Запад","Корпорация",78,"Да",2.2,{"v":5400,"d":"5,400р."},"Джонни Депп"]
[null,"CL00425","2013-08-28T14:41:23.178","Монитор","Запад","Частные клиенты",59,"Да",3.3,{"v":6000,"d":"6,000р."},"Чак Норрис"]
[null,"CL00426","2013-08-28T14:42:56.388","Другое","Центр","Корпорация",74,"Да",3.3,{"v":6300,"d":"6,300р."},"Колин Фаррел"]
[null,"CL00427","2013-08-28T14:44:25.626","Ноутбук","Север","Корпорация",70,"Да",2.9,{"v":6300,"d":"6,300р."},"Уилл Смит"]
[null,"CL00428","2013-08-28T14:46:48.368","Другое","Юг","Малый бизнес",64,"Да",2.9,0,"Бред Питт"]
[null,"CL00429","2013-08-28T14:49:49.162","Монитор","Восток","Корпорация",75,"Да",3.8,{"v":4800,"d":"4,800р."},"Джонни Депп"]
[null,"CL00430","2013-08-28T14:49:56.427","Другое","Восток","Малый бизнес",72,"Да",2.4,0,"Джонни Депп"]
[null,"CL00431","2013-08-28T14:52:10.483","Аксессуары","Запад","Корпорация",94,"Да",3.1,{"v":6900,"d":"6,900р."},"Колин Фаррел"]
[null,"CL00432","2013-08-28T14:55:57.354","Монитор","Восток","Частные клиенты",82,"Да",3.2,0,"Чак Норрис"]
[null,"CL00433","2013-08-28T14:58:54.981","Другое","Восток","Частные клиенты",77,"Да",{"v":3,"d":"3.0"},{"v":7500,"d":"7,500р."},"Уилл Смит"]
[null,"CL00434","2013-08-28T15:02:29.413","Аксессуары","Центр","Частные клиенты",78,"Да",3.4,{"v":4800,"d":"4,800р."},"Бред Питт"]
[null,"CL00435","2013-08-28T15:04:10.406","Аксессуары","Юг","Некоммерческие",69,"Да",3.3,{"v":7200,"d":"7,200р."},"Чак Норрис"]
[null,"CL00436","2013-08-28T15:08:28.230","Персональный ПК","Восток","Некоммерческие",75,"Да",3.1,{"v":6900,"d":"6,900р."},"Джеки Чан"]
[null,"CL00437","2013-08-28T15:14:07.660","Софт","Центр","Корпорация",76,"Да",3.8,{"v":4200,"d":"4,200р."},"Джеки Чан"]
[null,"CL00438","2013-08-28T15:16:48.212","Аксессуары","Запад","Частные клиенты",65,"Да",3.6,0,"Джеки Чан"]
[null,"CL00439","2013-08-28T15:18:02.053","Персональный ПК","Восток","Частные клиенты",70,"Да",3.1,0,"Колин Фаррел"]
[null,"CL00440","2013-08-28T15:22:37.616","Монитор","Север","Корпорация",74,"Да",{"v":3,"d":"3.0"},0,"Чак Норрис"]
[null,"CL00441","2013-08-28T15:26:15.246","Аксессуары","Юг","Частные клиенты",82,"Нет",3.5,{"v":6000,"d":"6,000р."},"Джонни Депп"]
[null,"CL00442","2013-08-28T15:28:55.900","Софт","Восток","Малый бизнес",81,"Да",2.2,0,"Чак Норрис"]
[null,"CL00443","2013-08-28T15:33:54.480","Софт","Юг","Некоммерческие",67,"Да",4.2,{"v":5100,"d":"5,100р."},"Джонни Депп"]
[null,"CL00444","2013-08-28T15:35:55.517","Другое","Юг","Корпорация",73,"Да",2.5,0,"Колин Фаррел"]
[null,"CL00445","2013-08-28T15:39:05.813","Персональный ПК","Центр","Малый бизнес",80,"Да",3.2,{"v":6600,"d":"6,600р."},"Джеки Чан"]
[null,"CL00446","2013-08-28T15:40:57.426","Монитор","Центр","Корпорация",61,"Да",3.3,{"v":7800,"d":"7,800р."},"Джеки Чан"]
[null,"CL00447","2013-08-28T15:43:38.882","Ноутбук","Восток","Корпорация",62,"Да",3.2,{"v":6600,"d":"6,600р."},"Джеки Чан"]
[null,"CL00448","2013-08-28T15:46:42.955","Другое","Юг","Корпорация",83,"Да",2.9,{"v":6600,"d":"6,600р."},"Бред Питт"]
[null,"CL00449","2013-08-28T15:50:51.166","Аксессуары","Запад","Частные клиенты",75,"Да",2.5,{"v":7800,"d":"7,800р."},"Джонни Депп"]
[null,"CL00450","2013-08-28T15:55:33.413","Персональный ПК","Восток","Некоммерческие",72,"Да",3.4,{"v":3600,"d":"3,600р."},"Уилл Смит"]
[null,"CL00451","2013-08-28T15:59:46.533","Персональный ПК","Центр","Некоммерческие",70,"Да",2.9,{"v":5400,"d":"5,400р."},"Уилл Смит"]
[null,"CL00452","2013-08-28T16:02:52.609","Аксессуары","Центр","Некоммерческие",85,"Нет",3.4,{"v":5700,"d":"5,700р."},"Бред Питт"]
[null,"CL00453","2013-08-28T16:05:37.910","Монитор","Восток","Частные клиенты",76,"Да",3.4,0,"Колин Фаррел"]
[null,"CL00454","2013-08-28T16:10:21.357","Ноутбук","Запад","Некоммерческие",85,"Да",2.8,{"v":3000,"d":"3,000р."},"Джонни Депп"]
[null,"CL00455","2013-08-28T16:10:45.866","Другое","Запад","Некоммерческие",91,"Да",3.7,{"v":7500,"d":"7,500р."},"Чак Норрис"]
[null,"CL00456","2013-08-28T16:15:24.325","Ноутбук","Запад","Частные клиенты",83,"Да",{"v":3,"d":"3.0"},0,"Джеки Чан"]
[null,"CL00457","2013-08-28T16:21:02.302","Софт","Восток","Частные клиенты",75,"Да",3.8,0,"Джеки Чан"]
[null,"CL00458","2013-08-28T16:22:40.039","Софт","Восток","Корпорация",73,"Да",3.3,0,"Уилл Смит"]
[null,"CL00459","2013-08-28T16:27:21.344","Другое","Восток","Малый бизнес",71,"Да",2.1,0,"Чак Норрис"]
[null,"CL00460","2013-08-28T16:27:52.448","Монитор","Север","Частные клиенты",86,"Да",3.1,{"v":6000,"d":"6,000р."},"Чак Норрис"]
[null,"CL00461","2013-08-28T16:28:55.340","Монитор","Центр","Частные клиенты",71,"Да",2.6,{"v":3600,"d":"3,600р."},"Бред Питт"]
[null,"CL00462","2013-08-28T16:33:48.059","Монитор","Север","Частные клиенты",64,"Да",3.9,{"v":6600,"d":"6,600р."},"Джеки Чан"]
[null,"CL00463","2013-08-28T16:38:08.447","Аксессуары","Восток","Корпорация",73,"Да",2.8,{"v":3600,"d":"3,600р."},"Чак Норрис"]
[null,"CL00464","2013-08-28T16:43:53.961","Софт","Запад","Корпорация",71,"Да",2.8,{"v":8100,"d":"8,100р."},"Чак Норрис"]
[null,"CL00465","2013-08-28T16:47:00.418","Другое","Запад","Корпорация",78,"Да",{"v":3,"d":"3.0"},{"v":7200,"d":"7,200р."},"Колин Фаррел"]
[null,"CL00466","2013-08-28T16:51:45.855","Софт","Восток","Малый бизнес",78,"Да",3.6,{"v":5100,"d":"5,100р."},"Чак Норрис"]
[null,"CL00467","2013-08-28T16:57:24.282","Аксессуары","Восток","Корпорация",67,"Да",3.2,0,"Джонни Депп"]
[null,"CL00468","2013-08-28T17:00:16.297","Монитор","Север","Некоммерческие",78,"Да",2.9,0,"Чак Норрис"]
[null,"CL00469","2013-08-28T17:04:52.371","Монитор","Центр","Некоммерческие",81,"Да",{"v":2,"d":"2.0"},{"v":5400,"d":"5,400р."},"Уилл Смит"]
[null,"CL00470","2013-08-28T17:08:44.553","Ноутбук","Центр","Малый бизнес",63,"Да",3.3,{"v":6000,"d":"6,000р."},"Джеки Чан"]
[null,"CL00471","2013-08-28T17:09:57.152","Софт","Запад","Корпорация",87,"Да",3.4,{"v":6900,"d":"6,900р."},"Уилл Смит"]
[null,"CL00472","2013-08-28T17:15:38.081","Ноутбук","Юг","Некоммерческие",55,"Нет",{"v":3,"d":"3.0"},{"v":5400,"d":"5,400р."},"Чак Норрис"]
[null,"CL00473","2013-08-28T17:21:16.189","Другое","Запад","Частные клиенты",57,"Да",3.4,0,"Бред Питт"]
[null,"CL00474","2013-08-28T17:26:08.847","Ноутбук","Запад","Некоммерческие",64,"Да",2.8,0,"Уилл Смит"]
[null,"CL00475","2013-08-28T17:29:14.435","Другое","Север","Частные клиенты",80,"Да",3.6,{"v":3300,"d":"3,300р."},"Джонни Депп"]
[null,"CL00476","2013-08-28T17:29:27.412","Софт","Юг","Корпорация",69,"Да",2.5,{"v":8400,"d":"8,400р."},"Джеки Чан"]
[null,"CL00477","2013-08-28T17:30:45.712","Персональный ПК","Север","Частные клиенты",76,"Да",4.4,0,"Чак Норрис"]
[null,"CL00478","2013-08-28T17:32:52.880","Другое","Центр","Частные клиенты",86,"Да",{"v":3,"d":"3.0"},0,"Джеки Чан"]
[null,"CL00479","2013-08-28T17:34:49.926","Ноутбук","Запад","Некоммерческие",78,"Да",3.2,0,"Джеки Чан"]
[null,"CL00480","2013-08-28T17:39:40.164","Аксессуары","Юг","Корпорация",73,"Да",3.2,0,"Джонни Депп"]
[null,"CL00481","2013-08-28T17:41:29.623","Аксессуары","Юг","Некоммерческие",86,"Да",2.9,{"v":9000,"d":"9,000р."},"Джеки Чан"]
[null,"CL00482","2013-08-28T17:43:48.185","Ноутбук","Север","Корпорация",81,"Да",3.4,{"v":3300,"d":"3,300р."},"Колин Фаррел"]
[null,"CL00483","2013-08-28T17:47:39.969","Персональный ПК","Север","Корпорация",76,"Да",2.7,0,"Чак Норрис"]
[null,"CL00484","2013-08-28T17:49:38.514","Ноутбук","Север","Корпорация",88,"Да",3.1,{"v":5400,"d":"5,400р."},"Бред Питт"]
[null,"CL00485","2013-08-28T17:52:31.869","Ноутбук","Восток","Частные клиенты",79,"Да",3.6,0,"Джеки Чан"]
[null,"CL00486","2013-08-28T17:56:59.186","Ноутбук","Север","Частные клиенты",88,"Да",2.9,0,"Уилл Смит"]
[null,"CL00487","2013-08-28T17:58:16.478","Другое","Север","Некоммерческие",85,"Да",2.3,{"v":4800,"d":"4,800р."},"Уилл Смит"]
[null,"CL00488","2013-08-28T18:01:00.170","Ноутбук","Центр","Частные клиенты",84,"Да",3.3,0,"Колин Фаррел"]
[null,"CL00489","2013-08-28T18:05:42.520","Персональный ПК","Запад","Корпорация",69,"Да",2.9,{"v":6300,"d":"6,300р."},"Чак Норрис"]
[null,"CL00490","2013-08-28T18:08:58.386","Софт","Центр","Корпорация",70,"Да",2.1,{"v":5400,"d":"5,400р."},"Джеки Чан"]
[null,"CL00491","2013-08-28T18:10:00.610","Ноутбук","Центр","Малый бизнес",74,"Да",2.4,{"v":5100,"d":"5,100р."},"Чак Норрис"]
[null,"CL00492","2013-08-28T18:15:35.142","Персональный ПК","Центр","Частные клиенты",87,"Да",3.1,0,"Бред Питт"]
[null,"CL00493","2013-08-28T18:19:08.728","Ноутбук","Центр","Некоммерческие",81,"Да",3.1,{"v":5100,"d":"5,100р."},"Бред Питт"]
[null,"CL00494","2013-08-28T18:22:14.978","Монитор","Запад","Частные клиенты",76,"Да",2.6,{"v":4500,"d":"4,500р."},"Уилл Смит"]
[null,"CL00495","2013-08-28T18:26:22.548","Другое","Восток","Малый бизнес",83,"Да",3.5,{"v":4200,"d":"4,200р."},"Колин Фаррел"]
[null,"CL00496","2013-08-28T18:31:41.007","Софт","Север","Корпорация",91,"Да",2.3,0,"Уилл Смит"]
[null,"CL00497","2013-08-28T18:33:49.026","Ноутбук","Восток","Частные клиенты",69,"Да",3.5,0,"Уилл Смит"]
[null,"CL00498","2013-08-28T18:38:34.398","Софт","Юг","Малый бизнес",61,"Да",2.7,0,"Бред Питт"]
[null,"CL00499","2013-08-28T18:41:57.350","Другое","Запад","Малый бизнес",76,"Да",2.6,{"v":7200,"d":"7,200р."},"Джеки Чан"]
[null,"CL00500","2013-08-28T18:46:19.697","Монитор","Север","Некоммерческие",73,"Да",3.2,{"v":5100,"d":"5,100р."},"Бред Питт"]
[null,"CL00501","2013-08-28T18:50:35.595","Аксессуары","Восток","Частные клиенты",79,"Да",3.1,{"v":6900,"d":"6,900р."},"Колин Фаррел"]
[null,"CL00502","2013-08-28T18:54:11.214","Другое","Центр","Малый бизнес",78,"Да",2.2,0,"Джонни Депп"]
[null,"CL00503","2013-08-28T18:54:50.266","Аксессуары","Запад","Частные клиенты",74,"Да",2.6,0,"Колин Фаррел"]
[null,"CL00504","2013-08-28T18:56:35.930","Аксессуары","Восток","Некоммерческие",67,"Да",2.5,{"v":4800,"d":"4,800р."},"Джеки Чан"]
[null,"CL00505","2013-08-28T18:59:13.891","Ноутбук","Юг","Некоммерческие",80,"Да",3.2,0,"Бред Питт"]
[null,"CL00506","2013-08-28T19:03:43.697","Аксессуары","Юг","Корпорация",75,"Да",3.3,{"v":7200,"d":"7,200р."},"Чак Норрис"]
[null,"CL00507","2013-08-28T19:07:33.986","Софт","Запад","Некоммерческие",72,"Да",3.2,{"v":3300,"d":"3,300р."},"Джонни Депп"]
[null,"CL00508","2013-08-28T19:11:28.680","Софт","Центр","Корпорация",84,"Да",3.6,{"v":5700,"d":"5,700р."},"Уилл Смит"]
[null,"CL00509","2013-08-28T19:12:58.438","Другое","Центр","Некоммерческие",75,"Нет",{"v":4,"d":"4.0"},0,"Джонни Депп"]
[null,"CL00510","2013-08-28T19:16:35.324","Софт","Север","Частные клиенты",87,"Да",3.6,{"v":6900,"d":"6,900р."},"Джеки Чан"]
[null,"CL00511","2013-08-28T19:19:03.136","Монитор","Восток","Малый бизнес",83,"Да",3.2,0,"Джонни Депп"]
[null,"CL00512","2013-08-28T19:19:53.341","Ноутбук","Центр","Некоммерческие",65,"Да",3.5,{"v":7500,"d":"7,500р."},"Чак Норрис"]
[null,"CL00513","2013-08-28T19:22:36.397","Другое","Центр","Корпорация",82,"Да",2.7,{"v":5700,"d":"5,700р."},"Джеки Чан"]
[null,"CL00514","2013-08-28T19:24:07.191","Аксессуары","Север","Частные клиенты",70,"Да",3.6,{"v":5400,"d":"5,400р."},"Джонни Депп"]
[null,"CL00515","2013-08-28T19:24:54.566","Монитор","Север","Частные клиенты",67,"Да",{"v":4,"d":"4.0"},{"v":6000,"d":"6,000р."},"Джонни Депп"]
[null,"CL00516","2013-08-28T19:24:59.009","Монитор","Восток","Частные клиенты",76,"Да",3.6,{"v":7200,"d":"7,200р."},"Чак Норрис"]
[null,"CL00517","2013-08-28T19:29:15.396","Аксессуары","Восток","Корпорация",68,"Да",3.4,{"v":7500,"d":"7,500р."},"Чак Норрис"]
[null,"CL00518","2013-08-28T19:31:35.646","Персональный ПК","Запад","Корпорация",81,"Да",2.5,0,"Бред Питт"]
[null,"CL00519","2013-08-28T19:36:41.150","Монитор","Юг","Частные клиенты",86,"Да",{"v":3,"d":"3.0"},{"v":5100,"d":"5,100р."},"Джонни Депп"]
[null,"CL00520","2013-08-28T19:38:01.010","Софт","Юг","Некоммерческие",82,"Да",3.9,0,"Уилл Смит"]
[null,"CL00521","2013-08-28T19:38:31.112","Монитор","Север","Корпорация",62,"Да",2.9,{"v":7200,"d":"7,200р."},"Джеки Чан"]
[null,"CL00522","2013-08-28T19:38:57.757","Софт","Запад","Малый бизнес",72,"Да",2.7,0,"Чак Норрис"]
[null,"CL00523","2013-08-28T19:43:35.895","Персональный ПК","Юг","Некоммерческие",73,"Да",3.3,{"v":4500,"d":"4,500р."},"Уилл Смит"]
[null,"CL00524","2013-08-28T19:43:59.811","Персональный ПК","Север","Корпорация",82,"Да",3.4,0,"Чак Норрис"]
[null,"CL00525","2013-08-28T19:48:09.093","Софт","Центр","Некоммерческие",76,"Да",3.2,0,"Чак Норрис"]
[null,"CL00526","2013-08-28T19:51:43.315","Персональный ПК","Запад","Малый бизнес",85,"Да",3.4,{"v":6300,"d":"6,300р."},"Джеки Чан"]
[null,"CL00527","2013-08-28T19:53:12.187","Персональный ПК","Центр","Малый бизнес",93,"Да",3.8,0,"Уилл Смит"]
[null,"CL00528","2013-08-28T19:55:31.890","Монитор","Север","Малый бизнес",90,"Да",3.9,{"v":3600,"d":"3,600р."},"Бред Питт"]
[null,"CL00529","2013-08-28T19:56:28.200","Другое","Запад","Частные клиенты",69,"Да",3.6,{"v":5700,"d":"5,700р."},"Джеки Чан"]
[null,"CL00530","2013-08-28T19:56:35.040","Ноутбук","Восток","Некоммерческие",65,"Да",3.2,{"v":6600,"d":"6,600р."},"Колин Фаррел"]
[null,"CL00531","2013-08-28T19:57:55.691","Персональный ПК","Север","Малый бизнес",81,"Да",{"v":3,"d":"3.0"},0,"Джонни Депп"]
[null,"CL00532","2013-08-28T19:58:32.604","Аксессуары","Центр","Малый бизнес",82,"Да",2.7,{"v":6900,"d":"6,900р."},"Джонни Депп"]
[null,"CL00533","2013-08-28T19:59:21.908","Ноутбук","Север","Частные клиенты",81,"Да",2.2,{"v":6300,"d":"6,300р."},"Джеки Чан"]
[null,"CL00534","2013-08-28T20:01:57.309","Софт","Восток","Частные клиенты",81,"Да",2.8,0,"Джеки Чан"]
[null,"CL00535","2013-08-28T20:01:57.491","Софт","Восток","Корпорация",72,"Да",3.7,{"v":4800,"d":"4,800р."},"Чак Норрис"]
[null,"CL00536","2013-08-28T20:05:40.149","Монитор","Юг","Малый бизнес",82,"Да",3.3,{"v":6000,"d":"6,000р."},"Джонни Депп"]
[null,"CL00537","2013-08-28T20:07:21.492","Софт","Запад","Малый бизнес",65,"Да",3.9,{"v":7200,"d":"7,200р."},"Чак Норрис"]
[null,"CL00538","2013-08-28T20:09:34.366","Ноутбук","Центр","Частные клиенты",75,"Да",2.9,{"v":6300,"d":"6,300р."},"Чак Норрис"]
[null,"CL00539","2013-08-28T20:11:39.784","Персональный ПК","Восток","Частные клиенты",83,"Да",2.7,{"v":8400,"d":"8,400р."},"Бред Питт"]
[null,"CL00540","2013-08-28T20:16:24.627","Аксессуары","Юг","Некоммерческие",87,"Нет",3.1,{"v":7500,"d":"7,500р."},"Колин Фаррел"]
[null,"CL00541","2013-08-28T20:19:05.656","Монитор","Север","Малый бизнес",78,"Да",3.4,{"v":6000,"d":"6,000р."},"Джонни Депп"]
[null,"CL00542","2013-08-28T20:21:24.724","Софт","Запад","Частные клиенты",77,"Нет",{"v":3,"d":"3.0"},0,"Чак Норрис"]
[null,"CL00543","2013-08-28T20:26:44.531","Персональный ПК","Запад","Некоммерческие",78,"Да",3.6,0,"Чак Норрис"]
[null,"CL00544","2013-08-28T20:31:02.414","Монитор","Центр","Частные клиенты",75,"Да",3.2,0,"Бред Питт"]
[null,"CL00545","2013-08-28T20:33:03.774","Другое","Центр","Некоммерческие",68,"Да",3.1,{"v":5100,"d":"5,100р."},"Колин Фаррел"]
[null,"CL00546","2013-08-28T20:33:20.730","Аксессуары","Север","Некоммерческие",74,"Да",3.7,{"v":6900,"d":"6,900р."},"Колин Фаррел"]
[null,"CL00547","2013-08-28T20:38:48.982","Персональный ПК","Юг","Корпорация",70,"Да",3.4,0,"Бред Питт"]
[null,"CL00548","2013-08-28T20:42:13.954","Аксессуары","Север","Корпорация",61,"Да",2.8,{"v":6900,"d":"6,900р."},"Джонни Депп"]
[null,"CL00549","2013-08-28T20:46:46.558","Ноутбук","Север","Корпорация",77,"Да",{"v":3,"d":"3.0"},{"v":4800,"d":"4,800р."},"Бред Питт"]
[null,"CL00550","2013-08-28T20:49:36.264","Другое","Юг","Малый бизнес",84,"Да",3.1,{"v":4200,"d":"4,200р."},"Джонни Депп"]
[null,"CL00551","2013-08-28T20:54:10.797","Монитор","Центр","Частные клиенты",82,"Да",{"v":3,"d":"3.0"},0,"Бред Питт"]
[null,"CL00552","2013-08-28T20:55:55.209","Другое","Восток","Некоммерческие",80,"Да",2.7,{"v":7200,"d":"7,200р."},"Колин Фаррел"]
[null,"CL00553","2013-08-28T21:00:14.857","Софт","Юг","Частные клиенты",71,"Да",3.4,{"v":5700,"d":"5,700р."},"Уилл Смит"]
[null,"CL00554","2013-08-28T21:00:56.449","Монитор","Восток","Корпорация",56,"Да",2.9,{"v":5100,"d":"5,100р."},"Джеки Чан"]
[null,"CL00555","2013-08-28T21:03:06.878","Другое","Юг","Корпорация",80,"Да",2.8,0,"Джонни Депп"]
[null,"CL00556","2013-08-28T21:08:19.128","Ноутбук","Юг","Частные клиенты",76,"Да",3.2,{"v":4800,"d":"4,800р."},"Джонни Депп"]
[null,"CL00557","2013-08-28T21:08:34.499","Персональный ПК","Центр","Корпорация",62,"Да",2.7,{"v":6000,"d":"6,000р."},"Джонни Депп"]
[null,"CL00558","2013-08-28T21:13:44.287","Аксессуары","Центр","Некоммерческие",65,"Да",2.7,{"v":6000,"d":"6,000р."},"Чак Норрис"]
[null,"CL00559","2013-08-28T21:17:46.695","Монитор","Запад","Малый бизнес",97,"Да",2.7,{"v":5400,"d":"5,400р."},"Колин Фаррел"]
[null,"CL00560","2013-08-28T21:21:41.111","Софт","Запад","Некоммерческие",93,"Да",4.5,0,"Джонни Депп"]
[null,"CL00561","2013-08-28T21:26:27.217","Персональный ПК","Юг","Частные клиенты",80,"Да",2.3,{"v":9000,"d":"9,000р."},"Колин Фаррел"]
[null,"CL00562","2013-08-28T21:28:44.660","Другое","Запад","Малый бизнес",64,"Да",3.4,{"v":4800,"d":"4,800р."},"Бред Питт"]
[null,"CL00563","2013-08-28T21:28:58.913","Ноутбук","Центр","Частные клиенты",71,"Да",3.1,0,"Бред Питт"]
[null,"CL00564","2013-08-28T21:32:17.218","Аксессуары","Юг","Корпорация",80,"Да",2.7,{"v":6300,"d":"6,300р."},"Джонни Депп"]
[null,"CL00565","2013-08-28T21:36:16.638","Персональный ПК","Центр","Малый бизнес",72,"Да",3.2,{"v":4800,"d":"4,800р."},"Колин Фаррел"]
[null,"CL00566","2013-08-28T21:41:18.243","Персональный ПК","Восток","Частные клиенты",66,"Да",2.9,0,"Джеки Чан"]
[null,"CL00567","2013-08-28T21:41:38.754","Ноутбук","Восток","Некоммерческие",78,"Да",3.1,0,"Бред Питт"]
[null,"CL00568","2013-08-28T21:46:15.985","Софт","Восток","Частные клиенты",75,"Да",3.4,0,"Чак Норрис"]
[null,"CL00569","2013-08-28T21:50:48.892","Аксессуары","Восток","Корпорация",70,"Да",3.9,0,"Уилл Смит"]
[null,"CL00570","2013-08-28T21:53:01.115","Аксессуары","Восток","Некоммерческие",78,"Да",2.8,{"v":4200,"d":"4,200р."},"Колин Фаррел"]
[null,"CL00571","2013-08-28T21:55:20.705","Другое","Север","Частные клиенты",67,"Да",2.9,0,"Колин Фаррел"]
[null,"CL00572","2013-08-28T21:57:12.626","Монитор","Север","Малый бизнес",63,"Да",3.7,{"v":7200,"d":"7,200р."},"Чак Норрис"]
[null,"CL00573","2013-08-28T21:57:27.676","Персональный ПК","Восток","Некоммерческие",74,"Да",3.9,0,"Чак Норрис"]
[null,"CL00574","2013-08-28T21:58:13.154","Ноутбук","Юг","Корпорация",91,"Да",{"v":4,"d":"4.0"},{"v":9000,"d":"9,000р."},"Джонни Депп"]
[null,"CL00575","2013-08-28T22:03:26.679","Другое","Запад","Малый бизнес",74,"Да",2.7,0,"Чак Норрис"]
[null,"CL00576","2013-08-29T08:07:17.746","Монитор","Юг","Некоммерческие",64,"Да",3.3,0,"Уилл Смит"]
[null,"CL00577","2013-08-29T08:12:39.856","Софт","Центр","Корпорация",73,"Да",2.9,{"v":5100,"d":"5,100р."},"Колин Фаррел"]
[null,"CL00578","2013-08-29T08:14:57.223","Другое","Юг","Корпорация",70,"Да",2.4,{"v":6900,"d":"6,900р."},"Бред Питт"]
[null,"CL00579","2013-08-29T08:19:20.661","Софт","Север","Малый бизнес",72,"Да",3.1,0,"Джонни Депп"]
[null,"CL00580","2013-08-29T08:19:45.550","Софт","Восток","Частные клиенты",91,"Да",3.3,{"v":3300,"d":"3,300р."},"Бред Питт"]
[null,"CL00581","2013-08-29T08:21:38.532","Персональный ПК","Запад","Малый бизнес",79,"Нет",2.6,0,"Джонни Депп"]
[null,"CL00582","2013-08-29T08:25:55.758","Монитор","Север","Некоммерческие",69,"Да",3.9,{"v":6300,"d":"6,300р."},"Джеки Чан"]
[null,"CL00583","2013-08-29T08:27:58.296","Ноутбук","Запад","Малый бизнес",76,"Да",3.1,{"v":6000,"d":"6,000р."},"Чак Норрис"]
[null,"CL00584","2013-08-29T08:30:06.501","Монитор","Восток","Частные клиенты",67,"Да",2.6,{"v":3300,"d":"3,300р."},"Джонни Депп"]
[null,"CL00585","2013-08-29T08:34:29.889","Другое","Запад","Малый бизнес",89,"Да",{"v":3,"d":"3.0"},{"v":4500,"d":"4,500р."},"Уилл Смит"]
[null,"CL00586","2013-08-29T08:35:06.438","Персональный ПК","Запад","Частные клиенты",77,"Да",3.1,0,"Чак Норрис"]
[null,"CL00587","2013-08-29T08:35:42.402","Монитор","Центр","Некоммерческие",73,"Да",3.5,{"v":4500,"d":"4,500р."},"Чак Норрис"]
[null,"CL00588","2013-08-29T08:36:00.373","Аксессуары","Запад","Некоммерческие",62,"Да",2.6,{"v":6600,"d":"6,600р."},"Джонни Депп"]
[null,"CL00589","2013-08-29T08:41:24.547","Аксессуары","Юг","Частные клиенты",75,"Да",3.4,{"v":6900,"d":"6,900р."},"Уилл Смит"]
[null,"CL00590","2013-08-29T08:46:13.483","Аксессуары","Север","Малый бизнес",74,"Да",2.2,{"v":6000,"d":"6,000р."},"Джонни Депп"]
[null,"CL00591","2013-08-29T08:46:36.781","Аксессуары","Север","Некоммерческие",77,"Да",3.2,0,"Бред Питт"]
[null,"CL00592","2013-08-29T08:51:21.674","Персональный ПК","Юг","Малый бизнес",70,"Да",3.6,{"v":7800,"d":"7,800р."},"Чак Норрис"]
[null,"CL00593","2013-08-29T08:52:17.515","Персональный ПК","Восток","Корпорация",70,"Да",{"v":3,"d":"3.0"},0,"Джонни Депп"]
[null,"CL00594","2013-08-29T08:57:50.551","Другое","Восток","Частные клиенты",78,"Да",2.8,{"v":6600,"d":"6,600р."},"Джеки Чан"]
[null,"CL00595","2013-08-29T09:03:32.591","Монитор","Юг","Частные клиенты",78,"Да",2.6,0,"Чак Норрис"]
[null,"CL00596","2013-08-29T09:06:22.544","Аксессуары","Юг","Частные клиенты",79,"Да",3.3,0,"Джеки Чан"]
[null,"CL00597","2013-08-29T09:06:27.331","Монитор","Запад","Некоммерческие",75,"Да",3.1,0,"Джонни Депп"]
[null,"CL00598","2013-08-29T09:07:48.120","Персональный ПК","Восток","Частные клиенты",78,"Да",3.5,{"v":3900,"d":"3,900р."},"Колин Фаррел"]
[null,"CL00599","2013-08-29T09:10:08.436","Аксессуары","Юг","Некоммерческие",80,"Да",2.8,{"v":8400,"d":"8,400р."},"Колин Фаррел"]
[null,"CL00600","2013-08-29T09:15:11.066","Другое","Юг","Корпорация",77,"Да",3.4,{"v":6300,"d":"6,300р."},"Чак Норрис"]
[null,"CL00601","2013-08-29T09:18:41.368","Ноутбук","Восток","Малый бизнес",81,"Да",3.3,{"v":2700,"d":"2,700р."},"Джеки Чан"]
[null,"CL00602","2013-08-29T09:23:25.521","Ноутбук","Восток","Малый бизнес",59,"Да",3.1,0,"Колин Фаррел"]
[null,"CL00603","2013-08-29T09:26:29.435","Персональный ПК","Центр","Корпорация",82,"Да",3.4,0,"Джеки Чан"]
[null,"CL00604","2013-08-29T09:31:45.730","Ноутбук","Запад","Малый бизнес",81,"Да",2.9,{"v":3900,"d":"3,900р."},"Бред Питт"]
[null,"CL00605","2013-08-29T09:34:57.884","Персональный ПК","Восток","Малый бизнес",59,"Нет",3.3,{"v":8100,"d":"8,100р."},"Бред Питт"]
[null,"CL00606","2013-08-29T09:38:32.199","Монитор","Запад","Некоммерческие",79,"Да",2.7,0,"Колин Фаррел"]
[null,"CL00607","2013-08-29T09:39:50.709","Ноутбук","Север","Корпорация",71,"Да",3.3,{"v":6900,"d":"6,900р."},"Чак Норрис"]
[null,"CL00608","2013-08-29T09:44:59.105","Софт","Центр","Частные клиенты",61,"Да",2.8,0,"Джонни Депп"]
[null,"CL00609","2013-08-29T09:47:38.260","Персональный ПК","Север","Некоммерческие",61,"Да",{"v":3,"d":"3.0"},{"v":4800,"d":"4,800р."},"Бред Питт"]
[null,"CL00610","2013-08-29T09:50:04.489","Ноутбук","Юг","Некоммерческие",76,"Да",3.1,0,"Джеки Чан"]
[null,"CL00611","2013-08-29T09:53:05.669","Монитор","Юг","Некоммерческие",73,"Да",2.7,{"v":6600,"d":"6,600р."},"Уилл Смит"]
[null,"CL00612","2013-08-29T09:53:56.515","Монитор","Центр","Некоммерческие",82,"Да",3.2,0,"Уилл Смит"]
[null,"CL00613","2013-08-29T09:58:28.894","Ноутбук","Восток","Корпорация",59,"Да",2.9,0,"Бред Питт"]
[null,"CL00614","2013-08-29T10:01:24.822","Другое","Центр","Малый бизнес",73,"Да",{"v":3,"d":"3.0"},0,"Бред Питт"]
[null,"CL00615","2013-08-29T10:05:56.837","Аксессуары","Центр","Частные клиенты",65,"Да",2.8,0,"Уилл Смит"]
[null,"CL00616","2013-08-29T10:10:24.360","Аксессуары","Восток","Частные клиенты",72,"Да",2.8,0,"Чак Норрис"]
[null,"CL00617","2013-08-29T10:14:59.178","Софт","Запад","Малый бизнес",80,"Да",2.4,0,"Джеки Чан"]
[null,"CL00618","2013-08-29T10:20:05.645","Монитор","Север","Малый бизнес",65,"Да",2.5,0,"Джонни Депп"]
[null,"CL00619","2013-08-29T10:25:39.936","Ноутбук","Юг","Малый бизнес",78,"Да",2.5,{"v":4500,"d":"4,500р."},"Бред Питт"]
[null,"CL00620","2013-08-29T10:27:08.548","Персональный ПК","Север","Корпорация",68,"Да",2.4,{"v":5700,"d":"5,700р."},"Джонни Депп"]
[null,"CL00621","2013-08-29T10:32:35.530","Аксессуары","Запад","Частные клиенты",82,"Да",2.9,{"v":5100,"d":"5,100р."},"Бред Питт"]
[null,"CL00622","2013-08-29T10:36:55.858","Другое","Запад","Корпорация",66,"Да",2.9,{"v":6000,"d":"6,000р."},"Уилл Смит"]
[null,"CL00623","2013-08-29T10:40:59.430","Аксессуары","Восток","Частные клиенты",66,"Да",3.5,0,"Уилл Смит"]
[null,"CL00624","2013-08-29T10:43:51.641","Аксессуары","Север","Некоммерческие",80,"Да",3.7,0,"Чак Норрис"]
[null,"CL00625","2013-08-29T10:45:23.776","Монитор","Центр","Корпорация",78,"Да",2.3,0,"Колин Фаррел"]
[null,"CL00626","2013-08-29T10:47:53.406","Ноутбук","Восток","Некоммерческие",56,"Да",3.1,0,"Джонни Депп"]
[null,"CL00627","2013-08-29T10:47:54.100","Софт","Юг","Частные клиенты",62,"Да",3.2,{"v":5100,"d":"5,100р."},"Уилл Смит"]
[null,"CL00628","2013-08-29T10:51:02.145","Ноутбук","Север","Некоммерческие",73,"Да",2.8,0,"Колин Фаррел"]
[null,"CL00629","2013-08-29T10:53:29.154","Персональный ПК","Центр","Некоммерческие",80,"Да",3.3,{"v":6900,"d":"6,900р."},"Чак Норрис"]
[null,"CL00630","2013-08-29T10:58:56.050","Персональный ПК","Запад","Частные клиенты",81,"Да",2.9,{"v":7500,"d":"7,500р."},"Джеки Чан"]
[null,"CL00631","2013-08-29T11:01:01.465","Монитор","Восток","Малый бизнес",74,"Да",3.3,0,"Джеки Чан"]
[null,"CL00632","2013-08-29T11:04:11.368","Персональный ПК","Центр","Малый бизнес",83,"Да",2.4,{"v":3600,"d":"3,600р."},"Джонни Депп"]
[null,"CL00633","2013-08-29T11:06:21.537","Другое","Юг","Корпорация",76,"Да",3.2,0,"Джеки Чан"]
[null,"CL00634","2013-08-29T11:08:24.325","Другое","Восток","Малый бизнес",65,"Да",2.9,{"v":6900,"d":"6,900р."},"Джонни Депп"]
[null,"CL00635","2013-08-29T11:13:13.058","Ноутбук","Запад","Некоммерческие",69,"Да",2.7,0,"Колин Фаррел"]
[null,"CL00636","2013-08-29T11:14:12.663","Персональный ПК","Юг","Некоммерческие",73,"Да",2.1,0,"Чак Норрис"]
[null,"CL00637","2013-08-29T11:16:55.356","Ноутбук","Запад","Малый бизнес",81,"Да",3.4,0,"Бред Питт"]
[null,"CL00638","2013-08-29T11:17:20.486","Монитор","Восток","Корпорация",70,"Да",3.5,{"v":6300,"d":"6,300р."},"Колин Фаррел"]
[null,"CL00639","2013-08-29T11:19:59.997","Софт","Центр","Некоммерческие",84,"Да",2.6,{"v":7200,"d":"7,200р."},"Бред Питт"]
[null,"CL00640","2013-08-29T11:22:50.103","Другое","Запад","Малый бизнес",82,"Да",2.4,{"v":2400,"d":"2,400р."},"Уилл Смит"]
[null,"CL00641","2013-08-29T11:23:38.240","Ноутбук","Восток","Некоммерческие",88,"Да",3.8,{"v":5700,"d":"5,700р."},"Джонни Депп"]
[null,"CL00642","2013-08-29T11:26:03.960","Аксессуары","Запад","Некоммерческие",84,"Да",{"v":3,"d":"3.0"},{"v":7200,"d":"7,200р."},"Бред Питт"]
[null,"CL00643","2013-08-29T11:31:40.803","Аксессуары","Центр","Частные клиенты",70,"Да",3.7,{"v":5100,"d":"5,100р."},"Чак Норрис"]
[null,"CL00644","2013-08-29T11:36:29.924","Ноутбук","Юг","Малый бизнес",65,"Да",{"v":3,"d":"3.0"},{"v":8400,"d":"8,400р."},"Джонни Депп"]
[null,"CL00645","2013-08-29T11:39:01.186","Аксессуары","Запад","Малый бизнес",65,"Да",{"v":3,"d":"3.0"},{"v":3600,"d":"3,600р."},"Джеки Чан"]
[null,"CL00646","2013-08-29T11:40:45.684","Ноутбук","Восток","Некоммерческие",69,"Да",2.6,0,"Уилл Смит"]
[null,"CL00647","2013-08-29T11:41:28.357","Персональный ПК","Юг","Некоммерческие",76,"Да",2.8,{"v":7800,"d":"7,800р."},"Колин Фаррел"]
[null,"CL00648","2013-08-29T11:46:19.698","Монитор","Центр","Корпорация",88,"Да",2.4,0,"Бред Питт"]
[null,"CL00649","2013-08-29T11:48:53.278","Ноутбук","Юг","Некоммерческие",74,"Да",2.8,{"v":5700,"d":"5,700р."},"Чак Норрис"]
[null,"CL00650","2013-08-29T11:52:24.066","Софт","Запад","Малый бизнес",69,"Да",{"v":3,"d":"3.0"},{"v":7200,"d":"7,200р."},"Колин Фаррел"]
[null,"CL00651","2013-08-29T11:55:59.214","Аксессуары","Запад","Корпорация",85,"Да",2.7,{"v":6600,"d":"6,600р."},"Уилл Смит"]
[null,"CL00652","2013-08-29T12:01:02.951","Монитор","Север","Частные клиенты",73,"Да",3.3,0,"Уилл Смит"]
[null,"CL00653","2013-08-29T12:01:28.598","Персональный ПК","Юг","Некоммерческие",75,"Да",2.5,0,"Джеки Чан"]
[null,"CL00654","2013-08-29T12:02:05.819","Другое","Юг","Корпорация",84,"Да",3.4,{"v":7800,"d":"7,800р."},"Чак Норрис"]
[null,"CL00655","2013-08-29T12:05:01.904","Монитор","Север","Корпорация",83,"Да",{"v":3,"d":"3.0"},{"v":6600,"d":"6,600р."},"Джонни Депп"]
[null,"CL00656","2013-08-29T12:08:13.572","Персональный ПК","Восток","Некоммерческие",79,"Да",3.5,{"v":6300,"d":"6,300р."},"Чак Норрис"]
[null,"CL00657","2013-08-29T12:12:21.882","Монитор","Север","Частные клиенты",60,"Да",2.2,0,"Бред Питт"]
[null,"CL00658","2013-08-29T12:16:11.555","Другое","Юг","Частные клиенты",69,"Да",2.8,{"v":6300,"d":"6,300р."},"Джонни Депп"]
[null,"CL00659","2013-08-29T12:19:20.691","Ноутбук","Север","Малый бизнес",64,"Да",2.8,0,"Бред Питт"]
[null,"CL00660","2013-08-29T12:24:35.219","Персональный ПК","Запад","Частные клиенты",79,"Нет",2.6,{"v":6900,"d":"6,900р."},"Джонни Депп"]
[null,"CL00661","2013-08-29T12:25:32.704","Софт","Юг","Малый бизнес",89,"Да",3.4,0,"Чак Норрис"]
[null,"CL00662","2013-08-29T12:29:55.843","Монитор","Юг","Частные клиенты",72,"Да",3.3,0,"Колин Фаррел"]
[null,"CL00663","2013-08-29T12:35:27.376","Аксессуары","Восток","Некоммерческие",81,"Да",3.6,{"v":3900,"d":"3,900р."},"Джеки Чан"]
[null,"CL00664","2013-08-29T12:36:45.949","Монитор","Восток","Малый бизнес",76,"Да",3.2,0,"Колин Фаррел"]
[null,"CL00665","2013-08-29T12:41:07.701","Другое","Запад","Малый бизнес",77,"Да",3.5,0,"Колин Фаррел"]
[null,"CL00666","2013-08-29T12:41:30.903","Софт","Юг","Некоммерческие",77,"Да",2.8,0,"Чак Норрис"]
[null,"CL00667","2013-08-29T12:44:06.015","Софт","Север","Частные клиенты",70,"Да",3.4,0,"Колин Фаррел"]
[null,"CL00668","2013-08-29T12:49:33.440","Монитор","Восток","Корпорация",92,"Да",{"v":3,"d":"3.0"},{"v":6300,"d":"6,300р."},"Уилл Смит"]
[null,"CL00669","2013-08-29T12:53:53.043","Персональный ПК","Запад","Частные клиенты",71,"Да",3.7,0,"Джонни Депп"]
[null,"CL00670","2013-08-29T12:55:35.237","Ноутбук","Запад","Малый бизнес",79,"Да",3.5,{"v":6900,"d":"6,900р."},"Джонни Депп"]
[null,"CL00671","2013-08-29T12:57:07.312","Монитор","Юг","Некоммерческие",68,"Да",3.1,{"v":7200,"d":"7,200р."},"Колин Фаррел"]
[null,"CL00672","2013-08-29T12:59:18.647","Монитор","Север","Малый бизнес",67,"Да",3.8,0,"Чак Норрис"]
[null,"CL00673","2013-08-29T13:01:38.249","Ноутбук","Север","Некоммерческие",71,"Да",2.2,0,"Уилл Смит"]
[null,"CL00674","2013-08-29T13:05:47.404","Ноутбук","Восток","Частные клиенты",63,"Нет",3.1,0,"Уилл Смит"]
[null,"CL00675","2013-08-29T13:07:09.004","Монитор","Восток","Некоммерческие",73,"Да",{"v":3,"d":"3.0"},0,"Колин Фаррел"]
[null,"CL00676","2013-08-29T13:08:03.095","Софт","Запад","Корпорация",79,"Да",3.8,{"v":7800,"d":"7,800р."},"Чак Норрис"]
[null,"CL00677","2013-08-29T13:12:27.595","Софт","Север","Малый бизнес",77,"Да",2.8,0,"Колин Фаррел"]
[null,"CL00678","2013-08-29T13:16:29.090","Персональный ПК","Юг","Корпорация",80,"Да",3.5,{"v":6000,"d":"6,000р."},"Бред Питт"]
[null,"CL00679","2013-08-29T13:19:40.393","Другое","Север","Частные клиенты",70,"Да",3.1,0,"Джонни Депп"]
[null,"CL00680","2013-08-29T13:20:46.641","Ноутбук","Восток","Некоммерческие",71,"Да",3.5,0,"Уилл Смит"]
[null,"CL00681","2013-08-29T13:22:18.125","Персональный ПК","Восток","Частные клиенты",68,"Да",3.8,{"v":4800,"d":"4,800р."},"Чак Норрис"]
[null,"CL00682","2013-08-29T13:27:17.651","Монитор","Восток","Некоммерческие",68,"Да",3.5,{"v":8400,"d":"8,400р."},"Чак Норрис"]
[null,"CL00683","2013-08-29T13:29:46.219","Другое","Центр","Некоммерческие",72,"Да",3.4,{"v":6300,"d":"6,300р."},"Джонни Депп"]
[null,"CL00684","2013-08-29T13:32:46.900","Другое","Юг","Частные клиенты",75,"Да",2.8,{"v":6600,"d":"6,600р."},"Бред Питт"]
[null,"CL00685","2013-08-29T13:33:01.591","Софт","Север","Частные клиенты",71,"Да",2.6,0,"Джеки Чан"]
[null,"CL00686","2013-08-29T13:37:06.664","Персональный ПК","Восток","Корпорация",71,"Да",{"v":3,"d":"3.0"},{"v":6000,"d":"6,000р."},"Джеки Чан"]
[null,"CL00687","2013-08-29T13:37:20.321","Аксессуары","Север","Корпорация",82,"Да",3.7,{"v":5400,"d":"5,400р."},"Джонни Депп"]
[null,"CL00688","2013-08-29T13:39:04.300","Монитор","Юг","Некоммерческие",68,"Да",2.4,{"v":6000,"d":"6,000р."},"Бред Питт"]
[null,"CL00689","2013-08-29T13:40:51.022","Софт","Север","Некоммерческие",85,"Да",3.4,0,"Джонни Депп"]
[null,"CL00690","2013-08-29T13:42:12.547","Монитор","Восток","Корпорация",79,"Да",2.8,{"v":3300,"d":"3,300р."},"Джеки Чан"]
[null,"CL00691","2013-08-29T13:43:33.040","Монитор","Центр","Корпорация",73,"Да",3.7,{"v":4500,"d":"4,500р."},"Джеки Чан"]
[null,"CL00692","2013-08-29T13:46:57.045","Другое","Центр","Корпорация",61,"Нет",2.4,{"v":8400,"d":"8,400р."},"Колин Фаррел"]
[null,"CL00693","2013-08-29T13:48:39.053","Софт","Восток","Некоммерческие",64,"Да",3.2,{"v":7500,"d":"7,500р."},"Бред Питт"]
[null,"CL00694","2013-08-29T13:51:11.223","Персональный ПК","Юг","Некоммерческие",74,"Да",2.7,0,"Бред Питт"]
[null,"CL00695","2013-08-29T13:53:06.863","Монитор","Север","Корпорация",78,"Да",2.9,{"v":6900,"d":"6,900р."},"Уилл Смит"]
[null,"CL00696","2013-08-29T13:56:29.789","Аксессуары","Юг","Корпорация",76,"Да",2.9,{"v":6600,"d":"6,600р."},"Джеки Чан"]
[null,"CL00697","2013-08-29T13:59:35.985","Ноутбук","Север","Малый бизнес",75,"Да",3.5,{"v":3300,"d":"3,300р."},"Колин Фаррел"]
[null,"CL00698","2013-08-29T14:03:42.656","Монитор","Запад","Малый бизнес",81,"Да",3.7,{"v":6000,"d":"6,000р."},"Уилл Смит"]
[null,"CL00699","2013-08-29T14:08:12.603","Другое","Запад","Частные клиенты",62,"Да",3.4,{"v":4200,"d":"4,200р."},"Чак Норрис"]
[null,"CL00700","2013-08-29T14:13:55.590","Другое","Восток","Некоммерческие",79,"Да",2.7,0,"Джонни Депп"]
[null,"CL00701","2013-08-29T14:16:52.172","Персональный ПК","Восток","Корпорация",77,"Да",3.2,{"v":7200,"d":"7,200р."},"Джеки Чан"]
[null,"CL00702","2013-08-29T14:16:56.031","Ноутбук","Север","Некоммерческие",76,"Да",2.6,{"v":4800,"d":"4,800р."},"Чак Норрис"]
[null,"CL00703","2013-08-29T14:19:13.257","Аксессуары","Запад","Частные клиенты",75,"Да",3.6,0,"Бред Питт"]
[null,"CL00704","2013-08-29T14:21:38.364","Ноутбук","Восток","Корпорация",77,"Да",3.3,0,"Колин Фаррел"]
[null,"CL00705","2013-08-29T14:27:13.632","Другое","Юг","Частные клиенты",67,"Да",2.8,0,"Бред Питт"]
[null,"CL00706","2013-08-29T14:32:38.556","Ноутбук","Центр","Малый бизнес",71,"Да",3.2,0,"Чак Норрис"]
[null,"CL00707","2013-08-29T14:37:45.348","Другое","Север","Частные клиенты",75,"Да",3.5,0,"Бред Питт"]
[null,"CL00708","2013-08-29T14:38:55.940","Софт","Восток","Частные клиенты",67,"Да",2.5,{"v":4800,"d":"4,800р."},"Джонни Депп"]
[null,"CL00709","2013-08-29T14:39:27.262","Монитор","Запад","Малый бизнес",73,"Да",{"v":3,"d":"3.0"},0,"Чак Норрис"]
[null,"CL00710","2013-08-29T14:42:53.353","Персональный ПК","Юг","Некоммерческие",73,"Нет",{"v":3,"d":"3.0"},{"v":7500,"d":"7,500р."},"Колин Фаррел"]
[null,"CL00711","2013-08-29T14:44:15.632","Монитор","Запад","Частные клиенты",68,"Да",3.2,{"v":4200,"d":"4,200р."},"Джеки Чан"]
[null,"CL00712","2013-08-29T14:49:39.934","Софт","Запад","Малый бизнес",75,"Да",2.3,{"v":6000,"d":"6,000р."},"Уилл Смит"]
[null,"CL00713","2013-08-29T14:52:41.118","Другое","Север","Частные клиенты",66,"Да",3.7,{"v":6600,"d":"6,600р."},"Чак Норрис"]
[null,"CL00714","2013-08-29T14:57:13.657","Другое","Центр","Малый бизнес",75,"Да",2.7,0,"Джонни Депп"]
[null,"CL00715","2013-08-29T14:57:19.579","Монитор","Восток","Корпорация",81,"Да",2.9,{"v":4200,"d":"4,200р."},"Колин Фаррел"]
[null,"CL00716","2013-08-29T15:01:38.672","Другое","Восток","Малый бизнес",83,"Да",{"v":3,"d":"3.0"},0,"Колин Фаррел"]
[null,"CL00717","2013-08-29T15:06:16.978","Аксессуары","Север","Частные клиенты",78,"Да",3.6,{"v":5400,"d":"5,400р."},"Чак Норрис"]
[null,"CL00718","2013-08-29T15:06:50.983","Аксессуары","Восток","Малый бизнес",77,"Да",2.3,0,"Джонни Депп"]
[null,"CL00719","2013-08-29T15:10:43.054","Другое","Запад","Частные клиенты",72,"Нет",3.6,{"v":7800,"d":"7,800р."},"Бред Питт"]
[null,"CL00720","2013-08-29T15:11:33.049","Монитор","Юг","Частные клиенты",54,"Да",3.2,{"v":3300,"d":"3,300р."},"Джонни Депп"]
[null,"CL00721","2013-08-29T15:13:41.130","Персональный ПК","Север","Малый бизнес",67,"Да",{"v":3,"d":"3.0"},{"v":5100,"d":"5,100р."},"Джеки Чан"]
[null,"CL00722","2013-08-29T15:15:03.996","Персональный ПК","Юг","Малый бизнес",82,"Нет",3.9,{"v":4500,"d":"4,500р."},"Джонни Депп"]
[null,"CL00723","2013-08-29T15:17:39.552","Ноутбук","Центр","Корпорация",73,"Да",2.6,{"v":6600,"d":"6,600р."},"Джеки Чан"]
[null,"CL00724","2013-08-29T15:20:26.517","Софт","Запад","Некоммерческие",77,"Да",2.6,{"v":3600,"d":"3,600р."},"Джонни Депп"]
[null,"CL00725","2013-08-29T15:25:38.974","Аксессуары","Центр","Частные клиенты",76,"Да",2.7,{"v":3900,"d":"3,900р."},"Бред Питт"]
[null,"CL00726","2013-08-29T15:29:41.276","Аксессуары","Север","Малый бизнес",91,"Да",2.7,{"v":4800,"d":"4,800р."},"Чак Норрис"]
[null,"CL00727","2013-08-29T15:29:42.527","Ноутбук","Восток","Частные клиенты",87,"Да",3.1,{"v":4800,"d":"4,800р."},"Бред Питт"]
[null,"CL00728","2013-08-29T15:33:13.149","Софт","Центр","Малый бизнес",76,"Да",3.1,0,"Уилл Смит"]
[null,"CL00729","2013-08-29T15:35:27.175","Софт","Центр","Корпорация",85,"Да",3.4,{"v":5700,"d":"5,700р."},"Джеки Чан"]
[null,"CL00730","2013-08-29T15:36:52.276","Софт","Центр","Корпорация",75,"Нет",3.1,{"v":4500,"d":"4,500р."},"Джеки Чан"]
[null,"CL00731","2013-08-29T15:42:24.189","Софт","Юг","Некоммерческие",76,"Да",3.1,{"v":4800,"d":"4,800р."},"Джонни Депп"]
[null,"CL00732","2013-08-29T15:46:35.282","Аксессуары","Юг","Корпорация",66,"Да",3.9,{"v":6000,"d":"6,000р."},"Джеки Чан"]
[null,"CL00733","2013-08-29T15:49:24.557","Аксессуары","Восток","Корпорация",77,"Да",3.6,{"v":3600,"d":"3,600р."},"Уилл Смит"]
[null,"CL00734","2013-08-29T15:54:16.543","Ноутбук","Запад","Малый бизнес",94,"Да",2.9,{"v":6300,"d":"6,300р."},"Колин Фаррел"]
[null,"CL00735","2013-08-29T15:54:30.120","Другое","Запад","Частные клиенты",78,"Да",3.3,{"v":9000,"d":"9,000р."},"Чак Норрис"]
[null,"CL00736","2013-08-29T15:55:12.456","Монитор","Центр","Корпорация",65,"Да",3.4,{"v":7200,"d":"7,200р."},"Уилл Смит"]
[null,"CL00737","2013-08-29T16:00:44.687","Софт","Центр","Корпорация",85,"Да",2.7,{"v":5400,"d":"5,400р."},"Чак Норрис"]
[null,"CL00738","2013-08-29T16:03:24.041","Персональный ПК","Запад","Малый бизнес",80,"Нет",2.8,{"v":4200,"d":"4,200р."},"Джеки Чан"]
[null,"CL00739","2013-08-29T16:08:54.934","Ноутбук","Юг","Малый бизнес",64,"Да",{"v":3,"d":"3.0"},0,"Колин Фаррел"]
[null,"CL00740","2013-08-29T16:13:49.512","Ноутбук","Запад","Малый бизнес",81,"Да",3.6,{"v":5400,"d":"5,400р."},"Колин Фаррел"]
[null,"CL00741","2013-08-29T16:17:54.888","Персональный ПК","Центр","Малый бизнес",81,"Да",{"v":3,"d":"3.0"},{"v":5100,"d":"5,100р."},"Бред Питт"]
[null,"CL00742","2013-08-29T16:20:52.204","Персональный ПК","Запад","Частные клиенты",68,"Да",{"v":4,"d":"4.0"},0,"Чак Норрис"]
[null,"CL00743","2013-08-29T16:24:38.423","Другое","Север","Малый бизнес",84,"Да",2.2,0,"Колин Фаррел"]
[null,"CL00744","2013-08-29T16:25:34.977","Другое","Север","Корпорация",72,"Да",3.6,{"v":6900,"d":"6,900р."},"Колин Фаррел"]
[null,"CL00745","2013-08-29T16:30:40.548","Монитор","Запад","Частные клиенты",77,"Да",3.1,{"v":5700,"d":"5,700р."},"Джонни Депп"]
[null,"CL00746","2013-08-29T16:34:47.401","Ноутбук","Запад","Малый бизнес",74,"Да",3.2,0,"Бред Питт"]
[null,"CL00747","2013-08-29T16:39:26.037","Аксессуары","Центр","Некоммерческие",92,"Нет",2.5,0,"Колин Фаррел"]
[null,"CL00748","2013-08-29T16:40:34.340","Другое","Запад","Малый бизнес",87,"Да",2.4,{"v":7500,"d":"7,500р."},"Чак Норрис"]
[null,"CL00749","2013-08-29T16:43:20.275","Ноутбук","Восток","Некоммерческие",65,"Да",{"v":3,"d":"3.0"},{"v":4500,"d":"4,500р."},"Джонни Депп"]
[null,"CL00750","2013-08-29T16:48:37.444","Ноутбук","Центр","Частные клиенты",73,"Да",2.7,0,"Джонни Депп"]
[null,"CL00751","2013-08-29T16:51:42.589","Ноутбук","Центр","Корпорация",76,"Да",3.5,0,"Джонни Депп"]
[null,"CL00752","2013-08-29T16:52:02.481","Софт","Север","Частные клиенты",89,"Да",4.1,0,"Колин Фаррел"]
[null,"CL00753","2013-08-29T16:54:15.232","Аксессуары","Центр","Частные клиенты",67,"Да",3.2,{"v":9000,"d":"9,000р."},"Уилл Смит"]
[null,"CL00754","2013-08-29T16:58:54.340","Другое","Юг","Корпорация",90,"Да",{"v":2,"d":"2.0"},0,"Уилл Смит"]
[null,"CL00755","2013-08-29T16:59:45.418","Другое","Восток","Малый бизнес",70,"Да",3.4,0,"Бред Питт"]
[null,"CL00756","2013-08-29T17:02:22.969","Аксессуары","Север","Корпорация",63,"Да",3.6,0,"Чак Норрис"]
[null,"CL00757","2013-08-29T17:06:49.716","Софт","Запад","Корпорация",85,"Да",3.2,{"v":8100,"d":"8,100р."},"Чак Норрис"]
[null,"CL00758","2013-08-29T17:09:59.990","Персональный ПК","Юг","Частные клиенты",85,"Да",2.2,{"v":7800,"d":"7,800р."},"Бред Питт"]
[null,"CL00759","2013-08-29T17:12:57.459","Ноутбук","Запад","Малый бизнес",65,"Да",3.1,{"v":6900,"d":"6,900р."},"Чак Норрис"]
[null,"CL00760","2013-08-29T17:14:12.344","Другое","Запад","Частные клиенты",81,"Да",{"v":4,"d":"4.0"},{"v":6600,"d":"6,600р."},"Уилл Смит"]
[null,"CL00761","2013-08-29T17:18:48.615","Софт","Север","Корпорация",70,"Нет",2.4,{"v":4500,"d":"4,500р."},"Колин Фаррел"]
[null,"CL00762","2013-08-29T17:21:03.818","Софт","Центр","Малый бизнес",75,"Да",2.2,{"v":7200,"d":"7,200р."},"Джеки Чан"]
[null,"CL00763","2013-08-29T17:23:15.342","Персональный ПК","Юг","Частные клиенты",68,"Да",2.5,0,"Чак Норрис"]
[null,"CL00764","2013-08-29T17:25:50.788","Ноутбук","Север","Корпорация",59,"Да",2.8,0,"Джонни Депп"]
[null,"CL00765","2013-08-29T17:27:06.012","Другое","Север","Корпорация",71,"Да",2.6,{"v":6300,"d":"6,300р."},"Бред Питт"]
[null,"CL00766","2013-08-29T17:27:20.478","Монитор","Центр","Частные клиенты",79,"Да",{"v":4,"d":"4.0"},{"v":4800,"d":"4,800р."},"Уилл Смит"]
[null,"CL00767","2013-08-29T17:28:54.786","Ноутбук","Восток","Частные клиенты",77,"Да",2.1,0,"Уилл Смит"]
[null,"CL00768","2013-08-29T17:32:53.359","Монитор","Центр","Малый бизнес",83,"Да",2.4,{"v":6900,"d":"6,900р."},"Джеки Чан"]
[null,"CL00769","2013-08-29T17:38:22.508","Софт","Север","Малый бизнес",65,"Да",3.8,{"v":3900,"d":"3,900р."},"Уилл Смит"]
[null,"CL00770","2013-08-29T17:41:53.067","Софт","Север","Некоммерческие",85,"Да",2.4,{"v":6900,"d":"6,900р."},"Бред Питт"]
[null,"CL00771","2013-08-29T17:43:17.468","Софт","Юг","Некоммерческие",78,"Да",2.9,{"v":8100,"d":"8,100р."},"Джонни Депп"]
[null,"CL00772","2013-08-29T17:43:39.448","Аксессуары","Юг","Некоммерческие",73,"Да",2.2,{"v":6000,"d":"6,000р."},"Джеки Чан"]
[null,"CL00773","2013-08-29T17:44:28.832","Персональный ПК","Север","Частные клиенты",92,"Да",2.9,0,"Уилл Смит"]
[null,"CL00774","2013-08-29T17:45:38.182","Персональный ПК","Восток","Частные клиенты",66,"Да",2.9,{"v":5100,"d":"5,100р."},"Джонни Депп"]
[null,"CL00775","2013-08-29T17:49:13.055","Софт","Восток","Корпорация",94,"Да",2.7,0,"Уилл Смит"]
[null,"CL00776","2013-08-29T17:50:09.682","Аксессуары","Восток","Частные клиенты",88,"Да",3.5,{"v":4500,"d":"4,500р."},"Джонни Депп"]
[null,"CL00777","2013-08-29T17:54:44.730","Другое","Центр","Малый бизнес",65,"Да",2.8,0,"Джеки Чан"]
[null,"CL00778","2013-08-29T17:58:05.171","Персональный ПК","Запад","Корпорация",71,"Да",2.4,{"v":5700,"d":"5,700р."},"Колин Фаррел"]
[null,"CL00779","2013-08-29T18:00:00.735","Аксессуары","Север","Корпорация",73,"Да",2.9,{"v":6000,"d":"6,000р."},"Джонни Депп"]
[null,"CL00780","2013-08-29T18:05:07.103","Софт","Север","Корпорация",78,"Да",{"v":3,"d":"3.0"},{"v":6900,"d":"6,900р."},"Чак Норрис"]
[null,"CL00781","2013-08-29T18:08:42.112","Аксессуары","Север","Корпорация",74,"Да",2.6,{"v":900,"d":"900р."},"Джонни Депп"]
[null,"CL00782","2013-08-29T18:11:20.669","Ноутбук","Север","Малый бизнес",59,"Да",3.8,{"v":3300,"d":"3,300р."},"Колин Фаррел"]
[null,"CL00783","2013-08-29T18:12:11.964","Персональный ПК","Запад","Частные клиенты",70,"Да",2.8,0,"Колин Фаррел"]
[null,"CL00784","2013-08-29T18:15:39.979","Ноутбук","Юг","Корпорация",68,"Да",2.3,0,"Джонни Депп"]
[null,"CL00785","2013-08-29T18:20:04.958","Монитор","Север","Некоммерческие",71,"Да",2.3,0,"Бред Питт"]
[null,"CL00786","2013-08-29T18:24:31.510","Персональный ПК","Запад","Частные клиенты",89,"Да",3.2,{"v":3900,"d":"3,900р."},"Бред Питт"]
[null,"CL00787","2013-08-29T18:26:01.546","Другое","Север","Корпорация",89,"Нет",3.5,0,"Джеки Чан"]
[null,"CL00788","2013-08-29T18:26:03.950","Аксессуары","Север","Частные клиенты",77,"Да",2.8,{"v":6000,"d":"6,000р."},"Уилл Смит"]
[null,"CL00789","2013-08-29T18:30:41.576","Аксессуары","Запад","Малый бизнес",79,"Нет",{"v":3,"d":"3.0"},{"v":6600,"d":"6,600р."},"Уилл Смит"]
[null,"CL00790","2013-08-29T18:31:50.665","Персональный ПК","Восток","Некоммерческие",77,"Да",3.1,{"v":5700,"d":"5,700р."},"Чак Норрис"]
[null,"CL00791","2013-08-29T18:32:44.134","Персональный ПК","Юг","Корпорация",67,"Да",3.4,0,"Бред Питт"]
[null,"CL00792","2013-08-29T18:32:53.458","Аксессуары","Юг","Частные клиенты",82,"Да",{"v":4,"d":"4.0"},0,"Джонни Депп"]
[null,"CL00793","2013-08-29T18:35:26.448","Ноутбук","Юг","Некоммерческие",92,"Нет",{"v":3,"d":"3.0"},{"v":5100,"d":"5,100р."},"Уилл Смит"]
[null,"CL00794","2013-08-29T18:38:07.819","Ноутбук","Центр","Частные клиенты",77,"Да",3.4,{"v":4500,"d":"4,500р."},"Джеки Чан"]
[null,"CL00795","2013-08-29T18:43:23.312","Другое","Север","Некоммерческие",92,"Да",3.8,0,"Колин Фаррел"]
[null,"CL00796","2013-08-29T18:48:05.525","Монитор","Запад","Малый бизнес",63,"Да",3.1,{"v":6600,"d":"6,600р."},"Бред Питт"]
[null,"CL00797","2013-08-29T18:52:02.373","Монитор","Запад","Малый бизнес",76,"Да",3.7,{"v":6900,"d":"6,900р."},"Уилл Смит"]
[null,"CL00798","2013-08-29T18:56:28.367","Аксессуары","Запад","Некоммерческие",69,"Да",4.2,{"v":7500,"d":"7,500р."},"Джеки Чан"]
[null,"CL00799","2013-08-29T19:01:00.403","Аксессуары","Север","Корпорация",63,"Да",2.7,{"v":4200,"d":"4,200р."},"Колин Фаррел"]
[null,"CL00800","2013-08-29T19:06:33.129","Софт","Восток","Малый бизнес",76,"Да",1.5,0,"Уилл Смит"]
[null,"CL00801","2013-08-29T19:10:56.300","Ноутбук","Запад","Корпорация",82,"Да",{"v":3,"d":"3.0"},{"v":3300,"d":"3,300р."},"Чак Норрис"]
[null,"CL00802","2013-08-29T19:15:03.556","Другое","Запад","Некоммерческие",77,"Да",3.3,{"v":7500,"d":"7,500р."},"Джеки Чан"]
[null,"CL00803","2013-08-29T19:17:19.559","Софт","Запад","Частные клиенты",72,"Да",{"v":3,"d":"3.0"},{"v":6900,"d":"6,900р."},"Джонни Депп"]
[null,"CL00804","2013-08-29T19:22:09.964","Софт","Центр","Малый бизнес",85,"Да",2.8,{"v":9600,"d":"9,600р."},"Уилл Смит"]
[null,"CL00805","2013-08-29T19:22:37.867","Другое","Восток","Частные клиенты",62,"Да",2.5,0,"Джеки Чан"]
[null,"CL00806","2013-08-29T19:23:28.200","Ноутбук","Восток","Некоммерческие",75,"Да",1.9,{"v":8400,"d":"8,400р."},"Уилл Смит"]
[null,"CL00807","2013-08-29T19:24:52.710","Персональный ПК","Юг","Частные клиенты",68,"Да",3.2,{"v":4500,"d":"4,500р."},"Джеки Чан"]
[null,"CL00808","2013-08-29T19:26:17.002","Другое","Север","Некоммерческие",80,"Да",2.8,0,"Уилл Смит"]
[null,"CL00809","2013-08-29T19:31:36.073","Монитор","Восток","Малый бизнес",70,"Да",3.8,0,"Колин Фаррел"]
[null,"CL00810","2013-08-29T19:32:49.606","Ноутбук","Юг","Некоммерческие",77,"Да",2.7,{"v":5100,"d":"5,100р."},"Джонни Депп"]
[null,"CL00811","2013-08-29T19:37:15.187","Персональный ПК","Восток","Некоммерческие",75,"Да",2.9,{"v":7200,"d":"7,200р."},"Уилл Смит"]
[null,"CL00812","2013-08-29T19:42:12.809","Ноутбук","Юг","Корпорация",85,"Да",2.9,{"v":6300,"d":"6,300р."},"Джонни Депп"]
[null,"CL00813","2013-08-29T19:44:47.874","Ноутбук","Восток","Корпорация",64,"Да",3.2,0,"Колин Фаррел"]
[null,"CL00814","2013-08-29T19:50:32.525","Другое","Север","Корпорация",60,"Да",3.2,{"v":7500,"d":"7,500р."},"Бред Питт"]
[null,"CL00815","2013-08-29T19:51:27.640","Ноутбук","Запад","Частные клиенты",73,"Да",3.2,0,"Чак Норрис"]
[null,"CL00816","2013-08-29T19:53:03.755","Персональный ПК","Юг","Частные клиенты",69,"Да",{"v":3,"d":"3.0"},{"v":7800,"d":"7,800р."},"Джонни Депп"]
[null,"CL00817","2013-08-29T19:55:35.943","Ноутбук","Запад","Частные клиенты",87,"Да",3.5,0,"Чак Норрис"]
[null,"CL00818","2013-08-29T20:00:32.786","Другое","Восток","Корпорация",77,"Да",2.3,{"v":4200,"d":"4,200р."},"Бред Питт"]
[null,"CL00819","2013-08-29T20:03:15.556","Аксессуары","Центр","Частные клиенты",62,"Да",{"v":3,"d":"3.0"},{"v":5700,"d":"5,700р."},"Колин Фаррел"]
[null,"CL00820","2013-08-29T20:03:35.170","Монитор","Запад","Некоммерческие",65,"Да",3.3,{"v":3600,"d":"3,600р."},"Чак Норрис"]
[null,"CL00821","2013-08-29T20:06:29.503","Софт","Восток","Частные клиенты",76,"Да",2.3,{"v":3600,"d":"3,600р."},"Джеки Чан"]
[null,"CL00822","2013-08-29T20:08:17.589","Персональный ПК","Север","Корпорация",80,"Да",2.9,{"v":7500,"d":"7,500р."},"Уилл Смит"]
[null,"CL00823","2013-08-29T20:13:21.465","Аксессуары","Запад","Малый бизнес",79,"Да",3.1,0,"Джеки Чан"]
[null,"CL00824","2013-08-29T20:16:29.149","Персональный ПК","Запад","Частные клиенты",86,"Да",2.8,{"v":6000,"d":"6,000р."},"Уилл Смит"]
[null,"CL00825","2013-08-29T20:20:19.252","Аксессуары","Север","Корпорация",72,"Да",3.6,{"v":5700,"d":"5,700р."},"Уилл Смит"]
[null,"CL00826","2013-08-29T20:22:48.366","Ноутбук","Запад","Некоммерческие",80,"Да",2.4,{"v":8400,"d":"8,400р."},"Уилл Смит"]
[null,"CL00827","2013-08-29T20:25:46.320","Софт","Центр","Корпорация",75,"Да",2.8,{"v":6000,"d":"6,000р."},"Уилл Смит"]
[null,"CL00828","2013-08-29T20:29:00.664","Ноутбук","Центр","Корпорация",86,"Да",2.8,{"v":5100,"d":"5,100р."},"Джеки Чан"]
[null,"CL00829","2013-08-29T20:34:37.803","Персональный ПК","Запад","Малый бизнес",81,"Да",3.8,{"v":5400,"d":"5,400р."},"Колин Фаррел"]
[null,"CL00830","2013-08-29T20:35:39.545","Ноутбук","Восток","Корпорация",73,"Да",{"v":3,"d":"3.0"},{"v":7500,"d":"7,500р."},"Бред Питт"]
[null,"CL00831","2013-08-29T20:38:58.582","Персональный ПК","Север","Корпорация",78,"Да",3.3,{"v":6600,"d":"6,600р."},"Чак Норрис"]
[null,"CL00832","2013-08-29T20:42:04.067","Персональный ПК","Центр","Некоммерческие",79,"Да",2.2,0,"Колин Фаррел"]
[null,"CL00833","2013-08-29T20:45:18.668","Софт","Восток","Частные клиенты",60,"Да",3.1,{"v":4500,"d":"4,500р."},"Колин Фаррел"]
[null,"CL00834","2013-08-29T20:50:54.236","Аксессуары","Восток","Некоммерческие",70,"Да",3.4,0,"Чак Норрис"]
[null,"CL00835","2013-08-29T20:52:02.222","Монитор","Центр","Корпорация",70,"Да",2.8,{"v":2700,"d":"2,700р."},"Джеки Чан"]
[null,"CL00836","2013-08-29T20:52:34.319","Аксессуары","Восток","Некоммерческие",92,"Да",{"v":3,"d":"3.0"},{"v":6300,"d":"6,300р."},"Джеки Чан"]
[null,"CL00837","2013-08-29T20:56:53.937","Монитор","Запад","Частные клиенты",88,"Да",3.6,{"v":5100,"d":"5,100р."},"Уилл Смит"]
[null,"CL00838","2013-08-29T21:00:51.807","Аксессуары","Центр","Частные клиенты",75,"Да",2.3,{"v":4200,"d":"4,200р."},"Джонни Депп"]
[null,"CL00839","2013-08-29T21:04:09.741","Софт","Восток","Корпорация",70,"Да",{"v":3,"d":"3.0"},{"v":5100,"d":"5,100р."},"Джеки Чан"]
[null,"CL00840","2013-08-29T21:05:11.938","Монитор","Центр","Корпорация",75,"Да",{"v":3,"d":"3.0"},{"v":4200,"d":"4,200р."},"Уилл Смит"]
[null,"CL00841","2013-08-29T21:05:31.370","Софт","Восток","Корпорация",79,"Да",3.5,0,"Чак Норрис"]
[null,"CL00842","2013-08-29T21:09:46.428","Персональный ПК","Центр","Малый бизнес",86,"Да",3.5,{"v":5700,"d":"5,700р."},"Чак Норрис"]
[null,"CL00843","2013-08-29T21:11:38.521","Ноутбук","Центр","Корпорация",74,"Да",3.6,{"v":7200,"d":"7,200р."},"Уилл Смит"]
[null,"CL00844","2013-08-29T21:12:00.066","Софт","Север","Частные клиенты",64,"Да",2.3,0,"Колин Фаррел"]
[null,"CL00845","2013-08-29T21:16:48.711","Софт","Запад","Частные клиенты",74,"Да",{"v":3,"d":"3.0"},0,"Уилл Смит"]
[null,"CL00846","2013-08-29T21:20:07.705","Персональный ПК","Запад","Частные клиенты",59,"Да",2.9,0,"Чак Норрис"]
[null,"CL00847","2013-08-29T21:24:58.156","Аксессуары","Север","Корпорация",86,"Да",2.7,{"v":7500,"d":"7,500р."},"Чак Норрис"]
[null,"CL00848","2013-08-29T21:29:47.158","Другое","Центр","Частные клиенты",68,"Да",3.5,{"v":5100,"d":"5,100р."},"Джонни Депп"]
[null,"CL00849","2013-08-29T21:34:34.776","Софт","Юг","Корпорация",75,"Да",2.9,{"v":6300,"d":"6,300р."},"Бред Питт"]
[null,"CL00850","2013-08-29T21:35:36.040","Персональный ПК","Север","Частные клиенты",75,"Да",3.1,{"v":6900,"d":"6,900р."},"Уилл Смит"]
[null,"CL00851","2013-08-29T21:41:00.586","Монитор","Восток","Корпорация",70,"Да",3.6,{"v":5700,"d":"5,700р."},"Уилл Смит"]
[null,"CL00852","2013-08-29T21:45:05.760","Монитор","Запад","Частные клиенты",78,"Да",{"v":4,"d":"4.0"},0,"Уилл Смит"]
[null,"CL00853","2013-08-29T21:45:22.591","Персональный ПК","Север","Корпорация",76,"Да",3.1,0,"Джеки Чан"]
[null,"CL00854","2013-08-29T21:50:55.756","Аксессуары","Восток","Малый бизнес",96,"Да",2.9,{"v":6300,"d":"6,300р."},"Уилл Смит"]
[null,"CL00855","2013-08-29T21:56:11.016","Софт","Север","Малый бизнес",73,"Да",3.8,{"v":4800,"d":"4,800р."},"Джонни Депп"]
[null,"CL00856","2013-08-29T22:00:00.575","Другое","Юг","Корпорация",70,"Да",2.5,0,"Уилл Смит"]
[null,"CL00857","2013-08-30T08:04:25.398","Монитор","Юг","Корпорация",78,"Да",3.1,0,"Бред Питт"]
[null,"CL00858","2013-08-30T08:05:11.895","Ноутбук","Центр","Некоммерческие",59,"Да",2.6,{"v":7800,"d":"7,800р."},"Колин Фаррел"]
[null,"CL00859","2013-08-30T08:08:48.220","Монитор","Юг","Малый бизнес",79,"Да",2.9,{"v":3600,"d":"3,600р."},"Колин Фаррел"]
[null,"CL00860","2013-08-30T08:11:26.800","Ноутбук","Запад","Малый бизнес",87,"Да",3.1,{"v":5700,"d":"5,700р."},"Бред Питт"]
[null,"CL00861","2013-08-30T08:17:00.541","Ноутбук","Центр","Частные клиенты",74,"Да",3.2,{"v":3300,"d":"3,300р."},"Чак Норрис"]
[null,"CL00862","2013-08-30T08:17:23.558","Другое","Север","Корпорация",83,"Да",2.5,{"v":7200,"d":"7,200р."},"Джеки Чан"]
[null,"CL00863","2013-08-30T08:20:37.643","Аксессуары","Восток","Частные клиенты",71,"Да",2.5,0,"Чак Норрис"]
[null,"CL00864","2013-08-30T08:26:13.662","Персональный ПК","Запад","Корпорация",76,"Да",3.4,{"v":6900,"d":"6,900р."},"Колин Фаррел"]
[null,"CL00865","2013-08-30T08:29:51.780","Другое","Север","Малый бизнес",76,"Да",3.4,{"v":6900,"d":"6,900р."},"Колин Фаррел"]
[null,"CL00866","2013-08-30T08:33:47.264","Ноутбук","Восток","Некоммерческие",73,"Да",2.6,0,"Джеки Чан"]
[null,"CL00867","2013-08-30T08:37:27.124","Ноутбук","Юг","Корпорация",65,"Да",3.8,{"v":5400,"d":"5,400р."},"Колин Фаррел"]
[null,"CL00868","2013-08-30T08:41:58.268","Ноутбук","Центр","Корпорация",70,"Да",3.4,0,"Уилл Смит"]
[null,"CL00869","2013-08-30T08:42:45.152","Ноутбук","Юг","Некоммерческие",70,"Да",3.3,{"v":6300,"d":"6,300р."},"Чак Норрис"]
[null,"CL00870","2013-08-30T08:45:35.188","Персональный ПК","Юг","Некоммерческие",78,"Да",3.4,{"v":7800,"d":"7,800р."},"Уилл Смит"]
[null,"CL00871","2013-08-30T08:49:54.705","Другое","Запад","Частные клиенты",68,"Да",3.4,0,"Уилл Смит"]
[null,"CL00872","2013-08-30T08:53:36.116","Другое","Восток","Некоммерческие",68,"Да",2.2,{"v":5400,"d":"5,400р."},"Чак Норрис"]
[null,"CL00873","2013-08-30T08:57:50.655","Другое","Север","Корпорация",58,"Да",{"v":2,"d":"2.0"},0,"Колин Фаррел"]
[null,"CL00874","2013-08-30T09:03:09.932","Софт","Центр","Частные клиенты",83,"Да",3.5,{"v":4800,"d":"4,800р."},"Бред Питт"]
[null,"CL00875","2013-08-30T09:04:08.758","Ноутбук","Центр","Частные клиенты",76,"Да",2.7,{"v":6600,"d":"6,600р."},"Уилл Смит"]
[null,"CL00876","2013-08-30T09:07:25.627","Аксессуары","Запад","Малый бизнес",87,"Нет",2.5,0,"Колин Фаррел"]
[null,"CL00877","2013-08-30T09:10:00.684","Софт","Восток","Корпорация",86,"Да",2.8,0,"Джонни Депп"]
[null,"CL00878","2013-08-30T09:13:24.838","Софт","Восток","Частные клиенты",66,"Да",3.6,{"v":7200,"d":"7,200р."},"Чак Норрис"]
[null,"CL00879","2013-08-30T09:18:19.787","Софт","Центр","Частные клиенты",79,"Да",3.7,0,"Джеки Чан"]
[null,"CL00880","2013-08-30T09:23:00.240","Ноутбук","Юг","Частные клиенты",66,"Да",3.3,{"v":7800,"d":"7,800р."},"Колин Фаррел"]
[null,"CL00881","2013-08-30T09:26:26.204","Персональный ПК","Юг","Малый бизнес",81,"Да",2.3,{"v":6000,"d":"6,000р."},"Бред Питт"]
[null,"CL00882","2013-08-30T09:27:17.904","Другое","Центр","Корпорация",81,"Да",2.4,{"v":6600,"d":"6,600р."},"Джеки Чан"]
[null,"CL00883","2013-08-30T09:28:54.277","Ноутбук","Запад","Корпорация",71,"Да",3.9,0,"Уилл Смит"]
[null,"CL00884","2013-08-30T09:29:22.727","Софт","Север","Частные клиенты",76,"Да",{"v":3,"d":"3.0"},0,"Джеки Чан"]
[null,"CL00885","2013-08-30T09:34:24.836","Монитор","Восток","Некоммерческие",90,"Да",3.5,0,"Бред Питт"]
[null,"CL00886","2013-08-30T09:39:48.991","Другое","Юг","Некоммерческие",73,"Нет",3.6,{"v":4800,"d":"4,800р."},"Джеки Чан"]
[null,"CL00887","2013-08-30T09:45:20.243","Ноутбук","Восток","Малый бизнес",75,"Да",3.9,0,"Уилл Смит"]
[null,"CL00888","2013-08-30T09:45:51.439","Персональный ПК","Запад","Некоммерческие",78,"Да",3.1,{"v":3900,"d":"3,900р."},"Бред Питт"]
[null,"CL00889","2013-08-30T09:48:16.542","Софт","Восток","Частные клиенты",81,"Да",2.7,0,"Чак Норрис"]
[null,"CL00890","2013-08-30T09:53:21.117","Другое","Запад","Малый бизнес",74,"Да",3.2,{"v":6300,"d":"6,300р."},"Джонни Депп"]
[null,"CL00891","2013-08-30T09:58:05.985","Монитор","Запад","Корпорация",76,"Да",3.2,{"v":6600,"d":"6,600р."},"Колин Фаррел"]
[null,"CL00892","2013-08-30T10:02:28.541","Монитор","Юг","Некоммерческие",67,"Да",2.1,{"v":5100,"d":"5,100р."},"Уилл Смит"]
[null,"CL00893","2013-08-30T10:07:11.218","Персональный ПК","Юг","Некоммерческие",73,"Да",2.7,{"v":5700,"d":"5,700р."},"Джеки Чан"]
[null,"CL00894","2013-08-30T10:11:03.138","Ноутбук","Центр","Частные клиенты",76,"Да",2.2,{"v":5400,"d":"5,400р."},"Джеки Чан"]
[null,"CL00895","2013-08-30T10:11:48.067","Другое","Юг","Частные клиенты",76,"Да",3.2,{"v":6000,"d":"6,000р."},"Джеки Чан"]
[null,"CL00896","2013-08-30T10:15:18.430","Персональный ПК","Восток","Корпорация",74,"Нет",3.5,0,"Джонни Депп"]
[null,"CL00897","2013-08-30T10:16:28.720","Аксессуары","Запад","Малый бизнес",80,"Да",2.3,{"v":6600,"d":"6,600р."},"Чак Норрис"]
[null,"CL00898","2013-08-30T10:17:58.016","Монитор","Центр","Малый бизнес",79,"Да",2.4,0,"Бред Питт"]
[null,"CL00899","2013-08-30T10:20:27.100","Персональный ПК","Север","Некоммерческие",84,"Да",2.6,0,"Джеки Чан"]
[null,"CL00900","2013-08-30T10:23:28.562","Софт","Юг","Малый бизнес",62,"Да",3.5,0,"Бред Питт"]
[null,"CL00901","2013-08-30T10:25:37.153","Монитор","Юг","Частные клиенты",77,"Нет",2.5,{"v":3300,"d":"3,300р."},"Бред Питт"]
[null,"CL00902","2013-08-30T10:29:41.476","Аксессуары","Центр","Частные клиенты",75,"Да",2.8,0,"Чак Норрис"]
[null,"CL00903","2013-08-30T10:30:05.527","Аксессуары","Центр","Малый бизнес",92,"Да",2.1,{"v":7500,"d":"7,500р."},"Джеки Чан"]
[null,"CL00904","2013-08-30T10:30:13.710","Персональный ПК","Восток","Некоммерческие",78,"Да",2.6,{"v":6300,"d":"6,300р."},"Чак Норрис"]
[null,"CL00905","2013-08-30T10:34:53.004","Персональный ПК","Север","Частные клиенты",66,"Да",2.9,0,"Чак Норрис"]
[null,"CL00906","2013-08-30T10:36:07.912","Ноутбук","Запад","Корпорация",83,"Да",{"v":2,"d":"2.0"},{"v":7200,"d":"7,200р."},"Колин Фаррел"]
[null,"CL00907","2013-08-30T10:40:16.689","Аксессуары","Восток","Некоммерческие",77,"Да",{"v":3,"d":"3.0"},0,"Бред Питт"]
[null,"CL00908","2013-08-30T10:42:36.733","Софт","Центр","Частные клиенты",72,"Да",3.5,{"v":7800,"d":"7,800р."},"Джонни Депп"]
[null,"CL00909","2013-08-30T10:43:59.746","Персональный ПК","Юг","Частные клиенты",71,"Да",3.7,0,"Колин Фаррел"]
[null,"CL00910","2013-08-30T10:45:45.061","Ноутбук","Запад","Частные клиенты",68,"Да",3.1,{"v":4200,"d":"4,200р."},"Джеки Чан"]
[null,"CL00911","2013-08-30T10:49:28.046","Аксессуары","Юг","Некоммерческие",73,"Да",2.2,{"v":3300,"d":"3,300р."},"Колин Фаррел"]
[null,"CL00912","2013-08-30T10:54:30.665","Аксессуары","Юг","Некоммерческие",72,"Да",3.7,0,"Колин Фаррел"]
[null,"CL00913","2013-08-30T10:56:57.381","Аксессуары","Восток","Малый бизнес",73,"Да",{"v":3,"d":"3.0"},0,"Колин Фаррел"]
[null,"CL00914","2013-08-30T10:59:42.337","Монитор","Юг","Частные клиенты",82,"Да",3.2,{"v":4500,"d":"4,500р."},"Бред Питт"]
[null,"CL00915","2013-08-30T11:04:16.396","Другое","Центр","Малый бизнес",80,"Да",{"v":3,"d":"3.0"},{"v":6600,"d":"6,600р."},"Джонни Депп"]
[null,"CL00916","2013-08-30T11:07:45.267","Монитор","Север","Частные клиенты",67,"Да",3.2,0,"Уилл Смит"]
[null,"CL00917","2013-08-30T11:08:39.324","Персональный ПК","Восток","Некоммерческие",77,"Да",3.5,{"v":3900,"d":"3,900р."},"Джонни Депп"]
[null,"CL00918","2013-08-30T11:13:16.054","Монитор","Север","Малый бизнес",82,"Да",3.2,{"v":5400,"d":"5,400р."},"Джонни Депп"]
[null,"CL00919","2013-08-30T11:17:05.846","Монитор","Юг","Корпорация",72,"Да",2.7,{"v":6000,"d":"6,000р."},"Колин Фаррел"]
[null,"CL00920","2013-08-30T11:20:28.541","Ноутбук","Юг","Некоммерческие",98,"Да",2.9,{"v":5100,"d":"5,100р."},"Джеки Чан"]
[null,"CL00921","2013-08-30T11:24:53.723","Софт","Юг","Частные клиенты",74,"Да",2.5,{"v":6300,"d":"6,300р."},"Уилл Смит"]
[null,"CL00922","2013-08-30T11:25:06.502","Софт","Запад","Частные клиенты",76,"Да",2.9,{"v":6600,"d":"6,600р."},"Колин Фаррел"]
[null,"CL00923","2013-08-30T11:27:32.242","Монитор","Восток","Малый бизнес",83,"Да",2.2,{"v":4500,"d":"4,500р."},"Колин Фаррел"]
[null,"CL00924","2013-08-30T11:32:57.396","Персональный ПК","Юг","Малый бизнес",81,"Да",2.7,0,"Джеки Чан"]
[null,"CL00925","2013-08-30T11:36:55.992","Персональный ПК","Запад","Частные клиенты",63,"Да",{"v":3,"d":"3.0"},{"v":7800,"d":"7,800р."},"Уилл Смит"]
[null,"CL00926","2013-08-30T11:38:06.419","Монитор","Юг","Некоммерческие",82,"Да",3.1,{"v":6000,"d":"6,000р."},"Джонни Депп"]
[null,"CL00927","2013-08-30T11:39:06.067","Персональный ПК","Восток","Малый бизнес",55,"Да",3.1,{"v":8100,"d":"8,100р."},"Чак Норрис"]
[null,"CL00928","2013-08-30T11:42:51.011","Софт","Восток","Малый бизнес",86,"Да",2.5,0,"Бред Питт"]
[null,"CL00929","2013-08-30T11:44:23.538","Монитор","Центр","Малый бизнес",65,"Да",3.3,0,"Уилл Смит"]
[null,"CL00930","2013-08-30T11:44:25.811","Ноутбук","Восток","Корпорация",88,"Да",2.5,{"v":4800,"d":"4,800р."},"Колин Фаррел"]
[null,"CL00931","2013-08-30T11:50:10.531","Монитор","Центр","Некоммерческие",83,"Да",3.2,{"v":7200,"d":"7,200р."},"Джонни Депп"]
[null,"CL00932","2013-08-30T11:52:22.607","Другое","Центр","Корпорация",85,"Да",3.2,{"v":5100,"d":"5,100р."},"Джеки Чан"]
[null,"CL00933","2013-08-30T11:56:45.575","Монитор","Юг","Некоммерческие",86,"Да",2.8,{"v":5100,"d":"5,100р."},"Джеки Чан"]
[null,"CL00934","2013-08-30T11:59:22.080","Аксессуары","Восток","Некоммерческие",70,"Да",2.9,{"v":6000,"d":"6,000р."},"Джонни Депп"]
[null,"CL00935","2013-08-30T11:59:58.787","Другое","Центр","Некоммерческие",73,"Да",3.8,0,"Джеки Чан"]
[null,"CL00936","2013-08-30T12:05:41.216","Аксессуары","Север","Некоммерческие",63,"Да",{"v":3,"d":"3.0"},{"v":4800,"d":"4,800р."},"Бред Питт"]
[null,"CL00937","2013-08-30T12:08:30.090","Монитор","Север","Малый бизнес",59,"Да",3.3,0,"Чак Норрис"]
[null,"CL00938","2013-08-30T12:10:36.436","Ноутбук","Север","Малый бизнес",78,"Да",2.4,{"v":4800,"d":"4,800р."},"Уилл Смит"]
[null,"CL00939","2013-08-30T12:16:13.115","Софт","Центр","Частные клиенты",74,"Да",3.9,0,"Джонни Депп"]
[null,"CL00940","2013-08-30T12:21:43.559","Ноутбук","Юг","Корпорация",77,"Да",2.6,0,"Джонни Депп"]
[null,"CL00941","2013-08-30T12:26:30.193","Софт","Центр","Малый бизнес",80,"Да",3.4,0,"Бред Питт"]
[null,"CL00942","2013-08-30T12:27:56.102","Аксессуары","Север","Некоммерческие",72,"Да",2.8,{"v":5100,"d":"5,100р."},"Джонни Депп"]
[null,"CL00943","2013-08-30T12:29:18.186","Софт","Север","Корпорация",48,"Да",{"v":3,"d":"3.0"},0,"Чак Норрис"]
[null,"CL00944","2013-08-30T12:30:00.679","Софт","Юг","Частные клиенты",51,"Да",3.2,{"v":3600,"d":"3,600р."},"Джонни Депп"]
[null,"CL00945","2013-08-30T12:31:00.888","Другое","Центр","Частные клиенты",76,"Да",3.6,0,"Чак Норрис"]
[null,"CL00946","2013-08-30T12:31:09.138","Ноутбук","Юг","Некоммерческие",74,"Да",3.1,{"v":7200,"d":"7,200р."},"Джонни Депп"]
[null,"CL00947","2013-08-30T12:36:40.112","Другое","Восток","Частные клиенты",72,"Да",2.7,0,"Колин Фаррел"]
[null,"CL00948","2013-08-30T12:41:07.438","Ноутбук","Север","Малый бизнес",77,"Да",3.3,0,"Уилл Смит"]
[null,"CL00949","2013-08-30T12:43:45.080","Софт","Север","Малый бизнес",61,"Да",3.2,0,"Чак Норрис"]
[null,"CL00950","2013-08-30T12:48:48.532","Другое","Запад","Частные клиенты",64,"Да",2.5,{"v":5100,"d":"5,100р."},"Колин Фаррел"]
[null,"CL00951","2013-08-30T12:52:24.413","Персональный ПК","Центр","Корпорация",68,"Да",2.3,0,"Колин Фаррел"]
[null,"CL00952","2013-08-30T12:53:57.608","Другое","Юг","Малый бизнес",72,"Да",2.8,0,"Уилл Смит"]
[null,"CL00953","2013-08-30T12:56:58.054","Аксессуары","Восток","Малый бизнес",76,"Да",2.9,0,"Бред Питт"]
[null,"CL00954","2013-08-30T12:58:41.388","Ноутбук","Юг","Некоммерческие",77,"Да",2.1,0,"Чак Норрис"]
[null,"CL00955","2013-08-30T13:02:19.872","Монитор","Восток","Некоммерческие",68,"Да",2.9,0,"Джонни Депп"]
[null,"CL00956","2013-08-30T13:04:15.451","Монитор","Север","Частные клиенты",89,"Да",2.4,{"v":4500,"d":"4,500р."},"Джеки Чан"]
[null,"CL00957","2013-08-30T13:04:31.135","Аксессуары","Север","Частные клиенты",81,"Да",2.9,{"v":5700,"d":"5,700р."},"Бред Питт"]
[null,"CL00958","2013-08-30T13:06:25.616","Софт","Восток","Малый бизнес",80,"Да",3.1,{"v":6600,"d":"6,600р."},"Чак Норрис"]
[null,"CL00959","2013-08-30T13:11:55.191","Монитор","Центр","Некоммерческие",69,"Нет",2.3,{"v":6600,"d":"6,600р."},"Бред Питт"]
[null,"CL00960","2013-08-30T13:17:19.606","Другое","Запад","Частные клиенты",83,"Да",2.3,{"v":6600,"d":"6,600р."},"Джонни Депп"]
[null,"CL00961","2013-08-30T13:18:02.522","Аксессуары","Центр","Корпорация",73,"Да",1.9,{"v":4800,"d":"4,800р."},"Чак Норрис"]
[null,"CL00962","2013-08-30T13:20:19.040","Монитор","Север","Малый бизнес",79,"Да",{"v":3,"d":"3.0"},0,"Колин Фаррел"]
[null,"CL00963","2013-08-30T13:24:46.292","Персональный ПК","Центр","Малый бизнес",71,"Да",2.7,{"v":5700,"d":"5,700р."},"Колин Фаррел"]
[null,"CL00964","2013-08-30T13:26:52.114","Другое","Запад","Малый бизнес",75,"Да",3.4,0,"Бред Питт"]
[null,"CL00965","2013-08-30T13:30:37.612","Софт","Центр","Корпорация",78,"Да",2.9,0,"Чак Норрис"]
[null,"CL00966","2013-08-30T13:32:55.684","Аксессуары","Запад","Некоммерческие",94,"Да",2.5,{"v":8700,"d":"8,700р."},"Уилл Смит"]
[null,"CL00967","2013-08-30T13:35:14.879","Ноутбук","Юг","Малый бизнес",76,"Нет",3.1,0,"Джонни Депп"]
[null,"CL00968","2013-08-30T13:38:25.465","Другое","Восток","Частные клиенты",74,"Да",2.7,{"v":8100,"d":"8,100р."},"Джонни Депп"]
[null,"CL00969","2013-08-30T13:43:21.261","Аксессуары","Запад","Корпорация",74,"Да",3.4,{"v":4200,"d":"4,200р."},"Бред Питт"]
[null,"CL00970","2013-08-30T13:48:09.214","Ноутбук","Восток","Малый бизнес",75,"Да",3.3,{"v":7200,"d":"7,200р."},"Чак Норрис"]
[null,"CL00971","2013-08-30T13:52:28.952","Другое","Север","Некоммерческие",71,"Да",3.1,{"v":8100,"d":"8,100р."},"Джеки Чан"]
[null,"CL00972","2013-08-30T13:53:43.919","Персональный ПК","Восток","Малый бизнес",82,"Да",2.9,{"v":6300,"d":"6,300р."},"Джеки Чан"]
[null,"CL00973","2013-08-30T13:58:23.075","Ноутбук","Запад","Малый бизнес",73,"Да",2.2,{"v":8100,"d":"8,100р."},"Джеки Чан"]
[null,"CL00974","2013-08-30T13:58:30.369","Монитор","Юг","Корпорация",73,"Да",{"v":3,"d":"3.0"},{"v":8400,"d":"8,400р."},"Джонни Депп"]
[null,"CL00975","2013-08-30T13:59:11.186","Монитор","Восток","Корпорация",72,"Да",3.4,{"v":6300,"d":"6,300р."},"Джонни Депп"]
[null,"CL00976","2013-08-30T13:59:33.249","Персональный ПК","Север","Корпорация",79,"Да",3.6,0,"Джеки Чан"]
[null,"CL00977","2013-08-30T14:04:29.604","Монитор","Восток","Малый бизнес",77,"Да",3.4,0,"Колин Фаррел"]
[null,"CL00978","2013-08-30T14:05:48.201","Другое","Запад","Малый бизнес",83,"Да",3.2,{"v":5400,"d":"5,400р."},"Джонни Депп"]
[null,"CL00979","2013-08-30T14:05:57.651","Персональный ПК","Север","Корпорация",77,"Да",2.5,0,"Уилл Смит"]
[null,"CL00980","2013-08-30T14:09:40.142","Монитор","Юг","Корпорация",79,"Да",3.2,{"v":5100,"d":"5,100р."},"Бред Питт"]
[null,"CL00981","2013-08-30T14:10:52.261","Персональный ПК","Север","Малый бизнес",77,"Да",2.9,{"v":5100,"d":"5,100р."},"Джонни Депп"]
[null,"CL00982","2013-08-30T14:11:48.615","Персональный ПК","Восток","Частные клиенты",74,"Да",2.8,0,"Колин Фаррел"]
[null,"CL00983","2013-08-30T14:13:58.624","Ноутбук","Центр","Малый бизнес",70,"Да",3.1,{"v":6600,"d":"6,600р."},"Уилл Смит"]
[null,"CL00984","2013-08-30T14:19:22.672","Персональный ПК","Центр","Частные клиенты",81,"Да",2.2,{"v":7200,"d":"7,200р."},"Чак Норрис"]
[null,"CL00985","2013-08-30T14:23:46.785","Монитор","Запад","Частные клиенты",71,"Да",2.3,{"v":4200,"d":"4,200р."},"Бред Питт"]
[null,"CL00986","2013-08-30T14:25:24.934","Аксессуары","Север","Частные клиенты",69,"Да",2.7,{"v":6900,"d":"6,900р."},"Джонни Депп"]
[null,"CL00987","2013-08-30T14:27:50.561","Персональный ПК","Восток","Частные клиенты",65,"Да",2.9,0,"Чак Норрис"]
[null,"CL00988","2013-08-30T14:28:29.742","Аксессуары","Юг","Корпорация",75,"Да",{"v":3,"d":"3.0"},{"v":8100,"d":"8,100р."},"Джонни Депп"]
[null,"CL00989","2013-08-30T14:31:27.806","Монитор","Юг","Малый бизнес",87,"Да",2.9,0,"Колин Фаррел"]
[null,"CL00990","2013-08-30T14:32:34.501","Ноутбук","Север","Корпорация",75,"Да",2.9,{"v":5100,"d":"5,100р."},"Уилл Смит"]
[null,"CL00991","2013-08-30T14:33:33.205","Софт","Центр","Некоммерческие",67,"Да",2.4,0,"Уилл Смит"]
[null,"CL00992","2013-08-30T14:38:52.744","Аксессуары","Запад","Некоммерческие",81,"Да",2.4,{"v":3600,"d":"3,600р."},"Бред Питт"]
[null,"CL00993","2013-08-30T14:43:21.528","Ноутбук","Север","Корпорация",72,"Да",2.4,{"v":6000,"d":"6,000р."},"Джеки Чан"]
[null,"CL00994","2013-08-30T14:47:15.777","Софт","Восток","Некоммерческие",70,"Да",3.3,{"v":7500,"d":"7,500р."},"Джеки Чан"]
[null,"CL00995","2013-08-30T14:48:42.348","Персональный ПК","Центр","Некоммерческие",87,"Да",3.7,{"v":5400,"d":"5,400р."},"Чак Норрис"]
[null,"CL00996","2013-08-30T14:51:43.826","Монитор","Запад","Частные клиенты",86,"Да",2.7,0,"Чак Норрис"]
[null,"CL00997","2013-08-30T14:52:15.812","Персональный ПК","Юг","Некоммерческие",72,"Да",2.8,0,"Уилл Смит"]
[null,"CL00998","2013-08-30T14:53:26.563","Монитор","Юг","Корпорация",80,"Да",{"v":3,"d":"3.0"},{"v":5400,"d":"5,400р."},"Уилл Смит"]
[null,"CL00999","2013-08-30T14:53:33.926","Персональный ПК","Юг","Некоммерческие",92,"Да",{"v":3,"d":"3.0"},{"v":5700,"d":"5,700р."},"Колин Фаррел"]
[null,"CL01000","2013-08-30T14:56:47.172","Монитор","Центр","Некоммерческие",79,"Да",2.5,0,"Колин Фаррел"]
[null,"CL01001","2013-08-30T14:59:49.932","Аксессуары","Центр","Малый бизнес",80,"Да",2.9,{"v":6000,"d":"6,000р."},"Джеки Чан"]
[null,"CL01002","2013-08-30T15:00:53.892","Ноутбук","Центр","Корпорация",82,"Да",2.9,0,"Джеки Чан"]
[null,"CL01003","2013-08-30T15:03:35.393","Монитор","Запад","Малый бизнес",68,"Да",3.2,0,"Колин Фаррел"]
[null,"CL01004","2013-08-30T15:04:13.274","Другое","Восток","Некоммерческие",63,"Да",2.9,{"v":7800,"d":"7,800р."},"Уилл Смит"]
[null,"CL01005","2013-08-30T15:09:40.575","Аксессуары","Юг","Частные клиенты",81,"Да",3.4,{"v":7200,"d":"7,200р."},"Колин Фаррел"]
[null,"CL01006","2013-08-30T15:11:40.673","Софт","Восток","Частные клиенты",74,"Да",3.4,{"v":3600,"d":"3,600р."},"Джонни Депп"]
[null,"CL01007","2013-08-30T15:12:56.774","Аксессуары","Центр","Корпорация",64,"Да",3.3,{"v":6600,"d":"6,600р."},"Джеки Чан"]
[null,"CL01008","2013-08-30T15:17:13.199","Другое","Центр","Малый бизнес",82,"Да",2.9,{"v":7200,"d":"7,200р."},"Уилл Смит"]
[null,"CL01009","2013-08-30T15:22:12.096","Софт","Север","Некоммерческие",71,"Да",2.8,0,"Уилл Смит"]
[null,"CL01010","2013-08-30T15:27:33.367","Монитор","Восток","Корпорация",67,"Да",3.9,{"v":6300,"d":"6,300р."},"Бред Питт"]
[null,"CL01011","2013-08-30T15:29:43.454","Монитор","Запад","Корпорация",65,"Нет",2.9,0,"Чак Норрис"]
[null,"CL01012","2013-08-30T15:30:35.225","Монитор","Центр","Некоммерческие",51,"Да",3.4,{"v":6900,"d":"6,900р."},"Джонни Депп"]
[null,"CL01013","2013-08-30T15:32:46.769","Монитор","Юг","Малый бизнес",72,"Да",3.5,0,"Джонни Депп"]
[null,"CL01014","2013-08-30T15:38:26.004","Другое","Север","Некоммерческие",77,"Да",3.5,{"v":5100,"d":"5,100р."},"Бред Питт"]
[null,"CL01015","2013-08-30T15:44:10.450","Монитор","Юг","Корпорация",84,"Да",3.5,0,"Джеки Чан"]
[null,"CL01016","2013-08-30T15:47:02.233","Другое","Восток","Некоммерческие",70,"Да",2.7,{"v":5400,"d":"5,400р."},"Джеки Чан"]
[null,"CL01017","2013-08-30T15:52:09.825","Аксессуары","Север","Некоммерческие",64,"Да",3.1,0,"Джеки Чан"]
[null,"CL01018","2013-08-30T15:57:04.288","Персональный ПК","Восток","Частные клиенты",68,"Да",2.9,{"v":6900,"d":"6,900р."},"Джонни Депп"]
[null,"CL01019","2013-08-30T16:02:49.851","Ноутбук","Центр","Малый бизнес",78,"Да",2.2,{"v":3300,"d":"3,300р."},"Бред Питт"]
[null,"CL01020","2013-08-30T16:05:17.031","Ноутбук","Восток","Некоммерческие",63,"Да",3.1,0,"Бред Питт"]
[null,"CL01021","2013-08-30T16:09:13.723","Софт","Центр","Корпорация",68,"Да",1.7,0,"Уилл Смит"]
[null,"CL01022","2013-08-30T16:11:44.099","Другое","Запад","Частные клиенты",83,"Да",3.2,{"v":6900,"d":"6,900р."},"Уилл Смит"]
[null,"CL01023","2013-08-30T16:16:02.430","Аксессуары","Север","Некоммерческие",69,"Да",{"v":3,"d":"3.0"},{"v":6600,"d":"6,600р."},"Уилл Смит"]
[null,"CL01024","2013-08-30T16:18:06.773","Другое","Запад","Частные клиенты",74,"Нет",2.5,0,"Джонни Депп"]
[null,"CL01025","2013-08-30T16:22:19.108","Ноутбук","Север","Некоммерческие",83,"Да",2.9,0,"Уилл Смит"]
[null,"CL01026","2013-08-30T16:24:20.657","Ноутбук","Центр","Корпорация",73,"Да",2.6,0,"Бред Питт"]
[null,"CL01027","2013-08-30T16:24:54.446","Аксессуары","Восток","Некоммерческие",78,"Да",{"v":2,"d":"2.0"},{"v":5400,"d":"5,400р."},"Джонни Депп"]
[null,"CL01028","2013-08-30T16:25:54.902","Монитор","Север","Частные клиенты",80,"Да",3.1,0,"Джеки Чан"]
[null,"CL01029","2013-08-30T16:28:53.722","Другое","Юг","Малый бизнес",77,"Да",3.2,{"v":5700,"d":"5,700р."},"Уилл Смит"]
[null,"CL01030","2013-08-30T16:34:06.906","Другое","Восток","Малый бизнес",74,"Да",3.6,{"v":7200,"d":"7,200р."},"Колин Фаррел"]
[null,"CL01031","2013-08-30T16:38:46.505","Персональный ПК","Восток","Некоммерческие",93,"Да",2.9,0,"Джонни Депп"]
[null,"CL01032","2013-08-30T16:42:04.941","Персональный ПК","Центр","Корпорация",71,"Да",2.7,{"v":4200,"d":"4,200р."},"Джеки Чан"]
[null,"CL01033","2013-08-30T16:42:47.807","Аксессуары","Центр","Некоммерческие",87,"Да",2.6,{"v":6300,"d":"6,300р."},"Колин Фаррел"]
[null,"CL01034","2013-08-30T16:43:12.139","Ноутбук","Север","Малый бизнес",72,"Да",2.5,0,"Бред Питт"]
[null,"CL01035","2013-08-30T16:43:52.775","Другое","Запад","Корпорация",80,"Да",3.1,{"v":4200,"d":"4,200р."},"Уилл Смит"]
[null,"CL01036","2013-08-30T16:45:20.112","Софт","Восток","Корпорация",73,"Да",3.8,0,"Колин Фаррел"]
[null,"CL01037","2013-08-30T16:47:45.513","Другое","Юг","Некоммерческие",65,"Да",3.2,0,"Джеки Чан"]
[null,"CL01038","2013-08-30T16:51:07.572","Аксессуары","Восток","Частные клиенты",82,"Да",3.6,{"v":8100,"d":"8,100р."},"Джеки Чан"]
[null,"CL01039","2013-08-30T16:54:25.277","Персональный ПК","Восток","Некоммерческие",76,"Да",3.4,{"v":6000,"d":"6,000р."},"Уилл Смит"]
[null,"CL01040","2013-08-30T16:55:48.683","Ноутбук","Юг","Некоммерческие",83,"Да",2.5,0,"Уилл Смит"]
[null,"CL01041","2013-08-30T17:00:20.900","Аксессуары","Запад","Частные клиенты",69,"Да",3.4,0,"Уилл Смит"]
[null,"CL01042","2013-08-30T17:00:54.168","Персональный ПК","Север","Корпорация",83,"Да",3.7,{"v":8100,"d":"8,100р."},"Бред Питт"]
[null,"CL01043","2013-08-30T17:04:32.688","Персональный ПК","Юг","Частные клиенты",85,"Да",2.9,{"v":6600,"d":"6,600р."},"Чак Норрис"]
[null,"CL01044","2013-08-30T17:05:42.152","Другое","Центр","Некоммерческие",83,"Да",2.7,{"v":4800,"d":"4,800р."},"Джонни Депп"]
[null,"CL01045","2013-08-30T17:10:20.426","Персональный ПК","Север","Малый бизнес",84,"Да",3.7,{"v":4500,"d":"4,500р."},"Уилл Смит"]
[null,"CL01046","2013-08-30T17:11:32.253","Другое","Центр","Корпорация",82,"Да",3.6,0,"Джеки Чан"]
[null,"CL01047","2013-08-30T17:12:48.962","Аксессуары","Север","Частные клиенты",81,"Да",2.9,{"v":7200,"d":"7,200р."},"Джеки Чан"]
[null,"CL01048","2013-08-30T17:15:46.117","Ноутбук","Запад","Корпорация",77,"Да",3.8,{"v":5400,"d":"5,400р."},"Уилл Смит"]
[null,"CL01049","2013-08-30T17:21:25.764","Персональный ПК","Юг","Малый бизнес",76,"Нет",2.4,0,"Бред Питт"]
[null,"CL01050","2013-08-30T17:26:48.316","Аксессуары","Запад","Корпорация",72,"Да",{"v":3,"d":"3.0"},{"v":7800,"d":"7,800р."},"Джонни Депп"]
[null,"CL01051","2013-08-30T17:27:38.529","Другое","Юг","Некоммерческие",84,"Да",2.8,{"v":5700,"d":"5,700р."},"Уилл Смит"]
[null,"CL01052","2013-08-30T17:27:57.527","Софт","Восток","Некоммерческие",63,"Нет",2.7,{"v":5400,"d":"5,400р."},"Джеки Чан"]
[null,"CL01053","2013-08-30T17:33:24.102","Аксессуары","Запад","Малый бизнес",75,"Да",2.9,0,"Уилл Смит"]
[null,"CL01054","2013-08-30T17:36:59.115","Аксессуары","Юг","Частные клиенты",69,"Да",2.7,{"v":5700,"d":"5,700р."},"Бред Питт"]
[null,"CL01055","2013-08-30T17:40:07.217","Софт","Север","Малый бизнес",81,"Да",3.7,{"v":5700,"d":"5,700р."},"Джонни Депп"]
[null,"CL01056","2013-08-30T17:44:24.268","Персональный ПК","Восток","Частные клиенты",72,"Да",3.4,0,"Джеки Чан"]
[null,"CL01057","2013-08-30T17:46:48.069","Ноутбук","Центр","Частные клиенты",71,"Да",2.4,{"v":6900,"d":"6,900р."},"Уилл Смит"]
[null,"CL01058","2013-08-30T17:49:24.906","Монитор","Север","Малый бизнес",71,"Да",3.3,0,"Чак Норрис"]
[null,"CL01059","2013-08-30T17:51:28.980","Аксессуары","Восток","Частные клиенты",72,"Нет",2.5,{"v":5100,"d":"5,100р."},"Джонни Депп"]
[null,"CL01060","2013-08-30T17:53:24.214","Ноутбук","Восток","Частные клиенты",59,"Да",2.8,0,"Уилл Смит"]
[null,"CL01061","2013-08-30T17:57:00.168","Софт","Север","Малый бизнес",73,"Да",3.9,{"v":8400,"d":"8,400р."},"Джеки Чан"]
[null,"CL01062","2013-08-30T17:58:00.272","Аксессуары","Юг","Малый бизнес",71,"Да",2.7,0,"Чак Норрис"]
[null,"CL01063","2013-08-30T17:58:43.089","Софт","Север","Малый бизнес",77,"Да",3.5,0,"Уилл Смит"]
[null,"CL01064","2013-08-30T18:02:29.521","Ноутбук","Восток","Корпорация",70,"Да",3.1,{"v":6000,"d":"6,000р."},"Чак Норрис"]
[null,"CL01065","2013-08-30T18:06:59.634","Монитор","Центр","Малый бизнес",77,"Да",2.8,0,"Чак Норрис"]
[null,"CL01066","2013-08-30T18:12:24.566","Персональный ПК","Север","Корпорация",72,"Да",2.7,0,"Бред Питт"]
[null,"CL01067","2013-08-30T18:18:05.447","Монитор","Север","Малый бизнес",74,"Да",3.6,0,"Чак Норрис"]
[null,"CL01068","2013-08-30T18:19:58.686","Софт","Юг","Некоммерческие",81,"Да",2.9,0,"Уилл Смит"]
[null,"CL01069","2013-08-30T18:21:59.384","Аксессуары","Север","Некоммерческие",68,"Да",3.2,0,"Джонни Депп"]
[null,"CL01070","2013-08-30T18:25:50.641","Персональный ПК","Центр","Корпорация",77,"Да",2.1,{"v":9300,"d":"9,300р."},"Джеки Чан"]
[null,"CL01071","2013-08-30T18:26:57.108","Монитор","Север","Корпорация",68,"Да",3.1,{"v":7800,"d":"7,800р."},"Колин Фаррел"]
[null,"CL01072","2013-08-30T18:30:45.775","Монитор","Юг","Малый бизнес",87,"Да",2.5,{"v":10200,"d":"10,200р."},"Чак Норрис"]
[null,"CL01073","2013-08-30T18:33:21.422","Другое","Юг","Корпорация",70,"Да",2.7,0,"Джеки Чан"]
[null,"CL01074","2013-08-30T18:38:39.013","Другое","Восток","Корпорация",78,"Да",3.2,{"v":8100,"d":"8,100р."},"Чак Норрис"]
[null,"CL01075","2013-08-30T18:41:50.541","Аксессуары","Восток","Некоммерческие",71,"Да",2.8,0,"Уилл Смит"]
[null,"CL01076","2013-08-30T18:44:54.365","Персональный ПК","Юг","Некоммерческие",68,"Да",2.7,{"v":6600,"d":"6,600р."},"Уилл Смит"]
[null,"CL01077","2013-08-30T18:45:52.826","Другое","Восток","Малый бизнес",88,"Да",2.9,0,"Колин Фаррел"]
[null,"CL01078","2013-08-30T18:51:08.899","Аксессуары","Север","Малый бизнес",61,"Да",3.1,{"v":7800,"d":"7,800р."},"Уилл Смит"]
[null,"CL01079","2013-08-30T18:52:38.122","Другое","Север","Малый бизнес",68,"Да",3.3,{"v":5400,"d":"5,400р."},"Чак Норрис"]
[null,"CL01080","2013-08-30T18:54:06.883","Другое","Восток","Некоммерческие",75,"Да",3.9,{"v":5400,"d":"5,400р."},"Джеки Чан"]
[null,"CL01081","2013-08-30T18:59:04.208","Ноутбук","Запад","Некоммерческие",81,"Да",1.9,0,"Джеки Чан"]
[null,"CL01082","2013-08-30T19:00:48.045","Персональный ПК","Юг","Некоммерческие",72,"Да",3.3,{"v":5400,"d":"5,400р."},"Джонни Депп"]
[null,"CL01083","2013-08-30T19:02:57.330","Монитор","Центр","Частные клиенты",90,"Да",2.7,{"v":6300,"d":"6,300р."},"Чак Норрис"]
[null,"CL01084","2013-08-30T19:06:56.942","Аксессуары","Восток","Корпорация",77,"Нет",2.2,{"v":5100,"d":"5,100р."},"Уилл Смит"]
[null,"CL01085","2013-08-30T19:08:01.414","Монитор","Восток","Малый бизнес",73,"Да",3.2,{"v":5400,"d":"5,400р."},"Джонни Депп"]
[null,"CL01086","2013-08-30T19:08:38.105","Монитор","Север","Малый бизнес",75,"Да",2.6,{"v":6000,"d":"6,000р."},"Уилл Смит"]
[null,"CL01087","2013-08-30T19:11:12.224","Другое","Центр","Частные клиенты",78,"Да",3.3,{"v":6900,"d":"6,900р."},"Бред Питт"]
[null,"CL01088","2013-08-30T19:15:24.957","Другое","Центр","Малый бизнес",76,"Да",2.7,{"v":8100,"d":"8,100р."},"Уилл Смит"]
[null,"CL01089","2013-08-30T19:17:37.239","Аксессуары","Запад","Некоммерческие",71,"Да",4.1,{"v":5400,"d":"5,400р."},"Джеки Чан"]
[null,"CL01090","2013-08-30T19:18:35.229","Аксессуары","Центр","Некоммерческие",63,"Да",3.5,0,"Бред Питт"]
[null,"CL01091","2013-08-30T19:19:54.602","Другое","Восток","Некоммерческие",77,"Да",{"v":2,"d":"2.0"},{"v":6000,"d":"6,000р."},"Бред Питт"]
[null,"CL01092","2013-08-30T19:21:37.452","Персональный ПК","Юг","Корпорация",74,"Да",3.8,0,"Чак Норрис"]
[null,"CL01093","2013-08-30T19:22:11.385","Монитор","Север","Некоммерческие",77,"Да",2.9,0,"Колин Фаррел"]
[null,"CL01094","2013-08-30T19:26:32.972","Другое","Юг","Корпорация",67,"Да",2.8,{"v":5700,"d":"5,700р."},"Колин Фаррел"]
[null,"CL01095","2013-08-30T19:31:12.583","Персональный ПК","Восток","Малый бизнес",74,"Да",3.9,{"v":4500,"d":"4,500р."},"Джеки Чан"]
[null,"CL01096","2013-08-30T19:32:33.946","Другое","Юг","Частные клиенты",71,"Да",3.3,{"v":6600,"d":"6,600р."},"Уилл Смит"]
[null,"CL01097","2013-08-30T19:36:09.203","Персональный ПК","Восток","Корпорация",66,"Да",{"v":3,"d":"3.0"},0,"Джонни Депп"]
[null,"CL01098","2013-08-30T19:40:14.719","Другое","Юг","Корпорация",72,"Да",2.7,0,"Уилл Смит"]
[null,"CL01099","2013-08-30T19:43:59.079","Софт","Север","Малый бизнес",74,"Да",{"v":3,"d":"3.0"},0,"Уилл Смит"]
[null,"CL01100","2013-08-30T19:48:42.996","Персональный ПК","Восток","Корпорация",63,"Да",2.7,{"v":4800,"d":"4,800р."},"Джеки Чан"]
[null,"CL01101","2013-08-30T19:51:29.660","Ноутбук","Запад","Корпорация",83,"Да",2.7,0,"Бред Питт"]
[null,"CL01102","2013-08-30T19:55:36.355","Ноутбук","Юг","Корпорация",80,"Да",2.7,0,"Бред Питт"]
[null,"CL01103","2013-08-30T19:59:34.732","Аксессуары","Юг","Некоммерческие",59,"Нет",2.8,{"v":5100,"d":"5,100р."},"Джонни Депп"]
[null,"CL01104","2013-08-30T20:01:38.380","Софт","Запад","Малый бизнес",78,"Да",2.7,{"v":6600,"d":"6,600р."},"Колин Фаррел"]
[null,"CL01105","2013-08-30T20:05:05.395","Монитор","Центр","Некоммерческие",82,"Да",4.1,0,"Джонни Депп"]
[null,"CL01106","2013-08-30T20:05:44.220","Ноутбук","Восток","Малый бизнес",72,"Да",2.3,{"v":6900,"d":"6,900р."},"Джеки Чан"]
[null,"CL01107","2013-08-30T20:06:51.354","Персональный ПК","Север","Малый бизнес",67,"Да",3.3,{"v":5700,"d":"5,700р."},"Джеки Чан"]
[null,"CL01108","2013-08-30T20:07:22.522","Софт","Юг","Некоммерческие",73,"Да",3.4,{"v":6000,"d":"6,000р."},"Колин Фаррел"]
[null,"CL01109","2013-08-30T20:10:58.519","Аксессуары","Север","Корпорация",71,"Да",3.8,0,"Бред Питт"]
[null,"CL01110","2013-08-30T20:12:14.097","Аксессуары","Запад","Малый бизнес",66,"Да",3.1,{"v":4500,"d":"4,500р."},"Джонни Депп"]
[null,"CL01111","2013-08-30T20:12:14.452","Персональный ПК","Запад","Малый бизнес",73,"Да",2.4,0,"Уилл Смит"]
[null,"CL01112","2013-08-30T20:13:11.935","Софт","Восток","Некоммерческие",77,"Да",2.1,{"v":6900,"d":"6,900р."},"Бред Питт"]
[null,"CL01113","2013-08-30T20:17:14.606","Монитор","Восток","Корпорация",91,"Да",3.2,0,"Колин Фаррел"]
[null,"CL01114","2013-08-30T20:18:13.518","Монитор","Запад","Малый бизнес",72,"Да",3.4,0,"Чак Норрис"]
[null,"CL01115","2013-08-30T20:23:17.374","Софт","Центр","Частные клиенты",80,"Нет",3.6,{"v":8400,"d":"8,400р."},"Джонни Депп"]
[null,"CL01116","2013-08-30T20:27:47.727","Аксессуары","Запад","Корпорация",79,"Да",3.3,{"v":3900,"d":"3,900р."},"Бред Питт"]
[null,"CL01117","2013-08-30T20:28:24.886","Аксессуары","Восток","Частные клиенты",67,"Да",3.8,0,"Колин Фаррел"]
[null,"CL01118","2013-08-30T20:33:48.299","Другое","Запад","Некоммерческие",71,"Да",2.4,0,"Бред Питт"]
[null,"CL01119","2013-08-30T20:38:55.432","Персональный ПК","Юг","Некоммерческие",74,"Да",3.3,0,"Джонни Депп"]
[null,"CL01120","2013-08-30T20:44:13.442","Софт","Юг","Малый бизнес",83,"Да",{"v":3,"d":"3.0"},{"v":4800,"d":"4,800р."},"Уилл Смит"]
[null,"CL01121","2013-08-30T20:46:50.796","Другое","Восток","Частные клиенты",89,"Да",3.2,0,"Бред Питт"]
[null,"CL01122","2013-08-30T20:51:52.120","Аксессуары","Центр","Некоммерческие",90,"Да",3.2,0,"Джеки Чан"]
[null,"CL01123","2013-08-30T20:52:51.391","Аксессуары","Юг","Корпорация",77,"Да",2.9,{"v":4200,"d":"4,200р."},"Колин Фаррел"]
[null,"CL01124","2013-08-30T20:54:27.500","Аксессуары","Запад","Корпорация",67,"Да",3.4,{"v":3300,"d":"3,300р."},"Уилл Смит"]
[null,"CL01125","2013-08-30T20:59:55.594","Ноутбук","Центр","Малый бизнес",78,"Да",3.1,0,"Уилл Смит"]
[null,"CL01126","2013-08-30T21:05:29.790","Монитор","Запад","Некоммерческие",74,"Да",2.5,{"v":6600,"d":"6,600р."},"Джеки Чан"]
[null,"CL01127","2013-08-30T21:05:40.679","Софт","Юг","Корпорация",79,"Да",{"v":3,"d":"3.0"},{"v":8100,"d":"8,100р."},"Джеки Чан"]
[null,"CL01128","2013-08-30T21:09:34.934","Персональный ПК","Центр","Некоммерческие",68,"Да",3.1,{"v":8700,"d":"8,700р."},"Джонни Депп"]
[null,"CL01129","2013-08-30T21:11:35.682","Монитор","Запад","Корпорация",73,"Да",3.1,0,"Чак Норрис"]
[null,"CL01130","2013-08-30T21:11:59.764","Софт","Центр","Частные клиенты",64,"Да",3.3,{"v":5700,"d":"5,700р."},"Джеки Чан"]
[null,"CL01131","2013-08-30T21:14:40.462","Монитор","Север","Малый бизнес",67,"Да",{"v":3,"d":"3.0"},{"v":4200,"d":"4,200р."},"Уилл Смит"]
[null,"CL01132","2013-08-30T21:16:37.299","Ноутбук","Север","Малый бизнес",52,"Да",2.8,{"v":5700,"d":"5,700р."},"Чак Норрис"]
[null,"CL01133","2013-08-30T21:16:41.225","Ноутбук","Север","Корпорация",78,"Да",3.3,{"v":7200,"d":"7,200р."},"Чак Норрис"]
[null,"CL01134","2013-08-30T21:18:52.323","Другое","Запад","Малый бизнес",76,"Да",{"v":3,"d":"3.0"},0,"Джеки Чан"]
[null,"CL01135","2013-08-30T21:21:13.243","Монитор","Центр","Частные клиенты",65,"Да",{"v":3,"d":"3.0"},0,"Колин Фаррел"]
[null,"CL01136","2013-08-30T21:23:57.006","Аксессуары","Запад","Некоммерческие",63,"Да",3.2,{"v":5100,"d":"5,100р."},"Уилл Смит"]
[null,"CL01137","2013-08-30T21:27:25.598","Ноутбук","Восток","Частные клиенты",71,"Да",{"v":3,"d":"3.0"},{"v":6600,"d":"6,600р."},"Чак Норрис"]
[null,"CL01138","2013-08-30T21:29:25.643","Аксессуары","Юг","Малый бизнес",79,"Нет",2.8,0,"Колин Фаррел"]
[null,"CL01139","2013-08-30T21:31:35.274","Ноутбук","Восток","Корпорация",77,"Да",2.7,0,"Уилл Смит"]
[null,"CL01140","2013-08-30T21:36:57.266","Аксессуары","Юг","Малый бизнес",74,"Да",2.8,0,"Джонни Депп"]
[null,"CL01141","2013-08-30T21:41:56.625","Ноутбук","Юг","Частные клиенты",80,"Да",{"v":3,"d":"3.0"},{"v":8100,"d":"8,100р."},"Бред Питт"]
[null,"CL01142","2013-08-30T21:43:58.223","Персональный ПК","Запад","Корпорация",77,"Да",3.3,{"v":6300,"d":"6,300р."},"Джонни Депп"]
[null,"CL01143","2013-08-30T21:47:48.591","Другое","Центр","Малый бизнес",66,"Да",3.8,{"v":7200,"d":"7,200р."},"Чак Норрис"]
[null,"CL01144","2013-08-30T21:50:06.113","Монитор","Юг","Некоммерческие",73,"Да",2.4,{"v":3600,"d":"3,600р."},"Джеки Чан"]
[null,"CL01145","2013-08-30T21:52:25.727","Софт","Восток","Некоммерческие",65,"Да",2.5,0,"Бред Питт"]
[null,"CL01146","2013-08-30T21:57:41.328","Ноутбук","Центр","Малый бизнес",77,"Да",3.8,0,"Чак Норрис"]
[null,"CL01147","2013-08-30T22:00:11.244","Монитор","Юг","Некоммерческие",68,"Да",3.7,{"v":4500,"d":"4,500р."},"Уилл Смит"]
[null,"CL01148","2013-08-31T08:01:20.100","Персональный ПК","Юг","Малый бизнес",76,"Да",3.4,{"v":9000,"d":"9,000р."},"Бред Питт"]
[null,"CL01149","2013-08-31T08:07:01.299","Другое","Север","Корпорация",66,"Да",3.5,{"v":6600,"d":"6,600р."},"Джеки Чан"]
[null,"CL01150","2013-08-31T08:07:04.952","Ноутбук","Центр","Частные клиенты",81,"Да",2.8,{"v":7800,"d":"7,800р."},"Уилл Смит"]
[null,"CL01151","2013-08-31T08:09:41.183","Аксессуары","Север","Корпорация",75,"Да",2.4,{"v":5400,"d":"5,400р."},"Джонни Депп"]
[null,"CL01152","2013-08-31T08:10:20.146","Монитор","Восток","Частные клиенты",79,"Да",3.5,{"v":9000,"d":"9,000р."},"Чак Норрис"]
[null,"CL01153","2013-08-31T08:13:28.031","Монитор","Юг","Корпорация",84,"Да",2.9,0,"Уилл Смит"]
[null,"CL01154","2013-08-31T08:15:57.379","Аксессуары","Центр","Некоммерческие",70,"Да",3.2,{"v":6600,"d":"6,600р."},"Джонни Депп"]
[null,"CL01155","2013-08-31T08:19:05.913","Персональный ПК","Центр","Некоммерческие",79,"Да",2.8,0,"Уилл Смит"]
[null,"CL01156","2013-08-31T08:24:03.926","Софт","Север","Малый бизнес",82,"Да",3.2,0,"Уилл Смит"]
[null,"CL01157","2013-08-31T08:25:55.676","Софт","Восток","Некоммерческие",66,"Да",3.7,{"v":6900,"d":"6,900р."},"Джеки Чан"]
[null,"CL01158","2013-08-31T08:28:29.949","Другое","Центр","Частные клиенты",73,"Да",2.7,0,"Колин Фаррел"]
[null,"CL01159","2013-08-31T08:34:00.530","Аксессуары","Центр","Малый бизнес",90,"Да",3.2,{"v":7200,"d":"7,200р."},"Уилл Смит"]
[null,"CL01160","2013-08-31T08:35:13.499","Монитор","Центр","Некоммерческие",73,"Да",{"v":2,"d":"2.0"},{"v":4500,"d":"4,500р."},"Бред Питт"]
[null,"CL01161","2013-08-31T08:36:37.756","Ноутбук","Юг","Малый бизнес",84,"Да",3.5,{"v":4800,"d":"4,800р."},"Уилл Смит"]
[null,"CL01162","2013-08-31T08:41:14.699","Персональный ПК","Юг","Корпорация",81,"Да",2.9,{"v":6300,"d":"6,300р."},"Чак Норрис"]
[null,"CL01163","2013-08-31T08:42:11.354","Ноутбук","Центр","Малый бизнес",68,"Да",2.8,0,"Чак Норрис"]
[null,"CL01164","2013-08-31T08:46:35.063","Персональный ПК","Юг","Корпорация",82,"Да",3.5,0,"Джеки Чан"]
[null,"CL01165","2013-08-31T08:51:22.083","Другое","Восток","Малый бизнес",73,"Да",4.3,0,"Джеки Чан"]
[null,"CL01166","2013-08-31T08:53:02.092","Софт","Юг","Некоммерческие",88,"Да",3.8,{"v":3600,"d":"3,600р."},"Уилл Смит"]
[null,"CL01167","2013-08-31T08:57:27.055","Монитор","Запад","Корпорация",79,"Да",2.9,0,"Бред Питт"]
[null,"CL01168","2013-08-31T09:01:53.263","Софт","Север","Частные клиенты",77,"Да",3.9,{"v":6000,"d":"6,000р."},"Уилл Смит"]
[null,"CL01169","2013-08-31T09:05:09.531","Ноутбук","Восток","Корпорация",83,"Да",2.6,{"v":5700,"d":"5,700р."},"Бред Питт"]
[null,"CL01170","2013-08-31T09:10:06.386","Другое","Центр","Малый бизнес",86,"Да",3.2,{"v":3600,"d":"3,600р."},"Бред Питт"]
[null,"CL01171","2013-08-31T09:13:56.186","Ноутбук","Север","Малый бизнес",75,"Да",2.5,0,"Уилл Смит"]
[null,"CL01172","2013-08-31T09:19:24.964","Монитор","Север","Частные клиенты",84,"Да",2.6,{"v":7200,"d":"7,200р."},"Джеки Чан"]
[null,"CL01173","2013-08-31T09:23:10.124","Монитор","Центр","Частные клиенты",83,"Да",{"v":3,"d":"3.0"},{"v":6000,"d":"6,000р."},"Уилл Смит"]
[null,"CL01174","2013-08-31T09:24:42.473","Аксессуары","Центр","Некоммерческие",73,"Да",3.6,0,"Колин Фаррел"]
[null,"CL01175","2013-08-31T09:26:32.766","Другое","Запад","Малый бизнес",72,"Да",2.3,0,"Джонни Депп"]
[null,"CL01176","2013-08-31T09:31:02.514","Монитор","Юг","Корпорация",94,"Да",3.2,0,"Джеки Чан"]
[null,"CL01177","2013-08-31T09:33:09.380","Ноутбук","Юг","Частные клиенты",77,"Да",{"v":3,"d":"3.0"},{"v":7500,"d":"7,500р."},"Бред Питт"]
[null,"CL01178","2013-08-31T09:38:19.593","Аксессуары","Восток","Некоммерческие",73,"Да",{"v":3,"d":"3.0"},0,"Чак Норрис"]
[null,"CL01179","2013-08-31T09:42:09.376","Софт","Юг","Частные клиенты",61,"Да",2.2,0,"Бред Питт"]
[null,"CL01180","2013-08-31T09:45:48.836","Монитор","Юг","Частные клиенты",77,"Да",2.5,{"v":5400,"d":"5,400р."},"Колин Фаррел"]
[null,"CL01181","2013-08-31T09:51:16.657","Ноутбук","Юг","Малый бизнес",69,"Да",2.1,0,"Бред Питт"]
[null,"CL01182","2013-08-31T09:55:58.997","Софт","Восток","Малый бизнес",66,"Да",2.8,0,"Бред Питт"]
[null,"CL01183","2013-08-31T09:59:38.639","Другое","Центр","Частные клиенты",68,"Да",2.2,0,"Колин Фаррел"]
[null,"CL01184","2013-08-31T10:04:24.493","Аксессуары","Север","Малый бизнес",75,"Да",3.3,0,"Чак Норрис"]
[null,"CL01185","2013-08-31T10:08:21.589","Ноутбук","Север","Некоммерческие",75,"Да",3.6,0,"Колин Фаррел"]
[null,"CL01186","2013-08-31T10:09:15.798","Ноутбук","Запад","Малый бизнес",79,"Да",3.2,0,"Колин Фаррел"]
[null,"CL01187","2013-08-31T10:10:52.671","Другое","Восток","Частные клиенты",55,"Да",2.7,0,"Чак Норрис"]
[null,"CL01188","2013-08-31T10:12:13.228","Софт","Центр","Малый бизнес",75,"Да",3.9,{"v":4500,"d":"4,500р."},"Джеки Чан"]
[null,"CL01189","2013-08-31T10:13:09.349","Софт","Юг","Некоммерческие",69,"Нет",2.7,0,"Джонни Депп"]
[null,"CL01190","2013-08-31T10:14:11.846","Монитор","Юг","Корпорация",77,"Да",{"v":4,"d":"4.0"},0,"Уилл Смит"]
[null,"CL01191","2013-08-31T10:17:17.431","Другое","Центр","Частные клиенты",78,"Нет",2.9,{"v":7200,"d":"7,200р."},"Колин Фаррел"]
[null,"CL01192","2013-08-31T10:21:23.019","Другое","Центр","Малый бизнес",80,"Нет",2.8,0,"Чак Норрис"]
[null,"CL01193","2013-08-31T10:21:38.021","Другое","Юг","Частные клиенты",74,"Да",3.1,{"v":5400,"d":"5,400р."},"Джеки Чан"]
[null,"CL01194","2013-08-31T10:23:53.722","Монитор","Юг","Некоммерческие",81,"Да",{"v":3,"d":"3.0"},0,"Джеки Чан"]
[null,"CL01195","2013-08-31T10:26:54.896","Монитор","Запад","Некоммерческие",74,"Да",3.6,{"v":5100,"d":"5,100р."},"Уилл Смит"]
[null,"CL01196","2013-08-31T10:29:18.619","Аксессуары","Юг","Корпорация",92,"Да",3.1,{"v":5700,"d":"5,700р."},"Джонни Депп"]
[null,"CL01197","2013-08-31T10:34:00.537","Монитор","Север","Малый бизнес",73,"Да",2.4,0,"Джеки Чан"]
[null,"CL01198","2013-08-31T10:34:49.971","Монитор","Север","Корпорация",77,"Да",3.1,{"v":8100,"d":"8,100р."},"Джеки Чан"]
[null,"CL01199","2013-08-31T10:37:00.553","Другое","Восток","Частные клиенты",72,"Да",3.6,{"v":5400,"d":"5,400р."},"Джеки Чан"]
[null,"CL01200","2013-08-31T10:37:28.233","Монитор","Юг","Малый бизнес",81,"Да",3.3,{"v":4800,"d":"4,800р."},"Колин Фаррел"]
[null,"CL01201","2013-08-31T10:41:57.202","Монитор","Восток","Некоммерческие",73,"Да",3.1,0,"Джонни Депп"]
[null,"CL01202","2013-08-31T10:45:01.017","Монитор","Центр","Корпорация",68,"Да",2.6,0,"Уилл Смит"]
[null,"CL01203","2013-08-31T10:50:17.066","Монитор","Юг","Некоммерческие",75,"Да",1.9,0,"Чак Норрис"]
[null,"CL01204","2013-08-31T10:51:44.550","Софт","Запад","Малый бизнес",68,"Да",3.1,{"v":3600,"d":"3,600р."},"Джеки Чан"]
[null,"CL01205","2013-08-31T10:53:57.348","Аксессуары","Восток","Малый бизнес",74,"Да",{"v":4,"d":"4.0"},{"v":7200,"d":"7,200р."},"Уилл Смит"]
[null,"CL01206","2013-08-31T10:59:28.722","Другое","Центр","Частные клиенты",74,"Да",{"v":2,"d":"2.0"},0,"Джеки Чан"]
[null,"CL01207","2013-08-31T11:03:07.917","Другое","Восток","Малый бизнес",68,"Да",3.1,{"v":5400,"d":"5,400р."},"Колин Фаррел"]
[null,"CL01208","2013-08-31T11:07:08.403","Другое","Юг","Частные клиенты",65,"Да",3.4,{"v":2700,"d":"2,700р."},"Колин Фаррел"]
[null,"CL01209","2013-08-31T11:10:55.167","Аксессуары","Центр","Малый бизнес",68,"Да",2.9,0,"Джонни Депп"]
[null,"CL01210","2013-08-31T11:13:41.813","Ноутбук","Север","Корпорация",80,"Да",1.4,{"v":5700,"d":"5,700р."},"Джеки Чан"]
[null,"CL01211","2013-08-31T11:15:30.436","Монитор","Юг","Частные клиенты",66,"Да",3.4,{"v":6000,"d":"6,000р."},"Уилл Смит"]
[null,"CL01212","2013-08-31T11:18:50.825","Ноутбук","Восток","Корпорация",67,"Да",2.9,0,"Чак Норрис"]
[null,"CL01213","2013-08-31T11:21:27.274","Другое","Запад","Некоммерческие",84,"Да",2.9,{"v":4800,"d":"4,800р."},"Уилл Смит"]
[null,"CL01214","2013-08-31T11:23:14.005","Персональный ПК","Запад","Корпорация",73,"Да",3.5,{"v":6300,"d":"6,300р."},"Бред Питт"]
[null,"CL01215","2013-08-31T11:25:48.103","Монитор","Запад","Частные клиенты",67,"Да",3.1,{"v":4800,"d":"4,800р."},"Джеки Чан"]
[null,"CL01216","2013-08-31T11:30:27.814","Ноутбук","Восток","Малый бизнес",74,"Да",2.1,{"v":8700,"d":"8,700р."},"Джеки Чан"]
[null,"CL01217","2013-08-31T11:32:17.584","Ноутбук","Запад","Малый бизнес",69,"Да",3.1,0,"Джеки Чан"]
[null,"CL01218","2013-08-31T11:37:37.555","Софт","Запад","Корпорация",77,"Да",3.4,{"v":4800,"d":"4,800р."},"Уилл Смит"]
[null,"CL01219","2013-08-31T11:40:51.188","Персональный ПК","Центр","Корпорация",78,"Да",3.3,{"v":6600,"d":"6,600р."},"Бред Питт"]
[null,"CL01220","2013-08-31T11:43:37.529","Монитор","Восток","Малый бизнес",73,"Да",2.5,{"v":6900,"d":"6,900р."},"Колин Фаррел"]
[null,"CL01221","2013-08-31T11:49:21.853","Другое","Восток","Малый бизнес",80,"Да",2.6,0,"Бред Питт"]
[null,"CL01222","2013-08-31T11:55:06.501","Ноутбук","Запад","Корпорация",71,"Да",2.3,0,"Чак Норрис"]
[null,"CL01223","2013-08-31T11:59:12.604","Монитор","Запад","Малый бизнес",72,"Да",{"v":3,"d":"3.0"},0,"Колин Фаррел"]
[null,"CL01224","2013-08-31T12:01:06.842","Персональный ПК","Восток","Корпорация",76,"Да",3.6,{"v":5400,"d":"5,400р."},"Уилл Смит"]
[null,"CL01225","2013-08-31T12:04:55.400","Софт","Восток","Малый бизнес",69,"Да",3.2,{"v":5100,"d":"5,100р."},"Бред Питт"]
[null,"CL01226","2013-08-31T12:09:46.304","Монитор","Север","Малый бизнес",76,"Да",3.6,0,"Чак Норрис"]
[null,"CL01227","2013-08-31T12:15:02.680","Аксессуары","Восток","Корпорация",77,"Нет",2.7,0,"Бред Питт"]
[null,"CL01228","2013-08-31T12:15:27.629","Другое","Запад","Частные клиенты",73,"Да",2.5,{"v":6300,"d":"6,300р."},"Колин Фаррел"]
[null,"CL01229","2013-08-31T12:20:03.124","Другое","Центр","Малый бизнес",83,"Да",2.6,0,"Колин Фаррел"]
[null,"CL01230","2013-08-31T12:23:59.724","Персональный ПК","Восток","Частные клиенты",59,"Да",3.1,0,"Бред Питт"]
[null,"CL01231","2013-08-31T12:25:38.060","Софт","Юг","Некоммерческие",87,"Да",2.9,{"v":7500,"d":"7,500р."},"Джеки Чан"]
[null,"CL01232","2013-08-31T12:29:31.598","Персональный ПК","Юг","Частные клиенты",72,"Да",3.3,0,"Джонни Депп"]
[null,"CL01233","2013-08-31T12:33:05.715","Другое","Восток","Корпорация",76,"Да",3.4,0,"Бред Питт"]
[null,"CL01234","2013-08-31T12:36:25.274","Аксессуары","Запад","Некоммерческие",84,"Да",2.2,{"v":8400,"d":"8,400р."},"Бред Питт"]
[null,"CL01235","2013-08-31T12:37:34.598","Другое","Центр","Некоммерческие",75,"Да",3.6,0,"Уилл Смит"]
[null,"CL01236","2013-08-31T12:40:41.711","Софт","Юг","Частные клиенты",85,"Нет",3.2,{"v":6900,"d":"6,900р."},"Бред Питт"]
[null,"CL01237","2013-08-31T12:40:58.527","Аксессуары","Запад","Некоммерческие",79,"Да",3.1,0,"Чак Норрис"]
[null,"CL01238","2013-08-31T12:45:09.478","Другое","Восток","Корпорация",95,"Да",3.1,{"v":3900,"d":"3,900р."},"Уилл Смит"]
[null,"CL01239","2013-08-31T12:50:12.387","Другое","Восток","Частные клиенты",75,"Да",3.6,0,"Джонни Депп"]
[null,"CL01240","2013-08-31T12:54:41.288","Монитор","Запад","Малый бизнес",80,"Да",3.7,{"v":3300,"d":"3,300р."},"Бред Питт"]
[null,"CL01241","2013-08-31T12:57:44.377","Ноутбук","Центр","Малый бизнес",84,"Да",2.8,{"v":6300,"d":"6,300р."},"Бред Питт"]
[null,"CL01242","2013-08-31T13:00:00.917","Аксессуары","Запад","Некоммерческие",62,"Да",{"v":3,"d":"3.0"},0,"Джеки Чан"]
[null,"CL01243","2013-08-31T13:03:58.153","Аксессуары","Юг","Некоммерческие",86,"Да",3.2,{"v":7800,"d":"7,800р."},"Чак Норрис"]
[null,"CL01244","2013-08-31T13:09:28.788","Ноутбук","Север","Некоммерческие",73,"Да",3.3,{"v":3900,"d":"3,900р."},"Чак Норрис"]
[null,"CL01245","2013-08-31T13:13:55.246","Софт","Центр","Малый бизнес",86,"Да",4.3,{"v":6000,"d":"6,000р."},"Джонни Депп"]
[null,"CL01246","2013-08-31T13:16:35.013","Ноутбук","Восток","Малый бизнес",74,"Да",2.8,{"v":8100,"d":"8,100р."},"Бред Питт"]
[null,"CL01247","2013-08-31T13:21:22.916","Персональный ПК","Восток","Частные клиенты",60,"Да",2.8,0,"Уилл Смит"]
[null,"CL01248","2013-08-31T13:24:11.344","Аксессуары","Север","Корпорация",71,"Да",3.1,{"v":5400,"d":"5,400р."},"Джеки Чан"]
[null,"CL01249","2013-08-31T13:25:47.479","Ноутбук","Восток","Малый бизнес",75,"Да",2.2,{"v":7800,"d":"7,800р."},"Колин Фаррел"]
[null,"CL01250","2013-08-31T13:27:23.047","Персональный ПК","Восток","Малый бизнес",58,"Да",3.7,0,"Чак Норрис"]
[null,"CL01251","2013-08-31T13:32:17.452","Софт","Восток","Корпорация",82,"Да",3.6,0,"Джеки Чан"]
[null,"CL01252","2013-08-31T13:35:15.079","Персональный ПК","Запад","Некоммерческие",80,"Да",2.7,{"v":6000,"d":"6,000р."},"Бред Питт"]
[null,"CL01253","2013-08-31T13:35:52.874","Софт","Юг","Корпорация",81,"Да",2.9,0,"Колин Фаррел"]
[null,"CL01254","2013-08-31T13:40:54.695","Аксессуары","Север","Малый бизнес",81,"Да",3.1,{"v":5100,"d":"5,100р."},"Колин Фаррел"]
[null,"CL01255","2013-08-31T13:46:26.683","Монитор","Запад","Частные клиенты",65,"Да",3.3,0,"Чак Норрис"]
[null,"CL01256","2013-08-31T13:51:55.718","Аксессуары","Юг","Частные клиенты",76,"Да",3.2,0,"Колин Фаррел"]
[null,"CL01257","2013-08-31T13:54:24.079","Аксессуары","Запад","Некоммерческие",82,"Да",3.1,{"v":5400,"d":"5,400р."},"Джонни Депп"]
[null,"CL01258","2013-08-31T13:59:17.340","Монитор","Север","Малый бизнес",65,"Да",2.2,{"v":6600,"d":"6,600р."},"Уилл Смит"]
[null,"CL01259","2013-08-31T14:02:59.328","Другое","Центр","Частные клиенты",66,"Да",2.9,{"v":5700,"d":"5,700р."},"Колин Фаррел"]
[null,"CL01260","2013-08-31T14:03:33.248","Персональный ПК","Север","Малый бизнес",84,"Да",3.7,0,"Джеки Чан"]
[null,"CL01261","2013-08-31T14:06:53.751","Персональный ПК","Север","Малый бизнес",88,"Да",3.3,{"v":6600,"d":"6,600р."},"Бред Питт"]
[null,"CL01262","2013-08-31T14:11:07.603","Монитор","Юг","Корпорация",73,"Да",2.9,{"v":7800,"d":"7,800р."},"Чак Норрис"]
[null,"CL01263","2013-08-31T14:12:13.812","Другое","Север","Малый бизнес",80,"Да",3.2,{"v":6300,"d":"6,300р."},"Джонни Депп"]
[null,"CL01264","2013-08-31T14:17:37.460","Аксессуары","Восток","Малый бизнес",75,"Да",3.6,0,"Уилл Смит"]
[null,"CL01265","2013-08-31T14:21:34.921","Монитор","Север","Некоммерческие",55,"Да",2.3,{"v":6300,"d":"6,300р."},"Джеки Чан"]
[null,"CL01266","2013-08-31T14:25:30.113","Ноутбук","Запад","Частные клиенты",83,"Да",2.8,{"v":6600,"d":"6,600р."},"Джонни Депп"]
[null,"CL01267","2013-08-31T14:30:39.011","Другое","Запад","Корпорация",75,"Да",3.5,0,"Чак Норрис"]
[null,"CL01268","2013-08-31T14:35:16.474","Персональный ПК","Север","Малый бизнес",70,"Да",2.5,0,"Бред Питт"]
[null,"CL01269","2013-08-31T14:39:05.764","Софт","Центр","Частные клиенты",80,"Да",3.5,{"v":7200,"d":"7,200р."},"Уилл Смит"]
[null,"CL01270","2013-08-31T14:43:30.076","Персональный ПК","Центр","Частные клиенты",77,"Да",2.5,{"v":6300,"d":"6,300р."},"Джонни Депп"]
[null,"CL01271","2013-08-31T14:47:11.621","Монитор","Север","Частные клиенты",87,"Да",3.2,{"v":4200,"d":"4,200р."},"Бред Питт"]
[null,"CL01272","2013-08-31T14:47:37.482","Аксессуары","Центр","Некоммерческие",76,"Да",1.8,0,"Колин Фаррел"]
[null,"CL01273","2013-08-31T14:53:16.640","Ноутбук","Север","Некоммерческие",73,"Да",3.4,0,"Джонни Депп"]
[null,"CL01274","2013-08-31T14:54:41.622","Монитор","Восток","Корпорация",65,"Да",2.7,0,"Чак Норрис"]
[null,"CL01275","2013-08-31T14:57:35.056","Другое","Центр","Некоммерческие",87,"Да",3.4,{"v":6300,"d":"6,300р."},"Уилл Смит"]
[null,"CL01276","2013-08-31T14:59:01.009","Ноутбук","Восток","Малый бизнес",62,"Да",3.5,0,"Джонни Депп"]
[null,"CL01277","2013-08-31T15:03:53.197","Персональный ПК","Запад","Частные клиенты",88,"Нет",3.5,0,"Бред Питт"]
[null,"CL01278","2013-08-31T15:07:05.130","Персональный ПК","Центр","Корпорация",64,"Да",3.4,{"v":8400,"d":"8,400р."},"Джеки Чан"]
[null,"CL01279","2013-08-31T15:09:58.155","Монитор","Запад","Частные клиенты",74,"Да",3.2,{"v":5400,"d":"5,400р."},"Бред Питт"]
[null,"CL01280","2013-08-31T15:10:17.733","Ноутбук","Запад","Малый бизнес",75,"Да",2.2,{"v":3600,"d":"3,600р."},"Колин Фаррел"]
[null,"CL01281","2013-08-31T15:12:41.804","Монитор","Север","Корпорация",64,"Да",3.1,0,"Чак Норрис"]
[null,"CL01282","2013-08-31T15:17:24.760","Ноутбук","Центр","Некоммерческие",74,"Да",3.1,{"v":5100,"d":"5,100р."},"Уилл Смит"]
[null,"CL01283","2013-08-31T15:22:34.285","Монитор","Запад","Некоммерческие",61,"Да",2.7,0,"Бред Питт"]
[null,"CL01284","2013-08-31T15:27:18.074","Аксессуары","Север","Малый бизнес",87,"Да",2.8,{"v":5400,"d":"5,400р."},"Уилл Смит"]
[null,"CL01285","2013-08-31T15:30:34.762","Другое","Юг","Корпорация",78,"Да",{"v":3,"d":"3.0"},{"v":4800,"d":"4,800р."},"Джонни Депп"]
[null,"CL01286","2013-08-31T15:31:38.092","Ноутбук","Восток","Малый бизнес",86,"Да",3.1,0,"Уилл Смит"]
[null,"CL01287","2013-08-31T15:34:37.276","Другое","Запад","Малый бизнес",82,"Да",3.3,{"v":6600,"d":"6,600р."},"Джеки Чан"]
[null,"CL01288","2013-08-31T15:35:05.765","Монитор","Запад","Частные клиенты",76,"Да",2.8,{"v":6900,"d":"6,900р."},"Чак Норрис"]
[null,"CL01289","2013-08-31T15:35:11.784","Ноутбук","Восток","Корпорация",82,"Да",{"v":3,"d":"3.0"},0,"Чак Норрис"]
[null,"CL01290","2013-08-31T15:37:46.841","Аксессуары","Центр","Корпорация",69,"Нет",2.9,{"v":8100,"d":"8,100р."},"Джеки Чан"]
[null,"CL01291","2013-08-31T15:39:40.474","Другое","Центр","Частные клиенты",71,"Да",2.8,{"v":6600,"d":"6,600р."},"Уилл Смит"]
[null,"CL01292","2013-08-31T15:40:17.710","Персональный ПК","Юг","Частные клиенты",69,"Да",2.7,{"v":2400,"d":"2,400р."},"Чак Норрис"]
[null,"CL01293","2013-08-31T15:41:20.341","Монитор","Центр","Частные клиенты",76,"Да",3.6,{"v":4800,"d":"4,800р."},"Бред Питт"]
[null,"CL01294","2013-08-31T15:44:57.651","Монитор","Восток","Корпорация",74,"Да",2.8,0,"Джонни Депп"]
[null,"CL01295","2013-08-31T15:50:19.024","Ноутбук","Север","Некоммерческие",84,"Да",3.4,0,"Уилл Смит"]
[null,"CL01296","2013-08-31T15:51:33.892","Другое","Север","Корпорация",70,"Да",2.6,0,"Джонни Депп"]
[null,"CL01297","2013-08-31T15:55:27.945","Ноутбук","Север","Некоммерческие",79,"Да",2.3,0,"Чак Норрис"]
[null,"CL01298","2013-08-31T15:56:04.882","Софт","Север","Корпорация",79,"Да",3.4,0,"Бред Питт"]
[null,"CL01299","2013-08-31T15:56:59.369","Аксессуары","Центр","Некоммерческие",83,"Да",2.6,{"v":5100,"d":"5,100р."},"Джеки Чан"]
[null,"CL01300","2013-08-31T16:00:32.568","Другое","Юг","Корпорация",65,"Да",2.7,0,"Чак Норрис"]
[null,"CL01301","2013-08-31T16:02:29.809","Аксессуары","Юг","Частные клиенты",93,"Да",3.1,{"v":2100,"d":"2,100р."},"Бред Питт"]
[null,"CL01302","2013-08-31T16:04:23.259","Аксессуары","Центр","Некоммерческие",69,"Да",2.9,0,"Джонни Депп"]
[null,"CL01303","2013-08-31T16:06:42.105","Аксессуары","Центр","Корпорация",77,"Да",2.7,{"v":5700,"d":"5,700р."},"Джеки Чан"]
[null,"CL01304","2013-08-31T16:07:49.101","Ноутбук","Центр","Корпорация",80,"Да",2.4,{"v":6600,"d":"6,600р."},"Уилл Смит"]
[null,"CL01305","2013-08-31T16:08:30.058","Монитор","Центр","Частные клиенты",71,"Да",2.9,0,"Колин Фаррел"]
[null,"CL01306","2013-08-31T16:11:54.992","Другое","Восток","Корпорация",76,"Да",2.9,0,"Колин Фаррел"]
[null,"CL01307","2013-08-31T16:12:06.912","Софт","Центр","Малый бизнес",72,"Да",4.2,0,"Уилл Смит"]
[null,"CL01308","2013-08-31T16:15:41.680","Ноутбук","Центр","Частные клиенты",76,"Да",2.8,{"v":5700,"d":"5,700р."},"Чак Норрис"]
[null,"CL01309","2013-08-31T16:18:33.311","Другое","Юг","Малый бизнес",71,"Да",3.9,{"v":4800,"d":"4,800р."},"Чак Норрис"]
[null,"CL01310","2013-08-31T16:22:18.334","Другое","Запад","Частные клиенты",68,"Да",2.1,0,"Джеки Чан"]
[null,"CL01311","2013-08-31T16:26:11.320","Персональный ПК","Юг","Некоммерческие",82,"Да",3.6,0,"Чак Норрис"]
[null,"CL01312","2013-08-31T16:28:42.303","Другое","Запад","Частные клиенты",77,"Да",2.3,{"v":8400,"d":"8,400р."},"Джеки Чан"]
[null,"CL01313","2013-08-31T16:31:47.218","Софт","Север","Малый бизнес",85,"Да",2.7,{"v":6000,"d":"6,000р."},"Уилл Смит"]
[null,"CL01314","2013-08-31T16:34:31.348","Монитор","Север","Частные клиенты",78,"Да",2.6,0,"Бред Питт"]
[null,"CL01315","2013-08-31T16:34:59.739","Монитор","Юг","Некоммерческие",81,"Да",2.5,{"v":6300,"d":"6,300р."},"Колин Фаррел"]
[null,"CL01316","2013-08-31T16:35:04.478","Ноутбук","Центр","Корпорация",77,"Да",3.2,{"v":7500,"d":"7,500р."},"Уилл Смит"]
[null,"CL01317","2013-08-31T16:37:32.593","Ноутбук","Север","Некоммерческие",71,"Да",3.3,0,"Чак Норрис"]
[null,"CL01318","2013-08-31T16:42:15.376","Аксессуары","Юг","Некоммерческие",83,"Да",2.8,0,"Уилл Смит"]
[null,"CL01319","2013-08-31T16:43:48.747","Другое","Восток","Некоммерческие",72,"Да",3.2,{"v":5700,"d":"5,700р."},"Чак Норрис"]
[null,"CL01320","2013-08-31T16:46:00.282","Ноутбук","Север","Частные клиенты",79,"Да",3.1,0,"Уилл Смит"]
[null,"CL01321","2013-08-31T16:50:58.231","Аксессуары","Центр","Некоммерческие",78,"Да",3.4,{"v":5700,"d":"5,700р."},"Бред Питт"]
[null,"CL01322","2013-08-31T16:51:51.921","Персональный ПК","Центр","Малый бизнес",70,"Да",3.3,{"v":3900,"d":"3,900р."},"Бред Питт"]
[null,"CL01323","2013-08-31T16:53:16.012","Персональный ПК","Запад","Некоммерческие",69,"Да",3.4,{"v":5100,"d":"5,100р."},"Уилл Смит"]
[null,"CL01324","2013-08-31T16:57:48.388","Ноутбук","Запад","Частные клиенты",73,"Да",3.1,{"v":5400,"d":"5,400р."},"Чак Норрис"]
[null,"CL01325","2013-08-31T17:01:53.709","Монитор","Юг","Малый бизнес",72,"Да",2.5,0,"Бред Питт"]
[null,"CL01326","2013-08-31T17:05:56.031","Персональный ПК","Юг","Некоммерческие",74,"Да",4.2,{"v":7200,"d":"7,200р."},"Чак Норрис"]
[null,"CL01327","2013-08-31T17:11:21.733","Софт","Центр","Малый бизнес",74,"Да",3.2,{"v":3300,"d":"3,300р."},"Чак Норрис"]
[null,"CL01328","2013-08-31T17:14:33.824","Софт","Восток","Некоммерческие",78,"Да",{"v":4,"d":"4.0"},{"v":5100,"d":"5,100р."},"Чак Норрис"]
[null,"CL01329","2013-08-31T17:19:21.617","Другое","Восток","Некоммерческие",68,"Да",3.2,0,"Колин Фаррел"]
[null,"CL01330","2013-08-31T17:24:59.831","Монитор","Восток","Малый бизнес",71,"Да",2.2,{"v":9300,"d":"9,300р."},"Уилл Смит"]
[null,"CL01331","2013-08-31T17:30:22.421","Другое","Юг","Малый бизнес",81,"Да",3.3,{"v":4800,"d":"4,800р."},"Джонни Депп"]
[null,"CL01332","2013-08-31T17:33:49.527","Монитор","Восток","Частные клиенты",70,"Да",3.1,0,"Чак Норрис"]
[null,"CL01333","2013-08-31T17:38:38.090","Персональный ПК","Север","Частные клиенты",85,"Да",2.9,{"v":6000,"d":"6,000р."},"Колин Фаррел"]
[null,"CL01334","2013-08-31T17:41:12.482","Персональный ПК","Центр","Некоммерческие",75,"Да",2.9,{"v":5400,"d":"5,400р."},"Колин Фаррел"]
[null,"CL01335","2013-08-31T17:42:43.859","Аксессуары","Юг","Малый бизнес",57,"Да",2.3,{"v":6000,"d":"6,000р."},"Колин Фаррел"]
[null,"CL01336","2013-08-31T17:43:09.280","Ноутбук","Запад","Некоммерческие",77,"Да",2.7,0,"Джеки Чан"]
[null,"CL01337","2013-08-31T17:43:22.040","Другое","Центр","Корпорация",78,"Да",2.6,{"v":6600,"d":"6,600р."},"Джеки Чан"]
[null,"CL01338","2013-08-31T17:44:42.107","Монитор","Запад","Малый бизнес",67,"Да",3.4,{"v":6600,"d":"6,600р."},"Колин Фаррел"]
[null,"CL01339","2013-08-31T17:50:01.139","Аксессуары","Юг","Частные клиенты",76,"Да",3.1,0,"Джеки Чан"]
[null,"CL01340","2013-08-31T17:53:41.936","Софт","Восток","Корпорация",64,"Да",2.5,0,"Колин Фаррел"]
[null,"CL01341","2013-08-31T17:58:29.276","Другое","Запад","Некоммерческие",57,"Да",2.8,{"v":5400,"d":"5,400р."},"Уилл Смит"]
[null,"CL01342","2013-08-31T17:58:58.462","Персональный ПК","Восток","Корпорация",81,"Да",2.4,{"v":5700,"d":"5,700р."},"Уилл Смит"]
[null,"CL01343","2013-08-31T18:03:21.591","Аксессуары","Запад","Частные клиенты",81,"Да",3.7,{"v":3300,"d":"3,300р."},"Уилл Смит"]
[null,"CL01344","2013-08-31T18:08:00.009","Аксессуары","Восток","Корпорация",90,"Да",2.9,{"v":6000,"d":"6,000р."},"Джонни Депп"]
[null,"CL01345","2013-08-31T18:10:49.448","Аксессуары","Восток","Частные клиенты",69,"Да",2.9,{"v":3900,"d":"3,900р."},"Чак Норрис"]
[null,"CL01346","2013-08-31T18:14:57.760","Другое","Юг","Некоммерческие",66,"Да",2.5,0,"Уилл Смит"]
[null,"CL01347","2013-08-31T18:18:35.895","Персональный ПК","Север","Частные клиенты",68,"Нет",2.8,0,"Уилл Смит"]
[null,"CL01348","2013-08-31T18:20:51.258","Монитор","Юг","Малый бизнес",78,"Да",2.9,0,"Джонни Депп"]
[null,"CL01349","2013-08-31T18:25:54.774","Монитор","Юг","Корпорация",73,"Да",2.9,{"v":3600,"d":"3,600р."},"Чак Норрис"]
[null,"CL01350","2013-08-31T18:29:57.898","Другое","Центр","Некоммерческие",84,"Да",2.4,{"v":9000,"d":"9,000р."},"Колин Фаррел"]
[null,"CL01351","2013-08-31T18:34:21.778","Монитор","Центр","Малый бизнес",83,"Да",2.7,{"v":5100,"d":"5,100р."},"Чак Норрис"]
[null,"CL01352","2013-08-31T18:38:14.049","Аксессуары","Юг","Корпорация",67,"Да",2.9,{"v":6300,"d":"6,300р."},"Колин Фаррел"]
[null,"CL01353","2013-08-31T18:39:07.341","Монитор","Запад","Малый бизнес",88,"Да",3.5,{"v":9000,"d":"9,000р."},"Уилл Смит"]
[null,"CL01354","2013-08-31T18:43:05.324","Софт","Север","Частные клиенты",90,"Да",2.7,{"v":6600,"d":"6,600р."},"Уилл Смит"]
[null,"CL01355","2013-08-31T18:47:10.813","Ноутбук","Север","Некоммерческие",77,"Да",2.5,0,"Джеки Чан"]
[null,"CL01356","2013-08-31T18:52:16.489","Аксессуары","Север","Малый бизнес",80,"Да",2.2,0,"Чак Норрис"]
[null,"CL01357","2013-08-31T18:55:46.104","Ноутбук","Центр","Частные клиенты",65,"Да",{"v":4,"d":"4.0"},0,"Джеки Чан"]
[null,"CL01358","2013-08-31T18:55:57.469","Ноутбук","Юг","Малый бизнес",61,"Да",3.5,{"v":6300,"d":"6,300р."},"Бред Питт"]
[null,"CL01359","2013-08-31T18:58:19.204","Монитор","Север","Некоммерческие",71,"Да",3.5,{"v":9000,"d":"9,000р."},"Колин Фаррел"]
[null,"CL01360","2013-08-31T19:02:01.552","Персональный ПК","Север","Некоммерческие",72,"Да",3.5,0,"Чак Норрис"]
[null,"CL01361","2013-08-31T19:07:25.127","Персональный ПК","Юг","Малый бизнес",90,"Да",2.8,{"v":5700,"d":"5,700р."},"Джонни Депп"]
[null,"CL01362","2013-08-31T19:09:42.475","Софт","Север","Частные клиенты",67,"Да",2.8,{"v":4200,"d":"4,200р."},"Чак Норрис"]
[null,"CL01363","2013-08-31T19:13:07.199","Ноутбук","Юг","Корпорация",79,"Да",3.5,{"v":5400,"d":"5,400р."},"Бред Питт"]
[null,"CL01364","2013-08-31T19:14:19.570","Монитор","Юг","Некоммерческие",95,"Да",2.9,{"v":4800,"d":"4,800р."},"Бред Питт"]
[null,"CL01365","2013-08-31T19:15:38.387","Другое","Центр","Малый бизнес",65,"Да",2.7,{"v":6900,"d":"6,900р."},"Бред Питт"]
[null,"CL01366","2013-08-31T19:19:15.651","Софт","Запад","Малый бизнес",84,"Да",2.8,{"v":7200,"d":"7,200р."},"Уилл Смит"]
[null,"CL01367","2013-08-31T19:24:26.089","Другое","Восток","Малый бизнес",78,"Да",2.9,{"v":7800,"d":"7,800р."},"Колин Фаррел"]
[null,"CL01368","2013-08-31T19:24:33.629","Ноутбук","Запад","Корпорация",84,"Да",3.1,{"v":8100,"d":"8,100р."},"Чак Норрис"]
[null,"CL01369","2013-08-31T19:24:49.467","Персональный ПК","Запад","Малый бизнес",68,"Да",3.4,0,"Джеки Чан"]
[null,"CL01370","2013-08-31T19:29:46.203","Монитор","Запад","Корпорация",66,"Да",2.9,{"v":6000,"d":"6,000р."},"Колин Фаррел"]
[null,"CL01371","2013-08-31T19:31:47.528","Аксессуары","Север","Корпорация",73,"Да",3.1,0,"Чак Норрис"]
[null,"CL01372","2013-08-31T19:34:15.373","Персональный ПК","Запад","Частные клиенты",74,"Да",3.2,{"v":4200,"d":"4,200р."},"Колин Фаррел"]
[null,"CL01373","2013-08-31T19:35:46.075","Аксессуары","Восток","Некоммерческие",90,"Да",{"v":3,"d":"3.0"},{"v":5400,"d":"5,400р."},"Джеки Чан"]
[null,"CL01374","2013-08-31T19:39:27.195","Аксессуары","Восток","Корпорация",66,"Да",1.8,0,"Уилл Смит"]
[null,"CL01375","2013-08-31T19:43:39.879","Монитор","Восток","Малый бизнес",79,"Да",3.5,0,"Чак Норрис"]
[null,"CL01376","2013-08-31T19:48:44.518","Другое","Север","Корпорация",73,"Да",2.4,0,"Бред Питт"]
[null,"CL01377","2013-08-31T19:49:05.501","Монитор","Север","Частные клиенты",72,"Да",3.9,0,"Чак Норрис"]
[null,"CL01378","2013-08-31T19:51:47.412","Монитор","Юг","Корпорация",76,"Да",2.5,0,"Чак Норрис"]
[null,"CL01379","2013-08-31T19:56:22.989","Аксессуары","Север","Корпорация",59,"Нет",3.7,0,"Уилл Смит"]
[null,"CL01380","2013-08-31T19:59:05.435","Ноутбук","Север","Некоммерческие",78,"Да",2.4,0,"Уилл Смит"]
[null,"CL01381","2013-08-31T20:03:18.879","Другое","Запад","Корпорация",72,"Да",3.1,{"v":5700,"d":"5,700р."},"Бред Питт"]
[null,"CL01382","2013-08-31T20:07:40.232","Персональный ПК","Запад","Частные клиенты",60,"Да",3.1,{"v":5700,"d":"5,700р."},"Бред Питт"]
[null,"CL01383","2013-08-31T20:07:48.402","Софт","Север","Некоммерческие",86,"Да",2.9,{"v":5400,"d":"5,400р."},"Джеки Чан"]
[null,"CL01384","2013-08-31T20:11:52.111","Софт","Центр","Частные клиенты",77,"Да",2.7,{"v":7200,"d":"7,200р."},"Бред Питт"]
[null,"CL01385","2013-08-31T20:15:07.275","Монитор","Север","Частные клиенты",73,"Да",3.6,{"v":5400,"d":"5,400р."},"Уилл Смит"]
[null,"CL01386","2013-08-31T20:20:38.532","Монитор","Восток","Корпорация",61,"Да",3.5,{"v":5100,"d":"5,100р."},"Джонни Депп"]
[null,"CL01387","2013-08-31T20:22:56.016","Другое","Юг","Малый бизнес",73,"Нет",3.4,{"v":4200,"d":"4,200р."},"Джеки Чан"]
[null,"CL01388","2013-08-31T20:26:20.904","Ноутбук","Запад","Корпорация",82,"Да",3.7,{"v":3900,"d":"3,900р."},"Уилл Смит"]
[null,"CL01389","2013-08-31T20:27:03.514","Монитор","Восток","Корпорация",79,"Да",2.2,0,"Колин Фаррел"]
[null,"CL01390","2013-08-31T20:27:24.255","Ноутбук","Центр","Частные клиенты",75,"Да",3.7,{"v":8100,"d":"8,100р."},"Чак Норрис"]
[null,"CL01391","2013-08-31T20:27:38.622","Монитор","Центр","Частные клиенты",81,"Да",3.4,{"v":6900,"d":"6,900р."},"Бред Питт"]
[null,"CL01392","2013-08-31T20:27:46.368","Ноутбук","Восток","Частные клиенты",71,"Да",2.6,{"v":6600,"d":"6,600р."},"Уилл Смит"]
[null,"CL01393","2013-08-31T20:32:32.192","Софт","Запад","Некоммерческие",86,"Да",3.5,{"v":7200,"d":"7,200р."},"Чак Норрис"]
[null,"CL01394","2013-08-31T20:37:49.004","Другое","Центр","Малый бизнес",71,"Нет",3.4,0,"Джонни Депп"]
[null,"CL01395","2013-08-31T20:39:13.101","Ноутбук","Юг","Малый бизнес",78,"Да",2.7,0,"Джонни Депп"]
[null,"CL01396","2013-08-31T20:41:41.501","Монитор","Восток","Корпорация",73,"Да",3.4,0,"Уилл Смит"]
[null,"CL01397","2013-08-31T20:45:33.513","Аксессуары","Восток","Частные клиенты",67,"Нет",3.4,{"v":5100,"d":"5,100р."},"Колин Фаррел"]
[null,"CL01398","2013-08-31T20:45:48.812","Софт","Юг","Малый бизнес",70,"Да",2.7,0,"Уилл Смит"]
[null,"CL01399","2013-08-31T20:46:18.183","Софт","Центр","Частные клиенты",82,"Да",2.9,0,"Колин Фаррел"]
[null,"CL01400","2013-08-31T20:51:38.499","Монитор","Юг","Некоммерческие",66,"Да",2.8,0,"Чак Норрис"]
[null,"CL01401","2013-08-31T20:52:08.969","Ноутбук","Центр","Некоммерческие",89,"Да",2.9,{"v":6300,"d":"6,300р."},"Джонни Депп"]
[null,"CL01402","2013-08-31T20:55:43.857","Аксессуары","Восток","Частные клиенты",77,"Да",3.5,{"v":5100,"d":"5,100р."},"Чак Норрис"]
[null,"CL01403","2013-08-31T20:59:52.842","Софт","Север","Некоммерческие",98,"Да",4.1,0,"Чак Норрис"]
[null,"CL01404","2013-08-31T21:02:12.019","Монитор","Юг","Некоммерческие",80,"Да",3.3,{"v":4500,"d":"4,500р."},"Чак Норрис"]
[null,"CL01405","2013-08-31T21:07:03.084","Персональный ПК","Центр","Некоммерческие",71,"Да",3.6,{"v":7200,"d":"7,200р."},"Чак Норрис"]
[null,"CL01406","2013-08-31T21:10:48.730","Ноутбук","Север","Корпорация",88,"Да",2.4,0,"Уилл Смит"]
[null,"CL01407","2013-08-31T21:14:43.022","Софт","Юг","Корпорация",69,"Да",{"v":2,"d":"2.0"},0,"Колин Фаррел"]
[null,"CL01408","2013-08-31T21:17:21.834","Монитор","Запад","Частные клиенты",70,"Да",3.4,0,"Бред Питт"]
[null,"CL01409","2013-08-31T21:20:55.843","Монитор","Запад","Малый бизнес",58,"Да",3.2,{"v":5400,"d":"5,400р."},"Уилл Смит"]
[null,"CL01410","2013-08-31T21:25:21.911","Аксессуары","Север","Малый бизнес",71,"Да",3.3,{"v":3600,"d":"3,600р."},"Колин Фаррел"]
[null,"CL01411","2013-08-31T21:27:55.734","Другое","Восток","Корпорация",74,"Нет",2.8,{"v":3900,"d":"3,900р."},"Чак Норрис"]
[null,"CL01412","2013-08-31T21:27:58.805","Монитор","Север","Малый бизнес",62,"Да",2.3,{"v":5100,"d":"5,100р."},"Джонни Депп"]
[null,"CL01413","2013-08-31T21:31:16.952","Другое","Запад","Корпорация",70,"Да",2.7,0,"Бред Питт"]
[null,"CL01414","2013-08-31T21:34:19.069","Монитор","Центр","Корпорация",81,"Да",2.5,0,"Джонни Депп"]
[null,"CL01415","2013-08-31T21:37:31.045","Другое","Запад","Корпорация",84,"Да",2.7,0,"Чак Норрис"]
[null,"CL01416","2013-08-31T21:37:48.474","Аксессуары","Восток","Малый бизнес",87,"Да",{"v":3,"d":"3.0"},{"v":9600,"d":"9,600р."},"Бред Питт"]
[null,"CL01417","2013-08-31T21:39:57.875","Персональный ПК","Запад","Малый бизнес",76,"Да",{"v":4,"d":"4.0"},0,"Джонни Депп"]
[null,"CL01418","2013-08-31T21:42:28.005","Софт","Восток","Корпорация",75,"Да",3.2,{"v":6000,"d":"6,000р."},"Чак Норрис"]
[null,"CL01419","2013-08-31T21:44:50.372","Персональный ПК","Юг","Корпорация",81,"Да",3.3,{"v":3900,"d":"3,900р."},"Бред Питт"]
[null,"CL01420","2013-08-31T21:49:35.536","Другое","Север","Частные клиенты",70,"Да",3.3,{"v":4500,"d":"4,500р."},"Бред Питт"]
[null,"CL01421","2013-08-31T21:54:03.551","Софт","Восток","Корпорация",76,"Да",3.8,{"v":4500,"d":"4,500р."},"Джонни Депп"]
[null,"CL01422","2013-08-31T21:54:24.619","Персональный ПК","Север","Частные клиенты",67,"Да",{"v":3,"d":"3.0"},{"v":5700,"d":"5,700р."},"Джеки Чан"]
[null,"CL01423","2013-08-31T21:59:12.874","Софт","Юг","Малый бизнес",70,"Да",2.9,0,"Бред Питт"]
[null,"CL01424","2013-08-31T22:01:55.139","Софт","Запад","Корпорация",76,"Да",2.6,{"v":3600,"d":"3,600р."},"Джонни Депп"]
[null,"CL01425","2013-09-01T08:03:48.146","Другое","Запад","Малый бизнес",70,"Да",2.1,0,"Колин Фаррел"]
[null,"CL01426","2013-09-01T08:07:12.179","Другое","Юг","Малый бизнес",70,"Да",{"v":3,"d":"3.0"},{"v":6300,"d":"6,300р."},"Джеки Чан"]
[null,"CL01427","2013-09-01T08:11:58.460","Софт","Север","Малый бизнес",77,"Да",2.4,0,"Уилл Смит"]
[null,"CL01428","2013-09-01T08:17:05.951","Персональный ПК","Запад","Малый бизнес",89,"Да",{"v":3,"d":"3.0"},0,"Уилл Смит"]
[null,"CL01429","2013-09-01T08:19:29.517","Ноутбук","Центр","Некоммерческие",74,"Да",{"v":3,"d":"3.0"},0,"Колин Фаррел"]
[null,"CL01430","2013-09-01T08:21:29.353","Другое","Центр","Частные клиенты",69,"Да",{"v":3,"d":"3.0"},{"v":6000,"d":"6,000р."},"Чак Норрис"]
[null,"CL01431","2013-09-01T08:25:06.680","Персональный ПК","Север","Некоммерческие",64,"Да",3.6,0,"Уилл Смит"]
[null,"CL01432","2013-09-01T08:28:14.502","Ноутбук","Центр","Корпорация",90,"Да",3.5,0,"Уилл Смит"]
[null,"CL01433","2013-09-01T08:29:52.733","Персональный ПК","Север","Некоммерческие",76,"Да",4.2,{"v":6600,"d":"6,600р."},"Чак Норрис"]
[null,"CL01434","2013-09-01T08:31:13.065","Персональный ПК","Запад","Некоммерческие",71,"Да",3.3,{"v":7800,"d":"7,800р."},"Бред Питт"]
[null,"CL01435","2013-09-01T08:34:55.929","Ноутбук","Север","Малый бизнес",75,"Да",2.7,0,"Джеки Чан"]
[null,"CL01436","2013-09-01T08:38:02.984","Другое","Север","Частные клиенты",73,"Да",3.3,{"v":3900,"d":"3,900р."},"Уилл Смит"]
[null,"CL01437","2013-09-01T08:40:40.874","Монитор","Восток","Частные клиенты",61,"Да",{"v":3,"d":"3.0"},0,"Джонни Депп"]
[null,"CL01438","2013-09-01T08:42:19.146","Софт","Центр","Некоммерческие",59,"Да",2.8,{"v":5700,"d":"5,700р."},"Чак Норрис"]
[null,"CL01439","2013-09-01T08:47:46.406","Другое","Север","Корпорация",91,"Да",2.7,{"v":6600,"d":"6,600р."},"Бред Питт"]
[null,"CL01440","2013-09-01T08:50:20.493","Персональный ПК","Центр","Корпорация",80,"Да",3.3,{"v":6300,"d":"6,300р."},"Уилл Смит"]
[null,"CL01441","2013-09-01T08:53:04.996","Монитор","Центр","Корпорация",65,"Да",{"v":3,"d":"3.0"},0,"Колин Фаррел"]
[null,"CL01442","2013-09-01T08:56:40.512","Ноутбук","Север","Некоммерческие",67,"Да",2.7,{"v":6600,"d":"6,600р."},"Чак Норрис"]
[null,"CL01443","2013-09-01T08:58:08.529","Персональный ПК","Запад","Частные клиенты",77,"Да",3.6,{"v":9300,"d":"9,300р."},"Джеки Чан"]
[null,"CL01444","2013-09-01T09:00:26.903","Другое","Восток","Малый бизнес",74,"Да",3.4,{"v":6600,"d":"6,600р."},"Колин Фаррел"]
[null,"CL01445","2013-09-01T09:05:23.643","Монитор","Запад","Корпорация",73,"Да",2.2,0,"Уилл Смит"]
[null,"CL01446","2013-09-01T09:06:01.697","Софт","Запад","Корпорация",66,"Да",3.1,{"v":4500,"d":"4,500р."},"Чак Норрис"]
[null,"CL01447","2013-09-01T09:08:13.692","Аксессуары","Запад","Малый бизнес",69,"Да",3.6,0,"Колин Фаррел"]
[null,"CL01448","2013-09-01T09:09:43.597","Другое","Юг","Малый бизнес",60,"Да",3.5,0,"Джонни Депп"]
[null,"CL01449","2013-09-01T09:12:14.613","Другое","Восток","Корпорация",78,"Да",3.2,0,"Уилл Смит"]
[null,"CL01450","2013-09-01T09:15:04.259","Софт","Юг","Некоммерческие",73,"Нет",2.7,{"v":6000,"d":"6,000р."},"Бред Питт"]
[null,"CL01451","2013-09-01T09:20:27.607","Другое","Юг","Корпорация",76,"Да",2.8,0,"Уилл Смит"]
[null,"CL01452","2013-09-01T09:22:09.598","Софт","Юг","Корпорация",62,"Да",3.7,{"v":5700,"d":"5,700р."},"Бред Питт"]
[null,"CL01453","2013-09-01T09:23:54.390","Другое","Запад","Малый бизнес",78,"Да",2.3,{"v":8100,"d":"8,100р."},"Джонни Депп"]
[null,"CL01454","2013-09-01T09:28:37.958","Другое","Север","Корпорация",84,"Да",2.4,0,"Чак Норрис"]
[null,"CL01455","2013-09-01T09:28:55.380","Монитор","Восток","Малый бизнес",84,"Да",2.6,0,"Джеки Чан"]
[null,"CL01456","2013-09-01T09:32:37.670","Ноутбук","Центр","Малый бизнес",71,"Да",2.7,0,"Уилл Смит"]
[null,"CL01457","2013-09-01T09:37:20.291","Монитор","Юг","Корпорация",81,"Да",2.8,{"v":4200,"d":"4,200р."},"Джеки Чан"]
[null,"CL01458","2013-09-01T09:40:13.273","Другое","Восток","Частные клиенты",73,"Да",2.6,{"v":2400,"d":"2,400р."},"Чак Норрис"]
[null,"CL01459","2013-09-01T09:45:58.734","Софт","Север","Малый бизнес",88,"Да",{"v":3,"d":"3.0"},{"v":5400,"d":"5,400р."},"Джеки Чан"]
[null,"CL01460","2013-09-01T09:48:29.944","Аксессуары","Центр","Некоммерческие",85,"Да",{"v":3,"d":"3.0"},0,"Бред Питт"]
[null,"CL01461","2013-09-01T09:52:18.713","Ноутбук","Центр","Некоммерческие",71,"Да",2.5,{"v":7800,"d":"7,800р."},"Джонни Депп"]
[null,"CL01462","2013-09-01T09:54:50.628","Персональный ПК","Юг","Некоммерческие",74,"Да",2.9,{"v":8700,"d":"8,700р."},"Чак Норрис"]
[null,"CL01463","2013-09-01T09:55:35.454","Аксессуары","Юг","Малый бизнес",74,"Да",2.8,0,"Джеки Чан"]
[null,"CL01464","2013-09-01T09:59:28.505","Софт","Север","Частные клиенты",67,"Нет",3.5,0,"Джеки Чан"]
[null,"CL01465","2013-09-01T10:01:29.191","Другое","Восток","Частные клиенты",75,"Да",3.2,{"v":6600,"d":"6,600р."},"Уилл Смит"]
[null,"CL01466","2013-09-01T10:02:22.760","Аксессуары","Центр","Малый бизнес",74,"Да",3.2,{"v":4800,"d":"4,800р."},"Джеки Чан"]
[null,"CL01467","2013-09-01T10:06:45.953","Другое","Центр","Частные клиенты",73,"Да",2.4,{"v":6600,"d":"6,600р."},"Бред Питт"]
[null,"CL01468","2013-09-01T10:10:19.019","Ноутбук","Центр","Некоммерческие",69,"Да",2.4,{"v":6600,"d":"6,600р."},"Джонни Депп"]
[null,"CL01469","2013-09-01T10:10:59.198","Аксессуары","Запад","Частные клиенты",59,"Да",2.6,{"v":7200,"d":"7,200р."},"Бред Питт"]
[null,"CL01470","2013-09-01T10:11:17.305","Софт","Центр","Некоммерческие",84,"Да",2.9,{"v":6000,"d":"6,000р."},"Уилл Смит"]
[null,"CL01471","2013-09-01T10:16:41.708","Монитор","Север","Некоммерческие",75,"Да",2.4,0,"Джеки Чан"]
[null,"CL01472","2013-09-01T10:19:49.629","Персональный ПК","Центр","Корпорация",78,"Да",2.4,0,"Уилл Смит"]
[null,"CL01473","2013-09-01T10:24:12.258","Монитор","Север","Малый бизнес",62,"Да",3.1,{"v":6300,"d":"6,300р."},"Бред Питт"]
[null,"CL01474","2013-09-01T10:29:10.740","Монитор","Центр","Частные клиенты",84,"Да",3.6,{"v":7200,"d":"7,200р."},"Джонни Депп"]
[null,"CL01475","2013-09-01T10:29:56.182","Персональный ПК","Запад","Корпорация",81,"Да",3.6,{"v":7200,"d":"7,200р."},"Чак Норрис"]
[null,"CL01476","2013-09-01T10:31:31.249","Монитор","Центр","Частные клиенты",88,"Да",3.4,{"v":8700,"d":"8,700р."},"Колин Фаррел"]
[null,"CL01477","2013-09-01T10:36:55.599","Аксессуары","Север","Малый бизнес",70,"Да",2.8,0,"Бред Питт"]
[null,"CL01478","2013-09-01T10:37:19.430","Монитор","Север","Корпорация",71,"Да",2.9,{"v":6000,"d":"6,000р."},"Джонни Депп"]
[null,"CL01479","2013-09-01T10:40:17.914","Ноутбук","Центр","Малый бизнес",81,"Да",3.5,{"v":5100,"d":"5,100р."},"Бред Питт"]
[null,"CL01480","2013-09-01T10:45:20.747","Персональный ПК","Восток","Некоммерческие",67,"Да",2.5,0,"Джонни Депп"]
[null,"CL01481","2013-09-01T10:45:54.722","Персональный ПК","Север","Корпорация",83,"Да",2.7,{"v":4800,"d":"4,800р."},"Джеки Чан"]
[null,"CL01482","2013-09-01T10:51:31.982","Аксессуары","Запад","Частные клиенты",74,"Да",3.6,{"v":7200,"d":"7,200р."},"Бред Питт"]
[null,"CL01483","2013-09-01T10:57:09.363","Монитор","Центр","Частные клиенты",67,"Да",1.9,{"v":5700,"d":"5,700р."},"Бред Питт"]
[null,"CL01484","2013-09-01T11:01:57.794","Аксессуары","Юг","Некоммерческие",82,"Нет",2.6,{"v":6600,"d":"6,600р."},"Джеки Чан"]
[null,"CL01485","2013-09-01T11:07:06.060","Персональный ПК","Центр","Корпорация",83,"Да",{"v":2,"d":"2.0"},{"v":6600,"d":"6,600р."},"Джеки Чан"]
[null,"CL01486","2013-09-01T11:10:41.939","Аксессуары","Юг","Частные клиенты",94,"Да",3.1,{"v":5100,"d":"5,100р."},"Чак Норрис"]
[null,"CL01487","2013-09-01T11:16:13.090","Монитор","Запад","Малый бизнес",84,"Да",2.1,0,"Колин Фаррел"]
[null,"CL01488","2013-09-01T11:20:14.249","Аксессуары","Север","Корпорация",84,"Да",3.5,{"v":5700,"d":"5,700р."},"Бред Питт"]
[null,"CL01489","2013-09-01T11:21:41.407","Аксессуары","Восток","Корпорация",62,"Да",3.4,{"v":5700,"d":"5,700р."},"Джеки Чан"]
[null,"CL01490","2013-09-01T11:25:02.838","Монитор","Восток","Малый бизнес",77,"Да",2.6,0,"Колин Фаррел"]
[null,"CL01491","2013-09-01T11:25:16.225","Софт","Запад","Частные клиенты",76,"Да",3.4,0,"Джонни Депп"]
[null,"CL01492","2013-09-01T11:25:19.541","Аксессуары","Восток","Малый бизнес",83,"Да",2.1,{"v":6000,"d":"6,000р."},"Уилл Смит"]
[null,"CL01493","2013-09-01T11:26:10.277","Монитор","Восток","Корпорация",78,"Да",3.1,{"v":6000,"d":"6,000р."},"Колин Фаррел"]
[null,"CL01494","2013-09-01T11:29:25.847","Персональный ПК","Юг","Корпорация",71,"Да",3.3,0,"Колин Фаррел"]
[null,"CL01495","2013-09-01T11:32:36.264","Монитор","Юг","Частные клиенты",75,"Да",3.5,{"v":3600,"d":"3,600р."},"Колин Фаррел"]
[null,"CL01496","2013-09-01T11:35:08.847","Другое","Восток","Корпорация",88,"Да",3.7,{"v":8400,"d":"8,400р."},"Бред Питт"]
[null,"CL01497","2013-09-01T11:35:31.157","Другое","Запад","Частные клиенты",75,"Да",2.8,{"v":6000,"d":"6,000р."},"Бред Питт"]
[null,"CL01498","2013-09-01T11:37:26.452","Монитор","Восток","Частные клиенты",78,"Да",3.1,{"v":5100,"d":"5,100р."},"Уилл Смит"]
[null,"CL01499","2013-09-01T11:42:39.518","Другое","Восток","Частные клиенты",82,"Нет",2.9,{"v":6900,"d":"6,900р."},"Уилл Смит"]
[null,"CL01500","2013-09-01T11:44:16.650","Ноутбук","Юг","Малый бизнес",72,"Да",3.4,{"v":5700,"d":"5,700р."},"Чак Норрис"]
[null,"CL01501","2013-09-01T11:47:19.042","Персональный ПК","Юг","Некоммерческие",92,"Да",2.7,{"v":6000,"d":"6,000р."},"Бред Питт"]
[null,"CL01502","2013-09-01T11:50:49.641","Ноутбук","Север","Некоммерческие",77,"Да",{"v":3,"d":"3.0"},0,"Чак Норрис"]
[null,"CL01503","2013-09-01T11:54:36.802","Персональный ПК","Восток","Корпорация",75,"Да",4.1,{"v":6000,"d":"6,000р."},"Бред Питт"]
[null,"CL01504","2013-09-01T11:59:18.647","Другое","Центр","Некоммерческие",60,"Да",3.7,{"v":4800,"d":"4,800р."},"Бред Питт"]
[null,"CL01505","2013-09-01T12:01:11.475","Другое","Юг","Малый бизнес",72,"Да",{"v":3,"d":"3.0"},{"v":7500,"d":"7,500р."},"Бред Питт"]
[null,"CL01506","2013-09-01T12:01:26.925","Аксессуары","Юг","Корпорация",86,"Да",3.5,{"v":6600,"d":"6,600р."},"Джеки Чан"]
[null,"CL01507","2013-09-01T12:02:16.937","Персональный ПК","Юг","Некоммерческие",75,"Да",3.3,0,"Бред Питт"]
[null,"CL01508","2013-09-01T12:04:10.651","Аксессуары","Север","Частные клиенты",86,"Да",2.8,{"v":6300,"d":"6,300р."},"Джонни Депп"]
[null,"CL01509","2013-09-01T12:07:36.801","Ноутбук","Запад","Корпорация",77,"Да",2.7,0,"Джеки Чан"]
[null,"CL01510","2013-09-01T12:09:40.682","Ноутбук","Север","Частные клиенты",94,"Да",{"v":3,"d":"3.0"},{"v":7800,"d":"7,800р."},"Джонни Депп"]
[null,"CL01511","2013-09-01T12:09:58.741","Другое","Запад","Корпорация",85,"Да",2.8,{"v":5700,"d":"5,700р."},"Бред Питт"]
[null,"CL01512","2013-09-01T12:11:51.219","Монитор","Север","Частные клиенты",62,"Да",3.4,0,"Чак Норрис"]
[null,"CL01513","2013-09-01T12:17:14.384","Аксессуары","Юг","Корпорация",85,"Да",4.3,{"v":5700,"d":"5,700р."},"Джонни Депп"]
[null,"CL01514","2013-09-01T12:22:32.638","Другое","Центр","Некоммерческие",61,"Да",2.9,0,"Бред Питт"]
[null,"CL01515","2013-09-01T12:25:06.548","Монитор","Центр","Корпорация",69,"Да",3.4,{"v":2400,"d":"2,400р."},"Бред Питт"]
[null,"CL01516","2013-09-01T12:27:32.118","Ноутбук","Юг","Частные клиенты",84,"Нет",3.1,{"v":3600,"d":"3,600р."},"Бред Питт"]
[null,"CL01517","2013-09-01T12:30:36.061","Монитор","Юг","Некоммерческие",79,"Да",3.2,{"v":6000,"d":"6,000р."},"Колин Фаррел"]
[null,"CL01518","2013-09-01T12:34:45.662","Персональный ПК","Юг","Частные клиенты",73,"Да",{"v":3,"d":"3.0"},{"v":5100,"d":"5,100р."},"Джеки Чан"]
[null,"CL01519","2013-09-01T12:35:38.979","Аксессуары","Восток","Некоммерческие",86,"Да",3.4,{"v":4800,"d":"4,800р."},"Колин Фаррел"]
[null,"CL01520","2013-09-01T12:39:23.541","Монитор","Север","Корпорация",61,"Да",3.3,{"v":6600,"d":"6,600р."},"Бред Питт"]
[null,"CL01521","2013-09-01T12:40:31.356","Другое","Север","Малый бизнес",85,"Да",3.7,0,"Бред Питт"]
[null,"CL01522","2013-09-01T12:44:22.278","Монитор","Восток","Малый бизнес",75,"Да",3.1,{"v":4500,"d":"4,500р."},"Джонни Депп"]
[null,"CL01523","2013-09-01T12:47:46.163","Персональный ПК","Север","Малый бизнес",93,"Да",2.5,{"v":6900,"d":"6,900р."},"Уилл Смит"]
[null,"CL01524","2013-09-01T12:52:03.341","Другое","Север","Частные клиенты",79,"Да",2.6,{"v":6000,"d":"6,000р."},"Джеки Чан"]
[null,"CL01525","2013-09-01T12:55:13.659","Персональный ПК","Восток","Малый бизнес",73,"Да",3.3,{"v":6000,"d":"6,000р."},"Джонни Депп"]
[null,"CL01526","2013-09-01T12:56:21.816","Софт","Север","Некоммерческие",74,"Да",2.9,{"v":5400,"d":"5,400р."},"Бред Питт"]
[null,"CL01527","2013-09-01T12:58:36.383","Монитор","Север","Малый бизнес",83,"Да",3.2,{"v":3600,"d":"3,600р."},"Джонни Депп"]
[null,"CL01528","2013-09-01T13:01:15.528","Другое","Север","Корпорация",73,"Да",2.8,0,"Джеки Чан"]
[null,"CL01529","2013-09-01T13:02:53.867","Аксессуары","Север","Некоммерческие",77,"Да",2.9,{"v":4200,"d":"4,200р."},"Уилл Смит"]
[null,"CL01530","2013-09-01T13:03:15.769","Софт","Запад","Некоммерческие",88,"Да",2.4,{"v":6600,"d":"6,600р."},"Джонни Депп"]
[null,"CL01531","2013-09-01T13:08:26.629","Другое","Юг","Частные клиенты",61,"Да",3.5,0,"Колин Фаррел"]
[null,"CL01532","2013-09-01T13:10:01.003","Монитор","Восток","Частные клиенты",77,"Да",3.6,0,"Уилл Смит"]
[null,"CL01533","2013-09-01T13:11:29.534","Аксессуары","Запад","Корпорация",69,"Да",2.8,{"v":6900,"d":"6,900р."},"Джеки Чан"]
[null,"CL01534","2013-09-01T13:15:08.797","Монитор","Юг","Некоммерческие",73,"Да",2.6,{"v":6900,"d":"6,900р."},"Чак Норрис"]
[null,"CL01535","2013-09-01T13:16:13.196","Софт","Север","Корпорация",71,"Нет",2.8,0,"Колин Фаррел"]
[null,"CL01536","2013-09-01T13:18:04.390","Ноутбук","Центр","Малый бизнес",81,"Да",4.5,{"v":4800,"d":"4,800р."},"Бред Питт"]
[null,"CL01537","2013-09-01T13:23:41.741","Другое","Восток","Частные клиенты",71,"Да",3.5,{"v":5100,"d":"5,100р."},"Уилл Смит"]
[null,"CL01538","2013-09-01T13:25:23.302","Ноутбук","Юг","Корпорация",67,"Нет",3.6,{"v":5700,"d":"5,700р."},"Джеки Чан"]
[null,"CL01539","2013-09-01T13:29:14.104","Другое","Запад","Некоммерческие",79,"Да",2.6,{"v":5400,"d":"5,400р."},"Колин Фаррел"]
[null,"CL01540","2013-09-01T13:34:39.549","Персональный ПК","Юг","Малый бизнес",74,"Да",2.2,0,"Чак Норрис"]
[null,"CL01541","2013-09-01T13:35:28.935","Персональный ПК","Север","Корпорация",91,"Нет",2.8,{"v":5400,"d":"5,400р."},"Джеки Чан"]
[null,"CL01542","2013-09-01T13:40:54.352","Персональный ПК","Центр","Некоммерческие",85,"Да",{"v":3,"d":"3.0"},0,"Уилл Смит"]
[null,"CL01543","2013-09-01T13:41:40.592","Персональный ПК","Запад","Малый бизнес",63,"Да",{"v":2,"d":"2.0"},{"v":6600,"d":"6,600р."},"Колин Фаррел"]
[null,"CL01544","2013-09-01T13:45:41.534","Софт","Запад","Частные клиенты",67,"Да",2.9,{"v":6300,"d":"6,300р."},"Уилл Смит"]
[null,"CL01545","2013-09-01T13:47:25.899","Другое","Юг","Частные клиенты",88,"Да",3.3,{"v":5400,"d":"5,400р."},"Бред Питт"]
[null,"CL01546","2013-09-01T13:50:15.731","Другое","Восток","Частные клиенты",67,"Да",3.6,{"v":6600,"d":"6,600р."},"Бред Питт"]
[null,"CL01547","2013-09-01T13:54:48.856","Ноутбук","Юг","Некоммерческие",67,"Да",2.7,{"v":6000,"d":"6,000р."},"Джеки Чан"]
[null,"CL01548","2013-09-01T13:56:02.506","Персональный ПК","Центр","Частные клиенты",77,"Да",2.6,{"v":3900,"d":"3,900р."},"Джонни Депп"]
[null,"CL01549","2013-09-01T13:56:44.504","Монитор","Центр","Корпорация",86,"Да",2.8,{"v":3900,"d":"3,900р."},"Чак Норрис"]
[null,"CL01550","2013-09-01T14:01:00.457","Аксессуары","Юг","Частные клиенты",70,"Да",4.2,0,"Колин Фаррел"]
[null,"CL01551","2013-09-01T14:03:30.498","Монитор","Север","Малый бизнес",68,"Да",2.9,{"v":6000,"d":"6,000р."},"Уилл Смит"]
[null,"CL01552","2013-09-01T14:04:43.961","Персональный ПК","Центр","Малый бизнес",77,"Нет",3.7,0,"Джеки Чан"]
[null,"CL01553","2013-09-01T14:10:23.695","Ноутбук","Восток","Корпорация",72,"Нет",3.1,0,"Джеки Чан"]
[null,"CL01554","2013-09-01T14:12:49.596","Ноутбук","Юг","Корпорация",66,"Да",3.1,0,"Колин Фаррел"]
[null,"CL01555","2013-09-01T14:13:01.673","Софт","Запад","Некоммерческие",58,"Да",2.8,{"v":3600,"d":"3,600р."},"Колин Фаррел"]
[null,"CL01556","2013-09-01T14:18:29.520","Монитор","Центр","Частные клиенты",93,"Да",{"v":2,"d":"2.0"},0,"Колин Фаррел"]
[null,"CL01557","2013-09-01T14:22:28.308","Персональный ПК","Запад","Корпорация",80,"Да",2.7,0,"Колин Фаррел"]
[null,"CL01558","2013-09-01T14:27:34.153","Другое","Север","Малый бизнес",77,"Да",2.7,{"v":4500,"d":"4,500р."},"Уилл Смит"]
[null,"CL01559","2013-09-01T14:29:02.379","Аксессуары","Юг","Малый бизнес",89,"Да",2.8,{"v":4500,"d":"4,500р."},"Чак Норрис"]
[null,"CL01560","2013-09-01T14:34:22.953","Персональный ПК","Север","Малый бизнес",77,"Да",{"v":2,"d":"2.0"},{"v":9000,"d":"9,000р."},"Уилл Смит"]
[null,"CL01561","2013-09-01T14:37:35.024","Софт","Центр","Частные клиенты",60,"Да",3.1,{"v":7800,"d":"7,800р."},"Бред Питт"]
[null,"CL01562","2013-09-01T14:42:16.452","Аксессуары","Запад","Некоммерческие",73,"Нет",2.6,0,"Колин Фаррел"]
[null,"CL01563","2013-09-01T14:45:52.446","Другое","Юг","Корпорация",77,"Да",2.6,{"v":6300,"d":"6,300р."},"Колин Фаррел"]
[null,"CL01564","2013-09-01T14:49:17.751","Персональный ПК","Запад","Частные клиенты",76,"Да",2.6,0,"Бред Питт"]
[null,"CL01565","2013-09-01T14:53:11.024","Монитор","Запад","Некоммерческие",77,"Да",3.1,{"v":6600,"d":"6,600р."},"Чак Норрис"]
[null,"CL01566","2013-09-01T14:53:28.358","Монитор","Север","Частные клиенты",82,"Да",3.1,{"v":6900,"d":"6,900р."},"Уилл Смит"]
[null,"CL01567","2013-09-01T14:58:14.766","Ноутбук","Запад","Малый бизнес",76,"Да",3.3,{"v":6300,"d":"6,300р."},"Чак Норрис"]
[null,"CL01568","2013-09-01T15:00:24.110","Аксессуары","Запад","Частные клиенты",71,"Да",3.3,0,"Джонни Депп"]
[null,"CL01569","2013-09-01T15:05:05.351","Персональный ПК","Центр","Частные клиенты",77,"Да",2.6,{"v":6300,"d":"6,300р."},"Колин Фаррел"]
[null,"CL01570","2013-09-01T15:05:19.079","Монитор","Запад","Некоммерческие",74,"Да",2.8,0,"Чак Норрис"]
[null,"CL01571","2013-09-01T15:10:53.098","Другое","Восток","Некоммерческие",66,"Да",3.3,{"v":6300,"d":"6,300р."},"Джонни Депп"]
[null,"CL01572","2013-09-01T15:15:32.177","Ноутбук","Юг","Малый бизнес",83,"Да",2.8,{"v":4500,"d":"4,500р."},"Джонни Депп"]
[null,"CL01573","2013-09-01T15:16:36.131","Другое","Запад","Некоммерческие",81,"Да",3.4,{"v":4500,"d":"4,500р."},"Джонни Депп"]
[null,"CL01574","2013-09-01T15:22:16.192","Другое","Юг","Малый бизнес",75,"Да",2.1,{"v":3300,"d":"3,300р."},"Колин Фаррел"]
[null,"CL01575","2013-09-01T15:25:50.740","Софт","Юг","Частные клиенты",74,"Да",2.2,{"v":5700,"d":"5,700р."},"Джеки Чан"]
[null,"CL01576","2013-09-01T15:27:12.916","Аксессуары","Север","Частные клиенты",64,"Да",{"v":2,"d":"2.0"},0,"Чак Норрис"]
[null,"CL01577","2013-09-01T15:32:55.621","Ноутбук","Восток","Корпорация",81,"Да",3.1,{"v":4800,"d":"4,800р."},"Джонни Депп"]
[null,"CL01578","2013-09-01T15:33:10.489","Софт","Запад","Малый бизнес",73,"Да",2.5,0,"Джонни Депп"]
[null,"CL01579","2013-09-01T15:36:31.388","Аксессуары","Центр","Частные клиенты",79,"Да",2.8,{"v":7800,"d":"7,800р."},"Джонни Депп"]
[null,"CL01580","2013-09-01T15:38:30.092","Персональный ПК","Север","Малый бизнес",67,"Да",2.4,{"v":2100,"d":"2,100р."},"Уилл Смит"]
[null,"CL01581","2013-09-01T15:38:46.655","Аксессуары","Юг","Частные клиенты",78,"Да",3.3,0,"Колин Фаррел"]
[null,"CL01582","2013-09-01T15:42:11.786","Персональный ПК","Север","Малый бизнес",68,"Да",2.4,0,"Джеки Чан"]
[null,"CL01583","2013-09-01T15:44:18.533","Аксессуары","Восток","Малый бизнес",79,"Да",2.8,{"v":6300,"d":"6,300р."},"Чак Норрис"]
[null,"CL01584","2013-09-01T15:44:27.926","Монитор","Восток","Некоммерческие",74,"Да",2.2,0,"Уилл Смит"]
[null,"CL01585","2013-09-01T15:47:20.275","Софт","Центр","Корпорация",75,"Да",3.1,{"v":5700,"d":"5,700р."},"Джеки Чан"]
[null,"CL01586","2013-09-01T15:50:44.052","Монитор","Юг","Малый бизнес",77,"Нет",2.9,0,"Бред Питт"]
[null,"CL01587","2013-09-01T15:54:32.217","Софт","Запад","Некоммерческие",65,"Да",2.8,{"v":6300,"d":"6,300р."},"Бред Питт"]
[null,"CL01588","2013-09-01T15:56:45.146","Другое","Запад","Корпорация",83,"Да",3.4,{"v":5400,"d":"5,400р."},"Колин Фаррел"]
[null,"CL01589","2013-09-01T15:59:40.592","Персональный ПК","Запад","Малый бизнес",79,"Да",2.4,{"v":6600,"d":"6,600р."},"Колин Фаррел"]
[null,"CL01590","2013-09-01T16:02:01.481","Софт","Центр","Частные клиенты",74,"Да",2.3,{"v":5700,"d":"5,700р."},"Джеки Чан"]
[null,"CL01591","2013-09-01T16:05:40.648","Монитор","Юг","Малый бизнес",61,"Да",3.5,{"v":4800,"d":"4,800р."},"Джонни Депп"]
[null,"CL01592","2013-09-01T16:08:00.652","Персональный ПК","Запад","Корпорация",62,"Да",3.3,{"v":7200,"d":"7,200р."},"Уилл Смит"]
[null,"CL01593","2013-09-01T16:08:12.784","Аксессуары","Юг","Некоммерческие",77,"Да",3.2,{"v":3900,"d":"3,900р."},"Бред Питт"]
[null,"CL01594","2013-09-01T16:11:56.688","Монитор","Центр","Частные клиенты",59,"Да",{"v":3,"d":"3.0"},{"v":3900,"d":"3,900р."},"Бред Питт"]
[null,"CL01595","2013-09-01T16:17:03.923","Монитор","Запад","Некоммерческие",75,"Да",2.6,{"v":4800,"d":"4,800р."},"Чак Норрис"]
[null,"CL01596","2013-09-01T16:19:01.223","Персональный ПК","Запад","Некоммерческие",72,"Да",3.5,{"v":10800,"d":"10,800р."},"Джонни Депп"]
[null,"CL01597","2013-09-01T16:23:16.760","Персональный ПК","Юг","Корпорация",61,"Да",2.5,{"v":7200,"d":"7,200р."},"Колин Фаррел"]
[null,"CL01598","2013-09-01T16:26:09.008","Монитор","Восток","Частные клиенты",89,"Да",3.1,{"v":8400,"d":"8,400р."},"Бред Питт"]
[null,"CL01599","2013-09-01T16:26:20.943","Персональный ПК","Юг","Частные клиенты",74,"Да",3.4,{"v":3600,"d":"3,600р."},"Чак Норрис"]
[null,"CL01600","2013-09-01T16:30:29.008","Персональный ПК","Восток","Малый бизнес",80,"Да",2.9,{"v":3900,"d":"3,900р."},"Чак Норрис"]
[null,"CL01601","2013-09-01T16:33:44.442","Аксессуары","Юг","Частные клиенты",88,"Да",2.8,0,"Чак Норрис"]
[null,"CL01602","2013-09-01T16:35:58.595","Персональный ПК","Север","Частные клиенты",76,"Да",2.6,{"v":8700,"d":"8,700р."},"Колин Фаррел"]
[null,"CL01603","2013-09-01T16:37:23.526","Персональный ПК","Центр","Некоммерческие",90,"Нет",2.8,{"v":7800,"d":"7,800р."},"Уилл Смит"]
[null,"CL01604","2013-09-01T16:38:14.510","Другое","Юг","Малый бизнес",79,"Да",2.8,{"v":4500,"d":"4,500р."},"Колин Фаррел"]
[null,"CL01605","2013-09-01T16:39:08.718","Ноутбук","Юг","Корпорация",74,"Да",2.6,{"v":7200,"d":"7,200р."},"Чак Норрис"]
[null,"CL01606","2013-09-01T16:42:52.854","Персональный ПК","Юг","Частные клиенты",69,"Да",3.2,0,"Чак Норрис"]
[null,"CL01607","2013-09-01T16:48:14.290","Другое","Центр","Некоммерческие",78,"Да",2.4,0,"Бред Питт"]
[null,"CL01608","2013-09-01T16:50:10.904","Ноутбук","Восток","Корпорация",79,"Да",3.1,{"v":7200,"d":"7,200р."},"Джонни Депп"]
[null,"CL01609","2013-09-01T16:51:44.240","Софт","Юг","Корпорация",68,"Да",3.6,0,"Уилл Смит"]
[null,"CL01610","2013-09-01T16:54:57.530","Софт","Запад","Малый бизнес",86,"Да",2.6,{"v":4800,"d":"4,800р."},"Чак Норрис"]
[null,"CL01611","2013-09-01T16:56:50.083","Ноутбук","Север","Корпорация",67,"Да",2.7,{"v":5400,"d":"5,400р."},"Джеки Чан"]
[null,"CL01612","2013-09-01T17:02:19.443","Монитор","Юг","Частные клиенты",79,"Да",3.4,0,"Джеки Чан"]
[null,"CL01613","2013-09-01T17:06:55.147","Ноутбук","Восток","Малый бизнес",63,"Да",2.2,{"v":6300,"d":"6,300р."},"Уилл Смит"]
[null,"CL01614","2013-09-01T17:10:19.704","Монитор","Юг","Малый бизнес",71,"Да",3.7,0,"Колин Фаррел"]
[null,"CL01615","2013-09-01T17:14:33.794","Другое","Юг","Корпорация",67,"Да",2.7,0,"Джеки Чан"]
[null,"CL01616","2013-09-01T17:16:31.153","Аксессуары","Центр","Корпорация",73,"Да",3.7,{"v":6900,"d":"6,900р."},"Чак Норрис"]
[null,"CL01617","2013-09-01T17:21:30.832","Ноутбук","Восток","Некоммерческие",80,"Да",2.7,{"v":6300,"d":"6,300р."},"Уилл Смит"]
[null,"CL01618","2013-09-01T17:23:29.361","Аксессуары","Восток","Частные клиенты",73,"Да",2.9,{"v":5100,"d":"5,100р."},"Джонни Депп"]
[null,"CL01619","2013-09-01T17:29:11.008","Софт","Восток","Корпорация",72,"Нет",3.3,0,"Джонни Депп"]
[null,"CL01620","2013-09-01T17:32:56.595","Персональный ПК","Восток","Частные клиенты",76,"Да",3.3,{"v":3900,"d":"3,900р."},"Уилл Смит"]
[null,"CL01621","2013-09-01T17:38:03.101","Монитор","Север","Частные клиенты",70,"Да",3.2,{"v":6900,"d":"6,900р."},"Колин Фаррел"]
[null,"CL01622","2013-09-01T17:42:40.068","Монитор","Юг","Некоммерческие",86,"Да",{"v":2,"d":"2.0"},0,"Бред Питт"]
[null,"CL01623","2013-09-01T17:46:39.518","Аксессуары","Запад","Корпорация",61,"Да",3.2,0,"Уилл Смит"]
[null,"CL01624","2013-09-01T17:48:51.271","Ноутбук","Восток","Корпорация",70,"Да",3.8,0,"Джеки Чан"]
[null,"CL01625","2013-09-01T17:49:43.266","Аксессуары","Север","Малый бизнес",79,"Да",3.1,{"v":5100,"d":"5,100р."},"Джеки Чан"]
[null,"CL01626","2013-09-01T17:53:27.546","Другое","Юг","Корпорация",82,"Да",2.9,0,"Колин Фаррел"]
[null,"CL01627","2013-09-01T17:57:59.277","Монитор","Юг","Корпорация",77,"Да",3.2,{"v":4800,"d":"4,800р."},"Джеки Чан"]
[null,"CL01628","2013-09-01T18:00:12.683","Аксессуары","Запад","Некоммерческие",69,"Да",2.6,{"v":2700,"d":"2,700р."},"Колин Фаррел"]
[null,"CL01629","2013-09-01T18:04:06.354","Монитор","Юг","Корпорация",79,"Да",{"v":3,"d":"3.0"},0,"Джонни Депп"]
[null,"CL01630","2013-09-01T18:07:10.694","Ноутбук","Центр","Малый бизнес",69,"Да",{"v":2,"d":"2.0"},{"v":4500,"d":"4,500р."},"Колин Фаррел"]
[null,"CL01631","2013-09-01T18:10:30.414","Ноутбук","Север","Корпорация",66,"Да",3.3,0,"Джонни Депп"]
[null,"CL01632","2013-09-01T18:11:01.693","Ноутбук","Запад","Частные клиенты",78,"Да",3.7,{"v":7500,"d":"7,500р."},"Бред Питт"]
[null,"CL01633","2013-09-01T18:16:41.178","Ноутбук","Север","Некоммерческие",73,"Да",3.3,{"v":6300,"d":"6,300р."},"Бред Питт"]
[null,"CL01634","2013-09-01T18:20:26.680","Монитор","Юг","Некоммерческие",85,"Да",3.3,{"v":4500,"d":"4,500р."},"Уилл Смит"]
[null,"CL01635","2013-09-01T18:21:03.518","Другое","Центр","Малый бизнес",72,"Да",3.2,{"v":6300,"d":"6,300р."},"Джонни Депп"]
[null,"CL01636","2013-09-01T18:23:33.257","Другое","Центр","Корпорация",78,"Да",{"v":2,"d":"2.0"},{"v":7200,"d":"7,200р."},"Чак Норрис"]
[null,"CL01637","2013-09-01T18:27:51.381","Другое","Центр","Малый бизнес",84,"Да",{"v":3,"d":"3.0"},{"v":4500,"d":"4,500р."},"Бред Питт"]
[null,"CL01638","2013-09-01T18:29:01.005","Другое","Юг","Некоммерческие",76,"Да",3.4,{"v":6000,"d":"6,000р."},"Джеки Чан"]
[null,"CL01639","2013-09-01T18:29:27.237","Монитор","Восток","Корпорация",79,"Да",3.2,0,"Джонни Депп"]
[null,"CL01640","2013-09-01T18:32:16.822","Ноутбук","Центр","Малый бизнес",78,"Да",3.4,0,"Колин Фаррел"]
[null,"CL01641","2013-09-01T18:35:02.238","Монитор","Восток","Корпорация",84,"Да",3.8,0,"Колин Фаррел"]
[null,"CL01642","2013-09-01T18:38:03.107","Аксессуары","Юг","Частные клиенты",81,"Да",2.8,{"v":6600,"d":"6,600р."},"Джонни Депп"]
[null,"CL01643","2013-09-01T18:40:07.512","Другое","Юг","Корпорация",60,"Да",2.8,{"v":5700,"d":"5,700р."},"Бред Питт"]
[null,"CL01644","2013-09-01T18:41:20.364","Софт","Север","Частные клиенты",77,"Да",2.4,{"v":6600,"d":"6,600р."},"Чак Норрис"]
[null,"CL01645","2013-09-01T18:43:09.004","Персональный ПК","Юг","Малый бизнес",66,"Да",{"v":3,"d":"3.0"},0,"Уилл Смит"]
[null,"CL01646","2013-09-01T18:45:31.128","Другое","Север","Малый бизнес",89,"Да",3.1,{"v":6000,"d":"6,000р."},"Бред Питт"]
[null,"CL01647","2013-09-01T18:49:14.595","Аксессуары","Север","Малый бизнес",69,"Да",2.7,0,"Уилл Смит"]
[null,"CL01648","2013-09-01T18:51:20.084","Софт","Центр","Корпорация",85,"Да",2.9,{"v":3900,"d":"3,900р."},"Джеки Чан"]
[null,"CL01649","2013-09-01T18:56:38.056","Монитор","Восток","Корпорация",68,"Да",3.7,0,"Уилл Смит"]
[null,"CL01650","2013-09-01T19:00:44.855","Другое","Юг","Частные клиенты",60,"Да",3.6,{"v":7500,"d":"7,500р."},"Джонни Депп"]
[null,"CL01651","2013-09-01T19:01:21.289","Другое","Запад","Некоммерческие",71,"Да",2.1,0,"Бред Питт"]
[null,"CL01652","2013-09-01T19:06:29.968","Другое","Юг","Некоммерческие",68,"Да",3.2,0,"Колин Фаррел"]
[null,"CL01653","2013-09-01T19:11:53.249","Ноутбук","Запад","Малый бизнес",64,"Да",2.6,{"v":6600,"d":"6,600р."},"Колин Фаррел"]
[null,"CL01654","2013-09-01T19:15:37.654","Другое","Юг","Частные клиенты",80,"Да",{"v":3,"d":"3.0"},{"v":6000,"d":"6,000р."},"Колин Фаррел"]
[null,"CL01655","2013-09-01T19:19:36.560","Аксессуары","Север","Некоммерческие",66,"Да",2.5,{"v":6600,"d":"6,600р."},"Чак Норрис"]
[null,"CL01656","2013-09-01T19:22:17.519","Аксессуары","Север","Корпорация",73,"Да",2.6,{"v":6600,"d":"6,600р."},"Чак Норрис"]
[null,"CL01657","2013-09-01T19:22:42.550","Персональный ПК","Север","Некоммерческие",75,"Да",2.2,{"v":6600,"d":"6,600р."},"Джеки Чан"]
[null,"CL01658","2013-09-01T19:27:06.749","Другое","Центр","Малый бизнес",66,"Да",{"v":3,"d":"3.0"},{"v":7200,"d":"7,200р."},"Джонни Депп"]
[null,"CL01659","2013-09-01T19:27:07.071","Другое","Запад","Некоммерческие",73,"Да",2.3,{"v":5700,"d":"5,700р."},"Джонни Депп"]
[null,"CL01660","2013-09-01T19:29:20.536","Другое","Центр","Частные клиенты",82,"Да",3.4,0,"Джонни Депп"]
[null,"CL01661","2013-09-01T19:31:54.408","Другое","Юг","Корпорация",79,"Да",2.5,0,"Колин Фаррел"]
[null,"CL01662","2013-09-01T19:33:05.549","Другое","Север","Частные клиенты",89,"Да",3.1,0,"Уилл Смит"]
[null,"CL01663","2013-09-01T19:34:31.771","Монитор","Запад","Малый бизнес",76,"Да",3.4,{"v":5100,"d":"5,100р."},"Колин Фаррел"]
[null,"CL01664","2013-09-01T19:38:40.112","Персональный ПК","Запад","Частные клиенты",79,"Да",2.1,{"v":3900,"d":"3,900р."},"Колин Фаррел"]
[null,"CL01665","2013-09-01T19:43:13.493","Персональный ПК","Юг","Частные клиенты",59,"Да",2.2,0,"Уилл Смит"]
[null,"CL01666","2013-09-01T19:45:19.926","Ноутбук","Центр","Некоммерческие",71,"Да",4.5,0,"Колин Фаррел"]
[null,"CL01667","2013-09-01T19:48:16.640","Другое","Север","Малый бизнес",80,"Да",2.6,{"v":2700,"d":"2,700р."},"Уилл Смит"]
[null,"CL01668","2013-09-01T19:48:26.550","Персональный ПК","Центр","Частные клиенты",71,"Нет",3.3,0,"Уилл Смит"]
[null,"CL01669","2013-09-01T19:52:20.102","Аксессуары","Север","Корпорация",94,"Да",3.4,{"v":4500,"d":"4,500р."},"Джеки Чан"]
[null,"CL01670","2013-09-01T19:54:30.961","Аксессуары","Запад","Малый бизнес",68,"Нет",2.6,0,"Джонни Депп"]
[null,"CL01671","2013-09-01T19:59:13.398","Аксессуары","Восток","Корпорация",70,"Да",2.2,{"v":4200,"d":"4,200р."},"Бред Питт"]
[null,"CL01672","2013-09-01T20:00:10.768","Софт","Север","Частные клиенты",82,"Да",3.5,0,"Уилл Смит"]
[null,"CL01673","2013-09-01T20:01:26.311","Монитор","Восток","Корпорация",74,"Да",3.6,{"v":4800,"d":"4,800р."},"Колин Фаррел"]
[null,"CL01674","2013-09-01T20:04:27.355","Ноутбук","Юг","Частные клиенты",55,"Да",3.5,{"v":6900,"d":"6,900р."},"Джеки Чан"]
[null,"CL01675","2013-09-01T20:06:29.776","Ноутбук","Север","Некоммерческие",84,"Да",2.1,{"v":4200,"d":"4,200р."},"Джеки Чан"]
[null,"CL01676","2013-09-01T20:07:25.658","Аксессуары","Восток","Частные клиенты",60,"Да",2.9,{"v":6300,"d":"6,300р."},"Уилл Смит"]
[null,"CL01677","2013-09-01T20:07:29.765","Персональный ПК","Север","Корпорация",75,"Да",3.2,{"v":6000,"d":"6,000р."},"Джеки Чан"]
[null,"CL01678","2013-09-01T20:08:12.354","Софт","Центр","Малый бизнес",79,"Да",3.5,0,"Джонни Депп"]
[null,"CL01679","2013-09-01T20:13:41.579","Ноутбук","Север","Корпорация",75,"Да",3.5,{"v":6900,"d":"6,900р."},"Колин Фаррел"]
[null,"CL01680","2013-09-01T20:19:22.321","Другое","Запад","Некоммерческие",75,"Нет",2.9,{"v":8400,"d":"8,400р."},"Чак Норрис"]
[null,"CL01681","2013-09-01T20:23:34.635","Аксессуары","Запад","Корпорация",66,"Да",2.3,{"v":7500,"d":"7,500р."},"Джонни Депп"]
[null,"CL01682","2013-09-01T20:28:38.642","Аксессуары","Восток","Некоммерческие",77,"Да",2.9,{"v":5400,"d":"5,400р."},"Уилл Смит"]
[null,"CL01683","2013-09-01T20:32:08.409","Другое","Север","Малый бизнес",76,"Да",{"v":4,"d":"4.0"},0,"Чак Норрис"]
[null,"CL01684","2013-09-01T20:33:06.757","Софт","Центр","Частные клиенты",87,"Да",3.3,0,"Чак Норрис"]
[null,"CL01685","2013-09-01T20:35:56.163","Другое","Север","Некоммерческие",74,"Да",3.4,{"v":7200,"d":"7,200р."},"Джеки Чан"]
[null,"CL01686","2013-09-01T20:37:16.110","Монитор","Центр","Малый бизнес",77,"Да",3.1,{"v":7200,"d":"7,200р."},"Уилл Смит"]
[null,"CL01687","2013-09-01T20:41:53.804","Другое","Центр","Некоммерческие",75,"Да",3.4,{"v":6300,"d":"6,300р."},"Бред Питт"]
[null,"CL01688","2013-09-01T20:45:41.765","Монитор","Центр","Корпорация",80,"Да",{"v":2,"d":"2.0"},{"v":6900,"d":"6,900р."},"Бред Питт"]
[null,"CL01689","2013-09-01T20:47:10.841","Персональный ПК","Север","Малый бизнес",73,"Нет",3.2,{"v":8100,"d":"8,100р."},"Уилл Смит"]
[null,"CL01690","2013-09-01T20:52:15.466","Аксессуары","Центр","Некоммерческие",76,"Да",3.7,{"v":5400,"d":"5,400р."},"Джонни Депп"]
[null,"CL01691","2013-09-01T20:56:52.381","Аксессуары","Север","Малый бизнес",76,"Да",3.2,{"v":8700,"d":"8,700р."},"Джеки Чан"]
[null,"CL01692","2013-09-01T21:00:30.035","Ноутбук","Юг","Частные клиенты",70,"Да",2.4,0,"Бред Питт"]
[null,"CL01693","2013-09-01T21:03:13.786","Монитор","Восток","Малый бизнес",63,"Да",3.1,{"v":3300,"d":"3,300р."},"Бред Питт"]
[null,"CL01694","2013-09-01T21:07:24.728","Ноутбук","Восток","Корпорация",72,"Да",3.3,0,"Колин Фаррел"]
[null,"CL01695","2013-09-01T21:07:26.259","Софт","Восток","Малый бизнес",76,"Да",2.5,{"v":8700,"d":"8,700р."},"Уилл Смит"]
[null,"CL01696","2013-09-01T21:11:43.985","Монитор","Юг","Малый бизнес",80,"Да",3.3,0,"Джонни Депп"]
[null,"CL01697","2013-09-01T21:12:26.852","Монитор","Запад","Некоммерческие",69,"Да",{"v":3,"d":"3.0"},{"v":7500,"d":"7,500р."},"Джонни Депп"]
[null,"CL01698","2013-09-01T21:16:11.041","Монитор","Запад","Корпорация",65,"Да",2.8,{"v":9000,"d":"9,000р."},"Чак Норрис"]
[null,"CL01699","2013-09-01T21:20:56.383","Другое","Запад","Корпорация",89,"Да",2.8,{"v":5700,"d":"5,700р."},"Чак Норрис"]
[null,"CL01700","2013-09-01T21:22:04.699","Другое","Запад","Некоммерческие",64,"Да",3.3,{"v":3600,"d":"3,600р."},"Бред Питт"]
[null,"CL01701","2013-09-01T21:24:52.503","Персональный ПК","Юг","Корпорация",72,"Да",4.1,{"v":6300,"d":"6,300р."},"Чак Норрис"]
[null,"CL01702","2013-09-01T21:27:05.093","Ноутбук","Восток","Малый бизнес",67,"Да",3.2,{"v":3000,"d":"3,000р."},"Чак Норрис"]
[null,"CL01703","2013-09-01T21:29:09.307","Другое","Запад","Корпорация",74,"Да",2.9,0,"Джонни Депп"]
[null,"CL01704","2013-09-01T21:30:56.156","Другое","Запад","Некоммерческие",74,"Да",2.8,0,"Джеки Чан"]
[null,"CL01705","2013-09-01T21:34:46.531","Софт","Запад","Малый бизнес",77,"Да",2.8,{"v":7200,"d":"7,200р."},"Уилл Смит"]
[null,"CL01706","2013-09-01T21:35:48.096","Другое","Юг","Корпорация",77,"Да",2.7,{"v":7500,"d":"7,500р."},"Джеки Чан"]
[null,"CL01707","2013-09-01T21:36:53.659","Другое","Восток","Корпорация",76,"Да",3.9,0,"Уилл Смит"]
[null,"CL01708","2013-09-01T21:40:14.422","Персональный ПК","Запад","Корпорация",69,"Да",2.8,{"v":5700,"d":"5,700р."},"Бред Питт"]
[null,"CL01709","2013-09-01T21:45:03.457","Другое","Север","Частные клиенты",89,"Да",{"v":3,"d":"3.0"},0,"Джеки Чан"]
[null,"CL01710","2013-09-01T21:50:17.860","Другое","Юг","Частные клиенты",90,"Да",3.9,{"v":9900,"d":"9,900р."},"Джеки Чан"]
[null,"CL01711","2013-09-01T21:54:36.668","Другое","Восток","Корпорация",55,"Да",3.2,{"v":5100,"d":"5,100р."},"Джеки Чан"]
[null,"CL01712","2013-09-01T21:57:49.320","Персональный ПК","Центр","Частные клиенты",83,"Да",2.4,0,"Джеки Чан"]
[null,"CL01713","2013-09-01T21:58:03.924","Софт","Север","Частные клиенты",55,"Да",3.1,0,"Чак Норрис"]
[null,"CL01714","2013-09-01T22:00:46.001","Монитор","Центр","Некоммерческие",79,"Да",2.4,0,"Бред Питт"]
[null,"CL01715","2013-09-02T08:01:24.867","Ноутбук","Юг","Некоммерческие",83,"Да",{"v":3,"d":"3.0"},{"v":7200,"d":"7,200р."},"Джонни Депп"]
[null,"CL01716","2013-09-02T08:04:12.004","Монитор","Юг","Частные клиенты",64,"Да",3.2,0,"Чак Норрис"]
[null,"CL01717","2013-09-02T08:09:38.912","Персональный ПК","Юг","Некоммерческие",78,"Да",{"v":3,"d":"3.0"},{"v":7500,"d":"7,500р."},"Колин Фаррел"]
[null,"CL01718","2013-09-02T08:13:24.353","Монитор","Запад","Малый бизнес",78,"Да",3.4,0,"Уилл Смит"]
[null,"CL01719","2013-09-02T08:15:28.512","Персональный ПК","Центр","Частные клиенты",79,"Да",3.1,0,"Джеки Чан"]
[null,"CL01720","2013-09-02T08:15:45.857","Монитор","Восток","Малый бизнес",96,"Да",3.6,{"v":3600,"d":"3,600р."},"Джеки Чан"]
[null,"CL01721","2013-09-02T08:20:49.925","Ноутбук","Север","Малый бизнес",72,"Да",{"v":3,"d":"3.0"},0,"Бред Питт"]
[null,"CL01722","2013-09-02T08:21:56.627","Монитор","Север","Частные клиенты",79,"Да",3.1,{"v":7800,"d":"7,800р."},"Чак Норрис"]
[null,"CL01723","2013-09-02T08:25:22.704","Ноутбук","Север","Некоммерческие",64,"Да",3.2,{"v":3900,"d":"3,900р."},"Джеки Чан"]
[null,"CL01724","2013-09-02T08:27:04.735","Монитор","Север","Частные клиенты",77,"Да",3.4,{"v":7800,"d":"7,800р."},"Уилл Смит"]
[null,"CL01725","2013-09-02T08:28:33.422","Софт","Юг","Некоммерческие",80,"Да",2.7,0,"Чак Норрис"]
[null,"CL01726","2013-09-02T08:30:42.585","Другое","Восток","Корпорация",80,"Нет",3.6,{"v":5100,"d":"5,100р."},"Джеки Чан"]
[null,"CL01727","2013-09-02T08:32:27.916","Другое","Центр","Корпорация",78,"Да",2.5,{"v":6600,"d":"6,600р."},"Чак Норрис"]
[null,"CL01728","2013-09-02T08:33:14.389","Софт","Юг","Частные клиенты",59,"Да",3.4,{"v":6300,"d":"6,300р."},"Колин Фаррел"]
[null,"CL01729","2013-09-02T08:35:15.511","Монитор","Север","Частные клиенты",60,"Да",3.5,{"v":5400,"d":"5,400р."},"Бред Питт"]
[null,"CL01730","2013-09-02T08:40:58.709","Другое","Центр","Частные клиенты",83,"Да",{"v":3,"d":"3.0"},{"v":4200,"d":"4,200р."},"Уилл Смит"]
[null,"CL01731","2013-09-02T08:45:34.572","Ноутбук","Юг","Некоммерческие",71,"Да",3.6,{"v":7500,"d":"7,500р."},"Колин Фаррел"]
[null,"CL01732","2013-09-02T08:50:18.196","Ноутбук","Запад","Некоммерческие",86,"Да",3.3,0,"Бред Питт"]
[null,"CL01733","2013-09-02T08:50:55.659","Монитор","Восток","Частные клиенты",84,"Нет",{"v":3,"d":"3.0"},0,"Джеки Чан"]
[null,"CL01734","2013-09-02T08:54:36.117","Ноутбук","Юг","Малый бизнес",77,"Да",2.4,{"v":7500,"d":"7,500р."},"Колин Фаррел"]
[null,"CL01735","2013-09-02T08:56:52.772","Ноутбук","Запад","Малый бизнес",72,"Да",2.3,{"v":2100,"d":"2,100р."},"Колин Фаррел"]
[null,"CL01736","2013-09-02T08:59:27.741","Софт","Центр","Частные клиенты",73,"Да",3.1,{"v":5400,"d":"5,400р."},"Джонни Депп"]
[null,"CL01737","2013-09-02T09:04:56.673","Софт","Запад","Частные клиенты",62,"Да",2.9,{"v":5700,"d":"5,700р."},"Джонни Депп"]
[null,"CL01738","2013-09-02T09:05:40.751","Монитор","Восток","Некоммерческие",70,"Да",2.9,{"v":7800,"d":"7,800р."},"Джонни Депп"]
[null,"CL01739","2013-09-02T09:06:42.746","Другое","Север","Малый бизнес",65,"Да",2.6,{"v":5700,"d":"5,700р."},"Джонни Депп"]
[null,"CL01740","2013-09-02T09:07:11.826","Софт","Север","Корпорация",76,"Да",2.8,{"v":7200,"d":"7,200р."},"Бред Питт"]
[null,"CL01741","2013-09-02T09:08:05.627","Персональный ПК","Север","Частные клиенты",93,"Да",{"v":3,"d":"3.0"},{"v":6300,"d":"6,300р."},"Чак Норрис"]
[null,"CL01742","2013-09-02T09:09:28.044","Другое","Центр","Частные клиенты",78,"Да",3.9,0,"Джеки Чан"]
[null,"CL01743","2013-09-02T09:13:49.357","Аксессуары","Центр","Корпорация",77,"Да",2.4,0,"Джонни Депп"]
[null,"CL01744","2013-09-02T09:17:23.114","Аксессуары","Юг","Частные клиенты",59,"Да",3.4,0,"Джонни Депп"]
[null,"CL01745","2013-09-02T09:17:26.370","Другое","Север","Корпорация",67,"Да",{"v":3,"d":"3.0"},{"v":4500,"d":"4,500р."},"Чак Норрис"]
[null,"CL01746","2013-09-02T09:18:59.738","Персональный ПК","Запад","Частные клиенты",81,"Да",3.6,0,"Джеки Чан"]
[null,"CL01747","2013-09-02T09:24:25.580","Монитор","Запад","Частные клиенты",71,"Да",{"v":3,"d":"3.0"},{"v":5700,"d":"5,700р."},"Чак Норрис"]
[null,"CL01748","2013-09-02T09:25:56.184","Персональный ПК","Запад","Частные клиенты",61,"Да",2.8,{"v":5700,"d":"5,700р."},"Уилл Смит"]
[null,"CL01749","2013-09-02T09:27:55.803","Другое","Запад","Некоммерческие",66,"Да",3.4,{"v":7800,"d":"7,800р."},"Чак Норрис"]
[null,"CL01750","2013-09-02T09:33:21.101","Монитор","Восток","Малый бизнес",74,"Да",3.4,{"v":5700,"d":"5,700р."},"Колин Фаррел"]
[null,"CL01751","2013-09-02T09:33:53.951","Персональный ПК","Центр","Частные клиенты",67,"Да",2.1,{"v":6600,"d":"6,600р."},"Джеки Чан"]
[null,"CL01752","2013-09-02T09:36:16.015","Другое","Север","Корпорация",70,"Да",3.1,{"v":6300,"d":"6,300р."},"Джеки Чан"]
[null,"CL01753","2013-09-02T09:39:47.882","Другое","Восток","Некоммерческие",86,"Да",{"v":3,"d":"3.0"},{"v":6300,"d":"6,300р."},"Джонни Депп"]
[null,"CL01754","2013-09-02T09:40:26.268","Монитор","Запад","Частные клиенты",73,"Да",3.4,{"v":8400,"d":"8,400р."},"Джонни Депп"]
[null,"CL01755","2013-09-02T09:42:25.445","Аксессуары","Центр","Некоммерческие",73,"Да",3.2,{"v":5100,"d":"5,100р."},"Джеки Чан"]
[null,"CL01756","2013-09-02T09:46:03.479","Ноутбук","Юг","Корпорация",75,"Да",3.1,0,"Колин Фаррел"]
[null,"CL01757","2013-09-02T09:50:57.553","Монитор","Север","Некоммерческие",74,"Да",3.1,{"v":3900,"d":"3,900р."},"Джеки Чан"]
[null,"CL01758","2013-09-02T09:51:56.976","Аксессуары","Юг","Корпорация",83,"Да",2.6,{"v":6000,"d":"6,000р."},"Джеки Чан"]
[null,"CL01759","2013-09-02T09:54:16.128","Софт","Запад","Частные клиенты",73,"Да",2.8,{"v":6300,"d":"6,300р."},"Колин Фаррел"]
[null,"CL01760","2013-09-02T09:55:05.232","Софт","Восток","Малый бизнес",68,"Да",{"v":3,"d":"3.0"},{"v":5100,"d":"5,100р."},"Джеки Чан"]
[null,"CL01761","2013-09-02T10:00:14.040","Другое","Восток","Некоммерческие",80,"Да",{"v":3,"d":"3.0"},{"v":5400,"d":"5,400р."},"Джонни Депп"]
[null,"CL01762","2013-09-02T10:05:34.290","Софт","Юг","Малый бизнес",83,"Да",2.6,{"v":4500,"d":"4,500р."},"Бред Питт"]
[null,"CL01763","2013-09-02T10:06:17.956","Другое","Запад","Некоммерческие",82,"Да",2.6,0,"Чак Норрис"]
[null,"CL01764","2013-09-02T10:10:29.299","Монитор","Восток","Частные клиенты",69,"Да",3.4,{"v":7200,"d":"7,200р."},"Джеки Чан"]
[null,"CL01765","2013-09-02T10:11:26.061","Монитор","Запад","Частные клиенты",65,"Да",2.7,0,"Бред Питт"]
[null,"CL01766","2013-09-02T10:11:34.383","Софт","Север","Малый бизнес",70,"Да",3.2,0,"Бред Питт"]
[null,"CL01767","2013-09-02T10:14:37.826","Персональный ПК","Запад","Корпорация",62,"Да",2.5,{"v":7200,"d":"7,200р."},"Колин Фаррел"]
[null,"CL01768","2013-09-02T10:18:01.120","Персональный ПК","Север","Малый бизнес",74,"Да",3.5,0,"Джеки Чан"]
[null,"CL01769","2013-09-02T10:19:49.391","Персональный ПК","Запад","Частные клиенты",82,"Да",3.2,{"v":6300,"d":"6,300р."},"Бред Питт"]
[null,"CL01770","2013-09-02T10:21:26.752","Ноутбук","Восток","Корпорация",71,"Да",{"v":3,"d":"3.0"},{"v":5700,"d":"5,700р."},"Колин Фаррел"]
[null,"CL01771","2013-09-02T10:24:30.681","Другое","Восток","Малый бизнес",67,"Да",{"v":3,"d":"3.0"},{"v":6600,"d":"6,600р."},"Бред Питт"]
[null,"CL01772","2013-09-02T10:27:25.779","Ноутбук","Восток","Частные клиенты",71,"Да",2.4,{"v":5700,"d":"5,700р."},"Джонни Депп"]
[null,"CL01773","2013-09-02T10:32:42.995","Ноутбук","Центр","Некоммерческие",60,"Да",3.5,{"v":4500,"d":"4,500р."},"Джеки Чан"]
[null,"CL01774","2013-09-02T10:36:42.925","Другое","Восток","Малый бизнес",87,"Да",2.9,0,"Чак Норрис"]
[null,"CL01775","2013-09-02T10:39:50.280","Софт","Юг","Малый бизнес",77,"Да",2.3,{"v":5100,"d":"5,100р."},"Бред Питт"]
[null,"CL01776","2013-09-02T10:45:31.216","Персональный ПК","Запад","Частные клиенты",74,"Да",2.6,{"v":3900,"d":"3,900р."},"Джонни Депп"]
[null,"CL01777","2013-09-02T10:46:47.266","Монитор","Запад","Малый бизнес",75,"Да",3.6,{"v":5400,"d":"5,400р."},"Колин Фаррел"]
[null,"CL01778","2013-09-02T10:49:51.878","Софт","Запад","Некоммерческие",82,"Да",2.8,{"v":2100,"d":"2,100р."},"Уилл Смит"]
[null,"CL01779","2013-09-02T10:49:56.412","Монитор","Восток","Малый бизнес",77,"Да",3.9,{"v":7200,"d":"7,200р."},"Бред Питт"]
[null,"CL01780","2013-09-02T10:54:51.479","Другое","Юг","Корпорация",66,"Да",3.2,{"v":3900,"d":"3,900р."},"Бред Питт"]
[null,"CL01781","2013-09-02T10:57:24.218","Другое","Центр","Некоммерческие",63,"Да",3.4,0,"Чак Норрис"]
[null,"CL01782","2013-09-02T10:59:46.555","Аксессуары","Север","Корпорация",83,"Да",3.1,0,"Джеки Чан"]
[null,"CL01783","2013-09-02T11:02:21.462","Аксессуары","Север","Частные клиенты",67,"Да",3.5,0,"Чак Норрис"]
[null,"CL01784","2013-09-02T11:05:41.338","Персональный ПК","Центр","Корпорация",80,"Да",2.6,0,"Чак Норрис"]
[null,"CL01785","2013-09-02T11:06:01.542","Персональный ПК","Запад","Некоммерческие",70,"Да",3.3,{"v":5400,"d":"5,400р."},"Колин Фаррел"]
[null,"CL01786","2013-09-02T11:06:28.819","Ноутбук","Север","Частные клиенты",74,"Да",{"v":3,"d":"3.0"},0,"Уилл Смит"]
[null,"CL01787","2013-09-02T11:08:38.952","Монитор","Запад","Малый бизнес",75,"Да",2.8,0,"Колин Фаррел"]
[null,"CL01788","2013-09-02T11:12:41.101","Монитор","Центр","Некоммерческие",71,"Да",2.8,0,"Уилл Смит"]
[null,"CL01789","2013-09-02T11:12:45.893","Ноутбук","Север","Корпорация",94,"Да",3.1,0,"Уилл Смит"]
[null,"CL01790","2013-09-02T11:18:15.698","Софт","Восток","Малый бизнес",73,"Да",3.1,0,"Колин Фаррел"]
[null,"CL01791","2013-09-02T11:23:54.519","Персональный ПК","Центр","Частные клиенты",71,"Да",3.3,0,"Джонни Депп"]
[null,"CL01792","2013-09-02T11:24:15.079","Другое","Север","Малый бизнес",78,"Да",3.7,{"v":4200,"d":"4,200р."},"Джонни Депп"]
[null,"CL01793","2013-09-02T11:26:56.200","Персональный ПК","Восток","Малый бизнес",85,"Да",2.2,0,"Джонни Депп"]
[null,"CL01794","2013-09-02T11:31:14.817","Ноутбук","Север","Частные клиенты",85,"Да",2.6,0,"Бред Питт"]
[null,"CL01795","2013-09-02T11:36:14.476","Аксессуары","Запад","Корпорация",81,"Да",2.3,{"v":7500,"d":"7,500р."},"Уилл Смит"]
[null,"CL01796","2013-09-02T11:36:22.657","Ноутбук","Восток","Малый бизнес",77,"Да",2.6,{"v":4800,"d":"4,800р."},"Бред Питт"]
[null,"CL01797","2013-09-02T11:41:00.792","Другое","Запад","Малый бизнес",89,"Да",3.6,{"v":5400,"d":"5,400р."},"Джонни Депп"]
[null,"CL01798","2013-09-02T11:43:37.961","Персональный ПК","Север","Некоммерческие",82,"Да",2.2,0,"Колин Фаррел"]
[null,"CL01799","2013-09-02T11:47:52.819","Софт","Центр","Корпорация",77,"Да",2.6,{"v":6900,"d":"6,900р."},"Бред Питт"]
[null,"CL01800","2013-09-02T11:52:15.190","Монитор","Восток","Некоммерческие",91,"Да",2.8,{"v":7500,"d":"7,500р."},"Колин Фаррел"]
[null,"CL01801","2013-09-02T11:54:23.602","Софт","Запад","Корпорация",71,"Да",2.4,{"v":6600,"d":"6,600р."},"Колин Фаррел"]
[null,"CL01802","2013-09-02T11:58:20.828","Ноутбук","Центр","Частные клиенты",87,"Да",3.4,{"v":5700,"d":"5,700р."},"Бред Питт"]
[null,"CL01803","2013-09-02T11:59:48.366","Персональный ПК","Север","Частные клиенты",79,"Да",3.1,0,"Джонни Депп"]
[null,"CL01804","2013-09-02T12:02:08.035","Персональный ПК","Центр","Корпорация",87,"Да",2.6,{"v":7500,"d":"7,500р."},"Бред Питт"]
[null,"CL01805","2013-09-02T12:05:44.034","Ноутбук","Центр","Корпорация",73,"Да",3.7,{"v":6600,"d":"6,600р."},"Уилл Смит"]
[null,"CL01806","2013-09-02T12:07:55.094","Монитор","Север","Некоммерческие",76,"Да",2.9,{"v":4500,"d":"4,500р."},"Джеки Чан"]
[null,"CL01807","2013-09-02T12:08:58.305","Монитор","Восток","Малый бизнес",67,"Да",2.3,{"v":7200,"d":"7,200р."},"Джонни Депп"]
[null,"CL01808","2013-09-02T12:14:11.460","Другое","Юг","Корпорация",70,"Да",3.5,{"v":5100,"d":"5,100р."},"Чак Норрис"]
[null,"CL01809","2013-09-02T12:16:49.604","Монитор","Восток","Некоммерческие",82,"Да",2.9,{"v":5100,"d":"5,100р."},"Чак Норрис"]
[null,"CL01810","2013-09-02T12:22:14.610","Ноутбук","Восток","Частные клиенты",69,"Да",2.8,{"v":6000,"d":"6,000р."},"Джеки Чан"]
[null,"CL01811","2013-09-02T12:26:20.856","Другое","Север","Некоммерческие",80,"Да",2.6,0,"Бред Питт"]
[null,"CL01812","2013-09-02T12:28:34.784","Ноутбук","Запад","Малый бизнес",88,"Да",2.9,0,"Бред Питт"]
[null,"CL01813","2013-09-02T12:31:05.277","Монитор","Запад","Малый бизнес",94,"Да",3.2,{"v":5400,"d":"5,400р."},"Колин Фаррел"]
[null,"CL01814","2013-09-02T12:34:30.884","Ноутбук","Запад","Частные клиенты",80,"Да",{"v":4,"d":"4.0"},{"v":6000,"d":"6,000р."},"Чак Норрис"]
[null,"CL01815","2013-09-02T12:39:07.888","Персональный ПК","Север","Корпорация",87,"Да",2.7,{"v":4200,"d":"4,200р."},"Колин Фаррел"]
[null,"CL01816","2013-09-02T12:43:31.123","Другое","Север","Некоммерческие",77,"Да",1.9,{"v":3000,"d":"3,000р."},"Бред Питт"]
[null,"CL01817","2013-09-02T12:48:19.138","Монитор","Восток","Некоммерческие",71,"Да",2.3,{"v":6000,"d":"6,000р."},"Колин Фаррел"]
[null,"CL01818","2013-09-02T12:52:26.143","Монитор","Центр","Малый бизнес",90,"Да",3.7,{"v":3300,"d":"3,300р."},"Колин Фаррел"]
[null,"CL01819","2013-09-02T12:53:29.766","Аксессуары","Восток","Малый бизнес",85,"Да",3.7,{"v":5700,"d":"5,700р."},"Уилл Смит"]
[null,"CL01820","2013-09-02T12:56:11.052","Ноутбук","Север","Частные клиенты",64,"Да",3.8,{"v":7500,"d":"7,500р."},"Бред Питт"]
[null,"CL01821","2013-09-02T12:57:42.198","Другое","Север","Частные клиенты",79,"Да",2.8,0,"Джонни Депп"]
[null,"CL01822","2013-09-02T12:58:36.529","Аксессуары","Запад","Корпорация",79,"Да",4.4,{"v":4500,"d":"4,500р."},"Чак Норрис"]
[null,"CL01823","2013-09-02T13:02:36.983","Другое","Север","Некоммерческие",81,"Да",2.5,0,"Чак Норрис"]
[null,"CL01824","2013-09-02T13:06:52.123","Другое","Запад","Корпорация",77,"Нет",2.8,0,"Джеки Чан"]
[null,"CL01825","2013-09-02T13:09:20.985","Ноутбук","Юг","Малый бизнес",79,"Да",2.8,0,"Колин Фаррел"]
[null,"CL01826","2013-09-02T13:12:52.013","Ноутбук","Центр","Частные клиенты",77,"Да",3.1,0,"Джеки Чан"]
[null,"CL01827","2013-09-02T13:16:48.809","Софт","Центр","Малый бизнес",60,"Да",2.6,{"v":4500,"d":"4,500р."},"Колин Фаррел"]
[null,"CL01828","2013-09-02T13:16:53.100","Ноутбук","Центр","Некоммерческие",69,"Да",2.3,{"v":4200,"d":"4,200р."},"Чак Норрис"]
[null,"CL01829","2013-09-02T13:19:02.809","Софт","Восток","Малый бизнес",65,"Да",3.2,{"v":3600,"d":"3,600р."},"Джонни Депп"]
[null,"CL01830","2013-09-02T13:19:32.319","Ноутбук","Восток","Корпорация",65,"Да",2.8,0,"Джонни Депп"]
[null,"CL01831","2013-09-02T13:20:37.201","Монитор","Север","Некоммерческие",77,"Да",3.8,{"v":6900,"d":"6,900р."},"Колин Фаррел"]
[null,"CL01832","2013-09-02T13:24:17.435","Другое","Север","Частные клиенты",86,"Да",2.7,{"v":4800,"d":"4,800р."},"Бред Питт"]
[null,"CL01833","2013-09-02T13:28:25.477","Софт","Юг","Частные клиенты",73,"Да",3.5,0,"Бред Питт"]
[null,"CL01834","2013-09-02T13:31:14.340","Софт","Восток","Корпорация",70,"Да",3.6,{"v":8100,"d":"8,100р."},"Чак Норрис"]
[null,"CL01835","2013-09-02T13:36:15.161","Софт","Север","Корпорация",85,"Да",2.8,0,"Джеки Чан"]
[null,"CL01836","2013-09-02T13:39:03.036","Софт","Запад","Некоммерческие",68,"Да",3.4,{"v":6000,"d":"6,000р."},"Чак Норрис"]
[null,"CL01837","2013-09-02T13:41:51.201","Аксессуары","Юг","Малый бизнес",92,"Да",3.8,{"v":5100,"d":"5,100р."},"Колин Фаррел"]
[null,"CL01838","2013-09-02T13:46:01.631","Персональный ПК","Юг","Некоммерческие",76,"Да",4.1,0,"Колин Фаррел"]
[null,"CL01839","2013-09-02T13:49:07.078","Аксессуары","Центр","Частные клиенты",85,"Да",3.9,0,"Колин Фаррел"]
[null,"CL01840","2013-09-02T13:54:29.910","Софт","Центр","Некоммерческие",76,"Да",{"v":3,"d":"3.0"},{"v":3000,"d":"3,000р."},"Бред Питт"]
[null,"CL01841","2013-09-02T13:59:52.437","Монитор","Центр","Корпорация",88,"Да",3.2,{"v":7500,"d":"7,500р."},"Бред Питт"]
[null,"CL01842","2013-09-02T14:04:09.754","Другое","Восток","Частные клиенты",79,"Да",{"v":3,"d":"3.0"},{"v":6900,"d":"6,900р."},"Уилл Смит"]
[null,"CL01843","2013-09-02T14:06:31.421","Ноутбук","Восток","Некоммерческие",83,"Да",2.3,{"v":6300,"d":"6,300р."},"Уилл Смит"]
[null,"CL01844","2013-09-02T14:08:18.646","Другое","Запад","Малый бизнес",75,"Да",3.8,0,"Джеки Чан"]
[null,"CL01845","2013-09-02T14:12:47.311","Софт","Восток","Некоммерческие",80,"Да",2.3,{"v":6600,"d":"6,600р."},"Уилл Смит"]
[null,"CL01846","2013-09-02T14:15:35.994","Персональный ПК","Центр","Частные клиенты",78,"Да",2.6,0,"Уилл Смит"]
[null,"CL01847","2013-09-02T14:16:40.591","Ноутбук","Юг","Корпорация",74,"Да",3.9,{"v":5400,"d":"5,400р."},"Бред Питт"]
[null,"CL01848","2013-09-02T14:16:41.971","Другое","Центр","Корпорация",83,"Да",2.9,{"v":4500,"d":"4,500р."},"Чак Норрис"]
[null,"CL01849","2013-09-02T14:19:44.164","Монитор","Запад","Частные клиенты",69,"Да",2.7,{"v":6300,"d":"6,300р."},"Уилл Смит"]
[null,"CL01850","2013-09-02T14:21:05.810","Ноутбук","Север","Некоммерческие",76,"Да",2.8,{"v":4800,"d":"4,800р."},"Уилл Смит"]
[null,"CL01851","2013-09-02T14:22:53.784","Другое","Север","Частные клиенты",77,"Да",3.1,0,"Бред Питт"]
[null,"CL01852","2013-09-02T14:23:29.577","Аксессуары","Север","Малый бизнес",87,"Да",2.7,0,"Колин Фаррел"]
[null,"CL01853","2013-09-02T14:27:53.516","Другое","Юг","Частные клиенты",75,"Да",3.6,{"v":6600,"d":"6,600р."},"Колин Фаррел"]
[null,"CL01854","2013-09-02T14:30:12.558","Персональный ПК","Север","Частные клиенты",79,"Да",4.2,0,"Бред Питт"]
[null,"CL01855","2013-09-02T14:35:30.590","Персональный ПК","Север","Частные клиенты",92,"Да",2.7,0,"Джеки Чан"]
[null,"CL01856","2013-09-02T14:38:33.449","Софт","Запад","Корпорация",66,"Да",2.5,0,"Джеки Чан"]
[null,"CL01857","2013-09-02T14:39:06.429","Софт","Запад","Корпорация",68,"Да",3.2,{"v":4200,"d":"4,200р."},"Колин Фаррел"]
[null,"CL01858","2013-09-02T14:44:18.622","Софт","Запад","Частные клиенты",70,"Да",{"v":3,"d":"3.0"},{"v":9600,"d":"9,600р."},"Джеки Чан"]
[null,"CL01859","2013-09-02T14:45:59.736","Ноутбук","Запад","Частные клиенты",82,"Да",3.1,{"v":5100,"d":"5,100р."},"Бред Питт"]
[null,"CL01860","2013-09-02T14:49:05.054","Ноутбук","Центр","Частные клиенты",75,"Да",3.5,0,"Колин Фаррел"]
[null,"CL01861","2013-09-02T14:52:10.277","Другое","Юг","Малый бизнес",79,"Да",3.2,0,"Колин Фаррел"]
[null,"CL01862","2013-09-02T14:52:48.130","Аксессуары","Центр","Некоммерческие",76,"Да",{"v":4,"d":"4.0"},0,"Колин Фаррел"]
[null,"CL01863","2013-09-02T14:53:44.378","Другое","Север","Малый бизнес",77,"Да",2.7,{"v":7500,"d":"7,500р."},"Чак Норрис"]
[null,"CL01864","2013-09-02T14:58:38.914","Монитор","Север","Частные клиенты",86,"Да",3.1,0,"Уилл Смит"]
[null,"CL01865","2013-09-02T15:02:34.111","Аксессуары","Центр","Малый бизнес",63,"Да",3.4,0,"Уилл Смит"]
[null,"CL01866","2013-09-02T15:03:44.381","Другое","Север","Некоммерческие",77,"Да",2.4,{"v":6900,"d":"6,900р."},"Чак Норрис"]
[null,"CL01867","2013-09-02T15:08:57.594","Аксессуары","Запад","Некоммерческие",76,"Да",3.2,0,"Колин Фаррел"]
[null,"CL01868","2013-09-02T15:09:01.859","Софт","Север","Корпорация",71,"Да",2.6,{"v":6300,"d":"6,300р."},"Бред Питт"]
[null,"CL01869","2013-09-02T15:12:49.834","Другое","Запад","Некоммерческие",66,"Да",2.8,0,"Джеки Чан"]
[null,"CL01870","2013-09-02T15:14:12.501","Монитор","Север","Некоммерческие",79,"Да",2.8,{"v":6000,"d":"6,000р."},"Чак Норрис"]
[null,"CL01871","2013-09-02T15:16:10.399","Ноутбук","Юг","Частные клиенты",61,"Да",3.4,{"v":6900,"d":"6,900р."},"Бред Питт"]
[null,"CL01872","2013-09-02T15:21:55.343","Аксессуары","Восток","Корпорация",72,"Да",2.4,{"v":3000,"d":"3,000р."},"Уилл Смит"]
[null,"CL01873","2013-09-02T15:23:37.616","Аксессуары","Восток","Корпорация",83,"Да",3.1,0,"Уилл Смит"]
[null,"CL01874","2013-09-02T15:26:13.325","Ноутбук","Запад","Корпорация",56,"Да",3.3,0,"Чак Норрис"]
[null,"CL01875","2013-09-02T15:28:15.206","Другое","Центр","Некоммерческие",65,"Да",2.9,{"v":5400,"d":"5,400р."},"Колин Фаррел"]
[null,"CL01876","2013-09-02T15:32:15.706","Аксессуары","Юг","Некоммерческие",73,"Да",3.4,{"v":6600,"d":"6,600р."},"Джонни Депп"]
[null,"CL01877","2013-09-02T15:33:10.700","Софт","Юг","Частные клиенты",73,"Да",2.9,{"v":8100,"d":"8,100р."},"Чак Норрис"]
[null,"CL01878","2013-09-02T15:37:52.623","Персональный ПК","Центр","Частные клиенты",71,"Да",2.7,0,"Чак Норрис"]
[null,"CL01879","2013-09-02T15:43:21.926","Персональный ПК","Центр","Корпорация",72,"Да",3.3,0,"Колин Фаррел"]
[null,"CL01880","2013-09-02T15:47:10.078","Софт","Запад","Частные клиенты",68,"Да",4.2,0,"Чак Норрис"]
[null,"CL01881","2013-09-02T15:51:20.770","Другое","Центр","Корпорация",64,"Да",3.4,{"v":6900,"d":"6,900р."},"Джонни Депп"]
[null,"CL01882","2013-09-02T15:52:18.740","Аксессуары","Центр","Частные клиенты",76,"Да",3.4,{"v":9000,"d":"9,000р."},"Уилл Смит"]
[null,"CL01883","2013-09-02T15:55:54.832","Софт","Центр","Некоммерческие",96,"Да",3.4,0,"Чак Норрис"]
[null,"CL01884","2013-09-02T16:00:01.300","Персональный ПК","Центр","Малый бизнес",86,"Да",2.9,{"v":5700,"d":"5,700р."},"Уилл Смит"]
[null,"CL01885","2013-09-02T16:01:09.401","Аксессуары","Центр","Корпорация",81,"Да",2.9,{"v":4200,"d":"4,200р."},"Колин Фаррел"]
[null,"CL01886","2013-09-02T16:01:31.163","Ноутбук","Запад","Корпорация",75,"Да",3.2,{"v":2700,"d":"2,700р."},"Колин Фаррел"]
[null,"CL01887","2013-09-02T16:01:45.400","Ноутбук","Восток","Корпорация",88,"Да",2.7,{"v":6000,"d":"6,000р."},"Джонни Депп"]
[null,"CL01888","2013-09-02T16:05:26.964","Аксессуары","Центр","Частные клиенты",80,"Да",3.3,{"v":5400,"d":"5,400р."},"Колин Фаррел"]
[null,"CL01889","2013-09-02T16:07:52.465","Другое","Север","Малый бизнес",66,"Да",2.8,{"v":6600,"d":"6,600р."},"Колин Фаррел"]
[null,"CL01890","2013-09-02T16:11:33.083","Ноутбук","Север","Некоммерческие",66,"Да",3.9,0,"Чак Норрис"]
[null,"CL01891","2013-09-02T16:12:15.718","Другое","Центр","Частные клиенты",69,"Да",2.8,{"v":4800,"d":"4,800р."},"Джонни Депп"]
[null,"CL01892","2013-09-02T16:13:18.186","Аксессуары","Запад","Корпорация",69,"Да",2.9,0,"Бред Питт"]
[null,"CL01893","2013-09-02T16:17:44.215","Персональный ПК","Север","Частные клиенты",80,"Да",2.9,0,"Бред Питт"]
[null,"CL01894","2013-09-02T16:17:45.233","Персональный ПК","Запад","Корпорация",79,"Да",2.4,{"v":7500,"d":"7,500р."},"Колин Фаррел"]
[null,"CL01895","2013-09-02T16:21:43.315","Софт","Юг","Корпорация",81,"Да",2.6,{"v":4200,"d":"4,200р."},"Бред Питт"]
[null,"CL01896","2013-09-02T16:27:06.091","Софт","Север","Корпорация",88,"Да",{"v":3,"d":"3.0"},{"v":5700,"d":"5,700р."},"Чак Норрис"]
[null,"CL01897","2013-09-02T16:32:28.194","Монитор","Запад","Малый бизнес",82,"Да",2.5,{"v":7500,"d":"7,500р."},"Бред Питт"]
[null,"CL01898","2013-09-02T16:36:25.760","Аксессуары","Запад","Частные клиенты",78,"Да",2.2,{"v":6000,"d":"6,000р."},"Уилл Смит"]
[null,"CL01899","2013-09-02T16:41:55.740","Другое","Север","Корпорация",65,"Да",4.1,0,"Бред Питт"]
[null,"CL01900","2013-09-02T16:45:07.140","Другое","Север","Некоммерческие",79,"Да",{"v":2,"d":"2.0"},{"v":6000,"d":"6,000р."},"Джонни Депп"]
[null,"CL01901","2013-09-02T16:47:20.756","Софт","Юг","Корпорация",68,"Да",2.7,{"v":3600,"d":"3,600р."},"Джеки Чан"]
[null,"CL01902","2013-09-02T16:52:20.298","Ноутбук","Запад","Малый бизнес",67,"Да",3.2,{"v":3900,"d":"3,900р."},"Джеки Чан"]
[null,"CL01903","2013-09-02T16:57:53.661","Другое","Восток","Корпорация",81,"Да",3.6,0,"Чак Норрис"]
[null,"CL01904","2013-09-02T17:00:33.291","Аксессуары","Восток","Корпорация",71,"Да",3.4,{"v":3000,"d":"3,000р."},"Джонни Депп"]
[null,"CL01905","2013-09-02T17:03:54.327","Другое","Восток","Малый бизнес",81,"Да",{"v":3,"d":"3.0"},{"v":5400,"d":"5,400р."},"Джеки Чан"]
[null,"CL01906","2013-09-02T17:05:14.010","Софт","Север","Некоммерческие",76,"Да",2.8,0,"Чак Норрис"]
[null,"CL01907","2013-09-02T17:06:06.580","Ноутбук","Юг","Корпорация",62,"Да",2.2,0,"Джеки Чан"]
[null,"CL01908","2013-09-02T17:11:51.321","Другое","Север","Некоммерческие",82,"Да",3.3,{"v":4500,"d":"4,500р."},"Джонни Депп"]
[null,"CL01909","2013-09-02T17:16:28.334","Другое","Юг","Малый бизнес",70,"Да",3.2,{"v":5100,"d":"5,100р."},"Джонни Депп"]
[null,"CL01910","2013-09-02T17:22:09.021","Монитор","Юг","Некоммерческие",90,"Да",2.8,0,"Джонни Депп"]
[null,"CL01911","2013-09-02T17:23:47.688","Монитор","Север","Малый бизнес",69,"Да",3.4,{"v":5400,"d":"5,400р."},"Джонни Депп"]
[null,"CL01912","2013-09-02T17:23:51.783","Монитор","Восток","Частные клиенты",64,"Да",2.7,0,"Чак Норрис"]
[null,"CL01913","2013-09-02T17:25:58.732","Другое","Запад","Частные клиенты",90,"Да",2.6,0,"Чак Норрис"]
[null,"CL01914","2013-09-02T17:28:07.664","Ноутбук","Юг","Частные клиенты",69,"Да",2.6,{"v":6000,"d":"6,000р."},"Джеки Чан"]
[null,"CL01915","2013-09-02T17:30:52.470","Аксессуары","Центр","Корпорация",77,"Да",2.5,{"v":4200,"d":"4,200р."},"Джонни Депп"]
[null,"CL01916","2013-09-02T17:34:44.702","Аксессуары","Юг","Некоммерческие",72,"Да",3.1,{"v":8100,"d":"8,100р."},"Джеки Чан"]
[null,"CL01917","2013-09-02T17:39:13.500","Аксессуары","Центр","Малый бизнес",79,"Да",3.2,0,"Уилл Смит"]
[null,"CL01918","2013-09-02T17:40:24.811","Монитор","Север","Некоммерческие",71,"Нет",2.9,{"v":5100,"d":"5,100р."},"Бред Питт"]
[null,"CL01919","2013-09-02T17:45:41.179","Ноутбук","Восток","Корпорация",80,"Да",{"v":3,"d":"3.0"},{"v":7200,"d":"7,200р."},"Уилл Смит"]
[null,"CL01920","2013-09-02T17:47:43.921","Персональный ПК","Север","Некоммерческие",71,"Да",2.5,0,"Джонни Депп"]
[null,"CL01921","2013-09-02T17:51:01.201","Софт","Север","Частные клиенты",78,"Да",2.2,{"v":4500,"d":"4,500р."},"Бред Питт"]
[null,"CL01922","2013-09-02T17:52:28.816","Персональный ПК","Юг","Корпорация",69,"Да",2.9,0,"Бред Питт"]
[null,"CL01923","2013-09-02T17:52:39.832","Монитор","Юг","Малый бизнес",85,"Да",{"v":3,"d":"3.0"},{"v":7200,"d":"7,200р."},"Бред Питт"]
[null,"CL01924","2013-09-02T17:54:56.656","Персональный ПК","Север","Некоммерческие",78,"Да",2.9,0,"Колин Фаррел"]
[null,"CL01925","2013-09-02T17:56:21.660","Другое","Юг","Частные клиенты",66,"Да",2.6,0,"Колин Фаррел"]
[null,"CL01926","2013-09-02T18:02:00.938","Персональный ПК","Север","Малый бизнес",72,"Да",{"v":3,"d":"3.0"},{"v":7200,"d":"7,200р."},"Бред Питт"]
[null,"CL01927","2013-09-02T18:03:39.587","Софт","Восток","Малый бизнес",76,"Да",3.1,{"v":6900,"d":"6,900р."},"Джеки Чан"]
[null,"CL01928","2013-09-02T18:04:08.572","Монитор","Юг","Корпорация",74,"Да",2.9,{"v":6300,"d":"6,300р."},"Бред Питт"]
[null,"CL01929","2013-09-02T18:06:59.324","Ноутбук","Центр","Частные клиенты",73,"Нет",3.5,{"v":7200,"d":"7,200р."},"Джонни Депп"]
[null,"CL01930","2013-09-02T18:11:43.978","Монитор","Центр","Некоммерческие",78,"Да",2.6,{"v":7500,"d":"7,500р."},"Джеки Чан"]
[null,"CL01931","2013-09-02T18:17:24.320","Персональный ПК","Юг","Некоммерческие",72,"Да",2.6,{"v":7200,"d":"7,200р."},"Чак Норрис"]
[null,"CL01932","2013-09-02T18:17:44.097","Аксессуары","Восток","Частные клиенты",64,"Да",3.2,{"v":4500,"d":"4,500р."},"Джонни Депп"]
[null,"CL01933","2013-09-02T18:20:30.398","Софт","Восток","Малый бизнес",69,"Да",1.8,{"v":5100,"d":"5,100р."},"Уилл Смит"]
[null,"CL01934","2013-09-02T18:23:26.648","Монитор","Центр","Некоммерческие",69,"Да",3.5,{"v":4800,"d":"4,800р."},"Джеки Чан"]
[null,"CL01935","2013-09-02T18:24:23.352","Персональный ПК","Север","Корпорация",66,"Да",3.2,{"v":5100,"d":"5,100р."},"Чак Норрис"]
[null,"CL01936","2013-09-02T18:26:17.877","Ноутбук","Запад","Некоммерческие",79,"Да",2.8,{"v":3900,"d":"3,900р."},"Чак Норрис"]
[null,"CL01937","2013-09-02T18:29:37.008","Монитор","Центр","Малый бизнес",70,"Да",{"v":3,"d":"3.0"},0,"Джонни Депп"]
[null,"CL01938","2013-09-02T18:32:05.168","Другое","Север","Малый бизнес",66,"Да",3.4,{"v":7500,"d":"7,500р."},"Джеки Чан"]
[null,"CL01939","2013-09-02T18:33:52.921","Софт","Восток","Малый бизнес",78,"Да",3.6,0,"Джеки Чан"]
[null,"CL01940","2013-09-02T18:34:53.477","Ноутбук","Юг","Частные клиенты",89,"Да",2.9,{"v":5400,"d":"5,400р."},"Бред Питт"]
[null,"CL01941","2013-09-02T18:38:53.076","Ноутбук","Юг","Частные клиенты",82,"Да",3.4,{"v":3000,"d":"3,000р."},"Колин Фаррел"]
[null,"CL01942","2013-09-02T18:42:22.859","Софт","Юг","Корпорация",86,"Нет",3.5,{"v":7200,"d":"7,200р."},"Чак Норрис"]
[null,"CL01943","2013-09-02T18:45:29.233","Другое","Север","Малый бизнес",78,"Да",2.5,{"v":5100,"d":"5,100р."},"Уилл Смит"]
[null,"CL01944","2013-09-02T18:47:01.505","Персональный ПК","Юг","Корпорация",65,"Да",2.5,{"v":5700,"d":"5,700р."},"Чак Норрис"]
[null,"CL01945","2013-09-02T18:49:32.452","Персональный ПК","Север","Некоммерческие",87,"Да",3.4,{"v":5400,"d":"5,400р."},"Джеки Чан"]
[null,"CL01946","2013-09-02T18:51:47.513","Монитор","Запад","Частные клиенты",79,"Да",3.2,{"v":8400,"d":"8,400р."},"Колин Фаррел"]
[null,"CL01947","2013-09-02T18:57:19.214","Персональный ПК","Север","Частные клиенты",71,"Да",3.1,{"v":5100,"d":"5,100р."},"Бред Питт"]
[null,"CL01948","2013-09-02T18:58:45.317","Ноутбук","Восток","Корпорация",68,"Да",2.9,{"v":6000,"d":"6,000р."},"Джеки Чан"]
[null,"CL01949","2013-09-02T19:01:44.954","Софт","Север","Малый бизнес",84,"Да",{"v":3,"d":"3.0"},{"v":7800,"d":"7,800р."},"Колин Фаррел"]
[null,"CL01950","2013-09-02T19:04:26.644","Софт","Центр","Частные клиенты",80,"Да",2.6,0,"Чак Норрис"]
[null,"CL01951","2013-09-02T19:09:32.624","Софт","Север","Малый бизнес",72,"Да",3.3,0,"Бред Питт"]
[null,"CL01952","2013-09-02T19:14:58.579","Другое","Центр","Частные клиенты",80,"Да",2.8,0,"Джеки Чан"]
[null,"CL01953","2013-09-02T19:17:44.668","Софт","Север","Частные клиенты",79,"Да",2.3,0,"Уилл Смит"]
[null,"CL01954","2013-09-02T19:19:10.266","Софт","Центр","Некоммерческие",72,"Да",2.4,{"v":6000,"d":"6,000р."},"Бред Питт"]
[null,"CL01955","2013-09-02T19:20:25.330","Персональный ПК","Восток","Частные клиенты",73,"Да",2.9,{"v":4800,"d":"4,800р."},"Уилл Смит"]
[null,"CL01956","2013-09-02T19:24:44.465","Персональный ПК","Север","Частные клиенты",81,"Да",2.6,{"v":5700,"d":"5,700р."},"Колин Фаррел"]
[null,"CL01957","2013-09-02T19:26:02.786","Аксессуары","Восток","Некоммерческие",84,"Да",3.1,{"v":8700,"d":"8,700р."},"Джеки Чан"]
[null,"CL01958","2013-09-02T19:27:10.039","Аксессуары","Восток","Малый бизнес",81,"Да",3.5,{"v":5100,"d":"5,100р."},"Джонни Депп"]
[null,"CL01959","2013-09-02T19:30:57.533","Аксессуары","Центр","Корпорация",91,"Да",{"v":3,"d":"3.0"},{"v":7200,"d":"7,200р."},"Чак Норрис"]
[null,"CL01960","2013-09-02T19:34:29.311","Персональный ПК","Юг","Некоммерческие",75,"Да",{"v":2,"d":"2.0"},0,"Бред Питт"]
[null,"CL01961","2013-09-02T19:36:25.962","Софт","Север","Некоммерческие",81,"Да",3.3,0,"Колин Фаррел"]
[null,"CL01962","2013-09-02T19:36:32.416","Другое","Север","Малый бизнес",79,"Да",4.4,{"v":5400,"d":"5,400р."},"Джонни Депп"]
[null,"CL01963","2013-09-02T19:38:28.633","Монитор","Запад","Корпорация",78,"Да",3.7,{"v":6900,"d":"6,900р."},"Джонни Депп"]
[null,"CL01964","2013-09-02T19:38:37.160","Персональный ПК","Восток","Корпорация",67,"Да",2.1,{"v":4800,"d":"4,800р."},"Колин Фаррел"]
[null,"CL01965","2013-09-02T19:39:53.543","Софт","Юг","Малый бизнес",81,"Да",2.6,0,"Уилл Смит"]
[null,"CL01966","2013-09-02T19:45:33.087","Ноутбук","Запад","Корпорация",71,"Да",2.4,0,"Чак Норрис"]
[null,"CL01967","2013-09-02T19:50:39.269","Персональный ПК","Запад","Частные клиенты",74,"Да",3.1,0,"Джеки Чан"]
[null,"CL01968","2013-09-02T19:53:32.817","Другое","Север","Корпорация",78,"Да",{"v":3,"d":"3.0"},{"v":7200,"d":"7,200р."},"Колин Фаррел"]
[null,"CL01969","2013-09-02T19:58:11.944","Монитор","Восток","Корпорация",91,"Да",{"v":2,"d":"2.0"},{"v":9900,"d":"9,900р."},"Джеки Чан"]
[null,"CL01970","2013-09-02T20:00:29.820","Другое","Север","Некоммерческие",72,"Да",2.8,{"v":6300,"d":"6,300р."},"Джеки Чан"]
[null,"CL01971","2013-09-02T20:05:42.554","Другое","Юг","Малый бизнес",67,"Да",2.9,0,"Джонни Депп"]
[null,"CL01972","2013-09-02T20:05:50.212","Монитор","Центр","Частные клиенты",69,"Да",3.5,0,"Бред Питт"]
[null,"CL01973","2013-09-02T20:10:34.690","Монитор","Юг","Малый бизнес",84,"Нет",3.2,0,"Уилл Смит"]
[null,"CL01974","2013-09-02T20:15:18.546","Аксессуары","Центр","Корпорация",70,"Да",2.9,0,"Бред Питт"]
[null,"CL01975","2013-09-02T20:16:40.977","Ноутбук","Запад","Частные клиенты",86,"Да",2.4,0,"Колин Фаррел"]
[null,"CL01976","2013-09-02T20:17:49.209","Ноутбук","Восток","Корпорация",61,"Да",3.4,{"v":8700,"d":"8,700р."},"Колин Фаррел"]
[null,"CL01977","2013-09-02T20:23:08.900","Другое","Юг","Частные клиенты",65,"Да",3.3,{"v":5400,"d":"5,400р."},"Джонни Депп"]
[null,"CL01978","2013-09-02T20:24:36.689","Монитор","Запад","Частные клиенты",66,"Да",2.7,0,"Колин Фаррел"]
[null,"CL01979","2013-09-02T20:26:00.951","Монитор","Восток","Корпорация",63,"Да",2.9,{"v":8700,"d":"8,700р."},"Чак Норрис"]
[null,"CL01980","2013-09-02T20:31:09.255","Персональный ПК","Север","Малый бизнес",82,"Да",3.4,{"v":4200,"d":"4,200р."},"Джонни Депп"]
[null,"CL01981","2013-09-02T20:34:28.130","Монитор","Центр","Корпорация",80,"Да",3.1,{"v":6000,"d":"6,000р."},"Чак Норрис"]
[null,"CL01982","2013-09-02T20:35:56.243","Персональный ПК","Юг","Малый бизнес",89,"Да",3.1,{"v":5700,"d":"5,700р."},"Чак Норрис"]
[null,"CL01983","2013-09-02T20:35:57.512","Аксессуары","Центр","Некоммерческие",72,"Нет",{"v":3,"d":"3.0"},0,"Чак Норрис"]
[null,"CL01984","2013-09-02T20:39:38.577","Софт","Север","Малый бизнес",79,"Да",3.8,0,"Джеки Чан"]
[null,"CL01985","2013-09-02T20:41:48.399","Персональный ПК","Центр","Частные клиенты",78,"Да",2.8,{"v":7500,"d":"7,500р."},"Уилл Смит"]
[null,"CL01986","2013-09-02T20:43:11.210","Другое","Восток","Частные клиенты",75,"Да",3.1,{"v":4800,"d":"4,800р."},"Бред Питт"]
[null,"CL01987","2013-09-02T20:46:23.227","Аксессуары","Восток","Малый бизнес",89,"Да",3.3,0,"Чак Норрис"]
[null,"CL01988","2013-09-02T20:47:23.822","Монитор","Запад","Некоммерческие",79,"Да",{"v":3,"d":"3.0"},{"v":5400,"d":"5,400р."},"Джеки Чан"]
[null,"CL01989","2013-09-02T20:50:05.113","Аксессуары","Восток","Частные клиенты",70,"Нет",2.9,{"v":6900,"d":"6,900р."},"Чак Норрис"]
[null,"CL01990","2013-09-02T20:53:23.789","Софт","Центр","Малый бизнес",83,"Да",3.5,0,"Джеки Чан"]
[null,"CL01991","2013-09-02T20:56:11.847","Монитор","Юг","Малый бизнес",68,"Да",2.9,{"v":9000,"d":"9,000р."},"Колин Фаррел"]
[null,"CL01992","2013-09-02T20:56:18.834","Другое","Север","Корпорация",78,"Да",2.9,{"v":5700,"d":"5,700р."},"Уилл Смит"]
[null,"CL01993","2013-09-02T21:00:23.920","Аксессуары","Восток","Малый бизнес",78,"Да",2.7,{"v":8100,"d":"8,100р."},"Бред Питт"]
[null,"CL01994","2013-09-02T21:05:58.223","Аксессуары","Центр","Частные клиенты",86,"Да",{"v":3,"d":"3.0"},0,"Джеки Чан"]
[null,"CL01995","2013-09-02T21:09:17.805","Софт","Север","Некоммерческие",73,"Да",2.3,0,"Джеки Чан"]
[null,"CL01999","2013-09-02T21:22:42.540","Ноутбук","Центр","Некоммерческие",72,"Да",3.4,{"v":5700,"d":"5,700р."},"Джонни Депп"]
[null,"CL02006","2013-09-02T21:46:43.889","Персональный ПК","Север","Малый бизнес",77,"Да",3.7,{"v":6300,"d":"6,300р."},"Колин Фаррел"]
[null,"CL02009","2013-09-02T21:57:50.462","Другое","Юг","Некоммерческие",76,"Да",3.7,0,"Бред Питт"]
[null,"CL02016","2013-09-03T08:16:34.315","Персональный ПК","Юг","Некоммерческие",65,"Да",2.6,0,"Джеки Чан"]
[null,"CL02025","2013-09-03T08:43:36.397","Персональный ПК","Восток","Частные клиенты",73,"Да",2.7,{"v":7800,"d":"7,800р."},"Колин Фаррел"]
[null,"CL02029","2013-09-03T08:52:14.338","Монитор","Запад","Малый бизнес",68,"Да",2.9,0,"Джонни Депп"]
[null,"CL02036","2013-09-03T09:13:37.209","Персональный ПК","Юг","Корпорация",74,"Да",2.7,0,"Чак Норрис"]
[null,"CL02039","2013-09-03T09:21:46.759","Монитор","Центр","Малый бизнес",75,"Да",{"v":3,"d":"3.0"},0,"Джеки Чан"]
[null,"CL02046","2013-09-03T09:40:15.123","Софт","Центр","Малый бизнес",66,"Да",3.5,{"v":4500,"d":"4,500р."},"Колин Фаррел"]
[null,"CL02055","2013-09-03T10:03:17.072","Аксессуары","Юг","Частные клиенты",72,"Нет",3.5,0,"Колин Фаррел"]
[null,"CL02058","2013-09-03T10:19:22.957","Другое","Юг","Малый бизнес",78,"Да",2.3,0,"Чак Норрис"]
[null,"CL02063","2013-09-03T10:32:11.208","Монитор","Восток","Корпорация",77,"Да",2.7,0,"Джонни Депп"]
[null,"CL02075","2013-09-03T10:58:23.392","Аксессуары","Восток","Частные клиенты",77,"Да",{"v":3,"d":"3.0"},{"v":6300,"d":"6,300р."},"Джонни Депп"]
[null,"CL02078","2013-09-03T11:09:19.160","Монитор","Восток","Некоммерческие",81,"Да",2.3,0,"Джонни Депп"]
[null,"CL02085","2013-09-03T11:22:18.232","Софт","Юг","Малый бизнес",59,"Да",3.4,0,"Чак Норрис"]
[null,"CL02088","2013-09-03T11:30:08.778","Персональный ПК","Центр","Корпорация",77,"Да",2.7,0,"Чак Норрис"]
[null,"CL02095","2013-09-03T11:45:10.205","Аксессуары","Центр","Малый бизнес",74,"Да",{"v":3,"d":"3.0"},{"v":7500,"d":"7,500р."},"Уилл Смит"]
[null,"CL02100","2013-09-03T11:59:51.617","Персональный ПК","Север","Корпорация",73,"Да",{"v":3,"d":"3.0"},{"v":6900,"d":"6,900р."},"Джонни Депп"]
[null,"CL02108","2013-09-03T12:32:49.271","Монитор","Восток","Малый бизнес",80,"Да",{"v":3,"d":"3.0"},{"v":3300,"d":"3,300р."},"Джонни Депп"]
[null,"CL02115","2013-09-03T12:55:06.560","Аксессуары","Юг","Малый бизнес",60,"Да",2.5,{"v":5700,"d":"5,700р."},"Джеки Чан"]
[null,"CL02124","2013-09-03T13:10:20.318","Аксессуары","Центр","Некоммерческие",65,"Да",2.5,0,"Джеки Чан"]
[null,"CL02125","2013-09-03T13:14:12.875","Софт","Центр","Корпорация",86,"Да",3.3,{"v":7500,"d":"7,500р."},"Чак Норрис"]
[null,"CL02134","2013-09-03T13:38:11.477","Софт","Центр","Малый бизнес",74,"Да",2.9,{"v":6300,"d":"6,300р."},"Джонни Депп"]
[null,"CL02137","2013-09-03T13:49:48.988","Другое","Юг","Некоммерческие",69,"Да",4.6,{"v":6300,"d":"6,300р."},"Джеки Чан"]
[null,"CL02145","2013-09-03T14:11:24.469","Ноутбук","Юг","Корпорация",68,"Да",{"v":3,"d":"3.0"},{"v":4800,"d":"4,800р."},"Уилл Смит"]
[null,"CL02154","2013-09-03T14:36:00.777","Персональный ПК","Центр","Некоммерческие",65,"Да",{"v":3,"d":"3.0"},0,"Бред Питт"]
[null,"CL02157","2013-09-03T14:43:11.735","Ноутбук","Восток","Корпорация",67,"Да",3.1,0,"Колин Фаррел"]
[null,"CL02164","2013-09-03T14:59:38.032","Софт","Восток","Частные клиенты",72,"Да",{"v":3,"d":"3.0"},{"v":8400,"d":"8,400р."},"Колин Фаррел"]
[null,"CL02173","2013-09-03T15:30:16.290","Ноутбук","Восток","Некоммерческие",84,"Да",1.9,0,"Джеки Чан"]
[null,"CL02178","2013-09-03T15:46:24.892","Софт","Центр","Малый бизнес",75,"Да",3.2,0,"Уилл Смит"]
[null,"CL02184","2013-09-03T16:14:08.438","Другое","Запад","Корпорация",70,"Да",3.7,{"v":6300,"d":"6,300р."},"Чак Норрис"]
[null,"CL02187","2013-09-03T16:24:52.720","Другое","Восток","Малый бизнес",69,"Да",{"v":3,"d":"3.0"},{"v":6600,"d":"6,600р."},"Джонни Депп"]
[null,"CL02194","2013-09-03T16:48:59.354","Персональный ПК","Юг","Корпорация",77,"Да",{"v":3,"d":"3.0"},0,"Колин Фаррел"]
[null,"CL02203","2013-09-03T17:18:02.054","Софт","Север","Корпорация",84,"Да",3.3,0,"Колин Фаррел"]
[null,"CL02206","2013-09-03T17:28:38.961","Другое","Восток","Частные клиенты",78,"Да",3.1,0,"Чак Норрис"]
[null,"CL02215","2013-09-03T17:57:19.322","Монитор","Запад","Корпорация",79,"Да",2.3,{"v":5700,"d":"5,700р."},"Уилл Смит"]
[null,"CL02223","2013-09-03T18:16:26.903","Другое","Центр","Малый бизнес",79,"Да",{"v":4,"d":"4.0"},{"v":6000,"d":"6,000р."},"Джонни Депп"]
[null,"CL02224","2013-09-03T18:17:58.956","Ноутбук","Юг","Некоммерческие",77,"Да",{"v":3,"d":"3.0"},{"v":6900,"d":"6,900р."},"Колин Фаррел"]
[null,"CL02233","2013-09-03T18:39:48.701","Монитор","Юг","Малый бизнес",76,"Да",3.3,0,"Чак Норрис"]
[null,"CL02236","2013-09-03T18:52:21.409","Персональный ПК","Восток","Малый бизнес",88,"Да",3.9,{"v":7800,"d":"7,800р."},"Джонни Депп"]
[null,"CL02243","2013-09-03T19:14:39.496","Софт","Север","Малый бизнес",80,"Да",3.4,{"v":7800,"d":"7,800р."},"Джеки Чан"]
[null,"CL02252","2013-09-03T19:45:19.288","Аксессуары","Центр","Частные клиенты",63,"Да",{"v":3,"d":"3.0"},0,"Уилл Смит"]
[null,"CL02260","2013-09-03T20:15:16.890","Монитор","Восток","Малый бизнес",51,"Нет",3.3,0,"Бред Питт"]
[null,"CL02263","2013-09-03T20:29:30.610","Монитор","Восток","Малый бизнес",66,"Да",2.2,{"v":6900,"d":"6,900р."},"Уилл Смит"]
[null,"CL02272","2013-09-03T20:59:07.624","Софт","Восток","Некоммерческие",64,"Да",3.2,{"v":7200,"d":"7,200р."},"Джеки Чан"]
[null,"CL02273","2013-09-03T21:02:17.149","Другое","Центр","Корпорация",82,"Да",2.5,0,"Бред Питт"]
[null,"CL02282","2013-09-03T21:24:04.441","Другое","Юг","Частные клиенты",81,"Да",2.5,{"v":6300,"d":"6,300р."},"Уилл Смит"]
[null,"CL02289","2013-09-03T21:39:30.954","Ноутбук","Центр","Корпорация",79,"Нет",2.3,0,"Джонни Депп"]
[null,"CL02293","2013-09-03T21:48:36.682","Персональный ПК","Запад","Частные клиенты",69,"Да",2.9,{"v":4200,"d":"4,200р."},"Джонни Депп"]
[null,"CL02302","2013-09-04T08:14:15.802","Аксессуары","Запад","Малый бизнес",64,"Нет",2.9,{"v":8700,"d":"8,700р."},"Бред Питт"]
[null,"CL02309","2013-09-04T08:46:24.213","Софт","Центр","Малый бизнес",69,"Да",4.2,0,"Чак Норрис"]
[null,"CL02312","2013-09-04T08:54:30.462","Другое","Центр","Частные клиенты",68,"Да",3.5,{"v":7500,"d":"7,500р."},"Джонни Депп"]
[null,"CL02321","2013-09-04T09:25:18.095","Софт","Центр","Частные клиенты",60,"Да",2.5,0,"Колин Фаррел"]
[null,"CL02323","2013-09-04T09:30:38.215","Другое","Юг","Частные клиенты",78,"Да",3.6,{"v":6000,"d":"6,000р."},"Чак Норрис"]
[null,"CL02332","2013-09-04T10:05:49.238","Персональный ПК","Центр","Некоммерческие",79,"Да",2.8,{"v":4200,"d":"4,200р."},"Джеки Чан"]
[null,"CL02339","2013-09-04T10:27:28.930","Аксессуары","Север","Частные клиенты",79,"Да",2.8,0,"Колин Фаррел"]
[null,"CL02342","2013-09-04T10:36:04.195","Персональный ПК","Север","Некоммерческие",65,"Да",{"v":3,"d":"3.0"},{"v":6000,"d":"6,000р."},"Джеки Чан"]
[null,"CL02351","2013-09-04T11:05:19.250","Аксессуары","Юг","Некоммерческие",80,"Да",3.6,0,"Джеки Чан"]
[null,"CL02358","2013-09-04T11:24:33.295","Другое","Юг","Корпорация",69,"Да",1.9,{"v":5700,"d":"5,700р."},"Джонни Депп"]
[null,"CL02360","2013-09-04T11:31:53.847","Софт","Север","Малый бизнес",81,"Да",3.1,0,"Чак Норрис"]
[null,"CL02371","2013-09-04T12:11:32.287","Персональный ПК","Запад","Корпорация",90,"Да",2.3,{"v":6000,"d":"6,000р."},"Колин Фаррел"]
[null,"CL02372","2013-09-04T12:12:40.004","Аксессуары","Юг","Частные клиенты",69,"Да",3.5,{"v":5700,"d":"5,700р."},"Колин Фаррел"]
[null,"CL02381","2013-09-04T12:40:09.759","Софт","Юг","Некоммерческие",74,"Да",2.8,{"v":3900,"d":"3,900р."},"Уилл Смит"]
[null,"CL02388","2013-09-04T12:50:48.525","Ноутбук","Восток","Частные клиенты",77,"Да",2.7,{"v":6000,"d":"6,000р."},"Бред Питт"]
[null,"CL02391","2013-09-04T12:57:23.874","Другое","Север","Корпорация",75,"Да",3.8,{"v":3900,"d":"3,900р."},"Джонни Депп"]
[null,"CL02397","2013-09-04T13:14:56.858","Ноутбук","Юг","Некоммерческие",82,"Да",3.4,{"v":5700,"d":"5,700р."},"Бред Питт"]
[null,"CL02408","2013-09-04T13:50:00.306","Ноутбук","Центр","Малый бизнес",75,"Да",{"v":2,"d":"2.0"},0,"Бред Питт"]
[null,"CL02411","2013-09-04T13:58:48.297","Софт","Центр","Малый бизнес",86,"Да",{"v":3,"d":"3.0"},{"v":6600,"d":"6,600р."},"Чак Норрис"]
[null,"CL02420","2013-09-04T14:29:05.429","Персональный ПК","Север","Малый бизнес",70,"Да",3.5,{"v":6300,"d":"6,300р."},"Чак Норрис"]
[null,"CL02421","2013-09-04T14:33:58.590","Персональный ПК","Запад","Корпорация",64,"Да",2.7,{"v":4200,"d":"4,200р."},"Чак Норрис"]
[null,"CL02430","2013-09-04T14:53:40.421","Ноутбук","Запад","Некоммерческие",56,"Да",3.4,{"v":6600,"d":"6,600р."},"Бред Питт"]
[null,"CL02438","2013-09-04T15:12:21.534","Ноутбук","Запад","Некоммерческие",71,"Да",3.2,{"v":6300,"d":"6,300р."},"Уилл Смит"]
[null,"CL02441","2013-09-04T15:22:19.306","Ноутбук","Север","Корпорация",68,"Да",2.9,{"v":5100,"d":"5,100р."},"Чак Норрис"]
[null,"CL02450","2013-09-04T15:50:31.420","Ноутбук","Юг","Малый бизнес",65,"Да",{"v":3,"d":"3.0"},{"v":6900,"d":"6,900р."},"Чак Норрис"]
[null,"CL02457","2013-09-04T16:08:29.766","Ноутбук","Восток","Некоммерческие",62,"Да",3.8,{"v":2700,"d":"2,700р."},"Джонни Депп"]
[null,"CL02460","2013-09-04T16:09:46.040","Персональный ПК","Восток","Малый бизнес",78,"Да",2.4,{"v":3900,"d":"3,900р."},"Чак Норрис"]
[null,"CL02467","2013-09-04T16:34:54.736","Аксессуары","Запад","Корпорация",71,"Да",2.5,{"v":6600,"d":"6,600р."},"Колин Фаррел"]
[null,"CL02475","2013-09-04T16:54:28.972","Другое","Юг","Малый бизнес",68,"Да",2.3,0,"Уилл Смит"]
[null,"CL02480","2013-09-04T17:09:38.623","Другое","Юг","Частные клиенты",71,"Да",2.9,{"v":4200,"d":"4,200р."},"Джонни Депп"]
[null,"CL02487","2013-09-04T17:32:04.811","Аксессуары","Центр","Корпорация",85,"Да",{"v":3,"d":"3.0"},0,"Джеки Чан"]
[null,"CL02490","2013-09-04T17:42:45.117","Монитор","Запад","Частные клиенты",70,"Да",3.3,0,"Джонни Депп"]
[null,"CL02499","2013-09-04T17:58:08.262","Другое","Восток","Корпорация",76,"Да",{"v":3,"d":"3.0"},{"v":5100,"d":"5,100р."},"Джонни Депп"]
[null,"CL02506","2013-09-04T18:21:28.777","Монитор","Восток","Частные клиенты",82,"Да",1.2,{"v":5100,"d":"5,100р."},"Джеки Чан"]
[null,"CL02512","2013-09-04T18:34:42.766","Другое","Север","Корпорация",64,"Да",2.4,{"v":8400,"d":"8,400р."},"Бред Питт"]
[null,"CL02517","2013-09-04T18:49:55.317","Персональный ПК","Восток","Некоммерческие",73,"Да",{"v":3,"d":"3.0"},{"v":8100,"d":"8,100р."},"Джонни Депп"]
[null,"CL02520","2013-09-04T18:58:52.530","Аксессуары","Центр","Корпорация",74,"Да",3.4,{"v":4200,"d":"4,200р."},"Джонни Депп"]
[null,"CL02529","2013-09-04T19:21:05.142","Монитор","Запад","Частные клиенты",79,"Да",3.3,{"v":6600,"d":"6,600р."},"Колин Фаррел"]
[null,"CL02536","2013-09-04T19:47:15.297","Софт","Север","Малый бизнес",68,"Да",2.8,{"v":6300,"d":"6,300р."},"Колин Фаррел"]
[null,"CL02539","2013-09-04T19:56:14.887","Аксессуары","Запад","Малый бизнес",84,"Да",{"v":2,"d":"2.0"},{"v":7200,"d":"7,200р."},"Чак Норрис"]
[null,"CL02549","2013-09-04T20:29:06.636","Персональный ПК","Центр","Частные клиенты",90,"Да",{"v":3,"d":"3.0"},0,"Бред Питт"]
[null,"CL02556","2013-09-04T20:46:12.710","Софт","Центр","Малый бизнес",68,"Да",3.7,{"v":6600,"d":"6,600р."},"Колин Фаррел"]
[null,"CL02559","2013-09-04T20:53:09.625","Другое","Север","Частные клиенты",69,"Нет",2.8,{"v":6300,"d":"6,300р."},"Джонни Депп"]
[null,"CL02566","2013-09-04T21:10:21.958","Персональный ПК","Север","Некоммерческие",74,"Да",3.3,0,"Джонни Депп"]
[null,"CL02569","2013-09-04T21:19:57.216","Другое","Север","Корпорация",81,"Да",2.8,{"v":9900,"d":"9,900р."},"Чак Норрис"]
[null,"CL02579","2013-09-04T21:50:42.546","Персональный ПК","Восток","Корпорация",69,"Да",2.4,{"v":7200,"d":"7,200р."},"Чак Норрис"]
[null,"CL02586","2013-09-05T08:16:36.912","Монитор","Юг","Частные клиенты",71,"Да",{"v":4,"d":"4.0"},{"v":6600,"d":"6,600р."},"Джеки Чан"]
[null,"CL02589","2013-09-05T08:26:33.608","Софт","Восток","Частные клиенты",82,"Нет",2.9,{"v":6600,"d":"6,600р."},"Бред Питт"]
[null,"CL02596","2013-09-05T08:48:04.640","Другое","Запад","Некоммерческие",76,"Да",3.4,{"v":7500,"d":"7,500р."},"Колин Фаррел"]
[null,"CL02605","2013-09-05T09:16:02.259","Другое","Центр","Корпорация",71,"Да",2.9,{"v":6900,"d":"6,900р."},"Колин Фаррел"]
[null,"CL02608","2013-09-05T09:23:20.920","Ноутбук","Юг","Малый бизнес",84,"Да",{"v":3,"d":"3.0"},{"v":6900,"d":"6,900р."},"Колин Фаррел"]
[null,"CL02613","2013-09-05T09:35:14.148","Персональный ПК","Центр","Малый бизнес",80,"Да",{"v":2,"d":"2.0"},{"v":6300,"d":"6,300р."},"Колин Фаррел"]
[null,"CL02619","2013-09-05T09:50:41.147","Персональный ПК","Север","Корпорация",78,"Да",2.7,0,"Джонни Депп"]
[null,"CL02628","2013-09-05T10:15:43.771","Аксессуары","Центр","Корпорация",72,"Да",{"v":3,"d":"3.0"},0,"Колин Фаррел"]
[null,"CL02635","2013-09-05T10:41:17.733","Ноутбук","Запад","Малый бизнес",99,"Да",2.3,{"v":7500,"d":"7,500р."},"Колин Фаррел"]
[null,"CL02638","2013-09-05T10:52:30.212","Другое","Север","Частные клиенты",70,"Да",2.1,{"v":7200,"d":"7,200р."},"Колин Фаррел"]
[null,"CL02645","2013-09-05T11:13:38.138","Персональный ПК","Север","Корпорация",76,"Да",3.8,0,"Джонни Депп"]
[null,"CL02650","2013-09-05T11:25:24.570","Монитор","Юг","Некоммерческие",73,"Да",{"v":3,"d":"3.0"},{"v":3300,"d":"3,300р."},"Бред Питт"]
[null,"CL02658","2013-09-05T11:52:18.653","Аксессуары","Юг","Корпорация",74,"Да",2.7,{"v":6300,"d":"6,300р."},"Чак Норрис"]
[null,"CL02665","2013-09-05T12:16:03.100","Персональный ПК","Восток","Частные клиенты",81,"Да",3.6,{"v":3600,"d":"3,600р."},"Бред Питт"]
[null,"CL02668","2013-09-05T12:31:11.415","Другое","Север","Некоммерческие",77,"Да",3.3,{"v":1800,"d":"1,800р."},"Бред Питт"]
[null,"CL02675","2013-09-05T12:47:00.397","Софт","Восток","Корпорация",77,"Да",3.1,{"v":5700,"d":"5,700р."},"Бред Питт"]
[null,"CL02684","2013-09-05T13:02:32.254","Персональный ПК","Юг","Корпорация",64,"Да",2.9,0,"Джеки Чан"]
[null,"CL02687","2013-09-05T13:10:38.390","Другое","Восток","Некоммерческие",74,"Да",3.7,{"v":7500,"d":"7,500р."},"Колин Фаррел"]
[null,"CL02695","2013-09-05T13:34:10.365","Софт","Восток","Малый бизнес",80,"Да",2.8,{"v":8400,"d":"8,400р."},"Джонни Депп"]
[null,"CL02704","2013-09-05T13:58:45.440","Другое","Север","Некоммерческие",74,"Да",3.6,{"v":6600,"d":"6,600р."},"Бред Питт"]
[null,"CL02707","2013-09-05T14:11:16.537","Аксессуары","Север","Частные клиенты",83,"Да",2.6,0,"Джеки Чан"]
[null,"CL02714","2013-09-05T14:29:53.438","Персональный ПК","Запад","Частные клиенты",76,"Да",3.2,{"v":8400,"d":"8,400р."},"Джеки Чан"]
[null,"CL02717","2013-09-05T14:34:36.831","Персональный ПК","Юг","Корпорация",76,"Да",3.4,{"v":6900,"d":"6,900р."},"Уилл Смит"]
[null,"CL02728","2013-09-05T15:11:57.619","Монитор","Запад","Некоммерческие",62,"Да",3.3,0,"Колин Фаррел"]
[null,"CL02734","2013-09-05T15:33:50.402","Софт","Центр","Малый бизнес",81,"Да",3.2,{"v":6900,"d":"6,900р."},"Джонни Депп"]
[null,"CL02737","2013-09-05T15:43:07.881","Другое","Юг","Частные клиенты",71,"Да",2.7,{"v":3600,"d":"3,600р."},"Колин Фаррел"]
[null,"CL02744","2013-09-05T16:01:42.986","Софт","Запад","Некоммерческие",83,"Нет",3.2,{"v":7500,"d":"7,500р."},"Бред Питт"]
[null,"CL02753","2013-09-05T16:34:03.604","Монитор","Запад","Частные клиенты",83,"Да",2.6,{"v":6300,"d":"6,300р."},"Чак Норрис"]
[null,"CL02756","2013-09-05T16:44:31.926","Ноутбук","Центр","Корпорация",63,"Да",{"v":3,"d":"3.0"},{"v":6600,"d":"6,600р."},"Джеки Чан"]
[null,"CL02765","2013-09-05T17:12:08.224","Персональный ПК","Восток","Частные клиенты",71,"Да",2.5,0,"Чак Норрис"]
[null,"CL02767","2013-09-05T17:18:26.709","Монитор","Юг","Частные клиенты",86,"Да",2.7,{"v":8100,"d":"8,100р."},"Колин Фаррел"]
[null,"CL02774","2013-09-05T17:41:39.291","Монитор","Восток","Частные клиенты",66,"Да",2.4,{"v":5400,"d":"5,400р."},"Колин Фаррел"]
[null,"CL02783","2013-09-05T18:05:54.845","Персональный ПК","Центр","Корпорация",68,"Да",2.8,0,"Бред Питт"]
[null,"CL02786","2013-09-05T18:13:35.344","Другое","Юг","Некоммерческие",78,"Да",3.5,{"v":4200,"d":"4,200р."},"Уилл Смит"]
[null,"CL02793","2013-09-05T18:28:25.181","Аксессуары","Запад","Малый бизнес",85,"Да",{"v":3,"d":"3.0"},{"v":4200,"d":"4,200р."},"Чак Норрис"]
[null,"CL02802","2013-09-05T18:52:15.749","Аксессуары","Центр","Некоммерческие",77,"Да",3.3,{"v":10800,"d":"10,800р."},"Колин Фаррел"]
[null,"CL02804","2013-09-05T18:56:35.118","Софт","Север","Корпорация",68,"Да",2.5,0,"Уилл Смит"]
[null,"CL02813","2013-09-05T19:30:31.205","Ноутбук","Запад","Малый бизнес",74,"Да",3.5,{"v":5400,"d":"5,400р."},"Чак Норрис"]
[null,"CL02816","2013-09-05T19:36:33.573","Ноутбук","Запад","Некоммерческие",74,"Да",3.1,0,"Уилл Смит"]
[null,"CL02823","2013-09-05T19:55:35.880","Софт","Восток","Малый бизнес",90,"Да",3.4,0,"Джеки Чан"]
[null,"CL02832","2013-09-05T20:22:34.158","Софт","Центр","Малый бизнес",86,"Да",2.9,{"v":6000,"d":"6,000р."},"Бред Питт"]
[null,"CL02839","2013-09-05T20:38:21.628","Ноутбук","Север","Корпорация",63,"Да",{"v":3,"d":"3.0"},{"v":9600,"d":"9,600р."},"Бред Питт"]
[null,"CL02843","2013-09-05T20:52:05.609","Аксессуары","Запад","Некоммерческие",67,"Нет",2.9,0,"Уилл Смит"]
[null,"CL02852","2013-09-05T21:25:21.497","Персональный ПК","Запад","Частные клиенты",79,"Да",3.1,0,"Колин Фаррел"]
[null,"CL02853","2013-09-05T21:26:30.265","Персональный ПК","Север","Малый бизнес",79,"Да",3.3,0,"Колин Фаррел"]
[null,"CL02862","2013-09-05T21:51:01.828","Аксессуары","Север","Некоммерческие",78,"Да",2.5,{"v":2100,"d":"2,100р."},"Джонни Депп"]
[null,"CL02865","2013-09-05T21:59:53.093","Аксессуары","Восток","Частные клиенты",63,"Да",2.6,0,"Джонни Депп"]
[null,"CL02873","2013-09-06T08:23:12.022","Персональный ПК","Восток","Некоммерческие",69,"Да",3.5,{"v":5700,"d":"5,700р."},"Колин Фаррел"]
[null,"CL02882","2013-09-06T08:40:31.202","Аксессуары","Восток","Малый бизнес",82,"Да",3.7,{"v":5100,"d":"5,100р."},"Уилл Смит"]
[null,"CL02889","2013-09-06T08:51:06.061","Аксессуары","Север","Частные клиенты",72,"Да",3.3,{"v":6000,"d":"6,000р."},"Бред Питт"]
[null,"CL02892","2013-09-06T08:58:18.041","Аксессуары","Север","Корпорация",66,"Да",2.3,0,"Джонни Депп"]
[null,"CL02901","2013-09-06T09:30:03.054","Софт","Восток","Некоммерческие",84,"Да",3.3,0,"Уилл Смит"]
[null,"CL02902","2013-09-06T09:33:56.917","Другое","Запад","Некоммерческие",82,"Да",2.9,0,"Чак Норрис"]
[null,"CL02910","2013-09-06T09:47:38.006","Монитор","Запад","Некоммерческие",85,"Да",2.2,{"v":6300,"d":"6,300р."},"Бред Питт"]
[null,"CL02915","2013-09-06T10:02:20.504","Персональный ПК","Север","Некоммерческие",84,"Да",2.8,0,"Джеки Чан"]
[null,"CL02922","2013-09-06T10:29:06.731","Софт","Север","Частные клиенты",70,"Да",2.9,0,"Уилл Смит"]
[null,"CL02931","2013-09-06T10:59:33.042","Персональный ПК","Юг","Некоммерческие",76,"Да",3.1,{"v":7200,"d":"7,200р."},"Джеки Чан"]
[null,"CL02938","2013-09-06T11:22:38.011","Аксессуары","Восток","Некоммерческие",70,"Да",2.6,0,"Бред Питт"]
[null,"CL02941","2013-09-06T11:32:13.041","Монитор","Центр","Малый бизнес",71,"Да",3.3,0,"Бред Питт"]
[null,"CL02947","2013-09-06T11:45:54.947","Софт","Восток","Частные клиенты",77,"Да",2.8,{"v":5700,"d":"5,700р."},"Бред Питт"]
[null,"CL02952","2013-09-06T12:00:37.575","Персональный ПК","Запад","Корпорация",77,"Да",3.1,0,"Джонни Депп"]
[null,"CL02961","2013-09-06T12:28:39.953","Софт","Север","Некоммерческие",80,"Да",3.5,0,"Бред Питт"]
[null,"CL02964","2013-09-06T12:34:53.199","Персональный ПК","Север","Малый бизнес",71,"Да",2.4,{"v":5400,"d":"5,400р."},"Джонни Депп"]
[null,"CL02971","2013-09-06T12:57:31.821","Ноутбук","Центр","Малый бизнес",68,"Нет",3.7,{"v":6300,"d":"6,300р."},"Бред Питт"]
[null,"CL02980","2013-09-06T13:15:48.405","Аксессуары","Центр","Некоммерческие",63,"Нет",3.5,{"v":7200,"d":"7,200р."},"Джеки Чан"]
[null,"CL02988","2013-09-06T13:53:15.950","Другое","Запад","Малый бизнес",77,"Нет",3.7,0,"Джонни Депп"]
[null,"CL02991","2013-09-06T14:02:59.317","Аксессуары","Восток","Малый бизнес",62,"Да",3.4,{"v":6900,"d":"6,900р."},"Джонни Депп"]
[null,"CL03000","2013-09-06T14:25:35.154","Монитор","Запад","Некоммерческие",83,"Да",2.5,0,"Джеки Чан"]
[null,"CL03001","2013-09-06T14:25:50.753","Персональный ПК","Центр","Малый бизнес",77,"Да",3.7,{"v":8400,"d":"8,400р."},"Бред Питт"]
[null,"CL03010","2013-09-06T14:59:30.411","Аксессуары","Восток","Корпорация",65,"Да",2.7,0,"Чак Норрис"]
[null,"CL03017","2013-09-06T15:21:30.714","Ноутбук","Север","Малый бизнес",63,"Да",3.2,0,"Джеки Чан"]
[null,"CL03025","2013-09-06T15:38:41.949","Другое","Север","Некоммерческие",79,"Да",2.6,0,"Уилл Смит"]
[null,"CL03030","2013-09-06T15:49:45.737","Монитор","Юг","Некоммерческие",79,"Да",2.7,{"v":8400,"d":"8,400р."},"Чак Норрис"]
[null,"CL03037","2013-09-06T16:10:39.167","Аксессуары","Юг","Корпорация",70,"Да",2.7,{"v":5400,"d":"5,400р."},"Джеки Чан"]
[null,"CL03040","2013-09-06T16:20:12.365","Монитор","Восток","Некоммерческие",72,"Да",3.1,{"v":4800,"d":"4,800р."},"Бред Питт"]
[null,"CL03049","2013-09-06T16:51:43.704","Персональный ПК","Центр","Корпорация",96,"Да",2.6,{"v":6900,"d":"6,900р."},"Бред Питт"]
[null,"CL03050","2013-09-06T16:51:44.451","Ноутбук","Запад","Частные клиенты",80,"Да",2.7,{"v":6000,"d":"6,000р."},"Чак Норрис"]
[null,"CL03062","2013-09-06T17:31:38.126","Другое","Север","Некоммерческие",76,"Да",3.1,0,"Чак Норрис"]
[null,"CL03067","2013-09-06T17:41:49.732","Персональный ПК","Восток","Частные клиенты",79,"Да",2.3,{"v":8700,"d":"8,700р."},"Уилл Смит"]
[null,"CL03070","2013-09-06T17:50:18.750","Софт","Запад","Частные клиенты",72,"Да",3.5,0,"Джонни Депп"]
[null,"CL03079","2013-09-06T18:15:52.829","Ноутбук","Центр","Корпорация",84,"Да",3.3,{"v":6900,"d":"6,900р."},"Бред Питт"]
[null,"CL03086","2013-09-06T18:38:14.131","Персональный ПК","Центр","Частные клиенты",82,"Да",3.5,0,"Джеки Чан"]
[null,"CL03089","2013-09-06T18:48:15.316","Другое","Запад","Корпорация",71,"Да",2.9,0,"Колин Фаррел"]
[null,"CL03099","2013-09-06T19:22:39.991","Аксессуары","Запад","Корпорация",70,"Да",3.1,{"v":5400,"d":"5,400р."},"Уилл Смит"]
[null,"CL03100","2013-09-06T19:23:39.426","Аксессуары","Запад","Частные клиенты",70,"Да",3.7,{"v":5700,"d":"5,700р."},"Чак Норрис"]
[null,"CL03109","2013-09-06T19:54:59.504","Софт","Север","Частные клиенты",48,"Да",{"v":2,"d":"2.0"},0,"Джеки Чан"]
[null,"CL03116","2013-09-06T20:07:30.255","Аксессуары","Юг","Корпорация",58,"Да",2.7,0,"Уилл Смит"]
[null,"CL03119","2013-09-06T20:20:37.356","Монитор","Восток","Некоммерческие",88,"Да",{"v":3,"d":"3.0"},0,"Колин Фаррел"]
[null,"CL03129","2013-09-06T20:56:06.856","Монитор","Центр","Малый бизнес",79,"Да",3.2,0,"Бред Питт"]
[null,"CL03136","2013-09-06T21:15:32.168","Персональный ПК","Запад","Малый бизнес",55,"Да",3.3,{"v":5400,"d":"5,400р."},"Уилл Смит"]
[null,"CL03139","2013-09-06T21:21:33.406","Другое","Восток","Частные клиенты",70,"Да",2.9,{"v":6900,"d":"6,900р."},"Чак Норрис"]
[null,"CL03146","2013-09-06T21:46:23.416","Другое","Север","Некоммерческие",62,"Да",2.8,0,"Джеки Чан"]
[null,"CL03149","2013-09-06T21:54:01.887","Монитор","Восток","Корпорация",70,"Да",3.4,0,"Джонни Депп"]
[null,"CL03158","2013-09-07T08:17:22.936","Софт","Юг","Малый бизнес",79,"Да",2.7,{"v":5400,"d":"5,400р."},"Колин Фаррел"]
[null,"CL03163","2013-09-07T08:31:23.220","Аксессуары","Восток","Корпорация",69,"Да",3.7,0,"Джеки Чан"]
[null,"CL03169","2013-09-07T08:50:35.566","Софт","Север","Некоммерческие",59,"Да",2.7,{"v":5400,"d":"5,400р."},"Чак Норрис"]
[null,"CL03178","2013-09-07T09:16:46.986","Персональный ПК","Запад","Некоммерческие",70,"Да",2.8,{"v":5100,"d":"5,100р."},"Колин Фаррел"]
[null,"CL03185","2013-09-07T09:38:32.209","Аксессуары","Запад","Корпорация",98,"Да",3.2,0,"Уилл Смит"]
[null,"CL03188","2013-09-07T09:44:44.851","Ноутбук","Центр","Некоммерческие",86,"Да",{"v":3,"d":"3.0"},0,"Бред Питт"]
[null,"CL03195","2013-09-07T10:05:01.944","Монитор","Север","Некоммерческие",65,"Да",{"v":4,"d":"4.0"},{"v":5400,"d":"5,400р."},"Джонни Депп"]
[null,"CL03200","2013-09-07T10:17:44.939","Аксессуары","Юг","Частные клиенты",85,"Да",3.2,{"v":6300,"d":"6,300р."},"Колин Фаррел"]
[null,"CL03208","2013-09-07T10:31:08.444","Софт","Север","Малый бизнес",71,"Да",3.3,0,"Джеки Чан"]
[null,"CL03215","2013-09-07T10:55:49.116","Софт","Центр","Малый бизнес",63,"Да",3.3,{"v":5100,"d":"5,100р."},"Джеки Чан"]
[null,"CL03218","2013-09-07T10:59:41.344","Монитор","Север","Корпорация",74,"Да",3.1,0,"Джонни Депп"]
[null,"CL03225","2013-09-07T11:22:30.086","Персональный ПК","Север","Корпорация",65,"Да",{"v":3,"d":"3.0"},{"v":5400,"d":"5,400р."},"Джеки Чан"]
[null,"CL03234","2013-09-07T11:47:56.157","Ноутбук","Запад","Корпорация",84,"Да",{"v":2,"d":"2.0"},{"v":3900,"d":"3,900р."},"Чак Норрис"]
[null,"CL03237","2013-09-07T11:57:30.052","Монитор","Юг","Корпорация",70,"Да",2.9,{"v":5400,"d":"5,400р."},"Колин Фаррел"]
[null,"CL03245","2013-09-07T12:19:50.673","Монитор","Север","Малый бизнес",66,"Да",3.5,{"v":6300,"d":"6,300р."},"Джеки Чан"]
[null,"CL03248","2013-09-07T12:29:13.447","Аксессуары","Запад","Корпорация",82,"Да",2.8,{"v":4800,"d":"4,800р."},"Бред Питт"]
[null,"CL03257","2013-09-07T12:48:09.202","Другое","Центр","Частные клиенты",85,"Да",2.7,0,"Бред Питт"]
[null,"CL03264","2013-09-07T13:08:55.940","Монитор","Центр","Некоммерческие",80,"Да",3.2,0,"Джонни Депп"]
[null,"CL03267","2013-09-07T13:23:35.334","Другое","Центр","Малый бизнес",73,"Да",3.4,0,"Джеки Чан"]
[null,"CL03278","2013-09-07T14:03:03.703","Персональный ПК","Север","Малый бизнес",71,"Нет",2.9,0,"Уилл Смит"]
[null,"CL03284","2013-09-07T14:17:42.400","Персональный ПК","Запад","Частные клиенты",81,"Да",2.9,0,"Бред Питт"]
[null,"CL03287","2013-09-07T14:21:22.296","Монитор","Север","Частные клиенты",89,"Да",2.8,0,"Джонни Депп"]
[null,"CL03294","2013-09-07T14:44:10.429","Другое","Запад","Некоммерческие",70,"Да",2.8,{"v":7500,"d":"7,500р."},"Уилл Смит"]
[null,"CL03297","2013-09-07T14:56:21.915","Ноутбук","Север","Частные клиенты",81,"Да",{"v":3,"d":"3.0"},{"v":9000,"d":"9,000р."},"Джеки Чан"]
[null,"CL03306","2013-09-07T15:23:53.249","Другое","Север","Малый бизнес",89,"Да",3.6,{"v":5400,"d":"5,400р."},"Колин Фаррел"]
[null,"CL03315","2013-09-07T15:46:53.821","Персональный ПК","Запад","Некоммерческие",88,"Да",{"v":3,"d":"3.0"},{"v":6000,"d":"6,000р."},"Колин Фаррел"]
[null,"CL03317","2013-09-07T15:55:51.003","Ноутбук","Восток","Частные клиенты",67,"Да",2.3,{"v":6600,"d":"6,600р."},"Чак Норрис"]
[null,"CL03324","2013-09-07T16:11:32.564","Софт","Север","Малый бизнес",83,"Да",2.8,0,"Колин Фаррел"]
[null,"CL03333","2013-09-07T16:35:43.662","Другое","Восток","Корпорация",74,"Да",2.2,0,"Джонни Депп"]
[null,"CL03336","2013-09-07T16:43:08.391","Персональный ПК","Запад","Малый бизнес",66,"Да",3.2,{"v":4800,"d":"4,800р."},"Колин Фаррел"]
[null,"CL03343","2013-09-07T17:03:51.340","Софт","Запад","Частные клиенты",79,"Да",2.7,0,"Джонни Депп"]
[null,"CL03352","2013-09-07T17:29:08.505","Персональный ПК","Запад","Малый бизнес",75,"Да",2.2,0,"Джеки Чан"]
[null,"CL03354","2013-09-07T17:36:26.310","Персональный ПК","Север","Малый бизнес",61,"Да",3.2,{"v":5100,"d":"5,100р."},"Колин Фаррел"]
[null,"CL03363","2013-09-07T17:59:37.334","Софт","Юг","Частные клиенты",75,"Да",3.2,0,"Джеки Чан"]
[null,"CL03366","2013-09-07T18:08:39.736","Персональный ПК","Центр","Корпорация",82,"Да",{"v":3,"d":"3.0"},{"v":5700,"d":"5,700р."},"Бред Питт"]
[null,"CL03373","2013-09-07T18:14:16.599","Другое","Запад","Частные клиенты",94,"Да",3.7,{"v":3600,"d":"3,600р."},"Джонни Депп"]
[null,"CL03382","2013-09-07T18:41:14.778","Монитор","Восток","Корпорация",72,"Да",3.9,{"v":7200,"d":"7,200р."},"Бред Питт"]
[null,"CL03389","2013-09-07T19:08:29.825","Персональный ПК","Север","Частные клиенты",77,"Да",3.7,{"v":6300,"d":"6,300р."},"Бред Питт"]
[null,"CL03393","2013-09-07T19:20:11.924","Ноутбук","Юг","Частные клиенты",73,"Да",{"v":3,"d":"3.0"},{"v":8400,"d":"8,400р."},"Бред Питт"]
[null,"CL03396","2013-09-07T19:30:50.040","Аксессуары","Запад","Частные клиенты",90,"Да",2.8,0,"Колин Фаррел"]
[null,"CL03403","2013-09-07T19:58:24.443","Софт","Юг","Некоммерческие",83,"Да",1.9,0,"Колин Фаррел"]
[null,"CL03412","2013-09-07T20:23:26.929","Ноутбук","Юг","Частные клиенты",78,"Да",2.5,{"v":7200,"d":"7,200р."},"Джонни Депп"]
[null,"CL03415","2013-09-07T20:38:50.070","Другое","Запад","Корпорация",71,"Да",2.6,{"v":5700,"d":"5,700р."},"Бред Питт"]
[null,"CL03423","2013-09-07T21:00:41.719","Софт","Юг","Малый бизнес",81,"Да",2.7,{"v":7500,"d":"7,500р."},"Чак Норрис"]
[null,"CL03432","2013-09-07T21:26:51.573","Аксессуары","Север","Корпорация",76,"Да",2.8,{"v":4800,"d":"4,800р."},"Чак Норрис"]
[null,"CL03435","2013-09-07T21:35:42.274","Аксессуары","Запад","Корпорация",82,"Да",{"v":3,"d":"3.0"},0,"Бред Питт"]
[null,"CL03442","2013-09-07T21:54:25.561","Персональный ПК","Восток","Корпорация",74,"Да",3.1,{"v":6600,"d":"6,600р."},"Бред Питт"]
[null,"CL03445","2013-09-08T08:04:13.307","Софт","Центр","Некоммерческие",79,"Да",4.1,{"v":3600,"d":"3,600р."},"Чак Норрис"]
[null,"CL03452","2013-09-08T08:23:21.510","Аксессуары","Юг","Частные клиенты",63,"Да",3.7,0,"Джеки Чан"]
[null,"CL03460","2013-09-08T08:46:48.216","Ноутбук","Запад","Частные клиенты",78,"Да",3.1,0,"Колин Фаррел"]
[null,"CL03465","2013-09-08T08:59:25.139","Другое","Юг","Малый бизнес",69,"Да",3.3,{"v":8400,"d":"8,400р."},"Джеки Чан"]
[null,"CL03472","2013-09-08T09:22:59.237","Ноутбук","Восток","Корпорация",75,"Да",2.8,{"v":3900,"d":"3,900р."},"Бред Питт"]
[null,"CL03481","2013-09-08T09:49:38.154","Ноутбук","Восток","Некоммерческие",79,"Да",3.7,{"v":4500,"d":"4,500р."},"Бред Питт"]
[null,"CL03482","2013-09-08T09:50:04.169","Софт","Восток","Некоммерческие",82,"Да",2.8,{"v":5400,"d":"5,400р."},"Джеки Чан"]
[null,"CL03491","2013-09-08T10:09:51.067","Софт","Юг","Частные клиенты",71,"Да",2.3,{"v":5400,"d":"5,400р."},"Джонни Депп"]
[null,"CL03497","2013-09-08T10:24:31.484","Ноутбук","Юг","Корпорация",79,"Да",4.6,{"v":5100,"d":"5,100р."},"Чак Норрис"]
[null,"CL03502","2013-09-08T10:31:17.564","Софт","Запад","Некоммерческие",80,"Да",2.9,{"v":6300,"d":"6,300р."},"Бред Питт"]
[null,"CL03511","2013-09-08T11:00:55.584","Монитор","Центр","Частные клиенты",79,"Да",3.2,{"v":8100,"d":"8,100р."},"Чак Норрис"]
[null,"CL03514","2013-09-08T11:09:43.472","Аксессуары","Юг","Малый бизнес",74,"Да",2.3,0,"Джонни Депп"]
[null,"CL03521","2013-09-08T11:31:52.231","Монитор","Центр","Частные клиенты",77,"Да",3.3,{"v":6600,"d":"6,600р."},"Джеки Чан"]
[null,"CL03530","2013-09-08T11:56:57.719","Монитор","Север","Частные клиенты",66,"Да",{"v":3,"d":"3.0"},0,"Джонни Депп"]
[null,"CL03531","2013-09-08T11:58:57.690","Другое","Запад","Некоммерческие",67,"Нет",2.5,0,"Джеки Чан"]
[null,"CL03541","2013-09-08T12:31:01.811","Софт","Юг","Малый бизнес",66,"Да",3.2,0,"Колин Фаррел"]
[null,"CL03544","2013-09-08T12:42:54.217","Аксессуары","Юг","Частные клиенты",76,"Да",3.5,0,"Джеки Чан"]
[null,"CL03551","2013-09-08T13:11:11.780","Аксессуары","Центр","Корпорация",72,"Да",3.4,0,"Уилл Смит"]
[null,"CL03560","2013-09-08T13:36:39.426","Аксессуары","Центр","Корпорация",91,"Да",2.7,{"v":5100,"d":"5,100р."},"Чак Норрис"]
[null,"CL03567","2013-09-08T13:48:21.222","Софт","Восток","Некоммерческие",70,"Да",2.6,{"v":6900,"d":"6,900р."},"Джеки Чан"]
[null,"CL03568","2013-09-08T13:50:52.274","Персональный ПК","Центр","Корпорация",68,"Да",3.4,{"v":5700,"d":"5,700р."},"Бред Питт"]
[null,"CL03580","2013-09-08T14:27:23.639","Персональный ПК","Юг","Корпорация",74,"Да",2.5,0,"Джеки Чан"]
[null,"CL03581","2013-09-08T14:29:02.662","Монитор","Центр","Малый бизнес",78,"Да",3.2,{"v":5400,"d":"5,400р."},"Чак Норрис"]
[null,"CL03590","2013-09-08T14:45:22.979","Ноутбук","Запад","Малый бизнес",68,"Да",2.6,0,"Джеки Чан"]
[null,"CL03593","2013-09-08T14:58:34.180","Ноутбук","Юг","Частные клиенты",67,"Да",3.5,{"v":4500,"d":"4,500р."},"Колин Фаррел"]
[null,"CL03600","2013-09-08T15:18:37.549","Ноутбук","Юг","Малый бизнес",67,"Да",2.9,{"v":5400,"d":"5,400р."},"Бред Питт"]
[null,"CL03605","2013-09-08T15:33:41.462","Персональный ПК","Центр","Малый бизнес",75,"Да",2.4,{"v":3900,"d":"3,900р."},"Уилл Смит"]
[null,"CL03617","2013-09-08T16:00:51.876","Монитор","Север","Некоммерческие",73,"Да",2.9,{"v":5100,"d":"5,100р."},"Уилл Смит"]
[null,"CL03620","2013-09-08T16:09:36.218","Ноутбук","Восток","Корпорация",80,"Да",{"v":3,"d":"3.0"},{"v":6000,"d":"6,000р."},"Колин Фаррел"]
[null,"CL03629","2013-09-08T16:42:18.787","Другое","Восток","Корпорация",70,"Да",3.9,{"v":4200,"d":"4,200р."},"Бред Питт"]
[null,"CL03630","2013-09-08T16:45:03.123","Софт","Юг","Некоммерческие",80,"Да",2.6,{"v":6000,"d":"6,000р."},"Чак Норрис"]
[null,"CL03639","2013-09-08T17:12:32.697","Ноутбук","Центр","Корпорация",85,"Да",{"v":3,"d":"3.0"},{"v":3300,"d":"3,300р."},"Джеки Чан"]
[null,"CL03642","2013-09-08T17:20:54.529","Ноутбук","Запад","Малый бизнес",72,"Да",2.5,{"v":6300,"d":"6,300р."},"Джеки Чан"]
[null,"CL03650","2013-09-08T17:49:06.267","Монитор","Юг","Частные клиенты",82,"Да",{"v":3,"d":"3.0"},{"v":3600,"d":"3,600р."},"Уилл Смит"]
[null,"CL03659","2013-09-08T18:07:51.137","Софт","Север","Частные клиенты",57,"Да",2.4,{"v":5100,"d":"5,100р."},"Бред Питт"]
[null,"CL03666","2013-09-08T18:23:09.427","Софт","Юг","Частные клиенты",76,"Да",{"v":2,"d":"2.0"},{"v":4500,"d":"4,500р."},"Чак Норрис"]
[null,"CL03669","2013-09-08T18:31:34.617","Другое","Юг","Корпорация",79,"Да",3.7,0,"Уилл Смит"]
[null,"CL03679","2013-09-08T18:56:35.094","Аксессуары","Запад","Корпорация",68,"Да",2.5,0,"Чак Норрис"]
[null,"CL03680","2013-09-08T18:58:50.126","Монитор","Север","Частные клиенты",70,"Да",{"v":2,"d":"2.0"},{"v":8700,"d":"8,700р."},"Уилл Смит"]
[null,"CL03689","2013-09-08T19:30:39.317","Другое","Юг","Частные клиенты",95,"Да",1.8,{"v":7200,"d":"7,200р."},"Чак Норрис"]
[null,"CL03696","2013-09-08T19:52:57.362","Софт","Запад","Малый бизнес",80,"Да",3.4,{"v":5700,"d":"5,700р."},"Уилл Смит"]
[null,"CL03699","2013-09-08T20:01:47.811","Софт","Север","Некоммерческие",81,"Да",2.7,0,"Джонни Депп"]
[null,"CL03708","2013-09-08T20:21:44.691","Ноутбук","Центр","Некоммерческие",70,"Да",2.5,{"v":6300,"d":"6,300р."},"Джеки Чан"]
[null,"CL03713","2013-09-08T20:39:26.037","Ноутбук","Запад","Некоммерческие",81,"Да",3.1,{"v":6000,"d":"6,000р."},"Джеки Чан"]
[null,"CL03719","2013-09-08T20:55:09.614","Аксессуары","Запад","Малый бизнес",77,"Да",3.6,0,"Уилл Смит"]
[null,"CL03728","2013-09-08T21:26:54.167","Монитор","Запад","Некоммерческие",73,"Да",3.4,{"v":5400,"d":"5,400р."},"Колин Фаррел"]
[null,"CL03729","2013-09-08T21:30:53.675","Монитор","Юг","Малый бизнес",74,"Да",2.7,{"v":3600,"d":"3,600р."},"Джеки Чан"]
[null,"CL03738","2013-09-08T21:53:35.433","Персональный ПК","Запад","Корпорация",77,"Да",2.6,0,"Уилл Смит"]
[null,"CL03745","2013-09-09T08:17:56.524","Ноутбук","Восток","Некоммерческие",77,"Да",2.8,0,"Чак Норрис"]
[null,"CL03750","2013-09-09T08:32:32.205","Другое","Восток","Частные клиенты",79,"Да",3.4,{"v":6300,"d":"6,300р."},"Чак Норрис"]
[null,"CL03758","2013-09-09T08:54:39.033","Ноутбук","Юг","Некоммерческие",88,"Да",2.6,{"v":6600,"d":"6,600р."},"Джонни Депп"]
[null,"CL03765","2013-09-09T09:07:16.900","Ноутбук","Запад","Малый бизнес",80,"Да",3.4,{"v":5400,"d":"5,400р."},"Колин Фаррел"]
[null,"CL03768","2013-09-09T09:19:04.090","Монитор","Запад","Малый бизнес",64,"Да",{"v":3,"d":"3.0"},0,"Джонни Депп"]
[null,"CL03775","2013-09-09T09:39:16.272","Персональный ПК","Юг","Корпорация",63,"Да",2.5,0,"Джонни Депп"]
[null,"CL03778","2013-09-09T09:44:33.611","Софт","Запад","Частные клиенты",70,"Да",2.8,{"v":3900,"d":"3,900р."},"Уилл Смит"]
[null,"CL03787","2013-09-09T10:07:03.690","Другое","Юг","Корпорация",80,"Да",{"v":3,"d":"3.0"},{"v":7500,"d":"7,500р."},"Джеки Чан"]
[null,"CL03795","2013-09-09T10:16:15.860","Аксессуары","Запад","Корпорация",67,"Да",3.4,0,"Джеки Чан"]
[null,"CL03798","2013-09-09T10:27:19.595","Аксессуары","Север","Корпорация",62,"Да",{"v":3,"d":"3.0"},0,"Бред Питт"]
[null,"CL03807","2013-09-09T10:49:59.533","Софт","Центр","Некоммерческие",66,"Да",3.3,0,"Чак Норрис"]
[null,"CL03814","2013-09-09T11:11:46.692","Аксессуары","Север","Частные клиенты",82,"Да",3.8,{"v":6900,"d":"6,900р."},"Бред Питт"]
[null,"CL03817","2013-09-09T11:20:32.026","Ноутбук","Запад","Частные клиенты",81,"Да",3.6,{"v":3900,"d":"3,900р."},"Бред Питт"]
[null,"CL03821","2013-09-09T11:37:58.409","Монитор","Запад","Корпорация",68,"Нет",2.7,0,"Колин Фаррел"]
[null,"CL03828","2013-09-09T11:51:38.145","Софт","Юг","Частные клиенты",86,"Да",1.7,{"v":9300,"d":"9,300р."},"Бред Питт"]
[null,"CL03837","2013-09-09T12:13:33.110","Ноутбук","Юг","Некоммерческие",71,"Да",3.5,0,"Джеки Чан"]
[null,"CL03844","2013-09-09T12:38:13.318","Софт","Юг","Частные клиенты",71,"Да",2.9,0,"Джонни Депп"]
[null,"CL03847","2013-09-09T12:47:09.572","Ноутбук","Восток","Некоммерческие",78,"Да",2.6,0,"Джонни Депп"]
[null,"CL03856","2013-09-09T13:20:09.213","Ноутбук","Север","Малый бизнес",82,"Да",2.7,{"v":6900,"d":"6,900р."},"Колин Фаррел"]
[null,"CL03858","2013-09-09T13:25:31.808","Другое","Центр","Корпорация",75,"Да",3.3,{"v":5400,"d":"5,400р."},"Уилл Смит"]
[null,"CL03867","2013-09-09T13:46:11.185","Аксессуары","Север","Некоммерческие",68,"Да",2.8,{"v":4200,"d":"4,200р."},"Чак Норрис"]
[null,"CL03874","2013-09-09T14:07:05.416","Софт","Юг","Малый бизнес",78,"Да",3.2,{"v":7500,"d":"7,500р."},"Чак Норрис"]
[null,"CL03877","2013-09-09T14:14:48.304","Аксессуары","Юг","Корпорация",72,"Да",{"v":3,"d":"3.0"},{"v":7800,"d":"7,800р."},"Уилл Смит"]
[null,"CL03886","2013-09-09T14:45:51.585","Ноутбук","Центр","Частные клиенты",84,"Да",2.7,{"v":3900,"d":"3,900р."},"Чак Норрис"]
[null,"CL03893","2013-09-09T15:12:02.816","Персональный ПК","Юг","Частные клиенты",76,"Да",2.9,{"v":6300,"d":"6,300р."},"Колин Фаррел"]
[null,"CL03895","2013-09-09T15:17:18.303","Персональный ПК","Восток","Корпорация",69,"Да",3.5,0,"Чак Норрис"]
[null,"CL03904","2013-09-09T15:41:15.966","Аксессуары","Юг","Частные клиенты",87,"Да",2.9,0,"Бред Питт"]
[null,"CL03913","2013-09-09T16:14:56.219","Персональный ПК","Юг","Корпорация",76,"Да",2.9,{"v":3900,"d":"3,900р."},"Бред Питт"]
[null,"CL03916","2013-09-09T16:25:54.231","Другое","Юг","Малый бизнес",58,"Да",3.1,{"v":7800,"d":"7,800р."},"Чак Норрис"]
[null,"CL03923","2013-09-09T16:45:55.218","Аксессуары","Север","Некоммерческие",70,"Да",2.6,{"v":4200,"d":"4,200р."},"Чак Норрис"]
[null,"CL03926","2013-09-09T16:53:15.553","Софт","Запад","Частные клиенты",67,"Да",2.9,{"v":5700,"d":"5,700р."},"Колин Фаррел"]
[null,"CL03932","2013-09-09T16:58:37.152","Аксессуары","Юг","Корпорация",75,"Да",{"v":3,"d":"3.0"},0,"Джонни Депп"]
[null,"CL03943","2013-09-09T17:36:39.433","Аксессуары","Восток","Корпорация",73,"Да",{"v":3,"d":"3.0"},{"v":6600,"d":"6,600р."},"Бред Питт"]
[null,"CL03946","2013-09-09T17:48:12.557","Персональный ПК","Запад","Частные клиенты",76,"Да",3.1,0,"Джеки Чан"]
[null,"CL03953","2013-09-09T18:11:31.939","Ноутбук","Юг","Некоммерческие",86,"Да",2.5,{"v":7200,"d":"7,200р."},"Джонни Депп"]
[null,"CL03962","2013-09-09T18:37:17.495","Другое","Запад","Малый бизнес",80,"Нет",2.3,0,"Колин Фаррел"]
[null,"CL03965","2013-09-09T18:46:46.582","Ноутбук","Центр","Малый бизнес",58,"Да",3.7,{"v":6000,"d":"6,000р."},"Колин Фаррел"]
[null,"CL03973","2013-09-09T19:16:14.779","Персональный ПК","Центр","Корпорация",90,"Да",2.9,{"v":6300,"d":"6,300р."},"Джеки Чан"]
[null,"CL03976","2013-09-09T19:24:43.365","Софт","Запад","Корпорация",76,"Да",3.8,{"v":5400,"d":"5,400р."},"Чак Норрис"]
[null,"CL03985","2013-09-09T19:46:10.551","Монитор","Центр","Малый бизнес",79,"Да",3.6,{"v":6600,"d":"6,600р."},"Уилл Смит"]
[null,"CL03992","2013-09-09T20:08:24.135","Персональный ПК","Север","Корпорация",76,"Да",3.3,{"v":6000,"d":"6,000р."},"Чак Норрис"]
[null,"CL03995","2013-09-09T20:16:07.085","Персональный ПК","Юг","Корпорация",76,"Да",3.4,{"v":3600,"d":"3,600р."},"Уилл Смит"]
[null,"CL04002","2013-09-09T20:42:39.483","Ноутбук","Центр","Частные клиенты",81,"Да",2.8,{"v":6000,"d":"6,000р."},"Чак Норрис"]
[null,"CL04010","2013-09-09T20:56:27.170","Персональный ПК","Восток","Малый бизнес",71,"Да",2.9,0,"Джеки Чан"]
[null,"CL04015","2013-09-09T21:10:35.921","Монитор","Север","Корпорация",72,"Да",3.6,0,"Уилл Смит"]
[null,"CL04022","2013-09-09T21:33:33.036","Монитор","Восток","Корпорация",84,"Да",3.3,{"v":6900,"d":"6,900р."},"Джеки Чан"]
[null,"CL04025","2013-09-09T21:42:51.030","Монитор","Юг","Корпорация",90,"Да",4.2,0,"Уилл Смит"]
[null,"CL04032","2013-09-09T22:02:33.283","Софт","Запад","Некоммерческие",69,"Да",4.1,0,"Джонни Депп"]
[null,"CL04041","2013-09-10T08:32:40.027","Монитор","Юг","Малый бизнес",80,"Да",3.1,{"v":5400,"d":"5,400р."},"Бред Питт"]
[null,"CL04047","2013-09-10T08:52:48.829","Монитор","Запад","Частные клиенты",64,"Да",3.1,0,"Джеки Чан"]
[null,"CL04052","2013-09-10T09:05:53.132","Персональный ПК","Центр","Частные клиенты",71,"Да",{"v":3,"d":"3.0"},0,"Бред Питт"]
[null,"CL04061","2013-09-10T09:38:29.252","Софт","Центр","Частные клиенты",79,"Да",{"v":3,"d":"3.0"},{"v":2400,"d":"2,400р."},"Колин Фаррел"]
[null,"CL04064","2013-09-10T09:48:50.453","Аксессуары","Север","Корпорация",70,"Да",2.7,{"v":6000,"d":"6,000р."},"Джонни Депп"]
[null,"CL04071","2013-09-10T10:07:49.864","Ноутбук","Запад","Малый бизнес",76,"Да",3.4,{"v":6300,"d":"6,300р."},"Джонни Депп"]
[null,"CL04074","2013-09-10T10:12:26.636","Ноутбук","Юг","Корпорация",75,"Да",3.3,0,"Джеки Чан"]
[null,"CL04081","2013-09-10T10:30:29.136","Ноутбук","Восток","Корпорация",75,"Да",3.4,{"v":7200,"d":"7,200р."},"Уилл Смит"]
[null,"CL04091","2013-09-10T10:56:15.876","Персональный ПК","Юг","Малый бизнес",82,"Да",{"v":2,"d":"2.0"},0,"Колин Фаррел"]
[null,"CL04094","2013-09-10T11:05:00.804","Софт","Центр","Некоммерческие",76,"Да",2.8,{"v":6300,"d":"6,300р."},"Джеки Чан"]
[null,"CL04101","2013-09-10T11:24:26.963","Аксессуары","Север","Корпорация",78,"Да",3.1,0,"Чак Норрис"]
[null,"CL04110","2013-09-10T11:53:04.957","Софт","Север","Частные клиенты",47,"Да",3.4,{"v":6600,"d":"6,600р."},"Джеки Чан"]
[null,"CL04111","2013-09-10T11:58:33.763","Монитор","Восток","Корпорация",72,"Да",{"v":4,"d":"4.0"},0,"Чак Норрис"]
[null,"CL04118","2013-09-10T12:12:32.185","Монитор","Центр","Некоммерческие",73,"Да",2.5,0,"Колин Фаррел"]
[null,"CL04124","2013-09-10T12:33:16.984","Ноутбук","Восток","Частные клиенты",67,"Да",3.3,0,"Колин Фаррел"]
[null,"CL04131","2013-09-10T12:45:52.339","Монитор","Север","Малый бизнес",71,"Да",3.4,0,"Бред Питт"]
[null,"CL04140","2013-09-10T13:17:24.921","Софт","Запад","Частные клиенты",83,"Да",2.8,{"v":6900,"d":"6,900р."},"Джонни Депп"]
[null,"CL04143","2013-09-10T13:25:15.522","Аксессуары","Центр","Корпорация",79,"Да",2.5,{"v":8100,"d":"8,100р."},"Чак Норрис"]
[null,"CL04150","2013-09-10T13:42:23.199","Другое","Центр","Некоммерческие",67,"Да",{"v":3,"d":"3.0"},0,"Уилл Смит"]
[null,"CL04155","2013-09-10T13:49:54.310","Аксессуары","Запад","Малый бизнес",83,"Да",2.7,{"v":6000,"d":"6,000р."},"Уилл Смит"]
[null,"CL04161","2013-09-10T14:02:45.357","Аксессуары","Восток","Малый бизнес",69,"Да",2.5,{"v":3900,"d":"3,900р."},"Чак Норрис"]
[null,"CL04170","2013-09-10T14:22:35.321","Аксессуары","Центр","Частные клиенты",69,"Нет",{"v":3,"d":"3.0"},{"v":7200,"d":"7,200р."},"Чак Норрис"]
[null,"CL04173","2013-09-10T14:24:38.114","Аксессуары","Восток","Малый бизнес",73,"Да",3.2,{"v":3900,"d":"3,900р."},"Джонни Депп"]
[null,"CL04180","2013-09-10T14:46:17.090","Софт","Восток","Некоммерческие",55,"Да",2.8,{"v":5700,"d":"5,700р."},"Джонни Депп"]
[null,"CL04189","2013-09-10T15:06:53.668","Персональный ПК","Восток","Некоммерческие",67,"Да",2.5,{"v":3900,"d":"3,900р."},"Бред Питт"]
[null,"CL04192","2013-09-10T15:14:43.610","Другое","Центр","Некоммерческие",81,"Да",3.1,0,"Джонни Депп"]
[null,"CL04200","2013-09-10T15:36:07.001","Другое","Юг","Некоммерческие",81,"Да",2.5,{"v":6000,"d":"6,000р."},"Джеки Чан"]
[null,"CL04209","2013-09-10T15:57:17.676","Аксессуары","Юг","Частные клиенты",70,"Да",3.1,{"v":5700,"d":"5,700р."},"Уилл Смит"]
[null,"CL04210","2013-09-10T15:59:24.978","Персональный ПК","Север","Некоммерческие",73,"Да",3.2,0,"Колин Фаррел"]
[null,"CL04219","2013-09-10T16:29:51.846","Ноутбук","Север","Частные клиенты",87,"Да",4.4,{"v":7500,"d":"7,500р."},"Чак Норрис"]
[null,"CL04222","2013-09-10T16:41:15.505","Аксессуары","Север","Частные клиенты",72,"Да",3.6,{"v":6300,"d":"6,300р."},"Чак Норрис"]
[null,"CL04233","2013-09-10T17:14:17.230","Ноутбук","Центр","Малый бизнес",61,"Да",2.9,{"v":5400,"d":"5,400р."},"Джеки Чан"]
[null,"CL04239","2013-09-10T17:24:15.229","Персональный ПК","Восток","Малый бизнес",73,"Да",3.1,0,"Бред Питт"]
[null,"CL04246","2013-09-10T17:42:08.919","Персональный ПК","Запад","Малый бизнес",70,"Да",3.6,0,"Бред Питт"]
[null,"CL04249","2013-09-10T17:55:00.727","Монитор","Север","Некоммерческие",75,"Да",3.2,{"v":6900,"d":"6,900р."},"Чак Норрис"]
[null,"CL04258","2013-09-10T18:22:22.799","Монитор","Запад","Корпорация",83,"Да",4.2,0,"Джонни Депп"]
[null,"CL04263","2013-09-10T18:42:14.136","Аксессуары","Восток","Некоммерческие",72,"Да",3.3,{"v":6900,"d":"6,900р."},"Джеки Чан"]
[null,"CL04269","2013-09-10T19:00:58.062","Монитор","Восток","Малый бизнес",73,"Нет",2.6,0,"Бред Питт"]
[null,"CL04272","2013-09-10T19:13:31.482","Монитор","Юг","Корпорация",81,"Да",{"v":3,"d":"3.0"},0,"Джонни Депп"]
[null,"CL04279","2013-09-10T19:29:36.216","Аксессуары","Центр","Малый бизнес",63,"Да",{"v":3,"d":"3.0"},{"v":7200,"d":"7,200р."},"Чак Норрис"]
[null,"CL04288","2013-09-10T19:45:58.403","Другое","Восток","Малый бизнес",59,"Да",3.7,0,"Уилл Смит"]
[null,"CL04295","2013-09-10T20:06:00.905","Ноутбук","Запад","Частные клиенты",69,"Да",2.9,{"v":9000,"d":"9,000р."},"Чак Норрис"]
[null,"CL04300","2013-09-10T20:21:54.249","Другое","Юг","Корпорация",73,"Да",{"v":4,"d":"4.0"},{"v":5100,"d":"5,100р."},"Бред Питт"]
[null,"CL04308","2013-09-10T20:51:22.122","Ноутбук","Восток","Корпорация",75,"Да",3.2,0,"Колин Фаррел"]
[null,"CL04309","2013-09-10T20:54:15.475","Монитор","Юг","Некоммерческие",68,"Да",3.2,{"v":6300,"d":"6,300р."},"Джеки Чан"]
[null,"CL04318","2013-09-10T21:15:25.728","Аксессуары","Юг","Малый бизнес",75,"Да",{"v":4,"d":"4.0"},0,"Колин Фаррел"]
[null,"CL04325","2013-09-10T21:35:12.955","Другое","Запад","Малый бизнес",76,"Да",2.6,0,"Джонни Депп"]
[null,"CL04328","2013-09-10T21:44:28.349","Персональный ПК","Центр","Частные клиенты",89,"Да",2.7,{"v":8700,"d":"8,700р."},"Бред Питт"]
[null,"CL04337","2013-09-11T08:10:36.422","Софт","Запад","Малый бизнес",77,"Да",3.2,{"v":6900,"d":"6,900р."},"Колин Фаррел"]
[null,"CL04345","2013-09-11T08:39:02.387","Монитор","Юг","Корпорация",76,"Да",{"v":3,"d":"3.0"},0,"Уилл Смит"]
[null,"CL04348","2013-09-11T08:45:37.980","Аксессуары","Запад","Частные клиенты",82,"Да",2.9,{"v":9000,"d":"9,000р."},"Джеки Чан"]
[null,"CL04357","2013-09-11T09:09:24.004","Софт","Юг","Малый бизнес",77,"Да",2.4,{"v":5700,"d":"5,700р."},"Джонни Депп"]
[null,"CL04358","2013-09-11T09:14:50.081","Аксессуары","Центр","Малый бизнес",75,"Да",3.7,{"v":5400,"d":"5,400р."},"Джеки Чан"]
[null,"CL04367","2013-09-11T09:40:22.147","Ноутбук","Юг","Некоммерческие",81,"Нет",2.4,{"v":6900,"d":"6,900р."},"Чак Норрис"]
[null,"CL04371","2013-09-11T09:51:27.900","Монитор","Север","Частные клиенты",84,"Да",3.4,0,"Джонни Депп"]
[null,"CL04378","2013-09-11T10:09:17.263","Монитор","Запад","Некоммерческие",72,"Да",2.3,{"v":6600,"d":"6,600р."},"Чак Норрис"]
[null,"CL04387","2013-09-11T10:31:12.954","Софт","Север","Малый бизнес",79,"Да",3.8,0,"Колин Фаррел"]
[null,"CL04394","2013-09-11T10:53:59.178","Софт","Юг","Корпорация",88,"Да",2.5,{"v":4800,"d":"4,800р."},"Колин Фаррел"]
[null,"CL04397","2013-09-11T11:02:01.132","Монитор","Юг","Некоммерческие",66,"Да",2.8,{"v":4500,"d":"4,500р."},"Колин Фаррел"]
[null,"CL04406","2013-09-11T11:27:59.223","Аксессуары","Запад","Некоммерческие",92,"Да",2.7,{"v":6000,"d":"6,000р."},"Уилл Смит"]
[null,"CL04408","2013-09-11T11:32:47.826","Аксессуары","Запад","Малый бизнес",74,"Да",2.6,{"v":6600,"d":"6,600р."},"Чак Норрис"]
[null,"CL04417","2013-09-11T11:48:36.912","Аксессуары","Юг","Некоммерческие",85,"Да",3.5,0,"Колин Фаррел"]
[null,"CL04424","2013-09-11T12:09:34.028","Другое","Центр","Частные клиенты",82,"Да",2.8,0,"Уилл Смит"]
[null,"CL04427","2013-09-11T12:18:32.565","Софт","Север","Частные клиенты",64,"Да",3.3,{"v":7800,"d":"7,800р."},"Чак Норрис"]
[null,"CL04436","2013-09-11T12:49:02.387","Другое","Север","Некоммерческие",80,"Да",2.7,0,"Чак Норрис"]
[null,"CL04443","2013-09-11T13:05:32.273","Ноутбук","Север","Корпорация",79,"Да",3.2,0,"Уилл Смит"]
[null,"CL04445","2013-09-11T13:09:18.830","Аксессуары","Север","Корпорация",79,"Да",2.8,0,"Джонни Депп"]
[null,"CL04454","2013-09-11T13:34:49.059","Монитор","Центр","Некоммерческие",78,"Да",2.8,{"v":6600,"d":"6,600р."},"Чак Норрис"]
[null,"CL04457","2013-09-11T13:38:21.067","Монитор","Центр","Малый бизнес",75,"Да",{"v":3,"d":"3.0"},{"v":7200,"d":"7,200р."},"Чак Норрис"]
[null,"CL04466","2013-09-11T14:00:33.669","Ноутбук","Север","Малый бизнес",79,"Да",3.7,0,"Уилл Смит"]
[null,"CL04473","2013-09-11T14:23:52.868","Софт","Восток","Корпорация",73,"Да",3.1,{"v":4500,"d":"4,500р."},"Джонни Депп"]
[null,"CL04476","2013-09-11T14:27:18.382","Софт","Север","Некоммерческие",83,"Да",2.7,0,"Джонни Депп"]
[null,"CL04482","2013-09-11T14:39:39.195","Монитор","Восток","Малый бизнес",83,"Да",2.3,{"v":5100,"d":"5,100р."},"Чак Норрис"]
[null,"CL04493","2013-09-11T15:05:54.190","Монитор","Восток","Частные клиенты",83,"Да",{"v":3,"d":"3.0"},0,"Колин Фаррел"]
[null,"CL04496","2013-09-11T15:12:10.027","Ноутбук","Юг","Частные клиенты",86,"Да",{"v":3,"d":"3.0"},{"v":3000,"d":"3,000р."},"Джеки Чан"]
[null,"CL04503","2013-09-11T15:34:13.740","Софт","Восток","Малый бизнес",67,"Да",2.2,{"v":3300,"d":"3,300р."},"Бред Питт"]
[null,"CL04506","2013-09-11T15:41:50.882","Монитор","Восток","Малый бизнес",69,"Да",3.1,{"v":7500,"d":"7,500р."},"Чак Норрис"]
[null,"CL04515","2013-09-11T16:06:02.795","Другое","Центр","Корпорация",82,"Да",3.2,{"v":8100,"d":"8,100р."},"Чак Норрис"]
[null,"CL04523","2013-09-11T16:24:46.097","Софт","Центр","Некоммерческие",83,"Да",3.8,{"v":8100,"d":"8,100р."},"Бред Питт"]
[null,"CL04526","2013-09-11T16:36:52.019","Ноутбук","Центр","Частные клиенты",52,"Да",{"v":3,"d":"3.0"},0,"Колин Фаррел"]
[null,"CL04535","2013-09-11T16:58:18.936","Другое","Запад","Малый бизнес",84,"Да",3.1,{"v":4500,"d":"4,500р."},"Бред Питт"]
[null,"CL04542","2013-09-11T17:16:54.257","Персональный ПК","Центр","Малый бизнес",73,"Да",3.4,{"v":4200,"d":"4,200р."},"Джеки Чан"]
[null,"CL04545","2013-09-11T17:20:19.735","Другое","Запад","Малый бизнес",71,"Да",2.5,0,"Джеки Чан"]
[null,"CL04552","2013-09-11T17:35:12.789","Софт","Север","Некоммерческие",77,"Да",2.9,{"v":6600,"d":"6,600р."},"Джеки Чан"]
[null,"CL04560","2013-09-11T17:51:19.389","Софт","Восток","Малый бизнес",91,"Да",3.3,{"v":7500,"d":"7,500р."},"Колин Фаррел"]
[null,"CL04565","2013-09-11T18:06:47.578","Софт","Север","Частные клиенты",81,"Да",3.4,{"v":5700,"d":"5,700р."},"Уилл Смит"]
[null,"CL04572","2013-09-11T18:22:58.241","Другое","Восток","Корпорация",75,"Да",2.4,{"v":6600,"d":"6,600р."},"Джеки Чан"]
[null,"CL04575","2013-09-11T18:29:39.908","Персональный ПК","Центр","Малый бизнес",69,"Да",2.6,{"v":8700,"d":"8,700р."},"Колин Фаррел"]
[null,"CL04582","2013-09-11T18:48:33.376","Софт","Север","Частные клиенты",93,"Да",2.8,{"v":5700,"d":"5,700р."},"Джонни Депп"]
[null,"CL04591","2013-09-11T19:13:49.969","Ноутбук","Восток","Некоммерческие",76,"Да",3.6,0,"Уилл Смит"]
[null,"CL04597","2013-09-11T19:38:37.738","Другое","Юг","Корпорация",96,"Да",3.2,0,"Колин Фаррел"]
[null,"CL04602","2013-09-11T19:54:29.362","Монитор","Север","Некоммерческие",55,"Да",2.8,{"v":3900,"d":"3,900р."},"Уилл Смит"]
[null,"CL04605","2013-09-11T20:00:06.736","Другое","Север","Малый бизнес",88,"Да",3.5,{"v":6300,"d":"6,300р."},"Джеки Чан"]
[null,"CL04614","2013-09-11T20:26:06.050","Ноутбук","Юг","Малый бизнес",69,"Да",2.7,{"v":4200,"d":"4,200р."},"Джеки Чан"]
[null,"CL04621","2013-09-11T20:49:18.242","Аксессуары","Восток","Частные клиенты",84,"Да",2.5,0,"Чак Норрис"]
[null,"CL04624","2013-09-11T20:59:53.166","Другое","Центр","Частные клиенты",79,"Да",1.9,{"v":4200,"d":"4,200р."},"Чак Норрис"]
[null,"CL04631","2013-09-11T21:20:09.914","Аксессуары","Запад","Малый бизнес",86,"Да",2.3,{"v":5400,"d":"5,400р."},"Колин Фаррел"]
[null,"CL04641","2013-09-11T21:44:44.819","Софт","Юг","Частные клиенты",85,"Да",3.2,0,"Уилл Смит"]
[null,"CL04644","2013-09-11T21:54:08.423","Аксессуары","Запад","Частные клиенты",74,"Да",2.6,{"v":4800,"d":"4,800р."},"Колин Фаррел"]
[null,"CL04651","2013-09-12T08:20:12.749","Софт","Восток","Корпорация",86,"Да",2.2,0,"Джонни Депп"]
[null,"CL04654","2013-09-12T08:27:39.844","Аксессуары","Запад","Частные клиенты",83,"Да",2.8,0,"Уилл Смит"]
[null,"CL04661","2013-09-12T08:47:15.413","Персональный ПК","Восток","Малый бизнес",92,"Да",2.9,{"v":3300,"d":"3,300р."},"Джеки Чан"]
[null,"CL04668","2013-09-12T09:08:42.061","Монитор","Юг","Частные клиенты",83,"Да",3.2,{"v":5700,"d":"5,700р."},"Уилл Смит"]
[null,"CL04674","2013-09-12T09:23:29.388","Ноутбук","Север","Малый бизнес",66,"Да",3.5,{"v":3300,"d":"3,300р."},"Джонни Депп"]
[null,"CL04681","2013-09-12T09:36:29.382","Другое","Север","Частные клиенты",70,"Да",{"v":3,"d":"3.0"},{"v":6900,"d":"6,900р."},"Уилл Смит"]
[null,"CL04690","2013-09-12T10:08:32.893","Персональный ПК","Юг","Малый бизнес",92,"Да",{"v":3,"d":"3.0"},0,"Бред Питт"]
[null,"CL04693","2013-09-12T10:17:13.614","Монитор","Центр","Малый бизнес",67,"Да",2.8,{"v":4500,"d":"4,500р."},"Уилл Смит"]
[null,"CL04700","2013-09-12T10:29:35.772","Аксессуары","Юг","Частные клиенты",79,"Да",2.4,0,"Джонни Депп"]
[null,"CL04705","2013-09-12T10:41:49.045","Монитор","Восток","Малый бизнес",72,"Да",2.8,{"v":4500,"d":"4,500р."},"Джонни Депп"]
[null,"CL04711","2013-09-12T10:56:04.554","Персональный ПК","Запад","Некоммерческие",87,"Да",4.5,0,"Уилл Смит"]
[null,"CL04720","2013-09-12T11:18:31.011","Софт","Восток","Некоммерческие",85,"Да",2.5,{"v":5100,"d":"5,100р."},"Джеки Чан"]
[null,"CL04723","2013-09-12T11:24:49.216","Другое","Центр","Некоммерческие",63,"Да",2.7,{"v":7800,"d":"7,800р."},"Уилл Смит"]
[null,"CL04730","2013-09-12T11:38:17.206","Софт","Центр","Некоммерческие",81,"Да",2.4,{"v":6900,"d":"6,900р."},"Уилл Смит"]
[null,"CL04739","2013-09-12T11:58:03.763","Ноутбук","Центр","Частные клиенты",69,"Да",{"v":2,"d":"2.0"},{"v":5700,"d":"5,700р."},"Колин Фаррел"]
[null,"CL04742","2013-09-12T12:10:27.016","Ноутбук","Север","Малый бизнес",86,"Да",3.4,{"v":9900,"d":"9,900р."},"Бред Питт"]
[null,"CL04750","2013-09-12T12:34:57.590","Персональный ПК","Запад","Некоммерческие",67,"Да",2.8,0,"Джонни Депп"]
[null,"CL04753","2013-09-12T12:41:24.574","Другое","Запад","Некоммерческие",76,"Да",2.4,0,"Чак Норрис"]
[null,"CL04760","2013-09-12T12:58:07.714","Персональный ПК","Юг","Частные клиенты",79,"Да",2.8,0,"Джеки Чан"]
[null,"CL04769","2013-09-12T13:27:33.874","Другое","Восток","Корпорация",74,"Да",3.1,0,"Колин Фаррел"]
[null,"CL04772","2013-09-12T13:35:48.422","Ноутбук","Север","Частные клиенты",52,"Да",4.7,{"v":7800,"d":"7,800р."},"Джеки Чан"]
[null,"CL04783","2013-09-12T14:00:54.428","Другое","Север","Корпорация",72,"Да",2.3,0,"Джеки Чан"]
[null,"CL04789","2013-09-12T14:25:50.977","Софт","Центр","Частные клиенты",88,"Да",3.3,{"v":6000,"d":"6,000р."},"Уилл Смит"]
[null,"CL04790","2013-09-12T14:30:53.618","Монитор","Юг","Частные клиенты",62,"Да",1.9,{"v":8700,"d":"8,700р."},"Уилл Смит"]
[null,"CL04799","2013-09-12T14:52:00.107","Персональный ПК","Восток","Некоммерческие",69,"Да",{"v":4,"d":"4.0"},{"v":6600,"d":"6,600р."},"Джонни Депп"]
[null,"CL04802","2013-09-12T14:59:50.567","Аксессуары","Восток","Малый бизнес",91,"Да",2.5,{"v":5700,"d":"5,700р."},"Джеки Чан"]
[null,"CL04813","2013-09-12T15:23:40.205","Ноутбук","Восток","Корпорация",85,"Да",3.8,{"v":5700,"d":"5,700р."},"Уилл Смит"]
[null,"CL04819","2013-09-12T15:37:17.818","Персональный ПК","Север","Частные клиенты",68,"Да",3.3,0,"Джеки Чан"]
[null,"CL04822","2013-09-12T15:49:18.566","Другое","Центр","Частные клиенты",78,"Да",2.7,{"v":6600,"d":"6,600р."},"Чак Норрис"]
[null,"CL04829","2013-09-12T16:06:37.400","Персональный ПК","Север","Частные клиенты",73,"Да",3.9,{"v":6600,"d":"6,600р."},"Джонни Депп"]
[null,"CL04838","2013-09-12T16:34:42.317","Другое","Запад","Частные клиенты",71,"Да",4.1,0,"Бред Питт"]
[null,"CL04839","2013-09-12T16:38:41.943","Другое","Север","Некоммерческие",60,"Да",2.9,{"v":4800,"d":"4,800р."},"Чак Норрис"]
[null,"CL04850","2013-09-12T17:11:57.027","Аксессуары","Центр","Корпорация",59,"Да",2.6,{"v":6900,"d":"6,900р."},"Бред Питт"]
[null,"CL04852","2013-09-12T17:15:15.630","Аксессуары","Запад","Корпорация",66,"Да",3.7,0,"Чак Норрис"]
[null,"CL04859","2013-09-12T17:44:21.525","Аксессуары","Запад","Частные клиенты",76,"Да",3.3,0,"Колин Фаррел"]
[null,"CL04868","2013-09-12T18:11:58.703","Персональный ПК","Север","Малый бизнес",72,"Да",1.7,{"v":8100,"d":"8,100р."},"Джеки Чан"]
[null,"CL04871","2013-09-12T18:22:12.467","Персональный ПК","Центр","Малый бизнес",74,"Да",2.4,0,"Уилл Смит"]
[null,"CL04878","2013-09-12T18:41:50.353","Другое","Восток","Корпорация",78,"Да",2.6,0,"Колин Фаррел"]
[null,"CL04887","2013-09-12T19:03:59.652","Аксессуары","Север","Малый бизнес",80,"Да",3.1,{"v":4200,"d":"4,200р."},"Джонни Депп"]
[null,"CL04889","2013-09-12T19:10:05.841","Аксессуары","Восток","Корпорация",76,"Да",3.4,0,"Колин Фаррел"]
[null,"CL04898","2013-09-12T19:33:56.559","Другое","Центр","Частные клиенты",77,"Да",3.7,0,"Джеки Чан"]
[null,"CL04901","2013-09-12T19:38:06.063","Персональный ПК","Центр","Корпорация",69,"Да",3.2,0,"Чак Норрис"]
[null,"CL04908","2013-09-12T19:58:39.651","Монитор","Запад","Некоммерческие",83,"Нет",2.9,0,"Джонни Депп"]
[null,"CL04917","2013-09-12T20:21:34.692","Аксессуары","Юг","Частные клиенты",61,"Да",3.2,{"v":5700,"d":"5,700р."},"Джонни Депп"]
[null,"CL04921","2013-09-12T20:30:00.181","Аксессуары","Восток","Корпорация",63,"Да",2.9,{"v":7500,"d":"7,500р."},"Уилл Смит"]
[null,"CL04928","2013-09-12T20:47:59.635","Софт","Центр","Частные клиенты",79,"Да",2.3,0,"Колин Фаррел"]
[null,"CL04937","2013-09-12T21:19:57.890","Другое","Восток","Частные клиенты",92,"Да",2.6,{"v":6300,"d":"6,300р."},"Бред Питт"]
[null,"CL04938","2013-09-12T21:22:49.981","Другое","Центр","Частные клиенты",77,"Да",{"v":2,"d":"2.0"},0,"Колин Фаррел"]
[null,"CL04947","2013-09-12T21:51:22.192","Другое","Юг","Малый бизнес",82,"Да",2.8,0,"Колин Фаррел"]
[null,"CL04950","2013-09-12T22:00:48.919","Софт","Восток","Частные клиенты",86,"Да",2.4,0,"Джонни Депп"]
[null,"CL04958","2013-09-13T08:23:09.944","Другое","Центр","Частные клиенты",71,"Да",3.5,{"v":5400,"d":"5,400р."},"Уилл Смит"]
[null,"CL04967","2013-09-13T08:41:58.538","Ноутбук","Центр","Корпорация",66,"Да",3.1,{"v":6900,"d":"6,900р."},"Джонни Депп"]
[null,"CL04974","2013-09-13T09:02:53.329","Монитор","Восток","Некоммерческие",68,"Да",3.5,{"v":6300,"d":"6,300р."},"Бред Питт"]
[null,"CL04977","2013-09-13T09:07:29.544","Другое","Север","Корпорация",75,"Да",2.8,{"v":4800,"d":"4,800р."},"Бред Питт"]
[null,"CL04986","2013-09-13T09:39:18.171","Софт","Восток","Некоммерческие",76,"Да",2.3,{"v":6600,"d":"6,600р."},"Колин Фаррел"]
[null,"CL04987","2013-09-13T09:44:21.218","Монитор","Север","Частные клиенты",78,"Да",{"v":3,"d":"3.0"},{"v":4500,"d":"4,500р."},"Джеки Чан"]
[null,"CL04995","2013-09-13T10:02:46.777","Персональный ПК","Центр","Корпорация",70,"Да",3.4,{"v":3600,"d":"3,600р."},"Чак Норрис"]
[null,"CL05004","2013-09-13T10:28:15.379","Ноутбук","Юг","Частные клиенты",69,"Да",2.2,0,"Уилл Смит"]
[null,"CL05007","2013-09-13T10:37:04.267","Аксессуары","Центр","Малый бизнес",71,"Да",3.9,{"v":6000,"d":"6,000р."},"Джеки Чан"]
[null,"CL05016","2013-09-13T11:03:06.078","Ноутбук","Запад","Частные клиенты",76,"Да",{"v":2,"d":"2.0"},0,"Бред Питт"]
[null,"CL05023","2013-09-13T11:27:11.754","Монитор","Запад","Некоммерческие",76,"Да",3.5,{"v":7200,"d":"7,200р."},"Чак Норрис"]
[null,"CL05026","2013-09-13T11:35:14.608","Софт","Юг","Малый бизнес",80,"Да",2.9,{"v":6900,"d":"6,900р."},"Джеки Чан"]
[null,"CL05032","2013-09-13T11:51:06.153","Монитор","Север","Малый бизнес",63,"Да",3.2,0,"Джонни Депп"]
[null,"CL05037","2013-09-13T12:05:33.787","Ноутбук","Запад","Корпорация",83,"Да",3.1,{"v":5700,"d":"5,700р."},"Джеки Чан"]
[null,"CL05046","2013-09-13T12:22:44.959","Другое","Север","Корпорация",74,"Да",2.4,0,"Бред Питт"]
[null,"CL05053","2013-09-13T12:42:58.749","Аксессуары","Восток","Корпорация",51,"Да",3.3,{"v":4800,"d":"4,800р."},"Бред Питт"]
[null,"CL05056","2013-09-13T12:46:45.927","Персональный ПК","Запад","Малый бизнес",61,"Да",2.9,0,"Джонни Депп"]
[null,"CL05065","2013-09-13T13:14:59.607","Аксессуары","Север","Частные клиенты",78,"Да",3.4,{"v":6000,"d":"6,000р."},"Бред Питт"]
[null,"CL05073","2013-09-13T13:43:16.672","Монитор","Запад","Корпорация",54,"Да",3.2,0,"Колин Фаррел"]
[null,"CL05076","2013-09-13T13:51:05.313","Ноутбук","Центр","Некоммерческие",63,"Да",3.1,{"v":5400,"d":"5,400р."},"Колин Фаррел"]
[null,"CL05085","2013-09-13T14:20:12.410","Аксессуары","Запад","Некоммерческие",69,"Да",2.7,{"v":8100,"d":"8,100р."},"Джеки Чан"]
[null,"CL05086","2013-09-13T14:20:48.783","Софт","Запад","Малый бизнес",90,"Да",2.3,{"v":7200,"d":"7,200р."},"Колин Фаррел"]
[null,"CL05095","2013-09-13T14:38:22.312","Другое","Центр","Частные клиенты",70,"Да",3.4,{"v":5400,"d":"5,400р."},"Бред Питт"]
[null,"CL05102","2013-09-13T14:55:54.871","Монитор","Восток","Корпорация",78,"Да",2.2,{"v":7800,"d":"7,800р."},"Джеки Чан"]
[null,"CL05110","2013-09-13T15:21:52.119","Аксессуары","Центр","Частные клиенты",64,"Да",3.3,0,"Бред Питт"]
[null,"CL05115","2013-09-13T15:40:37.671","Персональный ПК","Север","Корпорация",53,"Да",2.6,{"v":5100,"d":"5,100р."},"Бред Питт"]
[null,"CL05122","2013-09-13T16:02:05.489","Персональный ПК","Юг","Корпорация",84,"Да",{"v":2,"d":"2.0"},{"v":5700,"d":"5,700р."},"Чак Норрис"]
[null,"CL05125","2013-09-13T16:11:01.506","Аксессуары","Центр","Некоммерческие",84,"Да",3.3,{"v":3600,"d":"3,600р."},"Бред Питт"]
[null,"CL05132","2013-09-13T16:28:39.881","Аксессуары","Восток","Некоммерческие",72,"Да",3.7,{"v":8100,"d":"8,100р."},"Джонни Депп"]
[null,"CL05135","2013-09-13T16:35:53.584","Персональный ПК","Центр","Корпорация",68,"Да",3.9,{"v":4500,"d":"4,500р."},"Джеки Чан"]
[null,"CL05147","2013-09-13T17:07:34.748","Аксессуары","Запад","Некоммерческие",85,"Да",3.5,{"v":6600,"d":"6,600р."},"Уилл Смит"]
[null,"CL05152","2013-09-13T17:20:58.616","Аксессуары","Юг","Малый бизнес",73,"Да",2.2,0,"Уилл Смит"]
[null,"CL05155","2013-09-13T17:29:54.235","Персональный ПК","Север","Малый бизнес",79,"Да",3.5,0,"Уилл Смит"]
[null,"CL05164","2013-09-13T17:59:02.750","Ноутбук","Запад","Частные клиенты",72,"Да",2.8,0,"Джонни Депп"]
[null,"CL05171","2013-09-13T18:24:02.839","Софт","Восток","Малый бизнес",82,"Нет",3.2,0,"Чак Норрис"]
[null,"CL05174","2013-09-13T18:34:12.470","Другое","Север","Малый бизнес",71,"Да",1.8,0,"Джеки Чан"]
[null,"CL05181","2013-09-13T18:57:55.274","Персональный ПК","Юг","Частные клиенты",83,"Нет",1.9,0,"Чак Норрис"]
[null,"CL05185","2013-09-13T19:06:36.175","Софт","Восток","Некоммерческие",59,"Да",3.1,0,"Колин Фаррел"]
[null,"CL05194","2013-09-13T19:42:10.722","Другое","Восток","Малый бизнес",76,"Да",3.2,{"v":7800,"d":"7,800р."},"Колин Фаррел"]
[null,"CL05201","2013-09-13T20:06:47.572","Монитор","Север","Частные клиенты",63,"Да",3.4,0,"Джеки Чан"]
[null,"CL05204","2013-09-13T20:10:16.680","Аксессуары","Восток","Некоммерческие",70,"Да",3.2,0,"Джеки Чан"]
[null,"CL05211","2013-09-13T20:28:02.322","Персональный ПК","Восток","Малый бизнес",54,"Да",2.9,{"v":6600,"d":"6,600р."},"Джеки Чан"]
[null,"CL05218","2013-09-13T20:47:03.436","Софт","Восток","Малый бизнес",66,"Да",3.3,0,"Уилл Смит"]
[null,"CL05224","2013-09-13T21:02:57.934","Ноутбук","Запад","Малый бизнес",81,"Да",3.2,{"v":5400,"d":"5,400р."},"Чак Норрис"]
[null,"CL05231","2013-09-13T21:19:57.181","Другое","Центр","Малый бизнес",75,"Да",{"v":3,"d":"3.0"},{"v":9300,"d":"9,300р."},"Джонни Депп"]
[null,"CL05234","2013-09-13T21:31:41.328","Аксессуары","Восток","Частные клиенты",73,"Да",2.9,{"v":5700,"d":"5,700р."},"Бред Питт"]
[null,"CL05243","2013-09-13T22:01:08.204","Персональный ПК","Восток","Частные клиенты",90,"Да",3.2,{"v":3300,"d":"3,300р."},"Чак Норрис"]
[null,"CL05250","2013-09-14T08:21:28.541","Ноутбук","Юг","Некоммерческие",82,"Да",2.3,{"v":6000,"d":"6,000р."},"Бред Питт"]
[null,"CL05255","2013-09-14T08:37:34.681","Ноутбук","Север","Малый бизнес",69,"Да",{"v":3,"d":"3.0"},{"v":6600,"d":"6,600р."},"Бред Питт"]
[null,"CL05261","2013-09-14T08:47:28.391","Другое","Север","Частные клиенты",83,"Да",3.1,0,"Джеки Чан"]
[null,"CL05270","2013-09-14T09:15:00.449","Монитор","Запад","Некоммерческие",74,"Да",3.4,{"v":5700,"d":"5,700р."},"Джеки Чан"]
[null,"CL05273","2013-09-14T09:27:45.481","Аксессуары","Восток","Корпорация",80,"Да",3.1,0,"Джеки Чан"]
[null,"CL05280","2013-09-14T09:54:55.987","Аксессуары","Север","Некоммерческие",66,"Да",3.4,{"v":6300,"d":"6,300р."},"Джеки Чан"]
[null,"CL05283","2013-09-14T10:01:33.220","Персональный ПК","Центр","Корпорация",83,"Да",2.9,0,"Джонни Депп"]
[null,"CL05292","2013-09-14T10:33:55.746","Другое","Юг","Малый бизнес",85,"Да",3.3,{"v":6900,"d":"6,900р."},"Уилл Смит"]
[null,"CL05300","2013-09-14T10:56:54.508","Персональный ПК","Запад","Малый бизнес",78,"Да",2.3,0,"Чак Норрис"]
[null,"CL05303","2013-09-14T11:07:45.219","Аксессуары","Север","Корпорация",74,"Да",{"v":3,"d":"3.0"},{"v":4800,"d":"4,800р."},"Чак Норрис"]
[null,"CL05310","2013-09-14T11:34:30.289","Ноутбук","Юг","Корпорация",80,"Да",2.7,{"v":5700,"d":"5,700р."},"Уилл Смит"]
[null,"CL05319","2013-09-14T11:52:11.366","Софт","Запад","Частные клиенты",79,"Да",3.2,0,"Джеки Чан"]
[null,"CL05322","2013-09-14T12:01:52.313","Персональный ПК","Восток","Некоммерческие",68,"Да",2.3,{"v":4500,"d":"4,500р."},"Уилл Смит"]
[null,"CL05326","2013-09-14T12:18:50.209","Другое","Юг","Некоммерческие",69,"Да",{"v":3,"d":"3.0"},{"v":4800,"d":"4,800р."},"Чак Норрис"]
[null,"CL05333","2013-09-14T12:46:18.588","Монитор","Север","Малый бизнес",73,"Да",3.2,{"v":3000,"d":"3,000р."},"Колин Фаррел"]
[null,"CL05340","2013-09-14T13:06:38.250","Ноутбук","Юг","Малый бизнес",67,"Нет",2.5,{"v":6000,"d":"6,000р."},"Уилл Смит"]
[null,"CL05349","2013-09-14T13:33:51.176","Ноутбук","Восток","Частные клиенты",85,"Да",3.2,0,"Бред Питт"]
[null,"CL05352","2013-09-14T13:40:03.823","Софт","Запад","Некоммерческие",88,"Нет",2.7,{"v":7500,"d":"7,500р."},"Бред Питт"]
[null,"CL05363","2013-09-14T14:11:29.058","Монитор","Запад","Частные клиенты",79,"Да",3.9,{"v":5400,"d":"5,400р."},"Колин Фаррел"]
[null,"CL05369","2013-09-14T14:28:29.162","Софт","Запад","Корпорация",72,"Да",3.3,0,"Джеки Чан"]
[null,"CL05372","2013-09-14T14:34:50.117","Персональный ПК","Запад","Некоммерческие",77,"Да",2.8,0,"Колин Фаррел"]
[null,"CL05379","2013-09-14T14:56:25.247","Софт","Запад","Некоммерческие",80,"Да",2.6,{"v":5400,"d":"5,400р."},"Чак Норрис"]
[null,"CL05382","2013-09-14T15:06:50.252","Ноутбук","Юг","Корпорация",79,"Нет",3.8,0,"Уилл Смит"]
[null,"CL05389","2013-09-14T15:32:33.030","Другое","Юг","Малый бизнес",86,"Да",3.1,{"v":5400,"d":"5,400р."},"Бред Питт"]
[null,"CL05400","2013-09-14T16:05:02.143","Ноутбук","Юг","Малый бизнес",79,"Да",2.7,0,"Чак Норрис"]
[null,"CL05402","2013-09-14T16:10:58.054","Аксессуары","Восток","Малый бизнес",76,"Да",3.3,0,"Чак Норрис"]
[null,"CL05409","2013-09-14T16:36:07.056","Ноутбук","Запад","Корпорация",76,"Да",2.9,{"v":6900,"d":"6,900р."},"Джонни Депп"]
[null,"CL05418","2013-09-14T17:09:54.254","Ноутбук","Юг","Частные клиенты",66,"Да",2.9,{"v":7500,"d":"7,500р."},"Джонни Депп"]
[null,"CL05421","2013-09-14T17:17:20.859","Ноутбук","Юг","Некоммерческие",86,"Да",3.7,{"v":6000,"d":"6,000р."},"Колин Фаррел"]
[null,"CL05428","2013-09-14T17:38:00.181","Софт","Юг","Частные клиенты",66,"Да",3.3,{"v":5700,"d":"5,700р."},"Колин Фаррел"]
[null,"CL05437","2013-09-14T18:08:58.013","Монитор","Запад","Корпорация",71,"Да",3.8,{"v":6000,"d":"6,000р."},"Джеки Чан"]
[null,"CL05439","2013-09-14T18:14:04.640","Софт","Восток","Малый бизнес",76,"Да",3.7,0,"Колин Фаррел"]
[null,"CL05448","2013-09-14T18:34:36.012","Софт","Север","Частные клиенты",80,"Да",3.3,0,"Джеки Чан"]
[null,"CL05451","2013-09-14T18:41:12.987","Персональный ПК","Юг","Корпорация",72,"Да",{"v":3,"d":"3.0"},{"v":6300,"d":"6,300р."},"Бред Питт"]
[null,"CL05458","2013-09-14T19:00:15.330","Другое","Запад","Корпорация",73,"Да",3.1,0,"Джеки Чан"]
[null,"CL05467","2013-09-14T19:35:30.708","Монитор","Восток","Некоммерческие",70,"Да",{"v":3,"d":"3.0"},0,"Бред Питт"]
[null,"CL05471","2013-09-14T19:46:17.419","Монитор","Север","Малый бизнес",68,"Да",3.1,{"v":5400,"d":"5,400р."},"Уилл Смит"]
[null,"CL05478","2013-09-14T20:01:53.906","Персональный ПК","Юг","Некоммерческие",84,"Да",3.8,{"v":5100,"d":"5,100р."},"Уилл Смит"]
[null,"CL05481","2013-09-14T20:08:53.174","Персональный ПК","Центр","Малый бизнес",70,"Да",3.2,0,"Бред Питт"]
[null,"CL05488","2013-09-14T20:29:22.384","Аксессуары","Север","Некоммерческие",72,"Да",3.8,0,"Чак Норрис"]
[null,"CL05497","2013-09-14T21:00:02.675","Другое","Восток","Корпорация",82,"Да",2.9,0,"Уилл Смит"]
[null,"CL05500","2013-09-14T21:11:03.771","Софт","Запад","Малый бизнес",85,"Да",3.5,{"v":5100,"d":"5,100р."},"Колин Фаррел"]
[null,"CL05508","2013-09-14T21:36:40.942","Персональный ПК","Восток","Некоммерческие",65,"Да",3.6,0,"Колин Фаррел"]
[null,"CL05517","2013-09-15T08:08:24.576","Персональный ПК","Юг","Малый бизнес",74,"Да",2.3,0,"Бред Питт"]
[null,"CL05518","2013-09-15T08:12:18.410","Персональный ПК","Юг","Малый бизнес",79,"Да",3.5,{"v":4800,"d":"4,800р."},"Колин Фаррел"]
[null,"CL05527","2013-09-15T08:40:52.514","Аксессуары","Запад","Некоммерческие",76,"Нет",2.9,{"v":6600,"d":"6,600р."},"Чак Норрис"]
[null,"CL05530","2013-09-15T08:44:16.118","Персональный ПК","Восток","Малый бизнес",79,"Да",2.4,{"v":7200,"d":"7,200р."},"Бред Питт"]
[null,"CL05537","2013-09-15T09:07:05.932","Другое","Восток","Частные клиенты",74,"Да",3.1,0,"Колин Фаррел"]
[null,"CL05545","2013-09-15T09:31:29.345","Софт","Север","Частные клиенты",68,"Да",3.4,{"v":4500,"d":"4,500р."},"Джонни Депп"]
[null,"CL05554","2013-09-15T10:01:36.712","Другое","Север","Частные клиенты",67,"Нет",2.6,{"v":6300,"d":"6,300р."},"Джонни Депп"]
[null,"CL05557","2013-09-15T10:10:44.259","Ноутбук","Запад","Корпорация",75,"Да",3.2,{"v":4800,"d":"4,800р."},"Уилл Смит"]
[null,"CL05566","2013-09-15T10:33:14.828","Аксессуары","Запад","Малый бизнес",74,"Да",2.9,{"v":7200,"d":"7,200р."},"Уилл Смит"]
[null,"CL05567","2013-09-15T10:34:56.025","Ноутбук","Юг","Корпорация",90,"Да",3.2,{"v":4500,"d":"4,500р."},"Джонни Депп"]
[null,"CL05576","2013-09-15T11:03:03.532","Персональный ПК","Юг","Корпорация",69,"Нет",3.7,0,"Джеки Чан"]
[null,"CL05582","2013-09-15T11:20:45.051","Другое","Юг","Частные клиенты",65,"Да",3.2,0,"Джеки Чан"]
[null,"CL05587","2013-09-15T11:34:53.336","Софт","Север","Частные клиенты",67,"Да",{"v":3,"d":"3.0"},{"v":4200,"d":"4,200р."},"Уилл Смит"]
[null,"CL05596","2013-09-15T12:05:42.208","Ноутбук","Север","Частные клиенты",94,"Да",{"v":3,"d":"3.0"},{"v":5400,"d":"5,400р."},"Бред Питт"]
[null,"CL05603","2013-09-15T12:26:14.609","Персональный ПК","Запад","Некоммерческие",75,"Да",3.2,{"v":3900,"d":"3,900р."},"Джеки Чан"]
[null,"CL05606","2013-09-15T12:41:00.955","Персональный ПК","Юг","Некоммерческие",64,"Да",{"v":3,"d":"3.0"},{"v":4200,"d":"4,200р."},"Чак Норрис"]
[null,"CL05615","2013-09-15T13:02:11.227","Софт","Восток","Частные клиенты",64,"Да",{"v":3,"d":"3.0"},{"v":6600,"d":"6,600р."},"Чак Норрис"]
[null,"CL05616","2013-09-15T13:05:04.003","Софт","Запад","Некоммерческие",79,"Да",2.7,0,"Бред Питт"]
[null,"CL05626","2013-09-15T13:33:39.741","Другое","Восток","Корпорация",88,"Да",1.9,{"v":6300,"d":"6,300р."},"Джонни Депп"]
[null,"CL05629","2013-09-15T13:41:03.638","Софт","Запад","Некоммерческие",72,"Да",3.4,0,"Колин Фаррел"]
[null,"CL05636","2013-09-15T13:59:52.676","Другое","Юг","Корпорация",64,"Да",3.4,0,"Джонни Депп"]
[null,"CL05645","2013-09-15T14:19:40.997","Аксессуары","Запад","Корпорация",83,"Да",3.4,0,"Колин Фаррел"]
[null,"CL05652","2013-09-15T14:41:12.060","Другое","Центр","Частные клиенты",92,"Да",2.6,{"v":7200,"d":"7,200р."},"Бред Питт"]
[null,"CL05653","2013-09-15T14:43:10.427","Другое","Запад","Частные клиенты",84,"Да",3.1,{"v":5700,"d":"5,700р."},"Уилл Смит"]
[null,"CL05665","2013-09-15T15:26:18.410","Персональный ПК","Восток","Корпорация",80,"Да",3.3,{"v":5700,"d":"5,700р."},"Чак Норрис"]
[null,"CL05666","2013-09-15T15:29:52.097","Персональный ПК","Север","Частные клиенты",58,"Да",2.6,{"v":8100,"d":"8,100р."},"Колин Фаррел"]
[null,"CL05675","2013-09-15T15:52:42.098","Аксессуары","Центр","Малый бизнес",71,"Да",3.4,{"v":7500,"d":"7,500р."},"Джонни Депп"]
[null,"CL05682","2013-09-15T16:12:51.865","Монитор","Север","Частные клиенты",55,"Да",2.9,{"v":6900,"d":"6,900р."},"Чак Норрис"]
[null,"CL05685","2013-09-15T16:21:37.005","Персональный ПК","Центр","Малый бизнес",83,"Да",2.3,{"v":6000,"d":"6,000р."},"Уилл Смит"]
[null,"CL05690","2013-09-15T16:44:27.458","Ноутбук","Юг","Малый бизнес",79,"Да",3.6,{"v":4200,"d":"4,200р."},"Джеки Чан"]
[null,"CL05702","2013-09-15T17:11:17.277","Персональный ПК","Центр","Малый бизнес",69,"Да",2.4,0,"Джонни Депп"]
[null,"CL05705","2013-09-15T17:24:07.790","Ноутбук","Центр","Корпорация",82,"Да",1.9,0,"Колин Фаррел"]
[null,"CL05714","2013-09-15T17:53:20.563","Другое","Восток","Некоммерческие",90,"Да",2.1,{"v":3000,"d":"3,000р."},"Колин Фаррел"]
[null,"CL05715","2013-09-15T17:56:31.579","Другое","Восток","Корпорация",80,"Да",2.8,{"v":6600,"d":"6,600р."},"Уилл Смит"]
[null,"CL05724","2013-09-15T18:13:28.520","Софт","Центр","Частные клиенты",66,"Да",2.6,{"v":6300,"d":"6,300р."},"Бред Питт"]
[null,"CL05731","2013-09-15T18:33:38.011","Монитор","Запад","Корпорация",79,"Да",3.4,{"v":10200,"d":"10,200р."},"Джеки Чан"]
[null,"CL05735","2013-09-15T18:47:28.182","Другое","Восток","Корпорация",90,"Да",3.1,{"v":6300,"d":"6,300р."},"Уилл Смит"]
[null,"CL05744","2013-09-15T19:20:21.671","Ноутбук","Центр","Малый бизнес",81,"Да",3.4,{"v":7500,"d":"7,500р."},"Бред Питт"]
[null,"CL05751","2013-09-15T19:46:28.863","Ноутбук","Запад","Малый бизнес",73,"Да",2.2,0,"Джеки Чан"]
[null,"CL05754","2013-09-15T20:00:00.665","Ноутбук","Запад","Частные клиенты",84,"Да",2.9,{"v":6300,"d":"6,300р."},"Джонни Депп"]
[null,"CL05763","2013-09-15T20:30:22.632","Софт","Восток","Некоммерческие",76,"Да",3.2,{"v":7500,"d":"7,500р."},"Бред Питт"]
[null,"CL05768","2013-09-15T20:45:37.998","Ноутбук","Центр","Некоммерческие",75,"Да",2.8,{"v":8700,"d":"8,700р."},"Джонни Депп"]
[null,"CL05774","2013-09-15T20:57:12.109","Монитор","Восток","Корпорация",80,"Да",2.7,{"v":6000,"d":"6,000р."},"Бред Питт"]
[null,"CL05781","2013-09-15T21:15:33.096","Другое","Север","Некоммерческие",66,"Да",3.2,{"v":5100,"d":"5,100р."},"Джонни Депп"]
[null,"CL05784","2013-09-15T21:24:10.494","Персональный ПК","Север","Частные клиенты",88,"Да",3.6,{"v":4200,"d":"4,200р."},"Бред Питт"]
[null,"CL05793","2013-09-15T21:42:38.702","Ноутбук","Юг","Частные клиенты",75,"Да",3.3,{"v":6900,"d":"6,900р."},"Колин Фаррел"]
[null,"CL05800","2013-09-16T08:12:21.491","Другое","Запад","Корпорация",77,"Да",2.8,{"v":7500,"d":"7,500р."},"Джеки Чан"]
[null,"CL05805","2013-09-16T08:26:53.314","Аксессуары","Восток","Некоммерческие",73,"Да",3.4,0,"Уилл Смит"]
[null,"CL05811","2013-09-16T08:34:23.654","Софт","Юг","Некоммерческие",71,"Да",{"v":3,"d":"3.0"},{"v":5400,"d":"5,400р."},"Бред Питт"]
[null,"CL05814","2013-09-16T08:44:30.777","Монитор","Юг","Малый бизнес",82,"Да",3.1,0,"Джеки Чан"]
[null,"CL05823","2013-09-16T09:09:41.700","Аксессуары","Центр","Корпорация",73,"Да",3.2,0,"Бред Питт"]
[null,"CL05830","2013-09-16T09:24:53.026","Софт","Центр","Некоммерческие",69,"Да",2.5,0,"Уилл Смит"]
[null,"CL05833","2013-09-16T09:39:25.551","Аксессуары","Юг","Корпорация",64,"Да",3.2,0,"Бред Питт"]
[null,"CL05842","2013-09-16T10:02:38.795","Персональный ПК","Восток","Некоммерческие",58,"Да",2.5,0,"Чак Норрис"]
[null,"CL05850","2013-09-16T10:25:18.429","Персональный ПК","Юг","Корпорация",69,"Да",3.9,0,"Чак Норрис"]
[null,"CL05853","2013-09-16T10:36:39.345","Софт","Юг","Некоммерческие",78,"Да",2.4,0,"Бред Питт"]
[null,"CL05860","2013-09-16T11:04:20.421","Аксессуары","Юг","Корпорация",77,"Да",{"v":2,"d":"2.0"},0,"Чак Норрис"]
[null,"CL05863","2013-09-16T11:08:18.896","Персональный ПК","Север","Частные клиенты",70,"Да",3.2,{"v":6000,"d":"6,000р."},"Джонни Депп"]
[null,"CL05872","2013-09-16T11:41:07.192","Софт","Север","Корпорация",83,"Да",{"v":3,"d":"3.0"},{"v":5400,"d":"5,400р."},"Бред Питт"]
[null,"CL05876","2013-09-16T11:57:01.537","Персональный ПК","Центр","Корпорация",77,"Да",2.7,0,"Чак Норрис"]
[null,"CL05883","2013-09-16T12:23:28.390","Персональный ПК","Юг","Малый бизнес",70,"Да",3.6,0,"Колин Фаррел"]
[null,"CL05890","2013-09-16T12:44:57.712","Персональный ПК","Север","Некоммерческие",86,"Нет",3.8,0,"Чак Норрис"]
[null,"CL05899","2013-09-16T13:14:08.591","Аксессуары","Юг","Малый бизнес",82,"Да",3.6,0,"Джонни Депп"]
[null,"CL05902","2013-09-16T13:24:40.051","Аксессуары","Запад","Частные клиенты",83,"Да",4.1,{"v":3600,"d":"3,600р."},"Джонни Депп"]
[null,"CL05909","2013-09-16T13:42:12.448","Аксессуары","Запад","Частные клиенты",62,"Да",3.1,0,"Джонни Депп"]
[null,"CL05913","2013-09-16T13:49:18.626","Аксессуары","Юг","Частные клиенты",70,"Да",3.7,0,"Колин Фаррел"]
[null,"CL05922","2013-09-16T14:03:00.581","Персональный ПК","Центр","Некоммерческие",80,"Да",2.4,{"v":6000,"d":"6,000р."},"Уилл Смит"]
[null,"CL05929","2013-09-16T14:28:46.560","Монитор","Север","Корпорация",75,"Да",2.9,0,"Джонни Депп"]
[null,"CL05932","2013-09-16T14:34:04.224","Аксессуары","Центр","Малый бизнес",72,"Да",3.4,0,"Джонни Депп"]
[null,"CL05939","2013-09-16T14:56:09.861","Персональный ПК","Запад","Некоммерческие",72,"Да",2.3,{"v":5100,"d":"5,100р."},"Бред Питт"]
[null,"CL05943","2013-09-16T15:10:36.716","Персональный ПК","Юг","Частные клиенты",65,"Да",1.8,0,"Чак Норрис"]
[null,"CL05952","2013-09-16T15:35:46.132","Другое","Восток","Частные клиенты",84,"Да",2.6,{"v":4500,"d":"4,500р."},"Бред Питт"]
[null,"CL05959","2013-09-16T15:54:55.582","Персональный ПК","Восток","Корпорация",58,"Да",1.9,{"v":6300,"d":"6,300р."},"Колин Фаррел"]
[null,"CL05962","2013-09-16T15:57:13.394","Ноутбук","Восток","Некоммерческие",73,"Да",2.1,{"v":5100,"d":"5,100р."},"Уилл Смит"]
[null,"CL05971","2013-09-16T16:33:22.585","Другое","Восток","Некоммерческие",64,"Да",2.8,0,"Джеки Чан"]
[null,"CL05978","2013-09-16T16:46:38.623","Софт","Запад","Малый бизнес",72,"Да",3.3,0,"Колин Фаррел"]
[null,"CL05980","2013-09-16T16:49:28.623","Ноутбук","Север","Частные клиенты",79,"Да",3.7,0,"Джеки Чан"]
[null,"CL05989","2013-09-16T17:21:20.427","Монитор","Юг","Малый бизнес",73,"Да",3.7,0,"Колин Фаррел"]
[null,"CL05998","2013-09-16T17:51:55.414","Софт","Север","Некоммерческие",81,"Да",2.5,0,"Джеки Чан"]
[null,"CL06001","2013-09-16T17:59:16.959","Ноутбук","Юг","Корпорация",89,"Да",3.6,{"v":7500,"d":"7,500р."},"Джонни Депп"]
[null,"CL06008","2013-09-16T18:24:42.867","Ноутбук","Центр","Частные клиенты",76,"Да",2.7,{"v":6600,"d":"6,600р."},"Чак Норрис"]
[null,"CL06011","2013-09-16T18:34:47.909","Монитор","Север","Корпорация",87,"Да",2.7,{"v":7500,"d":"7,500р."},"Джеки Чан"]
[null,"CL06021","2013-09-16T19:02:48.759","Монитор","Юг","Частные клиенты",79,"Да",2.3,{"v":5700,"d":"5,700р."},"Бред Питт"]
[null,"CL06028","2013-09-16T19:29:16.238","Софт","Запад","Некоммерческие",88,"Да",3.1,{"v":7200,"d":"7,200р."},"Джонни Депп"]
[null,"CL06031","2013-09-16T19:38:38.639","Монитор","Центр","Частные клиенты",80,"Да",4.3,{"v":4500,"d":"4,500р."},"Джеки Чан"]
[null,"CL06038","2013-09-16T20:00:08.403","Монитор","Юг","Некоммерческие",67,"Да",3.4,{"v":5100,"d":"5,100р."},"Чак Норрис"]
[null,"CL06047","2013-09-16T20:31:25.226","Монитор","Восток","Некоммерческие",66,"Да",{"v":3,"d":"3.0"},{"v":6300,"d":"6,300р."},"Колин Фаррел"]
[null,"CL06050","2013-09-16T20:40:40.360","Софт","Запад","Малый бизнес",68,"Нет",3.7,0,"Джеки Чан"]
[null,"CL06058","2013-09-16T20:57:30.297","Ноутбук","Юг","Корпорация",68,"Да",2.5,{"v":5400,"d":"5,400р."},"Бред Питт"]
[null,"CL06061","2013-09-16T21:07:48.294","Софт","Центр","Корпорация",71,"Да",3.6,0,"Бред Питт"]
[null,"CL06068","2013-09-16T21:27:19.536","Софт","Юг","Некоммерческие",58,"Да",3.3,0,"Джонни Депп"]
[null,"CL06077","2013-09-16T22:01:02.244","Софт","Центр","Корпорация",75,"Да",2.6,0,"Джеки Чан"]
[null,"CL06080","2013-09-17T08:10:11.010","Другое","Восток","Малый бизнес",78,"Да",3.1,{"v":4500,"d":"4,500р."},"Чак Норрис"]
[null,"CL06087","2013-09-17T08:34:29.394","Другое","Запад","Малый бизнес",84,"Да",3.4,0,"Колин Фаррел"]
[null,"CL06095","2013-09-17T08:58:41.744","Другое","Восток","Частные клиенты",68,"Да",3.5,0,"Уилл Смит"]
[null,"CL06098","2013-09-17T09:10:06.331","Аксессуары","Восток","Малый бизнес",86,"Да",{"v":2,"d":"2.0"},0,"Джонни Депп"]
[null,"CL06107","2013-09-17T09:40:14.655","Монитор","Восток","Малый бизнес",70,"Да",2.8,{"v":5100,"d":"5,100р."},"Чак Норрис"]
[null,"CL06110","2013-09-17T09:47:39.224","Ноутбук","Центр","Корпорация",65,"Нет",3.3,0,"Чак Норрис"]
[null,"CL06117","2013-09-17T10:09:56.761","Аксессуары","Север","Корпорация",73,"Да",1.8,{"v":8100,"d":"8,100р."},"Джонни Депп"]
[null,"CL06126","2013-09-17T10:30:59.321","Ноутбук","Юг","Некоммерческие",81,"Да",2.7,{"v":8400,"d":"8,400р."},"Джеки Чан"]
[null,"CL06132","2013-09-17T10:42:31.139","Аксессуары","Запад","Малый бизнес",66,"Да",2.3,{"v":4800,"d":"4,800р."},"Джеки Чан"]
[null,"CL06137","2013-09-17T10:58:55.338","Монитор","Центр","Корпорация",79,"Да",{"v":4,"d":"4.0"},{"v":4800,"d":"4,800р."},"Джеки Чан"]
[null,"CL06146","2013-09-17T11:29:03.168","Аксессуары","Юг","Некоммерческие",90,"Да",3.2,{"v":6300,"d":"6,300р."},"Уилл Смит"]
[null,"CL06147","2013-09-17T11:30:26.924","Другое","Центр","Малый бизнес",73,"Да",3.6,0,"Джеки Чан"]
[null,"CL06156","2013-09-17T11:52:14.187","Софт","Север","Малый бизнес",64,"Да",2.3,{"v":6300,"d":"6,300р."},"Уилл Смит"]
[null,"CL06159","2013-09-17T11:59:07.503","Софт","Восток","Частные клиенты",72,"Да",3.2,0,"Джонни Депп"]
[null,"CL06166","2013-09-17T12:26:32.201","Персональный ПК","Север","Частные клиенты",84,"Да",2.2,0,"Джеки Чан"]
[null,"CL06176","2013-09-17T13:00:27.865","Софт","Север","Частные клиенты",61,"Да",3.1,0,"Колин Фаррел"]
[null,"CL06179","2013-09-17T13:10:02.732","Другое","Юг","Некоммерческие",70,"Да",3.2,0,"Колин Фаррел"]
[null,"CL06186","2013-09-17T13:28:11.548","Софт","Запад","Некоммерческие",61,"Да",{"v":3,"d":"3.0"},{"v":5700,"d":"5,700р."},"Бред Питт"]
[null,"CL06195","2013-09-17T13:55:18.502","Аксессуары","Север","Корпорация",79,"Да",2.5,{"v":4500,"d":"4,500р."},"Джонни Депп"]
[null,"CL06196","2013-09-17T13:56:46.795","Монитор","Восток","Корпорация",74,"Да",2.5,{"v":5700,"d":"5,700р."},"Уилл Смит"]
[null,"CL06203","2013-09-17T14:19:56.797","Другое","Юг","Корпорация",74,"Да",3.3,{"v":8700,"d":"8,700р."},"Бред Питт"]
[null,"CL06209","2013-09-17T14:38:34.274","Аксессуары","Запад","Некоммерческие",82,"Да",2.5,{"v":6900,"d":"6,900р."},"Уилл Смит"]
[null,"CL06216","2013-09-17T15:00:17.558","Монитор","Юг","Малый бизнес",71,"Да",2.8,0,"Джеки Чан"]
[null,"CL06225","2013-09-17T15:14:24.224","Ноутбук","Центр","Малый бизнес",79,"Да",2.9,{"v":7500,"d":"7,500р."},"Чак Норрис"]
[null,"CL06232","2013-09-17T15:35:20.735","Софт","Север","Малый бизнес",88,"Да",2.5,{"v":5100,"d":"5,100р."},"Уилл Смит"]
[null,"CL06235","2013-09-17T15:45:24.378","Ноутбук","Восток","Малый бизнес",71,"Да",3.3,0,"Джонни Депп"]
[null,"CL06240","2013-09-17T16:04:30.667","Аксессуары","Восток","Корпорация",70,"Да",3.8,{"v":9000,"d":"9,000р."},"Джеки Чан"]
[null,"CL06246","2013-09-17T16:14:48.559","Ноутбук","Север","Малый бизнес",66,"Да",3.3,{"v":6000,"d":"6,000р."},"Бред Питт"]
[null,"CL06255","2013-09-17T16:31:35.953","Другое","Север","Малый бизнес",80,"Да",2.6,0,"Уилл Смит"]
[null,"CL06258","2013-09-17T16:37:29.469","Ноутбук","Центр","Частные клиенты",71,"Да",2.9,{"v":6300,"d":"6,300р."},"Бред Питт"]
[null,"CL06265","2013-09-17T16:54:59.623","Монитор","Центр","Корпорация",93,"Да",3.2,{"v":4800,"d":"4,800р."},"Джеки Чан"]
[null,"CL06274","2013-09-17T17:22:29.155","Ноутбук","Центр","Некоммерческие",79,"Да",{"v":3,"d":"3.0"},0,"Чак Норрис"]
[null,"CL06281","2013-09-17T17:30:58.113","Ноутбук","Центр","Частные клиенты",81,"Да",2.4,{"v":6300,"d":"6,300р."},"Бред Питт"]
[null,"CL06285","2013-09-17T17:44:09.829","Ноутбук","Юг","Некоммерческие",68,"Да",{"v":3,"d":"3.0"},0,"Джонни Депп"]
[null,"CL06294","2013-09-17T18:05:54.450","Другое","Запад","Корпорация",65,"Да",2.6,{"v":5400,"d":"5,400р."},"Джонни Депп"]
[null,"CL06295","2013-09-17T18:07:41.391","Ноутбук","Север","Некоммерческие",76,"Да",3.5,{"v":5400,"d":"5,400р."},"Бред Питт"]
[null,"CL06304","2013-09-17T18:29:42.071","Монитор","Запад","Частные клиенты",73,"Да",2.8,{"v":8100,"d":"8,100р."},"Бред Питт"]
[null,"CL06307","2013-09-17T18:36:45.158","Монитор","Восток","Корпорация",75,"Да",3.4,{"v":7500,"d":"7,500р."},"Бред Питт"]
[null,"CL06318","2013-09-17T19:05:48.719","Ноутбук","Восток","Некоммерческие",66,"Да",2.7,0,"Уилл Смит"]
[null,"CL06324","2013-09-17T19:20:17.034","Монитор","Запад","Корпорация",53,"Да",2.7,{"v":5700,"d":"5,700р."},"Бред Питт"]
[null,"CL06331","2013-09-17T19:49:41.560","Монитор","Юг","Некоммерческие",83,"Да",3.2,{"v":6600,"d":"6,600р."},"Джонни Депп"]
[null,"CL06334","2013-09-17T20:04:43.004","Ноутбук","Юг","Корпорация",80,"Да",2.1,0,"Бред Питт"]
[null,"CL06343","2013-09-17T20:28:28.857","Ноутбук","Юг","Корпорация",66,"Да",2.7,{"v":7500,"d":"7,500р."},"Уилл Смит"]
[null,"CL06344","2013-09-17T20:33:59.392","Софт","Центр","Корпорация",83,"Да",2.6,{"v":4800,"d":"4,800р."},"Джонни Депп"]
[null,"CL06355","2013-09-17T21:14:32.467","Софт","Юг","Малый бизнес",79,"Да",2.8,{"v":6000,"d":"6,000р."},"Джонни Депп"]
[null,"CL06361","2013-09-17T21:31:01.273","Аксессуары","Центр","Корпорация",80,"Да",{"v":3,"d":"3.0"},0,"Уилл Смит"]
[null,"CL06364","2013-09-17T21:34:44.412","Персональный ПК","Восток","Корпорация",77,"Да",2.9,0,"Бред Питт"]
[null,"CL06373","2013-09-17T21:52:56.438","Персональный ПК","Север","Некоммерческие",84,"Да",3.3,0,"Джонни Депп"]
[null,"CL06380","2013-09-18T08:11:18.689","Монитор","Центр","Корпорация",89,"Да",3.9,{"v":6600,"d":"6,600р."},"Колин Фаррел"]
[null,"CL06383","2013-09-18T08:11:48.331","Монитор","Центр","Частные клиенты",63,"Нет",2.8,0,"Уилл Смит"]
[null,"CL06392","2013-09-18T08:35:02.959","Другое","Восток","Малый бизнес",66,"Да",2.9,{"v":6300,"d":"6,300р."},"Джонни Депп"]
[null,"CL06394","2013-09-18T08:45:32.129","Монитор","Юг","Некоммерческие",64,"Да",2.3,0,"Бред Питт"]
[null,"CL06403","2013-09-18T09:13:35.936","Аксессуары","Центр","Малый бизнес",75,"Да",3.1,{"v":6300,"d":"6,300р."},"Уилл Смит"]
[null,"CL06410","2013-09-18T09:32:58.831","Другое","Север","Частные клиенты",63,"Да",3.3,{"v":5400,"d":"5,400р."},"Уилл Смит"]
[null,"CL06413","2013-09-18T09:44:07.384","Ноутбук","Север","Некоммерческие",84,"Да",2.8,{"v":5700,"d":"5,700р."},"Бред Питт"]
[null,"CL06422","2013-09-18T10:06:06.536","Софт","Восток","Малый бизнес",69,"Да",3.3,{"v":3300,"d":"3,300р."},"Бред Питт"]
[null,"CL06426","2013-09-18T10:16:49.874","Другое","Север","Малый бизнес",75,"Да",3.4,{"v":5100,"d":"5,100р."},"Уилл Смит"]
[null,"CL06433","2013-09-18T10:40:13.558","Аксессуары","Запад","Некоммерческие",74,"Да",3.2,{"v":5100,"d":"5,100р."},"Колин Фаррел"]
[null,"CL06440","2013-09-18T11:00:02.224","Персональный ПК","Восток","Корпорация",75,"Да",3.5,0,"Бред Питт"]
[null,"CL06443","2013-09-18T11:09:01.627","Персональный ПК","Восток","Частные клиенты",80,"Нет",2.4,{"v":4500,"d":"4,500р."},"Джеки Чан"]
[null,"CL06452","2013-09-18T11:29:24.293","Персональный ПК","Юг","Корпорация",59,"Да",{"v":3,"d":"3.0"},{"v":5700,"d":"5,700р."},"Джеки Чан"]
[null,"CL06459","2013-09-18T11:52:49.185","Персональный ПК","Центр","Частные клиенты",78,"Да",2.4,0,"Джонни Депп"]
[null,"CL06463","2013-09-18T12:05:07.649","Софт","Центр","Малый бизнес",59,"Да",2.8,{"v":9300,"d":"9,300р."},"Джонни Депп"]
[null,"CL06472","2013-09-18T12:31:33.028","Другое","Север","Некоммерческие",70,"Да",2.7,{"v":4200,"d":"4,200р."},"Чак Норрис"]
[null,"CL06479","2013-09-18T12:51:27.743","Ноутбук","Север","Малый бизнес",85,"Да",3.3,0,"Уилл Смит"]
[null,"CL06482","2013-09-18T12:58:30.998","Аксессуары","Запад","Некоммерческие",88,"Да",2.7,{"v":7200,"d":"7,200р."},"Уилл Смит"]
[null,"CL06489","2013-09-18T13:17:46.703","Монитор","Центр","Малый бизнес",75,"Да",2.8,0,"Джеки Чан"]
[null,"CL06493","2013-09-18T13:32:00.729","Аксессуары","Центр","Частные клиенты",80,"Да",2.2,0,"Уилл Смит"]
[null,"CL06502","2013-09-18T14:05:24.416","Персональный ПК","Юг","Частные клиенты",65,"Да",2.6,{"v":8100,"d":"8,100р."},"Колин Фаррел"]
[null,"CL06509","2013-09-18T14:24:58.709","Другое","Юг","Частные клиенты",80,"Да",3.5,0,"Бред Питт"]
[null,"CL06512","2013-09-18T14:36:10.875","Аксессуары","Юг","Малый бизнес",64,"Да",3.2,0,"Джеки Чан"]
[null,"CL06521","2013-09-18T15:07:22.319","Аксессуары","Запад","Малый бизнес",63,"Да",2.9,{"v":3900,"d":"3,900р."},"Уилл Смит"]
[null,"CL06528","2013-09-18T15:30:14.651","Другое","Центр","Малый бизнес",84,"Да",{"v":2,"d":"2.0"},{"v":5700,"d":"5,700р."},"Колин Фаррел"]
[null,"CL06530","2013-09-18T15:36:56.173","Ноутбук","Восток","Частные клиенты",67,"Да",3.3,0,"Джонни Депп"]
[null,"CL06539","2013-09-18T16:02:33.932","Монитор","Центр","Малый бизнес",72,"Да",3.6,{"v":5700,"d":"5,700р."},"Чак Норрис"]
[null,"CL06542","2013-09-18T16:07:27.349","Софт","Восток","Частные клиенты",80,"Да",2.4,0,"Джонни Депп"]
[null,"CL06551","2013-09-18T16:25:21.996","Софт","Север","Малый бизнес",86,"Да",3.1,{"v":6900,"d":"6,900р."},"Джеки Чан"]
[null,"CL06558","2013-09-18T16:44:11.992","Другое","Восток","Некоммерческие",86,"Да",3.4,{"v":5400,"d":"5,400р."},"Колин Фаррел"]
[null,"CL06561","2013-09-18T16:58:47.806","Ноутбук","Восток","Малый бизнес",59,"Да",{"v":3,"d":"3.0"},{"v":6000,"d":"6,000р."},"Бред Питт"]
[null,"CL06571","2013-09-18T17:29:51.195","Аксессуары","Север","Частные клиенты",82,"Да",3.9,0,"Колин Фаррел"]
[null,"CL06578","2013-09-18T17:49:41.783","Персональный ПК","Юг","Малый бизнес",72,"Да",2.3,{"v":6900,"d":"6,900р."},"Джонни Депп"]
[null,"CL06581","2013-09-18T17:59:25.487","Софт","Юг","Частные клиенты",82,"Да",3.3,{"v":4800,"d":"4,800р."},"Колин Фаррел"]
[null,"CL06588","2013-09-18T18:20:55.695","Аксессуары","Север","Частные клиенты",68,"Да",3.7,{"v":5700,"d":"5,700р."},"Бред Питт"]
[null,"CL06591","2013-09-18T18:29:33.133","Персональный ПК","Восток","Частные клиенты",78,"Да",{"v":3,"d":"3.0"},{"v":6900,"d":"6,900р."},"Джеки Чан"]
[null,"CL06600","2013-09-18T18:47:32.327","Ноутбук","Центр","Корпорация",80,"Да",3.4,{"v":6900,"d":"6,900р."},"Джеки Чан"]
[null,"CL06608","2013-09-18T19:04:00.755","Другое","Восток","Некоммерческие",87,"Да",2.6,{"v":9000,"d":"9,000р."},"Колин Фаррел"]
[null,"CL06611","2013-09-18T19:14:57.653","Софт","Запад","Корпорация",72,"Да",2.4,{"v":5100,"d":"5,100р."},"Джонни Депп"]
[null,"CL06618","2013-09-18T19:35:38.391","Аксессуары","Юг","Малый бизнес",71,"Да",2.6,0,"Джонни Депп"]
[null,"CL06627","2013-09-18T19:54:32.369","Аксессуары","Север","Корпорация",74,"Нет",2.9,0,"Уилл Смит"]
[null,"CL06630","2013-09-18T19:58:18.359","Персональный ПК","Восток","Корпорация",80,"Да",3.6,{"v":8700,"d":"8,700р."},"Уилл Смит"]
[null,"CL06637","2013-09-18T20:13:55.477","Софт","Восток","Частные клиенты",72,"Да",3.8,{"v":6300,"d":"6,300р."},"Чак Норрис"]
[null,"CL06645","2013-09-18T20:36:33.149","Софт","Восток","Малый бизнес",81,"Да",2.2,{"v":4200,"d":"4,200р."},"Джеки Чан"]
[null,"CL06648","2013-09-18T20:47:53.379","Софт","Запад","Корпорация",64,"Нет",3.8,{"v":5400,"d":"5,400р."},"Чак Норрис"]
[null,"CL06657","2013-09-18T21:23:29.202","Ноутбук","Юг","Некоммерческие",75,"Да",3.2,{"v":7500,"d":"7,500р."},"Бред Питт"]
[null,"CL06660","2013-09-18T21:31:07.790","Персональный ПК","Восток","Частные клиенты",82,"Да",{"v":3,"d":"3.0"},0,"Джеки Чан"]
[null,"CL06667","2013-09-18T21:53:05.306","Другое","Юг","Некоммерческие",84,"Да",2.8,0,"Бред Питт"]
[null,"CL06676","2013-09-19T08:14:33.642","Персональный ПК","Север","Малый бизнес",77,"Да",2.5,0,"Колин Фаррел"]
[null,"CL06682","2013-09-19T08:27:10.280","Монитор","Центр","Частные клиенты",74,"Да",3.2,0,"Чак Норрис"]
[null,"CL06687","2013-09-19T08:38:56.860","Другое","Запад","Некоммерческие",82,"Да",2.2,{"v":7200,"d":"7,200р."},"Бред Питт"]
[null,"CL06690","2013-09-19T08:43:24.488","Аксессуары","Восток","Некоммерческие",66,"Да",3.1,{"v":6300,"d":"6,300р."},"Уилл Смит"]
[null,"CL06697","2013-09-19T09:03:53.325","Ноутбук","Север","Частные клиенты",60,"Да",2.9,{"v":5400,"d":"5,400р."},"Джонни Депп"]
[null,"CL06706","2013-09-19T09:25:43.263","Монитор","Юг","Частные клиенты",70,"Да",{"v":3,"d":"3.0"},{"v":7800,"d":"7,800р."},"Уилл Смит"]
[null,"CL06709","2013-09-19T09:37:06.018","Другое","Юг","Малый бизнес",73,"Да",{"v":3,"d":"3.0"},{"v":8700,"d":"8,700р."},"Бред Питт"]
[null,"CL06716","2013-09-19T09:51:00.631","Ноутбук","Запад","Корпорация",78,"Да",3.1,{"v":4800,"d":"4,800р."},"Джеки Чан"]
[null,"CL06726","2013-09-19T10:27:42.939","Другое","Запад","Некоммерческие",66,"Да",3.2,{"v":6600,"d":"6,600р."},"Джонни Депп"]
[null,"CL06729","2013-09-19T10:31:32.752","Ноутбук","Восток","Малый бизнес",83,"Да",3.2,{"v":5100,"d":"5,100р."},"Джеки Чан"]
[null,"CL06736","2013-09-19T10:47:42.484","Персональный ПК","Север","Малый бизнес",79,"Да",3.4,{"v":5400,"d":"5,400р."},"Джонни Депп"]
[null,"CL06739","2013-09-19T10:55:56.924","Другое","Север","Корпорация",80,"Да",2.2,{"v":2700,"d":"2,700р."},"Уилл Смит"]
[null,"CL06746","2013-09-19T11:14:23.843","Другое","Запад","Некоммерческие",91,"Да",3.1,{"v":6900,"d":"6,900р."},"Колин Фаррел"]
[null,"CL06753","2013-09-19T11:38:37.171","Аксессуары","Юг","Частные клиенты",81,"Нет",3.4,0,"Джеки Чан"]
[null,"CL06759","2013-09-19T12:02:31.009","Персональный ПК","Центр","Частные клиенты",69,"Да",2.1,0,"Уилл Смит"]
[null,"CL06766","2013-09-19T12:20:39.836","Другое","Север","Некоммерческие",93,"Да",2.7,{"v":7200,"d":"7,200р."},"Джеки Чан"]
[null,"CL06775","2013-09-19T12:41:49.874","Другое","Север","Частные клиенты",64,"Да",2.7,{"v":6000,"d":"6,000р."},"Джонни Депп"]
[null,"CL06776","2013-09-19T12:42:51.452","Ноутбук","Центр","Малый бизнес",78,"Да",3.5,{"v":3300,"d":"3,300р."},"Джонни Депп"]
[null,"CL06785","2013-09-19T13:10:50.157","Софт","Запад","Частные клиенты",51,"Да",2.7,0,"Бред Питт"]
[null,"CL06790","2013-09-19T13:27:14.207","Софт","Запад","Корпорация",70,"Да",{"v":3,"d":"3.0"},{"v":5400,"d":"5,400р."},"Джонни Депп"]
[null,"CL06796","2013-09-19T13:47:23.184","Софт","Север","Частные клиенты",81,"Да",{"v":4,"d":"4.0"},{"v":5400,"d":"5,400р."},"Колин Фаррел"]
[null,"CL06805","2013-09-19T14:14:45.884","Ноутбук","Юг","Малый бизнес",70,"Да",3.4,{"v":5100,"d":"5,100р."},"Джеки Чан"]
[null,"CL06808","2013-09-19T14:20:45.400","Ноутбук","Север","Корпорация",76,"Да",2.8,{"v":6600,"d":"6,600р."},"Колин Фаррел"]
[null,"CL06815","2013-09-19T14:41:10.633","Ноутбук","Центр","Некоммерческие",74,"Да",3.2,{"v":6300,"d":"6,300р."},"Колин Фаррел"]
[null,"CL06824","2013-09-19T15:13:19.393","Ноутбук","Центр","Корпорация",82,"Да",2.6,{"v":6000,"d":"6,000р."},"Джонни Депп"]
[null,"CL06831","2013-09-19T15:39:46.192","Другое","Восток","Некоммерческие",70,"Да",2.8,{"v":8100,"d":"8,100р."},"Уилл Смит"]
[null,"CL06835","2013-09-19T15:53:24.846","Софт","Центр","Корпорация",72,"Да",2.3,{"v":5700,"d":"5,700р."},"Колин Фаррел"]
[null,"CL06838","2013-09-19T16:07:09.088","Персональный ПК","Юг","Малый бизнес",70,"Да",1.1,{"v":8700,"d":"8,700р."},"Чак Норрис"]
[null,"CL06845","2013-09-19T16:18:32.479","Монитор","Запад","Некоммерческие",73,"Да",2.7,0,"Уилл Смит"]
[null,"CL06854","2013-09-19T16:48:19.725","Монитор","Север","Малый бизнес",69,"Да",2.9,{"v":5100,"d":"5,100р."},"Колин Фаррел"]
[null,"CL06857","2013-09-19T16:54:50.783","Другое","Центр","Малый бизнес",78,"Да",2.3,{"v":4200,"d":"4,200р."},"Колин Фаррел"]
[null,"CL06868","2013-09-19T17:27:16.728","Персональный ПК","Север","Корпорация",72,"Да",2.9,{"v":6900,"d":"6,900р."},"Джонни Депп"]
[null,"CL06874","2013-09-19T17:45:23.575","Софт","Север","Малый бизнес",61,"Да",{"v":3,"d":"3.0"},{"v":2400,"d":"2,400р."},"Джеки Чан"]
[null,"CL06875","2013-09-19T17:46:03.630","Ноутбук","Запад","Корпорация",74,"Да",3.4,{"v":5400,"d":"5,400р."},"Колин Фаррел"]
[null,"CL06884","2013-09-19T18:12:54.738","Персональный ПК","Центр","Некоммерческие",79,"Нет",3.4,{"v":5700,"d":"5,700р."},"Джонни Депп"]
[null,"CL06887","2013-09-19T18:19:12.152","Софт","Восток","Малый бизнес",86,"Да",3.3,0,"Джонни Депп"]
[null,"CL06894","2013-09-19T18:44:23.158","Монитор","Запад","Некоммерческие",64,"Да",3.2,0,"Бред Питт"]
[null,"CL06905","2013-09-19T19:13:06.750","Монитор","Запад","Малый бизнес",74,"Да",2.6,{"v":6300,"d":"6,300р."},"Бред Питт"]
[null,"CL06911","2013-09-19T19:30:49.737","Аксессуары","Восток","Малый бизнес",81,"Да",{"v":3,"d":"3.0"},0,"Уилл Смит"]
[null,"CL06914","2013-09-19T19:37:58.637","Персональный ПК","Центр","Частные клиенты",85,"Да",3.1,{"v":4800,"d":"4,800р."},"Джеки Чан"]
[null,"CL06923","2013-09-19T20:07:14.052","Персональный ПК","Запад","Некоммерческие",62,"Да",2.6,0,"Чак Норрис"]
[null,"CL06924","2013-09-19T20:12:21.810","Ноутбук","Запад","Малый бизнес",76,"Да",2.5,{"v":6600,"d":"6,600р."},"Бред Питт"]
[null,"CL06933","2013-09-19T20:32:44.102","Персональный ПК","Центр","Малый бизнес",69,"Да",2.7,0,"Уилл Смит"]
[null,"CL06942","2013-09-19T20:50:23.055","Аксессуары","Запад","Некоммерческие",70,"Да",2.6,0,"Чак Норрис"]
[null,"CL06944","2013-09-19T20:55:14.820","Монитор","Юг","Некоммерческие",78,"Да",{"v":2,"d":"2.0"},0,"Джонни Депп"]
[null,"CL06953","2013-09-19T21:28:31.036","Монитор","Север","Малый бизнес",95,"Да",2.4,{"v":9000,"d":"9,000р."},"Бред Питт"]
[null,"CL06960","2013-09-19T21:51:51.702","Монитор","Центр","Некоммерческие",78,"Да",2.9,{"v":6900,"d":"6,900р."},"Колин Фаррел"]
[null,"CL06963","2013-09-19T21:57:43.778","Аксессуары","Запад","Малый бизнес",92,"Да",3.8,{"v":6900,"d":"6,900р."},"Колин Фаррел"]
[null,"CL06972","2013-09-20T08:21:15.210","Монитор","Восток","Частные клиенты",83,"Да",3.3,{"v":7200,"d":"7,200р."},"Джеки Чан"]
[null,"CL06976","2013-09-20T08:36:12.790","Аксессуары","Центр","Корпорация",70,"Да",{"v":3,"d":"3.0"},{"v":5400,"d":"5,400р."},"Бред Питт"]
[null,"CL06983","2013-09-20T09:01:52.531","Аксессуары","Восток","Некоммерческие",79,"Да",{"v":4,"d":"4.0"},0,"Джеки Чан"]
[null,"CL06990","2013-09-20T09:22:28.228","Софт","Север","Частные клиенты",76,"Да",2.9,{"v":6300,"d":"6,300р."},"Уилл Смит"]
[null,"CL06993","2013-09-20T09:31:25.097","Монитор","Восток","Корпорация",80,"Да",3.1,{"v":6600,"d":"6,600р."},"Бред Питт"]
[null,"CL07002","2013-09-20T09:49:02.363","Монитор","Север","Частные клиенты",59,"Да",2.3,{"v":4800,"d":"4,800р."},"Джонни Депп"]
[null,"CL07009","2013-09-20T10:09:00.292","Аксессуары","Запад","Корпорация",84,"Да",{"v":2,"d":"2.0"},0,"Колин Фаррел"]
[null,"CL07013","2013-09-20T10:25:27.283","Софт","Центр","Корпорация",75,"Да",3.4,0,"Чак Норрис"]
[null,"CL07022","2013-09-20T10:59:34.974","Ноутбук","Юг","Некоммерческие",72,"Да",2.9,{"v":6300,"d":"6,300р."},"Уилл Смит"]
[null,"CL07023","2013-09-20T11:00:27.030","Персональный ПК","Восток","Малый бизнес",80,"Да",3.4,0,"Бред Питт"]
[null,"CL07032","2013-09-20T11:25:46.027","Монитор","Юг","Корпорация",73,"Да",2.6,{"v":5400,"d":"5,400р."},"Чак Норрис"]
[null,"CL07039","2013-09-20T11:37:25.621","Персональный ПК","Север","Корпорация",71,"Да",3.5,0,"Бред Питт"]
[null,"CL07043","2013-09-20T11:56:12.050","Персональный ПК","Юг","Корпорация",63,"Да",3.1,{"v":6600,"d":"6,600р."},"Колин Фаррел"]
[null,"CL07052","2013-09-20T12:25:51.601","Ноутбук","Запад","Малый бизнес",65,"Нет",2.6,{"v":6900,"d":"6,900р."},"Джеки Чан"]
[null,"CL07059","2013-09-20T12:45:25.003","Ноутбук","Центр","Корпорация",72,"Да",1.5,0,"Колин Фаррел"]
[null,"CL07062","2013-09-20T13:00:07.946","Аксессуары","Север","Малый бизнес",76,"Да",2.1,{"v":8400,"d":"8,400р."},"Уилл Смит"]
[null,"CL07071","2013-09-20T13:25:26.110","Аксессуары","Запад","Малый бизнес",82,"Да",3.8,{"v":6600,"d":"6,600р."},"Джонни Депп"]
[null,"CL07072","2013-09-20T13:26:20.439","Монитор","Юг","Частные клиенты",64,"Да",2.6,0,"Уилл Смит"]
[null,"CL07080","2013-09-20T13:47:57.959","Другое","Запад","Малый бизнес",70,"Нет",3.5,{"v":3900,"d":"3,900р."},"Джеки Чан"]
[null,"CL07089","2013-09-20T14:15:26.974","Аксессуары","Запад","Частные клиенты",67,"Да",3.6,{"v":3900,"d":"3,900р."},"Колин Фаррел"]
[null,"CL07092","2013-09-20T14:27:10.732","Персональный ПК","Запад","Корпорация",80,"Да",3.3,0,"Джеки Чан"]
[null,"CL07101","2013-09-20T14:50:05.488","Монитор","Центр","Частные клиенты",75,"Нет",2.9,{"v":7500,"d":"7,500р."},"Бред Питт"]
[null,"CL07108","2013-09-20T15:03:14.705","Персональный ПК","Юг","Малый бизнес",77,"Да",3.2,{"v":6900,"d":"6,900р."},"Джонни Депп"]
[null,"CL07111","2013-09-20T15:11:35.531","Ноутбук","Юг","Корпорация",76,"Да",2.6,{"v":4200,"d":"4,200р."},"Джеки Чан"]
[null,"CL07121","2013-09-20T15:40:08.226","Монитор","Центр","Некоммерческие",84,"Да",2.6,{"v":4800,"d":"4,800р."},"Уилл Смит"]
[null,"CL07122","2013-09-20T15:40:41.938","Монитор","Юг","Некоммерческие",87,"Да",3.4,0,"Джонни Депп"]
[null,"CL07131","2013-09-20T16:08:23.236","Аксессуары","Восток","Некоммерческие",75,"Да",2.4,0,"Джонни Депп"]
[null,"CL07138","2013-09-20T16:33:33.183","Аксессуары","Север","Некоммерческие",72,"Да",3.8,0,"Джеки Чан"]
[null,"CL07141","2013-09-20T16:42:26.467","Аксессуары","Север","Частные клиенты",83,"Да",3.1,0,"Колин Фаррел"]
[null,"CL07150","2013-09-20T17:10:16.126","Другое","Юг","Частные клиенты",80,"Да",2.6,{"v":6000,"d":"6,000р."},"Бред Питт"]
[null,"CL07158","2013-09-20T17:31:41.822","Аксессуары","Восток","Частные клиенты",63,"Да",2.5,{"v":5400,"d":"5,400р."},"Бред Питт"]
[null,"CL07161","2013-09-20T17:47:57.757","Аксессуары","Запад","Корпорация",79,"Да",2.7,{"v":3600,"d":"3,600р."},"Чак Норрис"]
[null,"CL07168","2013-09-20T18:12:23.728","Софт","Центр","Некоммерческие",91,"Да",4.1,{"v":5700,"d":"5,700р."},"Джонни Депп"]
[null,"CL07171","2013-09-20T18:16:14.556","Софт","Юг","Корпорация",76,"Да",{"v":3,"d":"3.0"},0,"Джеки Чан"]
[null,"CL07180","2013-09-20T18:32:26.994","Персональный ПК","Север","Некоммерческие",77,"Да",3.6,0,"Чак Норрис"]
[null,"CL07187","2013-09-20T18:53:22.228","Софт","Север","Некоммерческие",63,"Да",2.2,0,"Уилл Смит"]
[null,"CL07195","2013-09-20T19:23:45.787","Софт","Север","Малый бизнес",77,"Да",3.2,0,"Джонни Депп"]
[null,"CL07200","2013-09-20T19:38:42.313","Другое","Центр","Частные клиенты",77,"Да",3.2,{"v":4500,"d":"4,500р."},"Бред Питт"]
[null,"CL07207","2013-09-20T20:03:54.745","Ноутбук","Центр","Некоммерческие",86,"Да",2.9,0,"Колин Фаррел"]
[null,"CL07210","2013-09-20T20:10:50.534","Аксессуары","Восток","Корпорация",81,"Да",2.4,{"v":4800,"d":"4,800р."},"Джонни Депп"]
[null,"CL07217","2013-09-20T20:31:39.371","Аксессуары","Центр","Корпорация",74,"Да",2.3,0,"Джеки Чан"]
[null,"CL07220","2013-09-20T20:34:58.028","Монитор","Восток","Некоммерческие",67,"Да",1.3,{"v":7200,"d":"7,200р."},"Бред Питт"]
[null,"CL07232","2013-09-20T21:09:23.540","Софт","Юг","Корпорация",81,"Да",3.3,{"v":5400,"d":"5,400р."},"Чак Норрис"]
[null,"CL07237","2013-09-20T21:23:56.499","Другое","Восток","Некоммерческие",78,"Да",2.6,0,"Колин Фаррел"]
[null,"CL07240","2013-09-20T21:30:09.257","Аксессуары","Восток","Некоммерческие",68,"Да",2.6,0,"Джеки Чан"]
[null,"CL07247","2013-09-20T21:50:18.098","Аксессуары","Север","Малый бизнес",67,"Да",3.4,0,"Бред Питт"]
[null,"CL07256","2013-09-21T08:14:13.953","Другое","Центр","Частные клиенты",69,"Да",{"v":2,"d":"2.0"},{"v":5400,"d":"5,400р."},"Бред Питт"]
[null,"CL07259","2013-09-21T08:24:11.870","Софт","Восток","Частные клиенты",81,"Да",3.6,{"v":6600,"d":"6,600р."},"Чак Норрис"]
[null,"CL07266","2013-09-21T08:49:43.214","Монитор","Восток","Корпорация",79,"Нет",2.7,{"v":6300,"d":"6,300р."},"Колин Фаррел"]
[null,"CL07270","2013-09-21T09:00:58.943","Персональный ПК","Юг","Некоммерческие",69,"Да",3.6,{"v":3900,"d":"3,900р."},"Колин Фаррел"]
[null,"CL07279","2013-09-21T09:29:00.677","Аксессуары","Запад","Корпорация",89,"Да",2.1,0,"Джеки Чан"]
[null,"CL07286","2013-09-21T09:49:02.878","Софт","Юг","Частные клиенты",77,"Да",2.6,0,"Бред Питт"]
[null,"CL07289","2013-09-21T10:01:08.847","Аксессуары","Юг","Корпорация",66,"Да",3.2,0,"Бред Питт"]
[null,"CL07296","2013-09-21T10:25:40.862","Софт","Восток","Малый бизнес",81,"Да",1.9,0,"Джонни Депп"]
[null,"CL07303","2013-09-21T10:42:20.949","Монитор","Запад","Корпорация",68,"Да",3.2,{"v":6300,"d":"6,300р."},"Джонни Депп"]
[null,"CL07309","2013-09-21T11:01:12.172","Софт","Север","Частные клиенты",84,"Да",2.9,{"v":6000,"d":"6,000р."},"Джеки Чан"]
[null,"CL07316","2013-09-21T11:13:04.852","Софт","Восток","Некоммерческие",96,"Да",2.8,0,"Колин Фаррел"]
[null,"CL07319","2013-09-21T11:21:15.348","Другое","Север","Некоммерческие",75,"Да",4.2,{"v":6600,"d":"6,600р."},"Чак Норрис"]
[null,"CL07326","2013-09-21T11:48:01.544","Монитор","Восток","Частные клиенты",82,"Да",3.3,{"v":4200,"d":"4,200р."},"Джонни Депп"]
[null,"CL07335","2013-09-21T12:11:49.435","Монитор","Центр","Корпорация",62,"Да",3.7,0,"Бред Питт"]
[null,"CL07340","2013-09-21T12:23:23.888","Монитор","Запад","Корпорация",80,"Да",2.6,0,"Колин Фаррел"]
[null,"CL07346","2013-09-21T12:42:55.504","Монитор","Север","Некоммерческие",73,"Да",2.7,0,"Колин Фаррел"]
[null,"CL07355","2013-09-21T13:10:30.779","Аксессуары","Запад","Частные клиенты",71,"Да",3.8,{"v":5400,"d":"5,400р."},"Чак Норрис"]
[null,"CL07358","2013-09-21T13:20:43.410","Ноутбук","Север","Некоммерческие",77,"Да",{"v":3,"d":"3.0"},0,"Колин Фаррел"]
[null,"CL07365","2013-09-21T13:38:22.546","Персональный ПК","Юг","Некоммерческие",81,"Да",3.7,{"v":7800,"d":"7,800р."},"Бред Питт"]
[null,"CL07368","2013-09-21T13:48:05.187","Персональный ПК","Запад","Малый бизнес",69,"Да",2.8,0,"Бред Питт"]
[null,"CL07374","2013-09-21T14:08:01.461","Аксессуары","Центр","Некоммерческие",80,"Да",4.1,0,"Уилл Смит"]
[null,"CL07385","2013-09-21T14:34:19.733","Другое","Запад","Некоммерческие",66,"Да",2.4,{"v":6300,"d":"6,300р."},"Чак Норрис"]
[null,"CL07388","2013-09-21T14:43:18.501","Аксессуары","Запад","Некоммерческие",78,"Да",2.5,{"v":9000,"d":"9,000р."},"Джонни Депп"]
[null,"CL07395","2013-09-21T14:53:34.630","Ноутбук","Запад","Корпорация",68,"Да",2.6,{"v":2700,"d":"2,700р."},"Колин Фаррел"]
[null,"CL07404","2013-09-21T15:20:55.536","Ноутбук","Восток","Частные клиенты",86,"Да",3.4,{"v":4200,"d":"4,200р."},"Джеки Чан"]
[null,"CL07407","2013-09-21T15:32:39.027","Монитор","Юг","Малый бизнес",77,"Да",1.9,{"v":5700,"d":"5,700р."},"Бред Питт"]
[null,"CL07411","2013-09-21T15:42:07.688","Монитор","Юг","Частные клиенты",70,"Да",2.7,{"v":8100,"d":"8,100р."},"Колин Фаррел"]
[null,"CL07418","2013-09-21T15:56:20.050","Ноутбук","Восток","Малый бизнес",91,"Да",3.4,0,"Колин Фаррел"]
[null,"CL07425","2013-09-21T16:14:06.370","Софт","Север","Малый бизнес",69,"Да",3.3,0,"Бред Питт"]
[null,"CL07434","2013-09-21T16:38:51.750","Монитор","Восток","Корпорация",76,"Да",2.5,{"v":3600,"d":"3,600р."},"Уилл Смит"]
[null,"CL07437","2013-09-21T16:51:29.540","Другое","Север","Некоммерческие",69,"Да",3.9,{"v":6900,"d":"6,900р."},"Уилл Смит"]
[null,"CL07444","2013-09-21T17:10:51.016","Софт","Север","Малый бизнес",90,"Да",3.1,0,"Чак Норрис"]
[null,"CL07448","2013-09-21T17:26:42.569","Аксессуары","Север","Частные клиенты",81,"Нет",3.2,0,"Бред Питт"]
[null,"CL07455","2013-09-21T17:48:17.325","Софт","Запад","Корпорация",71,"Да",2.3,0,"Джонни Депп"]
[null,"CL07464","2013-09-21T18:17:06.556","Софт","Север","Некоммерческие",85,"Да",3.5,{"v":5100,"d":"5,100р."},"Бред Питт"]
[null,"CL07467","2013-09-21T18:21:55.183","Ноутбук","Центр","Некоммерческие",67,"Да",3.5,0,"Бред Питт"]
[null,"CL07474","2013-09-21T18:45:15.249","Ноутбук","Центр","Малый бизнес",82,"Да",3.5,0,"Джеки Чан"]
[null,"CL07483","2013-09-21T19:00:43.396","Монитор","Центр","Корпорация",67,"Да",2.7,0,"Джеки Чан"]
[null,"CL07485","2013-09-21T19:09:04.364","Монитор","Юг","Малый бизнес",84,"Да",2.2,0,"Чак Норрис"]
[null,"CL07494","2013-09-21T19:39:05.059","Другое","Восток","Частные клиенты",74,"Да",{"v":3,"d":"3.0"},{"v":4800,"d":"4,800р."},"Уилл Смит"]
[null,"CL07503","2013-09-21T20:04:34.945","Персональный ПК","Восток","Корпорация",64,"Да",2.6,{"v":5400,"d":"5,400р."},"Джонни Депп"]
[null,"CL07504","2013-09-21T20:08:41.304","Монитор","Север","Корпорация",67,"Да",3.1,{"v":7500,"d":"7,500р."},"Уилл Смит"]
[null,"CL07513","2013-09-21T20:36:56.035","Монитор","Центр","Корпорация",68,"Да",{"v":2,"d":"2.0"},0,"Джеки Чан"]
[null,"CL07516","2013-09-21T20:43:50.088","Персональный ПК","Юг","Некоммерческие",73,"Да",3.7,0,"Чак Норрис"]
[null,"CL07526","2013-09-21T21:12:56.064","Монитор","Юг","Корпорация",81,"Да",{"v":2,"d":"2.0"},{"v":5700,"d":"5,700р."},"Чак Норрис"]
[null,"CL07533","2013-09-21T21:35:24.269","Софт","Юг","Частные клиенты",76,"Да",3.1,0,"Чак Норрис"]
[null,"CL07540","2013-09-21T21:55:29.209","Другое","Север","Корпорация",70,"Да",2.7,{"v":5700,"d":"5,700р."},"Колин Фаррел"]
[null,"CL07543","2013-09-22T08:08:23.250","Аксессуары","Восток","Некоммерческие",62,"Да",2.9,0,"Уилл Смит"]
[null,"CL07552","2013-09-22T08:32:06.940","Другое","Восток","Корпорация",73,"Да",3.7,{"v":5100,"d":"5,100р."},"Колин Фаррел"]
[null,"CL07553","2013-09-22T08:34:54.746","Монитор","Центр","Корпорация",76,"Да",2.5,{"v":5400,"d":"5,400р."},"Колин Фаррел"]
[null,"CL07563","2013-09-22T09:04:27.092","Аксессуары","Север","Малый бизнес",74,"Да",2.5,0,"Чак Норрис"]
[null,"CL07566","2013-09-22T09:13:09.065","Персональный ПК","Восток","Частные клиенты",74,"Нет",3.2,0,"Чак Норрис"]
[null,"CL07573","2013-09-22T09:38:05.268","Персональный ПК","Запад","Некоммерческие",83,"Да",2.5,{"v":5400,"d":"5,400р."},"Джонни Депп"]
[null,"CL07582","2013-09-22T10:04:13.595","Персональный ПК","Север","Корпорация",61,"Да",2.9,{"v":8100,"d":"8,100р."},"Джонни Депп"]
[null,"CL07589","2013-09-22T10:29:28.394","Софт","Центр","Корпорация",66,"Да",3.4,{"v":7800,"d":"7,800р."},"Джеки Чан"]
[null,"CL07592","2013-09-22T10:40:32.726","Аксессуары","Центр","Малый бизнес",71,"Да",2.6,{"v":5100,"d":"5,100р."},"Колин Фаррел"]
[null,"CL07600","2013-09-22T10:59:15.307","Ноутбук","Восток","Малый бизнес",76,"Да",2.6,0,"Джеки Чан"]
[null,"CL07603","2013-09-22T11:11:31.999","Софт","Запад","Корпорация",68,"Да",2.3,0,"Джонни Депп"]
[null,"CL07612","2013-09-22T11:42:09.185","Монитор","Восток","Малый бизнес",71,"Да",2.7,0,"Чак Норрис"]
[null,"CL07615","2013-09-22T11:49:06.399","Монитор","Север","Корпорация",71,"Да",2.4,{"v":6300,"d":"6,300р."},"Бред Питт"]
[null,"CL07622","2013-09-22T12:10:56.476","Монитор","Юг","Некоммерческие",67,"Да",3.1,0,"Джонни Депп"]
[null,"CL07630","2013-09-22T12:35:16.972","Монитор","Юг","Частные клиенты",69,"Да",1.9,0,"Колин Фаррел"]
[null,"CL07639","2013-09-22T13:04:09.945","Аксессуары","Запад","Частные клиенты",78,"Да",{"v":3,"d":"3.0"},{"v":4500,"d":"4,500р."},"Джонни Депп"]
[null,"CL07642","2013-09-22T13:11:54.725","Другое","Запад","Корпорация",67,"Да",3.5,{"v":4500,"d":"4,500р."},"Чак Норрис"]
[null,"CL07651","2013-09-22T13:37:01.022","Софт","Север","Частные клиенты",78,"Нет",3.6,0,"Чак Норрис"]
[null,"CL07652","2013-09-22T13:38:04.284","Монитор","Восток","Частные клиенты",70,"Да",3.5,{"v":7200,"d":"7,200р."},"Джеки Чан"]
[null,"CL07661","2013-09-22T13:51:19.513","Персональный ПК","Восток","Корпорация",76,"Нет",2.8,{"v":7500,"d":"7,500р."},"Уилл Смит"]
[null,"CL07664","2013-09-22T13:59:28.184","Ноутбук","Восток","Некоммерческие",79,"Да",2.8,{"v":6000,"d":"6,000р."},"Чак Норрис"]
[null,"CL07672","2013-09-22T14:27:45.714","Другое","Север","Корпорация",83,"Да",3.7,0,"Уилл Смит"]
[null,"CL07681","2013-09-22T14:49:44.555","Софт","Юг","Некоммерческие",92,"Да",3.4,{"v":4200,"d":"4,200р."},"Джеки Чан"]
[null,"CL07688","2013-09-22T15:09:12.253","Монитор","Восток","Корпорация",82,"Да",2.8,{"v":5700,"d":"5,700р."},"Бред Питт"]
[null,"CL07691","2013-09-22T15:19:52.185","Персональный ПК","Север","Частные клиенты",72,"Да",2.3,0,"Колин Фаррел"]
[null,"CL07700","2013-09-22T15:42:37.717","Монитор","Юг","Корпорация",66,"Нет",3.2,{"v":7200,"d":"7,200р."},"Уилл Смит"]
[null,"CL07701","2013-09-22T15:44:43.152","Другое","Север","Частные клиенты",65,"Да",2.9,{"v":4200,"d":"4,200р."},"Джеки Чан"]
[null,"CL07711","2013-09-22T16:07:23.090","Софт","Запад","Частные клиенты",82,"Да",3.5,{"v":6600,"d":"6,600р."},"Колин Фаррел"]
[null,"CL07718","2013-09-22T16:25:18.794","Монитор","Юг","Малый бизнес",77,"Да",2.5,{"v":5700,"d":"5,700р."},"Чак Норрис"]
[null,"CL07721","2013-09-22T16:35:32.090","Аксессуары","Север","Корпорация",69,"Да",2.5,{"v":5400,"d":"5,400р."},"Джонни Депп"]
[null,"CL07730","2013-09-22T17:01:31.950","Ноутбук","Юг","Некоммерческие",69,"Да",3.8,{"v":3300,"d":"3,300р."},"Джонни Депп"]
[null,"CL07737","2013-09-22T17:23:12.173","Другое","Центр","Частные клиенты",79,"Да",2.8,0,"Колин Фаррел"]
[null,"CL07738","2013-09-22T17:24:38.615","Другое","Юг","Частные клиенты",74,"Да",3.2,0,"Джеки Чан"]
[null,"CL07750","2013-09-22T18:01:20.070","Аксессуары","Восток","Малый бизнес",71,"Да",2.5,{"v":5100,"d":"5,100р."},"Уилл Смит"]
[null,"CL07751","2013-09-22T18:03:28.768","Другое","Север","Частные клиенты",59,"Да",3.3,{"v":4800,"d":"4,800р."},"Джонни Депп"]
[null,"CL07760","2013-09-22T18:20:56.804","Ноутбук","Север","Малый бизнес",70,"Да",3.3,{"v":5400,"d":"5,400р."},"Джонни Депп"]
[null,"CL07767","2013-09-22T18:42:30.477","Монитор","Запад","Корпорация",89,"Да",3.9,{"v":3600,"d":"3,600р."},"Уилл Смит"]
[null,"CL07770","2013-09-22T18:51:50.714","Другое","Запад","Некоммерческие",67,"Да",{"v":3,"d":"3.0"},{"v":7500,"d":"7,500р."},"Колин Фаррел"]
[null,"CL07775","2013-09-22T19:11:53.095","Ноутбук","Запад","Малый бизнес",82,"Да",2.4,{"v":5400,"d":"5,400р."},"Чак Норрис"]
[null,"CL07787","2013-09-22T19:45:29.149","Аксессуары","Север","Частные клиенты",88,"Да",{"v":3,"d":"3.0"},{"v":4800,"d":"4,800р."},"Джеки Чан"]
[null,"CL07790","2013-09-22T19:56:12.655","Софт","Восток","Частные клиенты",73,"Да",2.7,{"v":6300,"d":"6,300р."},"Колин Фаррел"]
[null,"CL07797","2013-09-22T20:11:53.493","Ноутбук","Север","Некоммерческие",71,"Да",2.6,0,"Уилл Смит"]
[null,"CL07800","2013-09-22T20:21:10.467","Софт","Восток","Частные клиенты",81,"Да",2.6,{"v":3900,"d":"3,900р."},"Джеки Чан"]
[null,"CL07809","2013-09-22T20:45:34.152","Монитор","Юг","Малый бизнес",75,"Да",3.7,0,"Чак Норрис"]
[null,"CL07816","2013-09-22T21:14:14.652","Другое","Запад","Корпорация",92,"Да",3.5,0,"Джонни Депп"]
[null,"CL07820","2013-09-22T21:25:08.235","Ноутбук","Юг","Некоммерческие",81,"Да",2.5,{"v":5100,"d":"5,100р."},"Джонни Депп"]
[null,"CL07829","2013-09-22T21:49:31.425","Другое","Запад","Малый бизнес",77,"Да",2.3,{"v":5700,"d":"5,700р."},"Бред Питт"]
[null,"CL07836","2013-09-23T08:06:10.999","Ноутбук","Центр","Некоммерческие",67,"Да",2.5,0,"Джонни Депп"]
[null,"CL07839","2013-09-23T08:12:13.390","Другое","Центр","Корпорация",87,"Да",2.9,{"v":4500,"d":"4,500р."},"Уилл Смит"]
[null,"CL07846","2013-09-23T08:33:47.838","Персональный ПК","Центр","Малый бизнес",78,"Да",{"v":2,"d":"2.0"},0,"Колин Фаррел"]
[null,"CL07853","2013-09-23T08:45:31.380","Ноутбук","Центр","Малый бизнес",77,"Да",3.1,{"v":5400,"d":"5,400р."},"Бред Питт"]
[null,"CL07859","2013-09-23T09:02:17.235","Аксессуары","Юг","Некоммерческие",78,"Да",{"v":3,"d":"3.0"},{"v":8400,"d":"8,400р."},"Уилл Смит"]
[null,"CL07866","2013-09-23T09:28:55.001","Монитор","Запад","Частные клиенты",92,"Да",2.6,0,"Уилл Смит"]
[null,"CL07869","2013-09-23T09:33:20.231","Аксессуары","Восток","Корпорация",78,"Да",3.1,0,"Чак Норрис"]
[null,"CL07876","2013-09-23T09:58:11.413","Ноутбук","Юг","Частные клиенты",79,"Да",3.4,{"v":4800,"d":"4,800р."},"Бред Питт"]
[null,"CL07885","2013-09-23T10:25:07.068","Другое","Север","Некоммерческие",74,"Да",{"v":3,"d":"3.0"},{"v":6300,"d":"6,300р."},"Джонни Депп"]
[null,"CL07890","2013-09-23T10:40:06.730","Ноутбук","Восток","Некоммерческие",66,"Да",2.1,0,"Колин Фаррел"]
[null,"CL07896","2013-09-23T11:00:07.364","Монитор","Юг","Частные клиенты",83,"Да",2.7,{"v":4200,"d":"4,200р."},"Уилл Смит"]
[null,"CL07899","2013-09-23T11:05:13.413","Другое","Север","Некоммерческие",83,"Да",2.4,0,"Джеки Чан"]
[null,"CL07908","2013-09-23T11:30:25.435","Персональный ПК","Север","Некоммерческие",93,"Нет",3.2,{"v":5700,"d":"5,700р."},"Колин Фаррел"]
[null,"CL07915","2013-09-23T11:44:18.903","Персональный ПК","Юг","Некоммерческие",80,"Да",2.9,{"v":5100,"d":"5,100р."},"Джеки Чан"]
[null,"CL07918","2013-09-23T11:52:14.546","Персональный ПК","Север","Корпорация",60,"Да",2.5,0,"Колин Фаррел"]
[null,"CL07924","2013-09-23T12:03:51.574","Монитор","Центр","Частные клиенты",75,"Да",3.8,{"v":6300,"d":"6,300р."},"Бред Питт"]
[null,"CL07935","2013-09-23T12:26:13.171","Монитор","Запад","Малый бизнес",85,"Да",2.9,{"v":6000,"d":"6,000р."},"Чак Норрис"]
[null,"CL07938","2013-09-23T12:37:33.462","Монитор","Север","Корпорация",76,"Да",3.3,0,"Бред Питт"]
[null,"CL07945","2013-09-23T12:56:07.451","Софт","Север","Некоммерческие",75,"Да",3.1,0,"Джеки Чан"]
[null,"CL07948","2013-09-23T13:03:05.868","Ноутбук","Север","Корпорация",65,"Да",2.9,0,"Джонни Депп"]
[null,"CL07957","2013-09-23T13:35:29.187","Аксессуары","Север","Малый бизнес",72,"Да",2.8,0,"Чак Норрис"]
[null,"CL07961","2013-09-23T13:39:31.157","Персональный ПК","Север","Малый бизнес",66,"Да",3.4,{"v":4500,"d":"4,500р."},"Бред Питт"]
[null,"CL07968","2013-09-23T14:00:59.308","Аксессуары","Запад","Корпорация",84,"Да",3.3,{"v":3900,"d":"3,900р."},"Колин Фаррел"]
[null,"CL07975","2013-09-23T14:28:06.120","Софт","Запад","Частные клиенты",84,"Да",3.2,0,"Бред Питт"]
[null,"CL07984","2013-09-23T14:50:06.520","Софт","Юг","Частные клиенты",80,"Да",3.6,0,"Уилл Смит"]
[null,"CL07987","2013-09-23T15:00:31.720","Аксессуары","Запад","Корпорация",85,"Да",2.5,{"v":4200,"d":"4,200р."},"Бред Питт"]
[null,"CL07994","2013-09-23T15:15:44.437","Другое","Центр","Корпорация",86,"Да",2.6,0,"Уилл Смит"]
[null,"CL07998","2013-09-23T15:23:54.918","Ноутбук","Юг","Частные клиенты",80,"Да",3.1,{"v":6300,"d":"6,300р."},"Бред Питт"]
[null,"CL08005","2013-09-23T15:37:10.500","Другое","Запад","Корпорация",70,"Да",2.6,{"v":3900,"d":"3,900р."},"Колин Фаррел"]
[null,"CL08014","2013-09-23T16:03:49.181","Монитор","Запад","Частные клиенты",75,"Да",2.6,0,"Джонни Депп"]
[null,"CL08017","2013-09-23T16:09:43.989","Ноутбук","Запад","Частные клиенты",72,"Да",2.7,0,"Джеки Чан"]
[null,"CL08024","2013-09-23T16:31:32.254","Ноутбук","Центр","Некоммерческие",88,"Да",3.2,{"v":4800,"d":"4,800р."},"Уилл Смит"]
[null,"CL08033","2013-09-23T16:52:14.796","Персональный ПК","Север","Частные клиенты",71,"Да",{"v":3,"d":"3.0"},0,"Колин Фаррел"]
[null,"CL08035","2013-09-23T16:57:53.739","Софт","Север","Некоммерческие",82,"Да",2.7,{"v":5400,"d":"5,400р."},"Колин Фаррел"]
[null,"CL08044","2013-09-23T17:18:08.049","Ноутбук","Юг","Корпорация",77,"Да",1.6,0,"Чак Норрис"]
[null,"CL08047","2013-09-23T17:27:44.805","Монитор","Юг","Корпорация",62,"Да",2.7,{"v":6300,"d":"6,300р."},"Джонни Депп"]
[null,"CL08054","2013-09-23T17:41:42.737","Ноутбук","Север","Частные клиенты",67,"Да",2.6,0,"Бред Питт"]
[null,"CL08063","2013-09-23T18:10:06.085","Софт","Запад","Частные клиенты",90,"Да",{"v":3,"d":"3.0"},{"v":5100,"d":"5,100р."},"Колин Фаррел"]
[null,"CL08066","2013-09-23T18:20:16.839","Ноутбук","Запад","Частные клиенты",88,"Да",3.9,{"v":7800,"d":"7,800р."},"Бред Питт"]
[null,"CL08076","2013-09-23T18:41:09.229","Персональный ПК","Восток","Частные клиенты",81,"Да",3.6,{"v":6600,"d":"6,600р."},"Джеки Чан"]
[null,"CL08083","2013-09-23T19:00:23.841","Монитор","Север","Корпорация",70,"Да",2.6,0,"Уилл Смит"]
[null,"CL08084","2013-09-23T19:03:29.772","Ноутбук","Запад","Малый бизнес",59,"Да",3.6,0,"Джеки Чан"]
[null,"CL08093","2013-09-23T19:28:23.326","Аксессуары","Юг","Малый бизнес",75,"Да",2.9,{"v":5100,"d":"5,100р."},"Уилл Смит"]
[null,"CL08096","2013-09-23T19:39:56.770","Персональный ПК","Восток","Некоммерческие",94,"Да",3.7,{"v":6000,"d":"6,000р."},"Уилл Смит"]
[null,"CL08103","2013-09-23T20:02:00.760","Монитор","Запад","Частные клиенты",72,"Да",1.7,{"v":5700,"d":"5,700р."},"Колин Фаррел"]
[null,"CL08113","2013-09-23T20:28:23.750","Аксессуары","Восток","Малый бизнес",64,"Да",2.5,0,"Чак Норрис"]
[null,"CL08116","2013-09-23T20:35:29.419","Аксессуары","Север","Малый бизнес",81,"Да",2.6,{"v":6000,"d":"6,000р."},"Колин Фаррел"]
[null,"CL08123","2013-09-23T20:59:18.071","Персональный ПК","Центр","Малый бизнес",83,"Да",2.9,{"v":6900,"d":"6,900р."},"Бред Питт"]
[null,"CL08132","2013-09-23T21:28:49.507","Аксессуары","Восток","Корпорация",87,"Да",{"v":3,"d":"3.0"},{"v":8700,"d":"8,700р."},"Уилл Смит"]
[null,"CL08133","2013-09-23T21:29:13.509","Монитор","Юг","Корпорация",74,"Да",3.2,0,"Джеки Чан"]
[null,"CL08142","2013-09-23T21:51:54.467","Другое","Север","Корпорация",78,"Да",2.8,{"v":4800,"d":"4,800р."},"Чак Норрис"]
[null,"CL08150","2013-09-24T08:21:30.280","Софт","Центр","Корпорация",67,"Да",4.1,0,"Бред Питт"]
[null,"CL08153","2013-09-24T08:28:58.080","Другое","Восток","Корпорация",63,"Да",3.2,{"v":7800,"d":"7,800р."},"Джеки Чан"]
[null,"CL08162","2013-09-24T08:44:43.753","Другое","Запад","Малый бизнес",65,"Да",3.2,{"v":4500,"d":"4,500р."},"Джеки Чан"]
[null,"CL08165","2013-09-24T08:50:16.203","Ноутбук","Юг","Некоммерческие",68,"Да",3.7,{"v":4200,"d":"4,200р."},"Чак Норрис"]
[null,"CL08172","2013-09-24T09:03:54.740","Софт","Восток","Некоммерческие",74,"Да",3.6,{"v":8100,"d":"8,100р."},"Джонни Депп"]
[null,"CL08180","2013-09-24T09:35:08.063","Персональный ПК","Запад","Некоммерческие",70,"Да",3.4,{"v":3600,"d":"3,600р."},"Джеки Чан"]
[null,"CL08183","2013-09-24T09:40:07.755","Другое","Юг","Корпорация",88,"Да",2.4,{"v":7200,"d":"7,200р."},"Колин Фаррел"]
[null,"CL08192","2013-09-24T10:04:32.921","Другое","Центр","Некоммерческие",64,"Да",3.8,0,"Чак Норрис"]
[null,"CL08195","2013-09-24T10:10:22.181","Монитор","Запад","Корпорация",75,"Да",3.6,{"v":5400,"d":"5,400р."},"Бред Питт"]
[null,"CL08202","2013-09-24T10:40:31.638","Аксессуары","Север","Малый бизнес",77,"Да",3.3,{"v":5100,"d":"5,100р."},"Чак Норрис"]
[null,"CL08211","2013-09-24T10:56:12.532","Аксессуары","Север","Частные клиенты",73,"Да",3.8,{"v":6300,"d":"6,300р."},"Джеки Чан"]
[null,"CL08214","2013-09-24T11:00:15.865","Софт","Запад","Корпорация",77,"Да",2.7,0,"Джонни Депп"]
[null,"CL08222","2013-09-24T11:29:39.816","Монитор","Юг","Некоммерческие",80,"Да",3.4,{"v":3900,"d":"3,900р."},"Колин Фаррел"]
[null,"CL08231","2013-09-24T11:57:28.999","Аксессуары","Юг","Некоммерческие",75,"Да",3.7,0,"Чак Норрис"]
[null,"CL08232","2013-09-24T11:57:40.524","Ноутбук","Север","Некоммерческие",92,"Да",2.3,0,"Бред Питт"]
[null,"CL08241","2013-09-24T12:24:04.303","Аксессуары","Север","Корпорация",55,"Да",2.2,0,"Чак Норрис"]
[null,"CL08244","2013-09-24T12:33:07.762","Персональный ПК","Север","Малый бизнес",86,"Да",2.5,0,"Чак Норрис"]
[null,"CL08251","2013-09-24T12:50:17.204","Персональный ПК","Запад","Корпорация",70,"Да",2.8,{"v":3900,"d":"3,900р."},"Бред Питт"]
[null,"CL08261","2013-09-24T13:20:22.117","Персональный ПК","Запад","Корпорация",76,"Да",1.7,0,"Колин Фаррел"]
[null,"CL08268","2013-09-24T13:41:47.012","Ноутбук","Запад","Частные клиенты",84,"Да",2.9,0,"Чак Норрис"]
[null,"CL08271","2013-09-24T13:52:00.406","Аксессуары","Восток","Некоммерческие",67,"Да",2.7,{"v":5700,"d":"5,700р."},"Уилл Смит"]
[null,"CL08280","2013-09-24T14:14:25.512","Другое","Север","Частные клиенты",68,"Да",{"v":3,"d":"3.0"},{"v":8100,"d":"8,100р."},"Чак Норрис"]
[null,"CL08281","2013-09-24T14:19:39.475","Ноутбук","Центр","Малый бизнес",64,"Да",2.8,0,"Джонни Депп"]
[null,"CL08288","2013-09-24T14:39:21.337","Персональный ПК","Центр","Малый бизнес",73,"Да",3.5,0,"Бред Питт"]
[null,"CL08294","2013-09-24T14:56:19.132","Монитор","Восток","Малый бизнес",81,"Да",2.8,{"v":6300,"d":"6,300р."},"Чак Норрис"]
[null,"CL08301","2013-09-24T15:22:15.021","Монитор","Юг","Малый бизнес",61,"Да",2.5,{"v":5100,"d":"5,100р."},"Колин Фаррел"]
[null,"CL08310","2013-09-24T15:41:08.293","Ноутбук","Юг","Частные клиенты",84,"Да",2.5,0,"Уилл Смит"]
[null,"CL08317","2013-09-24T16:05:04.637","Персональный ПК","Юг","Малый бизнес",53,"Да",3.4,{"v":5700,"d":"5,700р."},"Колин Фаррел"]
[null,"CL08320","2013-09-24T16:11:29.015","Персональный ПК","Восток","Частные клиенты",81,"Да",3.3,{"v":6900,"d":"6,900р."},"Бред Питт"]
[null,"CL08325","2013-09-24T16:23:57.556","Софт","Центр","Частные клиенты",87,"Да",3.2,{"v":6000,"d":"6,000р."},"Бред Питт"]
[null,"CL08331","2013-09-24T16:39:16.627","Персональный ПК","Восток","Малый бизнес",73,"Нет",2.5,{"v":6000,"d":"6,000р."},"Колин Фаррел"]
[null,"CL08340","2013-09-24T17:01:27.149","Другое","Юг","Малый бизнес",81,"Нет",{"v":3,"d":"3.0"},{"v":6900,"d":"6,900р."},"Колин Фаррел"]
[null,"CL08347","2013-09-24T17:29:43.339","Аксессуары","Восток","Некоммерческие",62,"Да",3.1,{"v":6000,"d":"6,000р."},"Уилл Смит"]
[null,"CL08350","2013-09-24T17:38:14.931","Другое","Юг","Корпорация",70,"Да",2.3,{"v":6000,"d":"6,000р."},"Колин Фаррел"]
[null,"CL08359","2013-09-24T17:56:06.337","Персональный ПК","Центр","Корпорация",81,"Да",3.1,{"v":8400,"d":"8,400р."},"Бред Питт"]
[null,"CL08366","2013-09-24T18:09:00.911","Ноутбук","Восток","Корпорация",81,"Да",3.3,{"v":7500,"d":"7,500р."},"Джонни Депп"]
[null,"CL08370","2013-09-24T18:16:25.484","Монитор","Юг","Частные клиенты",84,"Да",{"v":3,"d":"3.0"},{"v":7500,"d":"7,500р."},"Уилл Смит"]
[null,"CL08379","2013-09-24T18:39:34.945","Другое","Юг","Частные клиенты",74,"Да",3.3,{"v":5400,"d":"5,400р."},"Бред Питт"]
[null,"CL08380","2013-09-24T18:41:54.379","Другое","Центр","Частные клиенты",78,"Да",3.6,0,"Джонни Депп"]
[null,"CL08389","2013-09-24T19:07:58.052","Аксессуары","Восток","Некоммерческие",86,"Да",3.2,{"v":4200,"d":"4,200р."},"Бред Питт"]
[null,"CL08396","2013-09-24T19:33:08.736","Персональный ПК","Восток","Частные клиенты",77,"Да",2.9,{"v":5700,"d":"5,700р."},"Джонни Депп"]
[null,"CL08403","2013-09-24T19:55:03.427","Аксессуары","Центр","Некоммерческие",68,"Да",3.5,{"v":6900,"d":"6,900р."},"Джеки Чан"]
[null,"CL08409","2013-09-24T20:12:19.021","Ноутбук","Запад","Некоммерческие",77,"Да",2.5,{"v":8100,"d":"8,100р."},"Уилл Смит"]
[null,"CL08416","2013-09-24T20:34:16.992","Монитор","Центр","Корпорация",70,"Да",2.5,{"v":2700,"d":"2,700р."},"Чак Норрис"]
[null,"CL08419","2013-09-24T20:45:39.524","Софт","Юг","Малый бизнес",82,"Да",3.4,{"v":6600,"d":"6,600р."},"Бред Питт"]
[null,"CL08426","2013-09-24T21:15:00.686","Ноутбук","Центр","Некоммерческие",68,"Да",{"v":3,"d":"3.0"},{"v":6600,"d":"6,600р."},"Колин Фаррел"]
[null,"CL08429","2013-09-24T21:19:03.293","Ноутбук","Юг","Малый бизнес",72,"Нет",3.2,0,"Колин Фаррел"]
[null,"CL08440","2013-09-24T21:50:08.717","Ноутбук","Центр","Малый бизнес",67,"Да",{"v":3,"d":"3.0"},0,"Колин Фаррел"]
[null,"CL08446","2013-09-25T08:05:27.955","Монитор","Юг","Малый бизнес",70,"Да",2.1,0,"Джеки Чан"]
[null,"CL08449","2013-09-25T08:11:14.013","Персональный ПК","Юг","Корпорация",78,"Да",3.1,0,"Джеки Чан"]
[null,"CL08458","2013-09-25T08:35:13.910","Монитор","Центр","Некоммерческие",75,"Да",2.7,0,"Джеки Чан"]
[null,"CL08465","2013-09-25T08:56:13.474","Аксессуары","Запад","Частные клиенты",80,"Да",3.3,0,"Джеки Чан"]
[null,"CL08468","2013-09-25T09:07:38.956","Монитор","Центр","Частные клиенты",70,"Да",3.2,{"v":5100,"d":"5,100р."},"Джонни Депп"]
[null,"CL08474","2013-09-25T09:26:04.927","Ноутбук","Север","Частные клиенты",78,"Да",3.2,0,"Чак Норрис"]
[null,"CL08479","2013-09-25T09:46:35.405","Софт","Запад","Частные клиенты",71,"Да",3.3,{"v":3600,"d":"3,600р."},"Бред Питт"]
[null,"CL08488","2013-09-25T10:16:20.846","Персональный ПК","Запад","Некоммерческие",80,"Да",4.2,{"v":7800,"d":"7,800р."},"Уилл Смит"]
[null,"CL08495","2013-09-25T10:41:34.413","Аксессуары","Центр","Малый бизнес",69,"Да",2.3,{"v":3900,"d":"3,900р."},"Бред Питт"]
[null,"CL08498","2013-09-25T10:50:19.235","Монитор","Север","Малый бизнес",76,"Да",3.3,{"v":6300,"d":"6,300р."},"Джонни Депп"]
[null,"CL08507","2013-09-25T11:13:59.462","Персональный ПК","Центр","Корпорация",77,"Да",3.3,{"v":6000,"d":"6,000р."},"Бред Питт"]
[null,"CL08511","2013-09-25T11:31:07.115","Аксессуары","Запад","Некоммерческие",75,"Да",3.6,{"v":5700,"d":"5,700р."},"Уилл Смит"]
[null,"CL08518","2013-09-25T11:48:08.549","Ноутбук","Восток","Частные клиенты",70,"Да",3.7,{"v":8700,"d":"8,700р."},"Бред Питт"]
[null,"CL08525","2013-09-25T12:01:43.573","Аксессуары","Восток","Малый бизнес",62,"Да",2.9,0,"Чак Норрис"]
[null,"CL08528","2013-09-25T12:09:11.574","Ноутбук","Запад","Некоммерческие",65,"Да",3.4,0,"Колин Фаррел"]
[null,"CL08537","2013-09-25T12:34:31.603","Персональный ПК","Центр","Частные клиенты",76,"Да",2.7,{"v":5700,"d":"5,700р."},"Джонни Депп"]
[null,"CL08544","2013-09-25T13:01:29.936","Другое","Восток","Корпорация",79,"Нет",2.3,{"v":4800,"d":"4,800р."},"Чак Норрис"]
[null,"CL08548","2013-09-25T13:16:05.018","Персональный ПК","Запад","Корпорация",84,"Да",2.3,0,"Колин Фаррел"]
[null,"CL08555","2013-09-25T13:38:08.048","Софт","Центр","Частные клиенты",72,"Нет",4.1,0,"Уилл Смит"]
[null,"CL08564","2013-09-25T14:03:48.285","Ноутбук","Запад","Некоммерческие",85,"Да",3.1,0,"Чак Норрис"]
[null,"CL08567","2013-09-25T14:08:23.298","Монитор","Юг","Частные клиенты",90,"Да",3.6,{"v":5700,"d":"5,700р."},"Уилл Смит"]
[null,"CL08574","2013-09-25T14:27:36.848","Ноутбук","Запад","Некоммерческие",67,"Нет",2.7,{"v":5400,"d":"5,400р."},"Колин Фаррел"]
[null,"CL08577","2013-09-25T14:34:33.431","Ноутбук","Центр","Корпорация",95,"Да",3.6,{"v":7500,"d":"7,500р."},"Уилл Смит"]
[null,"CL08585","2013-09-25T14:55:23.226","Аксессуары","Север","Корпорация",86,"Да",3.3,0,"Уилл Смит"]
[null,"CL08594","2013-09-25T15:23:39.051","Монитор","Запад","Некоммерческие",84,"Нет",3.1,{"v":4800,"d":"4,800р."},"Чак Норрис"]
[null,"CL08597","2013-09-25T15:33:39.375","Персональный ПК","Юг","Некоммерческие",67,"Да",3.1,{"v":6000,"d":"6,000р."},"Джонни Депп"]
[null,"CL08604","2013-09-25T15:56:46.942","Аксессуары","Центр","Частные клиенты",81,"Да",2.7,0,"Колин Фаррел"]
[null,"CL08613","2013-09-25T16:19:16.354","Другое","Центр","Корпорация",69,"Да",3.5,{"v":6300,"d":"6,300р."},"Колин Фаррел"]
[null,"CL08616","2013-09-25T16:30:11.906","Ноутбук","Запад","Частные клиенты",74,"Да",1.9,0,"Чак Норрис"]
[null,"CL08626","2013-09-25T16:56:58.457","Софт","Север","Некоммерческие",90,"Да",3.2,{"v":6300,"d":"6,300р."},"Уилл Смит"]
[null,"CL08627","2013-09-25T17:01:40.956","Ноутбук","Восток","Малый бизнес",70,"Да",2.5,{"v":6000,"d":"6,000р."},"Бред Питт"]
[null,"CL08636","2013-09-25T17:23:47.585","Ноутбук","Север","Частные клиенты",78,"Да",2.6,0,"Джеки Чан"]
[null,"CL08643","2013-09-25T17:43:25.701","Персональный ПК","Центр","Корпорация",77,"Да",3.2,0,"Чак Норрис"]
[null,"CL08646","2013-09-25T17:54:32.183","Аксессуары","Север","Частные клиенты",71,"Да",{"v":3,"d":"3.0"},{"v":4500,"d":"4,500р."},"Джонни Депп"]
[null,"CL08653","2013-09-25T18:17:45.091","Другое","Юг","Малый бизнес",80,"Да",2.6,{"v":6000,"d":"6,000р."},"Бред Питт"]
[null,"CL08663","2013-09-25T18:41:07.956","Другое","Восток","Корпорация",72,"Да",2.8,{"v":2400,"d":"2,400р."},"Бред Питт"]
[null,"CL08666","2013-09-25T18:51:45.985","Аксессуары","Восток","Некоммерческие",83,"Да",3.1,{"v":4800,"d":"4,800р."},"Бред Питт"]
[null,"CL08673","2013-09-25T19:19:01.642","Монитор","Восток","Некоммерческие",67,"Да",3.3,0,"Чак Норрис"]
[null,"CL08676","2013-09-25T19:27:28.388","Аксессуары","Север","Некоммерческие",61,"Нет",3.5,0,"Джонни Депп"]
[null,"CL08683","2013-09-25T19:48:58.617","Софт","Восток","Некоммерческие",64,"Да",2.5,{"v":6600,"d":"6,600р."},"Уилл Смит"]
[null,"CL08692","2013-09-25T20:13:29.452","Другое","Запад","Корпорация",83,"Да",3.8,{"v":7500,"d":"7,500р."},"Бред Питт"]
[null,"CL08700","2013-09-25T20:27:31.641","Монитор","Центр","Некоммерческие",72,"Да",2.7,0,"Уилл Смит"]
[null,"CL08703","2013-09-25T20:30:40.680","Софт","Восток","Частные клиенты",70,"Да",3.2,{"v":4200,"d":"4,200р."},"Джонни Депп"]
[null,"CL08712","2013-09-25T20:59:05.254","Другое","Центр","Частные клиенты",65,"Да",2.8,{"v":2100,"d":"2,100р."},"Чак Норрис"]
[null,"CL08715","2013-09-25T21:12:24.857","Персональный ПК","Север","Частные клиенты",64,"Да",2.9,0,"Уилл Смит"]
[null,"CL08722","2013-09-25T21:33:37.695","Монитор","Восток","Малый бизнес",85,"Да",3.3,{"v":5700,"d":"5,700р."},"Уилл Смит"]
[null,"CL08730","2013-09-25T21:55:01.855","Ноутбук","Юг","Некоммерческие",68,"Да",{"v":3,"d":"3.0"},0,"Уилл Смит"]
[null,"CL08733","2013-09-26T08:01:43.025","Аксессуары","Юг","Некоммерческие",70,"Нет",3.5,0,"Уилл Смит"]
[null,"CL08742","2013-09-26T08:27:23.598","Софт","Запад","Малый бизнес",65,"Да",{"v":4,"d":"4.0"},0,"Джонни Депп"]
[null,"CL08745","2013-09-26T08:37:04.253","Монитор","Север","Частные клиенты",76,"Да",2.2,{"v":6000,"d":"6,000р."},"Чак Норрис"]
[null,"CL08752","2013-09-26T08:57:06.107","Персональный ПК","Запад","Корпорация",82,"Да",2.8,{"v":8400,"d":"8,400р."},"Колин Фаррел"]
[null,"CL08761","2013-09-26T09:17:01.528","Софт","Запад","Малый бизнес",74,"Да",3.3,0,"Колин Фаррел"]
[null,"CL08764","2013-09-26T09:27:34.687","Другое","Центр","Частные клиенты",68,"Да",3.1,{"v":3600,"d":"3,600р."},"Джонни Депп"]
[null,"CL08772","2013-09-26T09:42:16.052","Монитор","Запад","Частные клиенты",63,"Да",2.3,{"v":4800,"d":"4,800р."},"Джеки Чан"]
[null,"CL08775","2013-09-26T09:53:40.607","Ноутбук","Юг","Малый бизнес",77,"Да",3.9,{"v":2400,"d":"2,400р."},"Чак Норрис"]
[null,"CL08782","2013-09-26T10:21:40.144","Персональный ПК","Запад","Корпорация",65,"Да",3.5,{"v":9000,"d":"9,000р."},"Уилл Смит"]
[null,"CL08791","2013-09-26T10:44:43.553","Монитор","Центр","Частные клиенты",87,"Да",2.4,{"v":3600,"d":"3,600р."},"Колин Фаррел"]
[null,"CL08794","2013-09-26T10:55:03.303","Персональный ПК","Юг","Малый бизнес",81,"Да",{"v":3,"d":"3.0"},{"v":5400,"d":"5,400р."},"Колин Фаррел"]
[null,"CL08801","2013-09-26T11:16:32.203","Софт","Север","Некоммерческие",78,"Да",3.6,{"v":6000,"d":"6,000р."},"Джонни Депп"]
[null,"CL08811","2013-09-26T11:41:01.921","Монитор","Запад","Корпорация",84,"Да",2.7,0,"Джонни Депп"]
[null,"CL08812","2013-09-26T11:42:24.347","Персональный ПК","Запад","Частные клиенты",68,"Да",3.1,0,"Колин Фаррел"]
[null,"CL08821","2013-09-26T12:14:41.954","Аксессуары","Восток","Корпорация",67,"Да",{"v":3,"d":"3.0"},{"v":4500,"d":"4,500р."},"Уилл Смит"]
[null,"CL08824","2013-09-26T12:24:50.581","Монитор","Центр","Корпорация",75,"Да",3.1,0,"Уилл Смит"]
[null,"CL08831","2013-09-26T12:40:45.931","Аксессуары","Север","Малый бизнес",56,"Да",{"v":3,"d":"3.0"},0,"Уилл Смит"]
[null,"CL08838","2013-09-26T12:59:06.695","Монитор","Север","Малый бизнес",81,"Да",3.8,0,"Чак Норрис"]
[null,"CL08844","2013-09-26T13:14:38.451","Аксессуары","Центр","Корпорация",65,"Да",2.7,{"v":5700,"d":"5,700р."},"Колин Фаррел"]
[null,"CL08851","2013-09-26T13:34:05.589","Софт","Восток","Малый бизнес",63,"Да",3.3,{"v":2400,"d":"2,400р."},"Уилл Смит"]
[null,"CL08860","2013-09-26T14:04:13.489","Монитор","Центр","Некоммерческие",63,"Да",2.5,0,"Чак Норрис"]
[null,"CL08861","2013-09-26T14:08:02.492","Монитор","Запад","Частные клиенты",86,"Да",2.4,{"v":7500,"d":"7,500р."},"Колин Фаррел"]
[null,"CL08870","2013-09-26T14:36:10.944","Софт","Центр","Частные клиенты",70,"Да",3.3,0,"Колин Фаррел"]
[null,"CL08875","2013-09-26T14:47:34.364","Другое","Центр","Малый бизнес",80,"Да",2.4,{"v":5400,"d":"5,400р."},"Уилл Смит"]
[null,"CL08881","2013-09-26T15:01:09.816","Персональный ПК","Восток","Малый бизнес",64,"Да",2.6,{"v":7800,"d":"7,800р."},"Джеки Чан"]
[null,"CL08890","2013-09-26T15:26:03.316","Монитор","Юг","Малый бизнес",67,"Да",2.7,0,"Джеки Чан"]
[null,"CL08897","2013-09-26T15:46:45.287","Аксессуары","Запад","Некоммерческие",81,"Да",3.5,0,"Уилл Смит"]
[null,"CL08900","2013-09-26T15:57:29.170","Аксессуары","Восток","Некоммерческие",80,"Да",3.7,0,"Колин Фаррел"]
[null,"CL08909","2013-09-26T16:21:46.509","Ноутбук","Север","Некоммерческие",73,"Да",3.5,{"v":4500,"d":"4,500р."},"Колин Фаррел"]
[null,"CL08916","2013-09-26T16:42:47.183","Другое","Север","Малый бизнес",73,"Да",{"v":3,"d":"3.0"},{"v":5700,"d":"5,700р."},"Колин Фаррел"]
[null,"CL08920","2013-09-26T16:57:02.863","Персональный ПК","Центр","Корпорация",57,"Да",3.7,{"v":4500,"d":"4,500р."},"Чак Норрис"]
[null,"CL08923","2013-09-26T17:08:21.270","Монитор","Юг","Малый бизнес",70,"Да",2.1,{"v":6000,"d":"6,000р."},"Колин Фаррел"]
[null,"CL08930","2013-09-26T17:28:37.898","Аксессуары","Восток","Малый бизнес",79,"Да",2.6,{"v":6000,"d":"6,000р."},"Джонни Депп"]
[null,"CL08939","2013-09-26T17:50:23.254","Аксессуары","Запад","Корпорация",72,"Да",3.2,{"v":6000,"d":"6,000р."},"Чак Норрис"]
[null,"CL08946","2013-09-26T18:09:49.350","Софт","Восток","Малый бизнес",66,"Да",3.3,{"v":5700,"d":"5,700р."},"Бред Питт"]
[null,"CL08953","2013-09-26T18:26:58.563","Аксессуары","Юг","Малый бизнес",81,"Да",3.6,0,"Чак Норрис"]
[null,"CL08959","2013-09-26T18:46:44.512","Другое","Юг","Частные клиенты",90,"Да",2.3,0,"Джеки Чан"]
[null,"CL08960","2013-09-26T18:51:54.691","Другое","Юг","Некоммерческие",74,"Да",3.3,{"v":6600,"d":"6,600р."},"Уилл Смит"]
[null,"CL08969","2013-09-26T19:17:03.261","Персональный ПК","Запад","Частные клиенты",67,"Да",2.2,0,"Колин Фаррел"]
[null,"CL08976","2013-09-26T19:32:16.683","Монитор","Восток","Некоммерческие",80,"Да",2.7,{"v":3900,"d":"3,900р."},"Колин Фаррел"]
[null,"CL08979","2013-09-26T19:45:04.285","Аксессуары","Юг","Частные клиенты",70,"Да",{"v":3,"d":"3.0"},{"v":3900,"d":"3,900р."},"Уилл Смит"]
[null,"CL08990","2013-09-26T20:15:38.255","Софт","Центр","Частные клиенты",77,"Нет",3.6,{"v":6000,"d":"6,000р."},"Джеки Чан"]
[null,"CL08996","2013-09-26T20:35:10.504","Софт","Запад","Частные клиенты",84,"Да",2.8,{"v":6300,"d":"6,300р."},"Чак Норрис"]
[null,"CL08999","2013-09-26T20:41:49.911","Софт","Запад","Малый бизнес",73,"Да",{"v":3,"d":"3.0"},0,"Джеки Чан"]
[null,"CL09008","2013-09-26T21:03:59.991","Другое","Юг","Некоммерческие",80,"Да",2.7,{"v":5400,"d":"5,400р."},"Уилл Смит"]
[null,"CL09009","2013-09-26T21:09:41.041","Ноутбук","Восток","Частные клиенты",67,"Да",3.2,{"v":6300,"d":"6,300р."},"Бред Питт"]
[null,"CL09018","2013-09-26T21:40:30.325","Софт","Запад","Малый бизнес",72,"Да",3.5,0,"Чак Норрис"]
[null,"CL09024","2013-09-26T21:52:56.883","Софт","Юг","Корпорация",74,"Да",2.5,{"v":6300,"d":"6,300р."},"Бред Питт"]
[null,"CL09029","2013-09-27T08:04:58.416","Другое","Юг","Частные клиенты",74,"Да",2.7,{"v":6600,"d":"6,600р."},"Джонни Депп"]
[null,"CL09038","2013-09-27T08:21:45.759","Другое","Запад","Некоммерческие",73,"Да",2.6,{"v":8700,"d":"8,700р."},"Бред Питт"]
[null,"CL09045","2013-09-27T08:42:35.921","Персональный ПК","Юг","Некоммерческие",76,"Да",2.5,{"v":5100,"d":"5,100р."},"Колин Фаррел"]
[null,"CL09048","2013-09-27T08:52:25.976","Аксессуары","Центр","Малый бизнес",81,"Да",2.9,{"v":5100,"d":"5,100р."},"Джонни Депп"]
[null,"CL09057","2013-09-27T09:19:17.349","Аксессуары","Юг","Частные клиенты",70,"Да",{"v":2,"d":"2.0"},{"v":7200,"d":"7,200р."},"Бред Питт"]
[null,"CL09061","2013-09-27T09:30:31.081","Монитор","Юг","Частные клиенты",64,"Да",2.7,0,"Джеки Чан"]
[null,"CL09068","2013-09-27T09:50:45.007","Персональный ПК","Север","Частные клиенты",81,"Нет",2.6,0,"Джеки Чан"]
[null,"CL09075","2013-09-27T10:18:57.912","Софт","Юг","Частные клиенты",69,"Да",3.6,0,"Чак Норрис"]
[null,"CL09078","2013-09-27T10:24:43.299","Ноутбук","Север","Некоммерческие",83,"Да",2.9,{"v":6300,"d":"6,300р."},"Уилл Смит"]
[null,"CL09087","2013-09-27T10:47:52.902","Персональный ПК","Запад","Корпорация",70,"Да",2.3,{"v":6900,"d":"6,900р."},"Джеки Чан"]
[null,"CL09094","2013-09-27T11:06:40.632","Ноутбук","Центр","Малый бизнес",80,"Да",3.4,{"v":4800,"d":"4,800р."},"Колин Фаррел"]
[null,"CL09098","2013-09-27T11:18:48.311","Софт","Восток","Малый бизнес",70,"Да",3.4,0,"Джеки Чан"]
[null,"CL09105","2013-09-27T11:36:59.951","Ноутбук","Центр","Малый бизнес",83,"Да",4.1,0,"Чак Норрис"]
[null,"CL09108","2013-09-27T11:48:22.492","Ноутбук","Юг","Некоммерческие",80,"Да",2.8,{"v":5700,"d":"5,700р."},"Джеки Чан"]
[null,"CL09117","2013-09-27T12:18:45.311","Аксессуары","Запад","Некоммерческие",60,"Да",2.6,0,"Бред Питт"]
[null,"CL09124","2013-09-27T12:41:12.499","Ноутбук","Запад","Частные клиенты",77,"Да",3.1,{"v":5700,"d":"5,700р."},"Бред Питт"]
[null,"CL09127","2013-09-27T12:52:09.542","Ноутбук","Центр","Частные клиенты",84,"Да",3.6,0,"Уилл Смит"]
[null,"CL09135","2013-09-27T13:13:20.056","Софт","Восток","Некоммерческие",63,"Да",2.4,{"v":4800,"d":"4,800р."},"Уилл Смит"]
[null,"CL09144","2013-09-27T13:41:31.804","Софт","Север","Частные клиенты",72,"Да",2.7,0,"Джонни Депп"]
[null,"CL09147","2013-09-27T13:52:53.405","Другое","Центр","Корпорация",86,"Да",3.4,{"v":5400,"d":"5,400р."},"Чак Норрис"]
[null,"CL09154","2013-09-27T14:12:58.005","Софт","Центр","Частные клиенты",78,"Да",{"v":3,"d":"3.0"},0,"Джеки Чан"]
[null,"CL09157","2013-09-27T14:20:44.296","Персональный ПК","Восток","Корпорация",77,"Нет",3.6,0,"Джеки Чан"]
[null,"CL09166","2013-09-27T14:39:00.260","Персональный ПК","Восток","Некоммерческие",76,"Да",3.1,{"v":6000,"d":"6,000р."},"Бред Питт"]
[null,"CL09169","2013-09-27T14:44:02.483","Софт","Восток","Некоммерческие",90,"Да",3.5,{"v":6300,"d":"6,300р."},"Уилл Смит"]
[null,"CL09177","2013-09-27T15:04:24.834","Софт","Юг","Некоммерческие",78,"Да",2.7,0,"Джеки Чан"]
[null,"CL09186","2013-09-27T15:29:57.358","Персональный ПК","Север","Корпорация",63,"Да",2.9,0,"Чак Норрис"]
[null,"CL09193","2013-09-27T15:46:48.292","Софт","Юг","Корпорация",73,"Да",2.5,{"v":5700,"d":"5,700р."},"Джеки Чан"]
[null,"CL09196","2013-09-27T15:54:12.903","Монитор","Восток","Корпорация",82,"Да",2.6,0,"Джонни Депп"]
[null,"CL09203","2013-09-27T16:18:28.954","Ноутбук","Юг","Частные клиенты",75,"Да",3.5,0,"Бред Питт"]
[null,"CL09206","2013-09-27T16:29:57.579","Ноутбук","Север","Частные клиенты",71,"Да",3.5,{"v":6900,"d":"6,900р."},"Бред Питт"]
[null,"CL09216","2013-09-27T16:54:03.823","Ноутбук","Юг","Некоммерческие",71,"Да",2.8,0,"Джеки Чан"]
[null,"CL09223","2013-09-27T17:13:02.900","Ноутбук","Восток","Корпорация",77,"Да",1.7,0,"Бред Питт"]
[null,"CL09226","2013-09-27T17:21:01.756","Аксессуары","Запад","Некоммерческие",78,"Да",3.2,{"v":8100,"d":"8,100р."},"Колин Фаррел"]
[null,"CL09233","2013-09-27T17:47:28.263","Монитор","Восток","Частные клиенты",68,"Да",{"v":3,"d":"3.0"},0,"Бред Питт"]
[null,"CL09242","2013-09-27T18:14:14.595","Аксессуары","Юг","Корпорация",78,"Да",{"v":3,"d":"3.0"},{"v":7500,"d":"7,500р."},"Джеки Чан"]
[null,"CL09243","2013-09-27T18:15:42.835","Монитор","Центр","Корпорация",94,"Да",3.3,{"v":6000,"d":"6,000р."},"Джеки Чан"]
[null,"CL09253","2013-09-27T18:39:10.184","Другое","Запад","Некоммерческие",64,"Да",3.8,0,"Чак Норрис"]
[null,"CL09256","2013-09-27T18:44:57.699","Монитор","Север","Корпорация",82,"Да",3.7,0,"Джонни Депп"]
[null,"CL09265","2013-09-27T19:12:56.835","Другое","Восток","Некоммерческие",86,"Да",3.5,0,"Чак Норрис"]
[null,"CL09272","2013-09-27T19:32:04.265","Ноутбук","Юг","Корпорация",72,"Да",2.9,0,"Джеки Чан"]
[null,"CL09275","2013-09-27T19:37:56.643","Персональный ПК","Север","Корпорация",72,"Да",2.7,{"v":4200,"d":"4,200р."},"Колин Фаррел"]
[null,"CL09284","2013-09-27T20:08:52.898","Персональный ПК","Восток","Некоммерческие",85,"Да",4.1,{"v":6300,"d":"6,300р."},"Колин Фаррел"]
[null,"CL09292","2013-09-27T20:36:12.444","Софт","Север","Некоммерческие",74,"Да",0.9,{"v":4500,"d":"4,500р."},"Бред Питт"]
[null,"CL09295","2013-09-27T20:44:57.330","Персональный ПК","Центр","Корпорация",73,"Да",3.4,{"v":7800,"d":"7,800р."},"Джонни Депп"]
[null,"CL09302","2013-09-27T21:00:49.571","Другое","Центр","Частные клиенты",79,"Да",3.2,{"v":4200,"d":"4,200р."},"Джонни Депп"]
[null,"CL09305","2013-09-27T21:11:07.572","Персональный ПК","Восток","Частные клиенты",78,"Да",2.4,0,"Бред Питт"]
[null,"CL09314","2013-09-27T21:39:45.709","Софт","Центр","Корпорация",66,"Да",2.7,0,"Джонни Депп"]
[null,"CL09322","2013-09-27T22:00:11.737","Аксессуары","Центр","Корпорация",85,"Да",3.1,{"v":5100,"d":"5,100р."},"Джонни Депп"]
[null,"CL09325","2013-09-28T08:14:09.604","Монитор","Запад","Малый бизнес",79,"Да",2.6,0,"Колин Фаррел"]
[null,"CL09332","2013-09-28T08:36:28.480","Ноутбук","Юг","Корпорация",72,"Да",{"v":4,"d":"4.0"},0,"Колин Фаррел"]
[null,"CL09341","2013-09-28T09:04:13.281","Другое","Юг","Малый бизнес",63,"Да",3.2,{"v":4200,"d":"4,200р."},"Чак Норрис"]
[null,"CL09344","2013-09-28T09:11:57.524","Другое","Центр","Малый бизнес",79,"Нет",3.1,{"v":7500,"d":"7,500р."},"Джонни Депп"]
[null,"CL09351","2013-09-28T09:35:21.063","Другое","Центр","Малый бизнес",87,"Да",2.8,{"v":6600,"d":"6,600р."},"Джонни Депп"]
[null,"CL09355","2013-09-28T09:45:30.771","Ноутбук","Север","Малый бизнес",83,"Да",2.3,{"v":5100,"d":"5,100р."},"Уилл Смит"]
[null,"CL09362","2013-09-28T10:02:44.151","Монитор","Запад","Корпорация",77,"Да",3.4,{"v":5400,"d":"5,400р."},"Бред Питт"]
[null,"CL09371","2013-09-28T10:28:24.440","Софт","Север","Корпорация",77,"Да",2.7,0,"Джонни Депп"]
[null,"CL09374","2013-09-28T10:35:02.896","Персональный ПК","Восток","Частные клиенты",76,"Да",2.9,{"v":5400,"d":"5,400р."},"Бред Питт"]
[null,"CL09381","2013-09-28T10:59:14.214","Персональный ПК","Юг","Частные клиенты",73,"Да",3.4,{"v":6600,"d":"6,600р."},"Чак Норрис"]
[null,"CL09388","2013-09-28T11:25:00.964","Софт","Юг","Корпорация",89,"Да",2.8,0,"Бред Питт"]
[null,"CL09394","2013-09-28T11:44:04.647","Монитор","Запад","Некоммерческие",63,"Да",3.1,{"v":7200,"d":"7,200р."},"Джонни Депп"]
[null,"CL09401","2013-09-28T12:00:45.968","Другое","Центр","Некоммерческие",69,"Да",2.5,0,"Колин Фаррел"]
[null,"CL09404","2013-09-28T12:08:53.025","Софт","Север","Корпорация",71,"Да",3.5,0,"Чак Норрис"]
[null,"CL09411","2013-09-28T12:37:34.862","Ноутбук","Центр","Малый бизнес",79,"Да",1.9,{"v":9000,"d":"9,000р."},"Джеки Чан"]
[null,"CL09420","2013-09-28T13:01:03.045","Другое","Восток","Малый бизнес",88,"Да",2.2,{"v":5700,"d":"5,700р."},"Джеки Чан"]
[null,"CL09425","2013-09-28T13:19:40.784","Аксессуары","Юг","Частные клиенты",70,"Да",3.2,{"v":2700,"d":"2,700р."},"Джеки Чан"]
[null,"CL09431","2013-09-28T13:38:46.544","Ноутбук","Север","Некоммерческие",86,"Да",2.7,0,"Джонни Депп"]
[null,"CL09440","2013-09-28T13:59:56.436","Персональный ПК","Центр","Некоммерческие",79,"Да",2.6,{"v":3300,"d":"3,300р."},"Бред Питт"]
[null,"CL09441","2013-09-28T14:00:09.453","Другое","Юг","Малый бизнес",88,"Да",3.5,{"v":7800,"d":"7,800р."},"Уилл Смит"]
[null,"CL09450","2013-09-28T14:27:21.534","Другое","Юг","Корпорация",75,"Да",3.3,{"v":4500,"d":"4,500р."},"Джеки Чан"]
[null,"CL09453","2013-09-28T14:34:35.241","Монитор","Центр","Корпорация",71,"Да",2.1,{"v":9300,"d":"9,300р."},"Чак Норрис"]
[null,"CL09459","2013-09-28T14:50:32.957","Аксессуары","Центр","Некоммерческие",84,"Да",2.4,{"v":4800,"d":"4,800р."},"Бред Питт"]
[null,"CL09470","2013-09-28T15:18:00.268","Другое","Юг","Некоммерческие",75,"Нет",3.6,{"v":5100,"d":"5,100р."},"Джеки Чан"]
[null,"CL09473","2013-09-28T15:26:30.417","Аксессуары","Юг","Частные клиенты",77,"Да",{"v":4,"d":"4.0"},{"v":5400,"d":"5,400р."},"Джонни Депп"]
[null,"CL09480","2013-09-28T15:34:27.232","Персональный ПК","Север","Частные клиенты",77,"Да",2.9,{"v":7200,"d":"7,200р."},"Джеки Чан"]
[null,"CL09489","2013-09-28T16:03:04.847","Аксессуары","Юг","Некоммерческие",95,"Да",3.2,{"v":8700,"d":"8,700р."},"Бред Питт"]
[null,"CL09490","2013-09-28T16:06:29.912","Другое","Центр","Частные клиенты",81,"Да",{"v":3,"d":"3.0"},0,"Колин Фаррел"]
[null,"CL09496","2013-09-28T16:23:07.675","Ноутбук","Восток","Частные клиенты",72,"Да",{"v":3,"d":"3.0"},0,"Чак Норрис"]
[null,"CL09503","2013-09-28T16:46:35.754","Монитор","Восток","Малый бизнес",80,"Да",2.8,{"v":6600,"d":"6,600р."},"Бред Питт"]
[null,"CL09510","2013-09-28T17:10:46.096","Аксессуары","Юг","Малый бизнес",70,"Да",3.2,0,"Бред Питт"]
[null,"CL09519","2013-09-28T17:39:37.981","Ноутбук","Центр","Некоммерческие",77,"Да",3.2,{"v":6300,"d":"6,300р."},"Бред Питт"]
[null,"CL09522","2013-09-28T17:45:18.685","Монитор","Центр","Корпорация",79,"Да",2.7,{"v":5400,"d":"5,400р."},"Колин Фаррел"]
[null,"CL09529","2013-09-28T18:09:00.364","Аксессуары","Запад","Корпорация",82,"Да",2.2,0,"Чак Норрис"]
[null,"CL09533","2013-09-28T18:21:46.971","Ноутбук","Запад","Корпорация",67,"Да",2.7,0,"Джонни Депп"]
[null,"CL09540","2013-09-28T18:37:25.924","Персональный ПК","Центр","Малый бизнес",61,"Да",2.9,{"v":6600,"d":"6,600р."},"Джеки Чан"]
[null,"CL09549","2013-09-28T18:59:53.775","Софт","Юг","Корпорация",71,"Нет",3.6,0,"Джеки Чан"]
[null,"CL09552","2013-09-28T19:08:19.260","Аксессуары","Север","Корпорация",71,"Да",3.1,{"v":4500,"d":"4,500р."},"Уилл Смит"]
[null,"CL09559","2013-09-28T19:25:34.380","Софт","Север","Некоммерческие",64,"Да",{"v":3,"d":"3.0"},0,"Колин Фаррел"]
[null,"CL09568","2013-09-28T19:55:04.789","Персональный ПК","Центр","Некоммерческие",75,"Да",2.9,{"v":5700,"d":"5,700р."},"Джонни Депп"]
[null,"CL09574","2013-09-28T20:10:55.848","Монитор","Север","Некоммерческие",86,"Да",2.5,0,"Джонни Депп"]
[null,"CL09579","2013-09-28T20:23:23.644","Аксессуары","Юг","Малый бизнес",78,"Да",3.8,0,"Чак Норрис"]
[null,"CL09588","2013-09-28T20:47:19.398","Софт","Запад","Частные клиенты",80,"Да",2.7,0,"Уилл Смит"]
[null,"CL09589","2013-09-28T20:50:14.159","Аксессуары","Запад","Некоммерческие",87,"Да",3.2,{"v":5700,"d":"5,700р."},"Колин Фаррел"]
[null,"CL09598","2013-09-28T21:21:59.496","Ноутбук","Центр","Некоммерческие",82,"Да",2.9,0,"Джонни Депп"]
[null,"CL09601","2013-09-28T21:32:17.514","Монитор","Центр","Некоммерческие",63,"Да",2.7,{"v":5700,"d":"5,700р."},"Джонни Депп"]
[null,"CL09611","2013-09-28T22:01:07.195","Ноутбук","Центр","Корпорация",81,"Да",3.4,0,"Джеки Чан"]
[null,"CL09618","2013-09-29T08:21:54.379","Монитор","Север","Малый бизнес",80,"Да",3.4,{"v":2700,"d":"2,700р."},"Джонни Депп"]
[null,"CL09625","2013-09-29T08:34:04.476","Монитор","Запад","Частные клиенты",86,"Да",3.4,{"v":5700,"d":"5,700р."},"Колин Фаррел"]
[null,"CL09628","2013-09-29T08:42:42.071","Монитор","Центр","Малый бизнес",66,"Да",3.8,{"v":9000,"d":"9,000р."},"Уилл Смит"]
[null,"CL09637","2013-09-29T09:14:40.597","Персональный ПК","Запад","Корпорация",69,"Да",2.9,{"v":9000,"d":"9,000р."},"Чак Норрис"]
[null,"CL09638","2013-09-29T09:20:25.701","Софт","Восток","Корпорация",63,"Да",2.7,0,"Колин Фаррел"]
[null,"CL09648","2013-09-29T09:55:00.998","Персональный ПК","Восток","Корпорация",66,"Да",3.1,0,"Джонни Депп"]
[null,"CL09655","2013-09-29T10:16:08.647","Другое","Запад","Частные клиенты",88,"Да",3.1,0,"Джеки Чан"]
[null,"CL09658","2013-09-29T10:18:58.978","Монитор","Восток","Некоммерческие",83,"Да",1.9,{"v":3000,"d":"3,000р."},"Джонни Депп"]
[null,"CL09667","2013-09-29T10:46:48.299","Персональный ПК","Запад","Некоммерческие",69,"Да",3.6,0,"Чак Норрис"]
[null,"CL09674","2013-09-29T11:03:40.075","Аксессуары","Юг","Некоммерческие",60,"Да",{"v":3,"d":"3.0"},{"v":4200,"d":"4,200р."},"Колин Фаррел"]
[null,"CL09677","2013-09-29T11:12:54.645","Персональный ПК","Центр","Некоммерческие",78,"Да",2.6,0,"Колин Фаррел"]
[null,"CL09685","2013-09-29T11:27:01.945","Персональный ПК","Восток","Некоммерческие",93,"Да",2.9,{"v":7500,"d":"7,500р."},"Джонни Депп"]
[null,"CL09688","2013-09-29T11:37:45.986","Персональный ПК","Центр","Частные клиенты",77,"Да",2.6,0,"Джонни Депп"]
[null,"CL09697","2013-09-29T11:56:24.482","Софт","Юг","Малый бизнес",74,"Да",3.1,{"v":5400,"d":"5,400р."},"Бред Питт"]
[null,"CL09704","2013-09-29T12:12:40.344","Софт","Юг","Малый бизнес",83,"Нет",3.3,0,"Чак Норрис"]
[null,"CL09707","2013-09-29T12:16:52.911","Другое","Север","Некоммерческие",87,"Да",2.5,0,"Джонни Депп"]
[null,"CL09716","2013-09-29T12:43:53.423","Другое","Центр","Частные клиенты",76,"Да",{"v":4,"d":"4.0"},0,"Бред Питт"]
[null,"CL09719","2013-09-29T12:57:24.576","Другое","Запад","Малый бизнес",61,"Да",2.6,{"v":6000,"d":"6,000р."},"Колин Фаррел"]
[null,"CL09727","2013-09-29T13:16:59.731","Аксессуары","Центр","Малый бизнес",72,"Да",2.3,{"v":6300,"d":"6,300р."},"Уилл Смит"]
[null,"CL09736","2013-09-29T13:36:21.914","Софт","Юг","Корпорация",86,"Да",2.7,{"v":5700,"d":"5,700р."},"Уилл Смит"]
[null,"CL09737","2013-09-29T13:38:54.071","Аксессуары","Север","Малый бизнес",78,"Да",2.8,0,"Джонни Депп"]
[null,"CL09746","2013-09-29T14:07:16.134","Монитор","Юг","Малый бизнес",82,"Да",3.1,0,"Бред Питт"]
[null,"CL09753","2013-09-29T14:32:56.862","Монитор","Центр","Малый бизнес",94,"Да",2.8,0,"Уилл Смит"]
[null,"CL09756","2013-09-29T14:37:14.016","Персональный ПК","Центр","Некоммерческие",72,"Да",3.1,{"v":4800,"d":"4,800р."},"Уилл Смит"]
[null,"CL09766","2013-09-29T15:03:24.288","Персональный ПК","Центр","Малый бизнес",72,"Да",2.2,{"v":6600,"d":"6,600р."},"Уилл Смит"]
[null,"CL09773","2013-09-29T15:19:12.334","Аксессуары","Север","Корпорация",75,"Да",2.8,{"v":6300,"d":"6,300р."},"Джонни Депп"]
[null,"CL09776","2013-09-29T15:28:35.649","Ноутбук","Запад","Малый бизнес",71,"Да",3.7,0,"Бред Питт"]
[null,"CL09783","2013-09-29T15:46:18.213","Монитор","Центр","Частные клиенты",88,"Да",3.3,{"v":7200,"d":"7,200р."},"Джонни Депп"]
[null,"CL09786","2013-09-29T15:58:41.718","Софт","Запад","Некоммерческие",84,"Да",{"v":4,"d":"4.0"},0,"Уилл Смит"]
[null,"CL09793","2013-09-29T16:21:07.840","Аксессуары","Центр","Малый бизнес",87,"Да",2.8,{"v":5100,"d":"5,100р."},"Чак Норрис"]
[null,"CL09803","2013-09-29T17:00:41.421","Другое","Юг","Малый бизнес",73,"Да",{"v":3,"d":"3.0"},{"v":8100,"d":"8,100р."},"Бред Питт"]
[null,"CL09806","2013-09-29T17:15:45.758","Аксессуары","Север","Частные клиенты",72,"Да",{"v":3,"d":"3.0"},{"v":5700,"d":"5,700р."},"Уилл Смит"]
[null,"CL09815","2013-09-29T17:40:34.855","Ноутбук","Восток","Частные клиенты",70,"Да",3.4,{"v":6900,"d":"6,900р."},"Уилл Смит"]
[null,"CL09822","2013-09-29T17:58:44.935","Ноутбук","Центр","Малый бизнес",60,"Да",3.7,0,"Джонни Депп"]
[null,"CL09825","2013-09-29T18:05:40.894","Другое","Центр","Некоммерческие",83,"Да",3.9,0,"Чак Норрис"]
[null,"CL09834","2013-09-29T18:31:25.405","Ноутбук","Восток","Некоммерческие",69,"Да",2.8,{"v":7500,"d":"7,500р."},"Колин Фаррел"]
[null,"CL09836","2013-09-29T18:37:58.814","Ноутбук","Север","Малый бизнес",71,"Да",3.4,{"v":6900,"d":"6,900р."},"Джеки Чан"]
[null,"CL09845","2013-09-29T19:06:40.170","Персональный ПК","Восток","Некоммерческие",63,"Да",3.4,{"v":5100,"d":"5,100р."},"Бред Питт"]
[null,"CL09852","2013-09-29T19:25:10.321","Аксессуары","Восток","Малый бизнес",72,"Да",3.6,{"v":3600,"d":"3,600р."},"Джеки Чан"]
[null,"CL09855","2013-09-29T19:38:26.991","Персональный ПК","Север","Малый бизнес",59,"Да",3.1,{"v":3900,"d":"3,900р."},"Джонни Депп"]
[null,"CL09864","2013-09-29T19:59:48.959","Персональный ПК","Север","Частные клиенты",75,"Да",2.7,0,"Чак Норрис"]
[null,"CL09872","2013-09-29T20:19:14.209","Аксессуары","Запад","Некоммерческие",81,"Да",{"v":3,"d":"3.0"},0,"Бред Питт"]
[null,"CL09875","2013-09-29T20:29:37.567","Софт","Юг","Малый бизнес",71,"Да",2.8,{"v":7800,"d":"7,800р."},"Уилл Смит"]
[null,"CL09882","2013-09-29T20:53:53.699","Другое","Север","Малый бизнес",74,"Да",3.2,0,"Уилл Смит"]
[null,"CL09885","2013-09-29T20:58:25.149","Персональный ПК","Запад","Корпорация",80,"Да",3.2,{"v":5700,"d":"5,700р."},"Джеки Чан"]
[null,"CL09894","2013-09-29T21:33:11.570","Ноутбук","Север","Частные клиенты",80,"Да",3.8,0,"Чак Норрис"]
[null,"CL09901","2013-09-29T21:52:23.592","Другое","Центр","Частные клиенты",76,"Да",2.6,{"v":6000,"d":"6,000р."},"Бред Питт"]
[null,"CL09905","2013-09-29T22:04:19.227","Софт","Восток","Частные клиенты",73,"Да",3.8,{"v":9900,"d":"9,900р."},"Колин Фаррел"]
[null,"CL09912","2013-09-30T08:28:15.216","Софт","Запад","Некоммерческие",77,"Да",2.8,{"v":6000,"d":"6,000р."},"Колин Фаррел"]
[null,"CL09921","2013-09-30T08:47:27.900","Другое","Север","Малый бизнес",84,"Да",3.9,{"v":8400,"d":"8,400р."},"Джеки Чан"]
[null,"CL09924","2013-09-30T08:51:04.469","Другое","Запад","Корпорация",65,"Да",2.5,{"v":9300,"d":"9,300р."},"Уилл Смит"]
[null,"CL09931","2013-09-30T09:15:08.337","Ноутбук","Юг","Малый бизнес",74,"Да",3.4,0,"Джонни Депп"]
[null,"CL09938","2013-09-30T09:36:53.212","Персональный ПК","Север","Малый бизнес",69,"Да",3.2,{"v":4500,"d":"4,500р."},"Колин Фаррел"]
[null,"CL09944","2013-09-30T09:55:46.218","Аксессуары","Центр","Частные клиенты",68,"Да",3.8,{"v":3600,"d":"3,600р."},"Бред Питт"]
[null,"CL09951","2013-09-30T10:17:37.180","Софт","Юг","Некоммерческие",62,"Да",2.6,{"v":9000,"d":"9,000р."},"Джонни Депп"]
[null,"CL09954","2013-09-30T10:28:06.482","Софт","Запад","Корпорация",73,"Да",3.5,{"v":6300,"d":"6,300р."},"Чак Норрис"]
[null,"CL09961","2013-09-30T10:52:06.909","Аксессуары","Юг","Некоммерческие",92,"Да",3.5,{"v":7500,"d":"7,500р."},"Чак Норрис"]
[null,"CL09970","2013-09-30T11:25:50.052","Другое","Юг","Частные клиенты",67,"Да",3.7,{"v":7200,"d":"7,200р."},"Чак Норрис"]
[null,"CL09975","2013-09-30T11:40:49.167","Другое","Запад","Малый бизнес",78,"Да",2.6,0,"Бред Питт"]
[null,"CL09981","2013-09-30T12:00:39.005","Аксессуары","Север","Малый бизнес",77,"Нет",3.5,{"v":7500,"d":"7,500р."},"Джонни Депп"]
[null,"CL09984","2013-09-30T12:06:17.062","Аксессуары","Восток","Некоммерческие",81,"Да",3.4,{"v":5100,"d":"5,100р."},"Уилл Смит"]
[null,"CL09991","2013-09-30T12:27:40.800","Монитор","Центр","Корпорация",91,"Нет",3.2,{"v":5400,"d":"5,400р."},"Уилл Смит"]
[null,"CL10000","2013-09-30T12:57:43.118","Другое","Центр","Малый бизнес",78,"Да",3.7,{"v":6600,"d":"6,600р."},"Бред Питт"]
[null,"CL10003","2013-09-30T13:10:38.946","Софт","Центр","Частные клиенты",80,"Да",3.1,{"v":8100,"d":"8,100р."},"Бред Питт"]
[null,"CL10009","2013-09-30T13:28:01.440","Монитор","Север","Некоммерческие",67,"Да",2.9,0,"Джонни Депп"]
[null,"CL10020","2013-09-30T13:55:13.224","Персональный ПК","Север","Малый бизнес",83,"Да",3.1,{"v":6000,"d":"6,000р."},"Джеки Чан"]
[null,"CL10023","2013-09-30T14:08:29.807","Другое","Запад","Малый бизнес",72,"Да",3.4,{"v":6300,"d":"6,300р."},"Джонни Депп"]
[null,"CL10030","2013-09-30T14:17:59.717","Персональный ПК","Север","Корпорация",76,"Да",2.8,{"v":6300,"d":"6,300р."},"Чак Норрис"]
[null,"CL10033","2013-09-30T14:24:42.264","Аксессуары","Запад","Некоммерческие",72,"Да",{"v":3,"d":"3.0"},0,"Джонни Депп"]
[null,"CL10040","2013-09-30T14:44:58.428","Аксессуары","Запад","Частные клиенты",77,"Да",2.8,{"v":5400,"d":"5,400р."},"Уилл Смит"]
[null,"CL10046","2013-09-30T15:00:31.440","Софт","Восток","Малый бизнес",71,"Нет",2.2,{"v":7500,"d":"7,500р."},"Бред Питт"]
[null,"CL10053","2013-09-30T15:30:53.056","Персональный ПК","Восток","Некоммерческие",79,"Да",3.1,0,"Колин Фаррел"]
[null,"CL10060","2013-09-30T15:49:46.301","Ноутбук","Центр","Некоммерческие",76,"Да",1.9,0,"Бред Питт"]
[null,"CL10069","2013-09-30T16:14:43.865","Другое","Восток","Корпорация",83,"Да",2.8,{"v":6300,"d":"6,300р."},"Бред Питт"]
[null,"CL10072","2013-09-30T16:21:54.022","Другое","Запад","Некоммерческие",72,"Да",3.3,{"v":4800,"d":"4,800р."},"Уилл Смит"]
[null,"CL10079","2013-09-30T16:49:27.561","Монитор","Запад","Частные клиенты",72,"Да",2.9,0,"Уилл Смит"]
[null,"CL10083","2013-09-30T17:01:05.277","Другое","Центр","Некоммерческие",72,"Да",3.5,{"v":6600,"d":"6,600р."},"Бред Питт"]
[null,"CL10090","2013-09-30T17:17:45.818","Другое","Восток","Корпорация",74,"Да",{"v":3,"d":"3.0"},0,"Джонни Депп"]
[null,"CL10099","2013-09-30T17:48:29.206","Другое","Запад","Частные клиенты",71,"Да",4.1,{"v":7200,"d":"7,200р."},"Бред Питт"]
[null,"CL10102","2013-09-30T17:54:24.966","Аксессуары","Восток","Частные клиенты",83,"Да",3.3,0,"Колин Фаррел"]
[null,"CL10109","2013-09-30T18:13:59.369","Ноутбук","Север","Частные клиенты",71,"Да",{"v":3,"d":"3.0"},{"v":6300,"d":"6,300р."},"Чак Норрис"]
[null,"CL10118","2013-09-30T18:43:49.675","Монитор","Север","Корпорация",78,"Да",3.2,{"v":7500,"d":"7,500р."},"Бред Питт"]
[null,"CL10124","2013-09-30T18:55:14.728","Ноутбук","Запад","Корпорация",69,"Да",2.4,{"v":6000,"d":"6,000р."},"Чак Норрис"]
[null,"CL10129","2013-09-30T19:05:46.094","Аксессуары","Центр","Некоммерческие",58,"Да",3.3,{"v":4200,"d":"4,200р."},"Уилл Смит"]
[null,"CL10132","2013-09-30T19:11:06.973","Персональный ПК","Север","Малый бизнес",82,"Да",2.6,0,"Колин Фаррел"]
[null,"CL10139","2013-09-30T19:41:44.532","Другое","Север","Некоммерческие",69,"Да",2.6,{"v":6900,"d":"6,900р."},"Джонни Депп"]
[null,"CL10148","2013-09-30T20:05:10.681","Ноутбук","Запад","Некоммерческие",72,"Да",{"v":4,"d":"4.0"},{"v":4800,"d":"4,800р."},"Уилл Смит"]
[null,"CL10151","2013-09-30T20:18:23.931","Персональный ПК","Центр","Корпорация",76,"Да",3.5,0,"Чак Норрис"]
[null,"CL10161","2013-09-30T20:47:36.239","Ноутбук","Юг","Некоммерческие",80,"Да",3.2,0,"Бред Питт"]
[null,"CL10168","2013-09-30T21:08:04.011","Монитор","Север","Некоммерческие",86,"Да",3.5,{"v":8400,"d":"8,400р."},"Колин Фаррел"]
[null,"CL10169","2013-09-30T21:11:13.772","Другое","Запад","Некоммерческие",62,"Да",2.9,0,"Чак Норрис"]
[null,"CL10178","2013-09-30T21:41:01.672","Ноутбук","Север","Частные клиенты",80,"Да",{"v":4,"d":"4.0"},{"v":8100,"d":"8,100р."},"Чак Норрис"]
[null,"CL10181","2013-09-30T21:49:07.834","Другое","Запад","Частные клиенты",81,"Да",2.8,{"v":5700,"d":"5,700р."},"Джеки Чан"]
[null,"CL10188","2013-10-01T08:04:55.515","Монитор","Центр","Корпорация",81,"Да",3.5,0,"Джонни Депп"]
[null,"CL10198","2013-10-01T08:35:57.772","Аксессуары","Север","Частные клиенты",78,"Да",2.7,0,"Джонни Депп"]
[null,"CL10205","2013-10-01T08:51:17.810","Монитор","Центр","Частные клиенты",71,"Да",4.1,{"v":5100,"d":"5,100р."},"Чак Норрис"]
[null,"CL10208","2013-10-01T09:00:09.183","Персональный ПК","Запад","Малый бизнес",77,"Да",{"v":3,"d":"3.0"},0,"Джеки Чан"]
[null,"CL10217","2013-10-01T09:26:03.837","Другое","Центр","Некоммерческие",70,"Да",2.7,{"v":5700,"d":"5,700р."},"Бред Питт"]
[null,"CL10218","2013-10-01T09:28:33.551","Аксессуары","Центр","Некоммерческие",52,"Да",3.8,{"v":4800,"d":"4,800р."},"Джонни Депп"]
[null,"CL10227","2013-10-01T09:43:02.675","Монитор","Восток","Малый бизнес",67,"Да",3.2,0,"Джеки Чан"]
[null,"CL10235","2013-10-01T10:02:31.597","Ноутбук","Юг","Малый бизнес",81,"Да",2.9,0,"Джеки Чан"]
[null,"CL10238","2013-10-01T10:13:53.579","Другое","Юг","Корпорация",79,"Да",2.9,{"v":4800,"d":"4,800р."},"Чак Норрис"]
[null,"CL10247","2013-10-01T10:40:36.174","Другое","Юг","Корпорация",95,"Да",2.5,{"v":5100,"d":"5,100р."},"Колин Фаррел"]
[null,"CL10254","2013-10-01T10:54:42.216","Другое","Юг","Малый бизнес",74,"Да",3.6,0,"Джонни Депп"]
[null,"CL10257","2013-10-01T11:04:32.731","Монитор","Юг","Частные клиенты",64,"Да",2.4,{"v":7500,"d":"7,500р."},"Джеки Чан"]
[null,"CL10266","2013-10-01T11:27:08.818","Персональный ПК","Север","Некоммерческие",88,"Да",3.7,{"v":8400,"d":"8,400р."},"Бред Питт"]
[null,"CL10269","2013-10-01T11:36:03.048","Другое","Восток","Малый бизнес",70,"Да",2.7,{"v":6600,"d":"6,600р."},"Колин Фаррел"]
[null,"CL10277","2013-10-01T11:51:40.220","Аксессуары","Юг","Малый бизнес",77,"Да",2.8,0,"Уилл Смит"]
[null,"CL10280","2013-10-01T12:00:32.353","Аксессуары","Запад","Некоммерческие",74,"Да",3.1,0,"Уилл Смит"]
[null,"CL10287","2013-10-01T12:19:11.991","Персональный ПК","Юг","Частные клиенты",69,"Да",2.6,{"v":6900,"d":"6,900р."},"Уилл Смит"]
[null,"CL10296","2013-10-01T12:44:14.854","Софт","Запад","Частные клиенты",71,"Да",3.3,{"v":4200,"d":"4,200р."},"Колин Фаррел"]
[null,"CL10303","2013-10-01T13:08:56.154","Аксессуары","Восток","Малый бизнес",86,"Да",3.9,0,"Джонни Депп"]
[null,"CL10306","2013-10-01T13:15:41.368","Персональный ПК","Север","Некоммерческие",77,"Да",2.5,0,"Джеки Чан"]
[null,"CL10316","2013-10-01T13:46:46.369","Персональный ПК","Юг","Малый бизнес",73,"Нет",2.2,{"v":3600,"d":"3,600р."},"Джеки Чан"]
[null,"CL10317","2013-10-01T13:49:29.771","Другое","Восток","Корпорация",65,"Да",2.4,{"v":4500,"d":"4,500р."},"Уилл Смит"]
[null,"CL10326","2013-10-01T14:16:27.490","Другое","Восток","Частные клиенты",87,"Да",2.7,{"v":9000,"d":"9,000р."},"Чак Норрис"]
[null,"CL10333","2013-10-01T14:37:52.999","Другое","Юг","Некоммерческие",75,"Да",{"v":3,"d":"3.0"},0,"Уилл Смит"]
[null,"CL10336","2013-10-01T14:48:27.532","Аксессуары","Центр","Частные клиенты",60,"Нет",{"v":3,"d":"3.0"},{"v":7200,"d":"7,200р."},"Джеки Чан"]
[null,"CL10343","2013-10-01T15:12:06.005","Монитор","Центр","Корпорация",81,"Да",3.6,{"v":9600,"d":"9,600р."},"Бред Питт"]
[null,"CL10353","2013-10-01T15:35:57.018","Монитор","Юг","Малый бизнес",79,"Да",2.5,{"v":8700,"d":"8,700р."},"Уилл Смит"]
[null,"CL10356","2013-10-01T15:44:51.334","Софт","Север","Корпорация",75,"Да",3.1,{"v":8400,"d":"8,400р."},"Уилл Смит"]
[null,"CL10365","2013-10-01T16:06:06.249","Монитор","Восток","Частные клиенты",82,"Да",2.4,0,"Джонни Депп"]
[null,"CL10366","2013-10-01T16:06:38.249","Софт","Восток","Некоммерческие",72,"Нет",3.4,{"v":7500,"d":"7,500р."},"Чак Норрис"]
[null,"CL10375","2013-10-01T16:29:15.673","Персональный ПК","Запад","Корпорация",63,"Да",3.1,0,"Джонни Депп"]
[null,"CL10384","2013-10-01T16:56:44.187","Аксессуары","Запад","Частные клиенты",67,"Да",{"v":3,"d":"3.0"},0,"Уилл Смит"]
[null,"CL10386","2013-10-01T17:00:22.844","Ноутбук","Восток","Частные клиенты",70,"Да",3.1,{"v":8100,"d":"8,100р."},"Бред Питт"]
[null,"CL10395","2013-10-01T17:17:09.803","Ноутбук","Восток","Некоммерческие",75,"Да",2.8,{"v":5400,"d":"5,400р."},"Джонни Депп"]
[null,"CL10402","2013-10-01T17:39:59.210","Аксессуары","Север","Частные клиенты",78,"Да",2.2,0,"Джонни Депп"]
[null,"CL10405","2013-10-01T17:49:29.709","Софт","Север","Частные клиенты",81,"Да",3.6,{"v":6600,"d":"6,600р."},"Уилл Смит"]
[null,"CL10414","2013-10-01T18:15:21.096","Ноутбук","Запад","Корпорация",67,"Да",3.3,0,"Чак Норрис"]
[null,"CL10416","2013-10-01T18:18:53.002","Софт","Центр","Корпорация",76,"Да",2.2,0,"Колин Фаррел"]
[null,"CL10425","2013-10-01T18:38:59.059","Другое","Восток","Частные клиенты",82,"Нет",2.6,0,"Чак Норрис"]
[null,"CL10432","2013-10-01T18:57:48.275","Монитор","Север","Некоммерческие",63,"Нет",2.7,0,"Чак Норрис"]
[null,"CL10435","2013-10-01T19:08:27.860","Ноутбук","Центр","Корпорация",76,"Да",3.3,0,"Уилл Смит"]
[null,"CL10444","2013-10-01T19:30:02.322","Ноутбук","Центр","Корпорация",71,"Нет",3.2,0,"Чак Норрис"]
[null,"CL10451","2013-10-01T19:55:51.850","Софт","Восток","Малый бизнес",78,"Да",2.7,{"v":7500,"d":"7,500р."},"Уилл Смит"]
[null,"CL10455","2013-10-01T20:10:33.040","Монитор","Север","Частные клиенты",66,"Да",1.8,{"v":9900,"d":"9,900р."},"Бред Питт"]
[null,"CL10462","2013-10-01T20:26:15.625","Ноутбук","Восток","Некоммерческие",69,"Да",2.7,{"v":5400,"d":"5,400р."},"Чак Норрис"]
[null,"CL10465","2013-10-01T20:38:48.877","Аксессуары","Центр","Частные клиенты",75,"Да",3.6,{"v":9900,"d":"9,900р."},"Уилл Смит"]
[null,"CL10474","2013-10-01T21:04:33.805","Монитор","Восток","Малый бизнес",68,"Да",3.1,0,"Уилл Смит"]
[null,"CL10481","2013-10-01T21:19:57.735","Аксессуары","Запад","Корпорация",72,"Да",3.4,0,"Колин Фаррел"]
[null,"CL10488","2013-10-01T21:45:03.666","Персональный ПК","Север","Частные клиенты",78,"Да",2.1,0,"Уилл Смит"]
[null,"CL10494","2013-10-01T21:57:30.068","Софт","Север","Корпорация",69,"Да",{"v":3,"d":"3.0"},{"v":6900,"d":"6,900р."},"Колин Фаррел"]
[null,"CL10501","2013-10-02T08:17:01.698","Ноутбук","Центр","Частные клиенты",85,"Да",2.5,{"v":4200,"d":"4,200р."},"Уилл Смит"]
[null,"CL10504","2013-10-02T08:24:15.606","Ноутбук","Юг","Малый бизнес",84,"Да",2.6,0,"Джеки Чан"]
[null,"CL10511","2013-10-02T08:49:19.359","Другое","Юг","Малый бизнес",59,"Да",{"v":3,"d":"3.0"},{"v":5700,"d":"5,700р."},"Бред Питт"]
[null,"CL10514","2013-10-02T08:55:35.287","Софт","Север","Корпорация",74,"Да",3.7,{"v":5700,"d":"5,700р."},"Чак Норрис"]
[null,"CL10525","2013-10-02T09:27:56.681","Персональный ПК","Центр","Корпорация",87,"Да",1.8,0,"Чак Норрис"]
[null,"CL10531","2013-10-02T09:40:15.064","Монитор","Восток","Малый бизнес",86,"Да",3.2,0,"Колин Фаррел"]
[null,"CL10534","2013-10-02T09:45:42.593","Монитор","Запад","Некоммерческие",86,"Да",2.5,{"v":7500,"d":"7,500р."},"Чак Норрис"]
[null,"CL10541","2013-10-02T10:07:15.245","Другое","Север","Корпорация",77,"Да",3.3,0,"Колин Фаррел"]
[null,"CL10550","2013-10-02T10:33:18.671","Аксессуары","Запад","Корпорация",82,"Да",2.4,{"v":3900,"d":"3,900р."},"Джеки Чан"]
[null,"CL10553","2013-10-02T10:42:16.179","Персональный ПК","Юг","Некоммерческие",69,"Да",2.8,{"v":5700,"d":"5,700р."},"Чак Норрис"]
[null,"CL10559","2013-10-02T11:06:04.542","Другое","Север","Некоммерческие",82,"Да",3.7,{"v":6000,"d":"6,000р."},"Колин Фаррел"]
[null,"CL10564","2013-10-02T11:25:27.993","Другое","Юг","Некоммерческие",75,"Да",3.1,{"v":6900,"d":"6,900р."},"Колин Фаррел"]
[null,"CL10573","2013-10-02T11:55:06.161","Софт","Восток","Некоммерческие",66,"Да",3.6,{"v":6000,"d":"6,000р."},"Колин Фаррел"]
[null,"CL10580","2013-10-02T12:18:45.786","Монитор","Юг","Некоммерческие",79,"Да",1.4,{"v":7500,"d":"7,500р."},"Чак Норрис"]
[null,"CL10583","2013-10-02T12:27:33.558","Аксессуары","Центр","Малый бизнес",75,"Да",{"v":3,"d":"3.0"},0,"Джонни Депп"]
[null,"CL10590","2013-10-02T12:51:30.900","Аксессуары","Центр","Корпорация",73,"Да",1.3,{"v":6300,"d":"6,300р."},"Бред Питт"]
[null,"CL10596","2013-10-02T13:06:45.274","Ноутбук","Север","Некоммерческие",71,"Да",2.7,{"v":2400,"d":"2,400р."},"Чак Норрис"]
[null,"CL10603","2013-10-02T13:22:18.642","Ноутбук","Север","Малый бизнес",82,"Да",2.6,0,"Бред Питт"]
[null,"CL10610","2013-10-02T13:46:17.278","Аксессуары","Восток","Частные клиенты",87,"Да",3.7,{"v":6300,"d":"6,300р."},"Джонни Депп"]
[null,"CL10613","2013-10-02T13:55:39.477","Аксессуары","Запад","Корпорация",81,"Да",{"v":3,"d":"3.0"},0,"Джонни Депп"]
[null,"CL10622","2013-10-02T14:22:07.598","Софт","Центр","Некоммерческие",90,"Да",3.4,0,"Джонни Депп"]
[null,"CL10629","2013-10-02T14:45:58.645","Аксессуары","Запад","Малый бизнес",63,"Да",2.8,0,"Уилл Смит"]
[null,"CL10633","2013-10-02T14:58:22.393","Персональный ПК","Запад","Малый бизнес",86,"Да",{"v":3,"d":"3.0"},0,"Джеки Чан"]
[null,"CL10640","2013-10-02T15:14:40.640","Ноутбук","Центр","Корпорация",82,"Да",2.9,{"v":6300,"d":"6,300р."},"Джонни Депп"]
[null,"CL10649","2013-10-02T15:34:36.113","Другое","Центр","Некоммерческие",75,"Да",2.9,{"v":7200,"d":"7,200р."},"Джонни Депп"]
[null,"CL10652","2013-10-02T15:42:46.119","Персональный ПК","Восток","Частные клиенты",80,"Да",3.1,{"v":6600,"d":"6,600р."},"Уилл Смит"]
[null,"CL10659","2013-10-02T16:01:35.772","Персональный ПК","Запад","Частные клиенты",89,"Да",2.8,{"v":6900,"d":"6,900р."},"Бред Питт"]
[null,"CL10662","2013-10-02T16:08:27.414","Персональный ПК","Восток","Малый бизнес",63,"Да",2.8,0,"Джеки Чан"]
[null,"CL10674","2013-10-02T16:43:57.409","Аксессуары","Север","Корпорация",78,"Да",2.8,0,"Бред Питт"]
[null,"CL10679","2013-10-02T16:56:25.770","Аксессуары","Юг","Корпорация",82,"Да",3.1,{"v":6600,"d":"6,600р."},"Джонни Депп"]
[null,"CL10682","2013-10-02T17:04:57.982","Персональный ПК","Север","Частные клиенты",79,"Да",2.3,{"v":5700,"d":"5,700р."},"Чак Норрис"]
[null,"CL10689","2013-10-02T17:21:06.189","Ноутбук","Восток","Некоммерческие",69,"Да",2.5,{"v":6300,"d":"6,300р."},"Чак Норрис"]
[null,"CL10698","2013-10-02T17:43:30.618","Софт","Юг","Частные клиенты",69,"Да",2.8,{"v":4800,"d":"4,800р."},"Уилл Смит"]
[null,"CL10701","2013-10-02T17:57:24.612","Ноутбук","Север","Частные клиенты",68,"Да",3.4,0,"Колин Фаррел"]
[null,"CL10711","2013-10-02T18:35:59.509","Монитор","Восток","Некоммерческие",77,"Да",2.3,{"v":3300,"d":"3,300р."},"Бред Питт"]
[null,"CL10712","2013-10-02T18:39:05.429","Персональный ПК","Восток","Малый бизнес",91,"Да",3.5,{"v":6300,"d":"6,300р."},"Чак Норрис"]
[null,"CL10719","2013-10-02T19:04:09.879","Ноутбук","Юг","Малый бизнес",65,"Да",3.1,{"v":8700,"d":"8,700р."},"Бред Питт"]
[null,"CL10728","2013-10-02T19:24:40.315","Другое","Север","Частные клиенты",98,"Да",2.9,{"v":4500,"d":"4,500р."},"Джеки Чан"]
[null,"CL10731","2013-10-02T19:31:19.320","Другое","Восток","Корпорация",74,"Да",2.3,{"v":6900,"d":"6,900р."},"Уилл Смит"]
[null,"CL10738","2013-10-02T19:54:22.944","Софт","Запад","Корпорация",51,"Да",2.7,0,"Джеки Чан"]
[null,"CL10748","2013-10-02T20:25:42.551","Персональный ПК","Восток","Корпорация",79,"Да",2.4,{"v":8100,"d":"8,100р."},"Джеки Чан"]
[null,"CL10749","2013-10-02T20:27:13.107","Персональный ПК","Восток","Частные клиенты",75,"Да",3.3,{"v":6000,"d":"6,000р."},"Бред Питт"]
[null,"CL10758","2013-10-02T20:48:46.244","Ноутбук","Запад","Некоммерческие",72,"Да",3.2,{"v":3300,"d":"3,300р."},"Джонни Депп"]
[null,"CL10761","2013-10-02T20:57:02.347","Аксессуары","Восток","Корпорация",73,"Да",3.2,0,"Колин Фаррел"]
[null,"CL10768","2013-10-02T21:21:47.641","Другое","Восток","Частные клиенты",80,"Да",3.5,{"v":7500,"d":"7,500р."},"Уилл Смит"]
[null,"CL10777","2013-10-02T21:43:46.428","Персональный ПК","Центр","Малый бизнес",76,"Да",2.2,0,"Уилл Смит"]
[null,"CL10785","2013-10-03T08:01:30.923","Софт","Запад","Частные клиенты",87,"Да",3.8,{"v":4500,"d":"4,500р."},"Джеки Чан"]
[null,"CL10788","2013-10-03T08:13:22.103","Ноутбук","Юг","Некоммерческие",79,"Да",3.2,{"v":4800,"d":"4,800р."},"Бред Питт"]
[null,"CL10797","2013-10-03T08:38:32.544","Персональный ПК","Север","Частные клиенты",85,"Нет",3.6,{"v":5100,"d":"5,100р."},"Бред Питт"]
[null,"CL10798","2013-10-03T08:43:57.862","Монитор","Юг","Частные клиенты",69,"Да",2.7,{"v":6300,"d":"6,300р."},"Джонни Депп"]
[null,"CL10807","2013-10-03T09:09:43.190","Персональный ПК","Запад","Малый бизнес",77,"Да",3.3,0,"Джонни Депп"]
[null,"CL10810","2013-10-03T09:21:06.221","Другое","Восток","Частные клиенты",77,"Да",2.8,0,"Чак Норрис"]
[null,"CL10819","2013-10-03T09:51:24.569","Другое","Юг","Некоммерческие",96,"Да",2.7,0,"Бред Питт"]
[null,"CL10827","2013-10-03T10:11:01.856","Другое","Север","Частные клиенты",84,"Да",{"v":2,"d":"2.0"},{"v":6600,"d":"6,600р."},"Колин Фаррел"]
[null,"CL10830","2013-10-03T10:22:57.598","Аксессуары","Юг","Корпорация",62,"Да",3.2,{"v":6300,"d":"6,300р."},"Уилл Смит"]
[null,"CL10837","2013-10-03T10:38:07.798","Аксессуары","Восток","Малый бизнес",73,"Да",3.1,{"v":8400,"d":"8,400р."},"Уилл Смит"]
[null,"CL10846","2013-10-03T11:06:18.159","Другое","Центр","Малый бизнес",81,"Да",3.7,0,"Джеки Чан"]
[null,"CL10847","2013-10-03T11:07:54.977","Ноутбук","Юг","Корпорация",81,"Да",2.5,0,"Чак Норрис"]
[null,"CL10856","2013-10-03T11:24:05.787","Персональный ПК","Запад","Некоммерческие",73,"Нет",3.4,{"v":6900,"d":"6,900р."},"Джонни Депп"]
[null,"CL10860","2013-10-03T11:32:42.347","Софт","Восток","Малый бизнес",90,"Да",2.9,{"v":9300,"d":"9,300р."},"Джонни Депп"]
[null,"CL10867","2013-10-03T12:00:36.386","Аксессуары","Запад","Корпорация",70,"Да",2.4,{"v":5100,"d":"5,100р."},"Колин Фаррел"]
[null,"CL10876","2013-10-03T12:28:46.587","Софт","Север","Малый бизнес",70,"Да",3.1,0,"Уилл Смит"]
[null,"CL10883","2013-10-03T12:50:36.931","Другое","Восток","Малый бизнес",63,"Да",2.5,0,"Чак Норрис"]
[null,"CL10886","2013-10-03T13:00:47.872","Ноутбук","Запад","Некоммерческие",62,"Да",3.1,{"v":5400,"d":"5,400р."},"Чак Норрис"]
[null,"CL10893","2013-10-03T13:10:33.418","Ноутбук","Юг","Малый бизнес",71,"Да",4.1,{"v":5100,"d":"5,100р."},"Джонни Депп"]
[null,"CL10897","2013-10-03T13:21:58.003","Софт","Центр","Корпорация",66,"Да",3.1,{"v":5700,"d":"5,700р."},"Уилл Смит"]
[null,"CL10906","2013-10-03T13:47:04.394","Монитор","Запад","Некоммерческие",73,"Да",3.1,{"v":5700,"d":"5,700р."},"Колин Фаррел"]
[null,"CL10909","2013-10-03T13:52:31.254","Персональный ПК","Центр","Некоммерческие",59,"Да",2.9,{"v":5700,"d":"5,700р."},"Уилл Смит"]
[null,"CL10916","2013-10-03T14:09:10.046","Монитор","Центр","Частные клиенты",74,"Да",4.2,{"v":7800,"d":"7,800р."},"Чак Норрис"]
[null,"CL10925","2013-10-03T14:37:16.400","Софт","Юг","Некоммерческие",73,"Да",3.1,0,"Колин Фаррел"]
[null,"CL10927","2013-10-03T14:45:44.374","Монитор","Восток","Некоммерческие",71,"Да",3.1,{"v":6000,"d":"6,000р."},"Уилл Смит"]
[null,"CL10936","2013-10-03T15:10:43.084","Персональный ПК","Запад","Частные клиенты",86,"Нет",2.8,{"v":5100,"d":"5,100р."},"Бред Питт"]
[null,"CL10945","2013-10-03T15:39:54.845","Монитор","Юг","Частные клиенты",68,"Да",3.1,0,"Джеки Чан"]
[null,"CL10946","2013-10-03T15:40:12.168","Персональный ПК","Запад","Корпорация",76,"Да",3.2,{"v":8100,"d":"8,100р."},"Чак Норрис"]
[null,"CL10955","2013-10-03T16:05:03.487","Ноутбук","Запад","Некоммерческие",85,"Да",3.9,{"v":7500,"d":"7,500р."},"Бред Питт"]
[null,"CL10958","2013-10-03T16:13:32.453","Ноутбук","Центр","Корпорация",88,"Да",2.1,{"v":6000,"d":"6,000р."},"Колин Фаррел"]
[null,"CL10964","2013-10-03T16:31:08.602","Ноутбук","Север","Малый бизнес",69,"Да",3.5,{"v":7800,"d":"7,800р."},"Джонни Депп"]
[null,"CL10975","2013-10-03T16:59:10.958","Другое","Запад","Корпорация",54,"Да",2.8,{"v":7500,"d":"7,500р."},"Уилл Смит"]
[null,"CL10982","2013-10-03T17:15:51.719","Другое","Юг","Корпорация",86,"Да",3.2,0,"Колин Фаррел"]
[null,"CL10985","2013-10-03T17:23:16.055","Ноутбук","Север","Некоммерческие",78,"Да",2.1,{"v":6600,"d":"6,600р."},"Джонни Депп"]
[null,"CL10994","2013-10-03T17:47:36.603","Софт","Центр","Малый бизнес",74,"Да",3.3,{"v":7800,"d":"7,800р."},"Бред Питт"]
[null,"CL11001","2013-10-03T18:05:13.886","Аксессуары","Центр","Малый бизнес",82,"Да",1.7,{"v":5700,"d":"5,700р."},"Уилл Смит"]
[null,"CL11005","2013-10-03T18:21:35.100","Аксессуары","Север","Некоммерческие",74,"Да",{"v":3,"d":"3.0"},0,"Чак Норрис"]
[null,"CL11012","2013-10-03T18:47:14.648","Софт","Центр","Некоммерческие",74,"Да",{"v":3,"d":"3.0"},{"v":7800,"d":"7,800р."},"Джеки Чан"]
[null,"CL11015","2013-10-03T18:56:10.572","Софт","Юг","Некоммерческие",75,"Да",{"v":3,"d":"3.0"},{"v":3000,"d":"3,000р."},"Уилл Смит"]
[null,"CL11024","2013-10-03T19:21:16.318","Персональный ПК","Юг","Частные клиенты",60,"Да",2.3,{"v":6300,"d":"6,300р."},"Чак Норрис"]
[null,"CL11031","2013-10-03T19:32:18.678","Софт","Центр","Частные клиенты",80,"Да",2.6,{"v":6300,"d":"6,300р."},"Джеки Чан"]
[null,"CL11038","2013-10-03T19:54:49.675","Софт","Восток","Малый бизнес",71,"Да",3.6,{"v":7200,"d":"7,200р."},"Колин Фаррел"]
[null,"CL11044","2013-10-03T20:15:19.165","Аксессуары","Север","Частные клиенты",79,"Да",3.5,{"v":4500,"d":"4,500р."},"Чак Норрис"]
[null,"CL11045","2013-10-03T20:20:09.923","Софт","Север","Малый бизнес",67,"Да",2.6,{"v":6000,"d":"6,000р."},"Бред Питт"]
[null,"CL11054","2013-10-03T20:42:17.013","Ноутбук","Центр","Корпорация",72,"Да",2.8,{"v":7200,"d":"7,200р."},"Джеки Чан"]
[null,"CL11061","2013-10-03T21:06:17.093","Софт","Восток","Корпорация",59,"Да",{"v":3,"d":"3.0"},{"v":6900,"d":"6,900р."},"Бред Питт"]
[null,"CL11064","2013-10-03T21:12:52.472","Софт","Север","Некоммерческие",73,"Да",{"v":3,"d":"3.0"},{"v":3300,"d":"3,300р."},"Чак Норрис"]
[null,"CL11075","2013-10-03T21:50:48.621","Монитор","Центр","Некоммерческие",66,"Нет",3.9,0,"Уилл Смит"]
[null,"CL11081","2013-10-04T08:13:14.568","Ноутбук","Восток","Корпорация",71,"Да",2.8,{"v":6300,"d":"6,300р."},"Бред Питт"]
[null,"CL11084","2013-10-04T08:21:55.339","Софт","Юг","Некоммерческие",78,"Да",2.8,{"v":7500,"d":"7,500р."},"Бред Питт"]
[null,"CL11091","2013-10-04T08:40:46.218","Персональный ПК","Центр","Частные клиенты",79,"Да",3.2,{"v":6000,"d":"6,000р."},"Уилл Смит"]
[null,"CL11094","2013-10-04T08:44:53.724","Аксессуары","Юг","Корпорация",68,"Да",2.7,{"v":7200,"d":"7,200р."},"Колин Фаррел"]
[null,"CL11103","2013-10-04T09:13:12.277","Другое","Центр","Малый бизнес",65,"Да",3.6,0,"Чак Норрис"]
[null,"CL11109","2013-10-04T09:31:49.379","Аксессуары","Восток","Корпорация",77,"Да",3.4,{"v":2100,"d":"2,100р."},"Джеки Чан"]
[null,"CL11114","2013-10-04T09:48:15.933","Монитор","Север","Частные клиенты",64,"Да",3.5,{"v":8100,"d":"8,100р."},"Джонни Депп"]
[null,"CL11123","2013-10-04T10:05:54.969","Другое","Север","Частные клиенты",81,"Да",3.4,0,"Уилл Смит"]
[null,"CL11130","2013-10-04T10:24:18.505","Персональный ПК","Восток","Корпорация",84,"Да",{"v":3,"d":"3.0"},0,"Колин Фаррел"]
[null,"CL11133","2013-10-04T10:35:52.683","Другое","Восток","Частные клиенты",72,"Да",2.9,0,"Чак Норрис"]
[null,"CL11140","2013-10-04T10:46:52.347","Ноутбук","Север","Малый бизнес",62,"Да",{"v":3,"d":"3.0"},0,"Бред Питт"]
[null,"CL11146","2013-10-04T11:08:52.500","Персональный ПК","Север","Некоммерческие",83,"Да",2.9,{"v":7200,"d":"7,200р."},"Бред Питт"]
[null,"CL11153","2013-10-04T11:25:49.632","Персональный ПК","Центр","Малый бизнес",55,"Нет",2.2,{"v":7200,"d":"7,200р."},"Джеки Чан"]
[null,"CL11160","2013-10-04T11:46:28.171","Персональный ПК","Юг","Корпорация",85,"Да",3.2,{"v":5100,"d":"5,100р."},"Бред Питт"]
[null,"CL11163","2013-10-04T11:57:45.990","Персональный ПК","Юг","Частные клиенты",81,"Да",3.5,{"v":8100,"d":"8,100р."},"Джеки Чан"]
[null,"CL11172","2013-10-04T12:26:08.845","Другое","Юг","Некоммерческие",66,"Да",2.7,{"v":3900,"d":"3,900р."},"Уилл Смит"]
[null,"CL11179","2013-10-04T12:50:34.674","Софт","Восток","Малый бизнес",82,"Да",2.6,{"v":7500,"d":"7,500р."},"Бред Питт"]
[null,"CL11183","2013-10-04T12:59:13.214","Софт","Юг","Частные клиенты",82,"Да",2.7,0,"Уилл Смит"]
[null,"CL11190","2013-10-04T13:22:31.461","Аксессуары","Север","Малый бизнес",86,"Да",{"v":3,"d":"3.0"},{"v":4200,"d":"4,200р."},"Джонни Депп"]
[null,"CL11193","2013-10-04T13:32:21.836","Софт","Запад","Некоммерческие",77,"Да",2.6,{"v":7500,"d":"7,500р."},"Джеки Чан"]
[null,"CL11202","2013-10-04T13:57:30.311","Ноутбук","Центр","Некоммерческие",73,"Да",2.7,{"v":3000,"d":"3,000р."},"Чак Норрис"]
[null,"CL11209","2013-10-04T14:17:54.141","Монитор","Центр","Некоммерческие",66,"Да",2.7,0,"Джонни Депп"]
[null,"CL11212","2013-10-04T14:27:18.542","Софт","Север","Некоммерческие",82,"Да",2.8,{"v":4200,"d":"4,200р."},"Чак Норрис"]
[null,"CL11217","2013-10-04T14:37:10.897","Другое","Центр","Частные клиенты",85,"Да",2.6,0,"Чак Норрис"]
[null,"CL11229","2013-10-04T15:07:02.021","Аксессуары","Юг","Частные клиенты",68,"Да",2.6,{"v":6600,"d":"6,600р."},"Джеки Чан"]
[null,"CL11232","2013-10-04T15:11:26.582","Аксессуары","Север","Малый бизнес",71,"Да",3.4,0,"Бред Питт"]
[null,"CL11239","2013-10-04T15:29:21.559","Персональный ПК","Центр","Корпорация",82,"Да",3.7,{"v":4200,"d":"4,200р."},"Чак Норрис"]
[null,"CL11242","2013-10-04T15:40:17.321","Персональный ПК","Восток","Малый бизнес",71,"Да",{"v":3,"d":"3.0"},0,"Джонни Депп"]
[null,"CL11251","2013-10-04T15:57:54.857","Софт","Восток","Корпорация",87,"Да",3.1,0,"Джеки Чан"]
[null,"CL11254","2013-10-04T16:04:48.541","Ноутбук","Север","Малый бизнес",76,"Да",2.7,0,"Уилл Смит"]
[null,"CL11262","2013-10-04T16:25:36.486","Персональный ПК","Восток","Частные клиенты",66,"Да",2.6,{"v":7800,"d":"7,800р."},"Колин Фаррел"]
[null,"CL11269","2013-10-04T16:51:45.626","Аксессуары","Юг","Корпорация",59,"Нет",3.2,0,"Бред Питт"]
[null,"CL11278","2013-10-04T17:22:40.423","Аксессуары","Восток","Корпорация",60,"Да",2.6,0,"Чак Норрис"]
[null,"CL11281","2013-10-04T17:34:34.132","Персональный ПК","Север","Малый бизнес",76,"Да",3.2,{"v":8400,"d":"8,400р."},"Колин Фаррел"]
[null,"CL11288","2013-10-04T17:56:34.822","Ноутбук","Центр","Корпорация",84,"Да",3.8,{"v":7500,"d":"7,500р."},"Джонни Депп"]
[null,"CL11291","2013-10-04T18:10:30.835","Ноутбук","Центр","Корпорация",73,"Да",2.3,{"v":6900,"d":"6,900р."},"Уилл Смит"]
[null,"CL11299","2013-10-04T18:36:27.276","Ноутбук","Восток","Малый бизнес",74,"Да",3.4,{"v":1800,"d":"1,800р."},"Уилл Смит"]
[null,"CL11308","2013-10-04T19:01:40.482","Софт","Центр","Корпорация",86,"Да",2.2,{"v":3900,"d":"3,900р."},"Бред Питт"]
[null,"CL11311","2013-10-04T19:10:50.054","Монитор","Север","Некоммерческие",75,"Да",3.7,{"v":6600,"d":"6,600р."},"Чак Норрис"]
[null,"CL11318","2013-10-04T19:28:16.469","Аксессуары","Центр","Некоммерческие",59,"Да",2.5,{"v":8400,"d":"8,400р."},"Джеки Чан"]
[null,"CL11327","2013-10-04T19:50:35.464","Монитор","Восток","Частные клиенты",80,"Да",2.8,{"v":3900,"d":"3,900р."},"Колин Фаррел"]
[null,"CL11328","2013-10-04T19:52:49.465","Монитор","Юг","Корпорация",77,"Да",3.1,0,"Чак Норрис"]
[null,"CL11338","2013-10-04T20:20:39.530","Другое","Юг","Малый бизнес",80,"Да",2.3,{"v":7500,"d":"7,500р."},"Колин Фаррел"]
[null,"CL11341","2013-10-04T20:26:41.860","Ноутбук","Юг","Корпорация",75,"Да",2.3,0,"Колин Фаррел"]
[null,"CL11348","2013-10-04T20:37:18.416","Софт","Восток","Корпорация",81,"Да",2.7,{"v":7200,"d":"7,200р."},"Уилл Смит"]
[null,"CL11357","2013-10-04T21:07:11.544","Персональный ПК","Север","Некоммерческие",75,"Да",2.8,{"v":6600,"d":"6,600р."},"Джонни Депп"]
[null,"CL11360","2013-10-04T21:19:15.562","Монитор","Восток","Частные клиенты",63,"Да",2.7,0,"Бред Питт"]
[null,"CL11369","2013-10-04T21:39:06.403","Аксессуары","Центр","Некоммерческие",61,"Нет",3.4,0,"Джонни Депп"]
[null,"CL11377","2013-10-04T21:58:44.487","Монитор","Север","Корпорация",74,"Да",2.5,{"v":4800,"d":"4,800р."},"Колин Фаррел"]
[null,"CL11380","2013-10-05T08:05:14.681","Софт","Юг","Некоммерческие",79,"Да",3.4,{"v":6000,"d":"6,000р."},"Джонни Депп"]
[null,"CL11387","2013-10-05T08:28:29.926","Монитор","Север","Малый бизнес",72,"Да",2.9,{"v":3900,"d":"3,900р."},"Джеки Чан"]
[null,"CL11390","2013-10-05T08:37:31.270","Софт","Восток","Корпорация",94,"Да",2.9,{"v":8400,"d":"8,400р."},"Бред Питт"]
[null,"CL11397","2013-10-05T09:00:35.049","Персональный ПК","Центр","Малый бизнес",67,"Да",3.8,{"v":7200,"d":"7,200р."},"Джонни Депп"]
[null,"CL11406","2013-10-05T09:29:44.994","Персональный ПК","Центр","Малый бизнес",86,"Да",3.9,{"v":900,"d":"900р."},"Бред Питт"]
[null,"CL11410","2013-10-05T09:37:56.249","Ноутбук","Север","Малый бизнес",77,"Да",3.7,{"v":6300,"d":"6,300р."},"Уилл Смит"]
[null,"CL11417","2013-10-05T10:00:41.862","Монитор","Север","Частные клиенты",73,"Нет",{"v":3,"d":"3.0"},0,"Бред Питт"]
[null,"CL11426","2013-10-05T10:27:19.020","Ноутбук","Центр","Корпорация",74,"Да",3.2,{"v":4800,"d":"4,800р."},"Бред Питт"]
[null,"CL11427","2013-10-05T10:31:00.788","Аксессуары","Юг","Малый бизнес",76,"Да",2.8,{"v":6300,"d":"6,300р."},"Джонни Депп"]
[null,"CL11436","2013-10-05T11:02:13.930","Ноутбук","Восток","Корпорация",74,"Да",2.6,{"v":3600,"d":"3,600р."},"Уилл Смит"]
[null,"CL11443","2013-10-05T11:30:29.374","Аксессуары","Центр","Корпорация",67,"Да",2.8,{"v":7500,"d":"7,500р."},"Джеки Чан"]
[null,"CL11447","2013-10-05T11:44:30.996","Другое","Юг","Малый бизнес",77,"Да",2.6,{"v":3000,"d":"3,000р."},"Колин Фаррел"]
[null,"CL11456","2013-10-05T12:05:02.248","Другое","Центр","Частные клиенты",74,"Да",2.7,{"v":5400,"d":"5,400р."},"Колин Фаррел"]
[null,"CL11459","2013-10-05T12:14:20.866","Персональный ПК","Север","Малый бизнес",73,"Да",2.4,0,"Колин Фаррел"]
[null,"CL11466","2013-10-05T12:33:22.349","Софт","Юг","Частные клиенты",75,"Да",3.2,{"v":4200,"d":"4,200р."},"Бред Питт"]
[null,"CL11475","2013-10-05T12:47:19.971","Персональный ПК","Юг","Корпорация",68,"Да",3.1,{"v":8400,"d":"8,400р."},"Уилл Смит"]
[null,"CL11477","2013-10-05T12:53:14.856","Софт","Центр","Малый бизнес",70,"Да",3.1,{"v":6900,"d":"6,900р."},"Колин Фаррел"]
[null,"CL11486","2013-10-05T13:20:40.554","Аксессуары","Юг","Малый бизнес",89,"Да",2.7,{"v":5100,"d":"5,100р."},"Чак Норрис"]
[null,"CL11489","2013-10-05T13:30:46.017","Монитор","Юг","Малый бизнес",81,"Да",3.2,0,"Джеки Чан"]
[null,"CL11496","2013-10-05T13:45:43.132","Монитор","Запад","Некоммерческие",73,"Да",{"v":4,"d":"4.0"},0,"Джеки Чан"]
[null,"CL11505","2013-10-05T14:17:35.382","Монитор","Центр","Частные клиенты",69,"Да",3.5,{"v":7800,"d":"7,800р."},"Джеки Чан"]
[null,"CL11508","2013-10-05T14:28:34.270","Монитор","Запад","Корпорация",74,"Да",3.7,0,"Джонни Депп"]
[null,"CL11514","2013-10-05T14:40:10.404","Персональный ПК","Север","Малый бизнес",68,"Да",3.7,{"v":3900,"d":"3,900р."},"Колин Фаррел"]
[null,"CL11525","2013-10-05T15:14:38.522","Другое","Запад","Малый бизнес",70,"Да",{"v":3,"d":"3.0"},0,"Чак Норрис"]
[null,"CL11526","2013-10-05T15:16:07.009","Персональный ПК","Восток","Малый бизнес",82,"Да",2.4,0,"Уилл Смит"]
[null,"CL11535","2013-10-05T15:41:45.550","Персональный ПК","Восток","Малый бизнес",73,"Да",4.1,0,"Колин Фаррел"]
[null,"CL11538","2013-10-05T15:51:52.359","Аксессуары","Север","Корпорация",84,"Да",{"v":2,"d":"2.0"},{"v":7200,"d":"7,200р."},"Джонни Депп"]
[null,"CL11544","2013-10-05T16:11:48.466","Аксессуары","Центр","Корпорация",81,"Да",3.4,0,"Чак Норрис"]
[null,"CL11555","2013-10-05T16:47:51.339","Софт","Центр","Некоммерческие",66,"Да",2.3,{"v":5100,"d":"5,100р."},"Уилл Смит"]
[null,"CL11562","2013-10-05T17:02:03.499","Софт","Запад","Малый бизнес",83,"Да",{"v":2,"d":"2.0"},{"v":5700,"d":"5,700р."},"Колин Фаррел"]
[null,"CL11565","2013-10-05T17:08:54.092","Софт","Запад","Некоммерческие",75,"Да",2.7,0,"Колин Фаррел"]
[null,"CL11574","2013-10-05T17:31:08.687","Ноутбук","Восток","Корпорация",72,"Да",2.4,0,"Бред Питт"]
[null,"CL11575","2013-10-05T17:36:47.865","Монитор","Запад","Корпорация",70,"Да",3.1,{"v":4800,"d":"4,800р."},"Бред Питт"]
[null,"CL11581","2013-10-05T17:53:01.834","Персональный ПК","Север","Малый бизнес",84,"Да",2.5,{"v":9600,"d":"9,600р."},"Уилл Смит"]
[null,"CL11588","2013-10-05T18:18:09.284","Монитор","Север","Некоммерческие",76,"Да",3.3,{"v":6900,"d":"6,900р."},"Джонни Депп"]
[null,"CL11595","2013-10-05T18:38:42.286","Другое","Восток","Корпорация",71,"Да",3.8,{"v":7200,"d":"7,200р."},"Джонни Депп"]
[null,"CL11604","2013-10-05T19:05:29.299","Софт","Восток","Корпорация",63,"Да",2.7,{"v":6300,"d":"6,300р."},"Джеки Чан"]
[null,"CL11611","2013-10-05T19:30:10.547","Ноутбук","Юг","Корпорация",83,"Да",3.1,{"v":5700,"d":"5,700р."},"Джеки Чан"]
[null,"CL11614","2013-10-05T19:35:49.749","Персональный ПК","Центр","Некоммерческие",79,"Да",3.3,{"v":5400,"d":"5,400р."},"Джонни Депп"]
[null,"CL11618","2013-10-05T19:43:41.057","Монитор","Север","Корпорация",64,"Да",3.2,0,"Джонни Депп"]
[null,"CL11625","2013-10-05T19:59:16.942","Монитор","Запад","Корпорация",63,"Да",3.8,{"v":5700,"d":"5,700р."},"Чак Норрис"]
[null,"CL11634","2013-10-05T20:26:05.724","Софт","Центр","Некоммерческие",81,"Да",2.5,{"v":5700,"d":"5,700р."},"Уилл Смит"]
[null,"CL11641","2013-10-05T20:47:02.387","Персональный ПК","Юг","Частные клиенты",81,"Да",2.7,0,"Уилл Смит"]
[null,"CL11644","2013-10-05T20:57:00.067","Ноутбук","Юг","Малый бизнес",87,"Да",2.7,0,"Бред Питт"]
[null,"CL11653","2013-10-05T21:17:34.409","Монитор","Запад","Частные клиенты",80,"Да",3.7,0,"Джеки Чан"]
[null,"CL11659","2013-10-05T21:31:17.524","Ноутбук","Запад","Корпорация",66,"Да",3.3,{"v":5700,"d":"5,700р."},"Колин Фаррел"]
[null,"CL11664","2013-10-05T21:55:16.263","Аксессуары","Юг","Частные клиенты",71,"Да",2.9,{"v":3900,"d":"3,900р."},"Уилл Смит"]
[null,"CL11673","2013-10-06T08:21:21.755","Персональный ПК","Запад","Некоммерческие",76,"Да",3.1,{"v":8400,"d":"8,400р."},"Джеки Чан"]
[null,"CL11674","2013-10-06T08:27:03.105","Другое","Восток","Корпорация",72,"Да",2.9,0,"Колин Фаррел"]
[null,"CL11683","2013-10-06T08:53:57.960","Другое","Восток","Некоммерческие",75,"Да",2.6,{"v":7500,"d":"7,500р."},"Джонни Депп"]
[null,"CL11690","2013-10-06T09:11:06.195","Аксессуары","Восток","Некоммерческие",76,"Да",2.6,{"v":5100,"d":"5,100р."},"Чак Норрис"]
[null,"CL11696","2013-10-06T09:33:00.922","Другое","Юг","Частные клиенты",73,"Да",3.7,{"v":3600,"d":"3,600р."},"Колин Фаррел"]
[null,"CL11703","2013-10-06T09:49:40.673","Персональный ПК","Запад","Частные клиенты",91,"Да",{"v":3,"d":"3.0"},0,"Чак Норрис"]
[null,"CL11710","2013-10-06T10:12:21.741","Аксессуары","Юг","Малый бизнес",76,"Да",1.9,{"v":3600,"d":"3,600р."},"Бред Питт"]
[null,"CL11713","2013-10-06T10:21:58.622","Монитор","Север","Некоммерческие",85,"Да",3.6,{"v":6900,"d":"6,900р."},"Уилл Смит"]
[null,"CL11722","2013-10-06T10:38:21.845","Софт","Север","Некоммерческие",71,"Да",3.1,0,"Уилл Смит"]
[null,"CL11723","2013-10-06T10:43:49.697","Другое","Центр","Малый бизнес",85,"Да",{"v":3,"d":"3.0"},0,"Чак Норрис"]
[null,"CL11733","2013-10-06T11:22:46.821","Ноутбук","Юг","Малый бизнес",83,"Да",3.1,0,"Джеки Чан"]
[null,"CL11740","2013-10-06T11:39:51.608","Ноутбук","Юг","Частные клиенты",76,"Да",2.9,0,"Уилл Смит"]
[null,"CL11743","2013-10-06T11:47:14.520","Монитор","Центр","Корпорация",83,"Да",2.9,{"v":7800,"d":"7,800р."},"Джонни Депп"]
[null,"CL11752","2013-10-06T12:09:31.153","Монитор","Запад","Частные клиенты",75,"Да",3.8,0,"Бред Питт"]
[null,"CL11759","2013-10-06T12:31:27.637","Другое","Восток","Малый бизнес",75,"Да",2.8,{"v":4200,"d":"4,200р."},"Джеки Чан"]
[null,"CL11762","2013-10-06T12:37:02.605","Ноутбук","Восток","Малый бизнес",74,"Да",3.3,{"v":8400,"d":"8,400р."},"Чак Норрис"]
[null,"CL11767","2013-10-06T12:45:23.777","Ноутбук","Восток","Малый бизнес",59,"Да",3.4,0,"Джеки Чан"]
[null,"CL11773","2013-10-06T13:10:55.722","Софт","Север","Корпорация",64,"Да",{"v":4,"d":"4.0"},0,"Джеки Чан"]
[null,"CL11782","2013-10-06T13:30:53.908","Софт","Восток","Малый бизнес",70,"Да",2.8,{"v":8100,"d":"8,100р."},"Колин Фаррел"]
[null,"CL11789","2013-10-06T13:57:02.340","Другое","Центр","Корпорация",70,"Да",3.2,0,"Уилл Смит"]
[null,"CL11792","2013-10-06T14:07:23.504","Ноутбук","Запад","Некоммерческие",67,"Нет",2.4,0,"Джеки Чан"]
[null,"CL11801","2013-10-06T14:30:38.476","Софт","Юг","Малый бизнес",75,"Да",2.7,{"v":7800,"d":"7,800р."},"Джеки Чан"]
[null,"CL11804","2013-10-06T14:40:56.306","Монитор","Восток","Некоммерческие",81,"Да",3.3,{"v":7500,"d":"7,500р."},"Чак Норрис"]
[null,"CL11812","2013-10-06T15:01:09.005","Софт","Восток","Корпорация",73,"Нет",2.8,{"v":5400,"d":"5,400р."},"Уилл Смит"]
[null,"CL11819","2013-10-06T15:25:14.539","Другое","Центр","Малый бизнес",64,"Да",3.1,{"v":6300,"d":"6,300р."},"Чак Норрис"]
[null,"CL11822","2013-10-06T15:33:47.239","Софт","Восток","Малый бизнес",69,"Да",3.5,{"v":6300,"d":"6,300р."},"Чак Норрис"]
[null,"CL11831","2013-10-06T15:56:33.714","Персональный ПК","Восток","Малый бизнес",66,"Да",2.9,{"v":5100,"d":"5,100р."},"Джеки Чан"]
[null,"CL11838","2013-10-06T16:15:03.546","Персональный ПК","Восток","Корпорация",67,"Да",3.6,{"v":7500,"d":"7,500р."},"Уилл Смит"]
[null,"CL11841","2013-10-06T16:22:59.205","Аксессуары","Север","Малый бизнес",75,"Да",3.4,{"v":4800,"d":"4,800р."},"Колин Фаррел"]
[null,"CL11851","2013-10-06T17:07:11.805","Монитор","Восток","Некоммерческие",77,"Да",2.5,0,"Бред Питт"]
[null,"CL11858","2013-10-06T17:21:05.562","Персональный ПК","Центр","Корпорация",78,"Да",3.3,0,"Чак Норрис"]
[null,"CL11861","2013-10-06T17:32:08.881","Ноутбук","Восток","Частные клиенты",79,"Да",2.3,0,"Чак Норрис"]
[null,"CL11868","2013-10-06T17:51:44.185","Монитор","Восток","Некоммерческие",78,"Да",{"v":3,"d":"3.0"},{"v":6300,"d":"6,300р."},"Колин Фаррел"]
[null,"CL11871","2013-10-06T17:57:01.745","Другое","Запад","Частные клиенты",86,"Да",2.7,{"v":5100,"d":"5,100р."},"Джеки Чан"]
[null,"CL11878","2013-10-06T18:20:31.174","Аксессуары","Север","Корпорация",73,"Да",2.9,0,"Чак Норрис"]
[null,"CL11888","2013-10-06T18:44:21.816","Софт","Центр","Некоммерческие",72,"Да",3.5,{"v":8400,"d":"8,400р."},"Колин Фаррел"]
[null,"CL11891","2013-10-06T18:56:37.384","Аксессуары","Запад","Корпорация",73,"Да",2.6,{"v":5100,"d":"5,100р."},"Уилл Смит"]
[null,"CL11898","2013-10-06T19:18:59.983","Персональный ПК","Север","Частные клиенты",68,"Да",2.8,{"v":5100,"d":"5,100р."},"Чак Норрис"]
[null,"CL11907","2013-10-06T19:43:16.035","Софт","Запад","Корпорация",77,"Да",3.1,0,"Джеки Чан"]
[null,"CL11910","2013-10-06T19:52:37.570","Другое","Центр","Малый бизнес",72,"Да",3.1,{"v":6300,"d":"6,300р."},"Джеки Чан"]
[null,"CL11919","2013-10-06T20:21:48.312","Персональный ПК","Юг","Некоммерческие",77,"Да",3.2,0,"Джонни Депп"]
[null,"CL11921","2013-10-06T20:28:56.579","Ноутбук","Центр","Частные клиенты",58,"Да",2.9,{"v":3000,"d":"3,000р."},"Джеки Чан"]
[null,"CL11930","2013-10-06T21:00:56.608","Софт","Север","Малый бизнес",68,"Да",3.6,{"v":5700,"d":"5,700р."},"Джонни Депп"]
[null,"CL11937","2013-10-06T21:14:23.463","Аксессуары","Юг","Малый бизнес",73,"Да",3.2,0,"Колин Фаррел"]
[null,"CL11940","2013-10-06T21:21:22.462","Персональный ПК","Центр","Частные клиенты",79,"Да",3.1,{"v":7200,"d":"7,200р."},"Чак Норрис"]
[null,"CL11947","2013-10-06T21:49:27.295","Монитор","Запад","Корпорация",81,"Да",2.8,{"v":6900,"d":"6,900р."},"Джонни Депп"]
[null,"CL11956","2013-10-07T08:17:59.229","Другое","Центр","Некоммерческие",63,"Да",2.6,{"v":6000,"d":"6,000р."},"Джонни Депп"]
[null,"CL11960","2013-10-07T08:27:41.959","Ноутбук","Восток","Частные клиенты",91,"Да",2.6,0,"Уилл Смит"]
[null,"CL11967","2013-10-07T08:42:15.523","Софт","Север","Корпорация",70,"Да",2.6,0,"Джеки Чан"]
[null,"CL11970","2013-10-07T08:47:18.547","Другое","Юг","Некоммерческие",79,"Нет",2.7,0,"Уилл Смит"]
[null,"CL11977","2013-10-07T09:12:02.607","Монитор","Юг","Корпорация",74,"Да",{"v":3,"d":"3.0"},{"v":6300,"d":"6,300р."},"Бред Питт"]
[null,"CL11986","2013-10-07T09:38:16.643","Аксессуары","Юг","Некоммерческие",76,"Да",{"v":3,"d":"3.0"},0,"Чак Норрис"]
[null,"CL11993","2013-10-07T09:52:47.316","Персональный ПК","Юг","Некоммерческие",72,"Да",3.9,{"v":5100,"d":"5,100р."},"Джонни Депп"]
[null,"CL11997","2013-10-07T10:05:47.988","Монитор","Центр","Корпорация",70,"Нет",{"v":3,"d":"3.0"},{"v":3300,"d":"3,300р."},"Уилл Смит"]
[null,"CL12006","2013-10-07T10:40:29.506","Монитор","Юг","Некоммерческие",64,"Да",3.6,0,"Бред Питт"]
[null,"CL12009","2013-10-07T10:47:02.843","Аксессуары","Запад","Корпорация",71,"Да",2.2,{"v":4800,"d":"4,800р."},"Колин Фаррел"]
[null,"CL12016","2013-10-07T11:10:56.861","Другое","Запад","Частные клиенты",67,"Да",3.9,0,"Бред Питт"]
[null,"CL12019","2013-10-07T11:17:17.153","Ноутбук","Запад","Частные клиенты",79,"Да",3.1,{"v":6900,"d":"6,900р."},"Джонни Депп"]
[null,"CL12027","2013-10-07T11:40:35.549","Монитор","Восток","Малый бизнес",71,"Да",3.1,0,"Джеки Чан"]
[null,"CL12036","2013-10-07T12:06:26.302","Другое","Восток","Корпорация",67,"Да",{"v":3,"d":"3.0"},0,"Чак Норрис"]
[null,"CL12039","2013-10-07T12:15:13.596","Монитор","Запад","Корпорация",70,"Да",2.5,{"v":5400,"d":"5,400р."},"Джонни Депп"]
[null,"CL12046","2013-10-07T12:37:18.160","Монитор","Запад","Некоммерческие",70,"Да",{"v":3,"d":"3.0"},0,"Джеки Чан"]
[null,"CL12055","2013-10-07T12:58:03.914","Персональный ПК","Запад","Частные клиенты",79,"Да",2.8,0,"Джеки Чан"]
[null,"CL12058","2013-10-07T13:09:46.826","Монитор","Восток","Частные клиенты",74,"Да",3.1,{"v":4500,"d":"4,500р."},"Чак Норрис"]
[null,"CL12064","2013-10-07T13:25:12.568","Монитор","Север","Некоммерческие",93,"Да",2.5,{"v":5100,"d":"5,100р."},"Колин Фаррел"]
[null,"CL12069","2013-10-07T13:39:27.885","Ноутбук","Центр","Некоммерческие",73,"Да",3.4,{"v":4500,"d":"4,500р."},"Колин Фаррел"]
[null,"CL12076","2013-10-07T14:08:28.005","Софт","Юг","Малый бизнес",81,"Да",3.1,0,"Уилл Смит"]
[null,"CL12085","2013-10-07T14:25:09.896","Софт","Запад","Частные клиенты",81,"Да",2.7,{"v":4500,"d":"4,500р."},"Бред Питт"]
[null,"CL12088","2013-10-07T14:38:10.642","Монитор","Запад","Некоммерческие",74,"Да",2.8,{"v":5100,"d":"5,100р."},"Колин Фаррел"]
[null,"CL12094","2013-10-07T14:57:12.461","Монитор","Восток","Частные клиенты",73,"Нет",2.9,0,"Бред Питт"]
[null,"CL12105","2013-10-07T15:25:04.796","Монитор","Север","Корпорация",67,"Да",3.1,{"v":4800,"d":"4,800р."},"Уилл Смит"]
[null,"CL12106","2013-10-07T15:30:06.746","Ноутбук","Восток","Некоммерческие",82,"Да",3.2,0,"Джеки Чан"]
[null,"CL12115","2013-10-07T15:56:58.963","Аксессуары","Запад","Частные клиенты",86,"Да",3.4,{"v":4500,"d":"4,500р."},"Уилл Смит"]
[null,"CL12118","2013-10-07T16:03:46.250","Другое","Север","Малый бизнес",62,"Да",2.9,0,"Колин Фаррел"]
[null,"CL12125","2013-10-07T16:27:37.636","Персональный ПК","Юг","Некоммерческие",77,"Да",3.4,0,"Бред Питт"]
[null,"CL12131","2013-10-07T16:38:42.659","Персональный ПК","Запад","Малый бизнес",70,"Нет",2.7,0,"Колин Фаррел"]
[null,"CL12138","2013-10-07T17:04:59.459","Ноутбук","Север","Малый бизнес",75,"Да",2.6,0,"Уилл Смит"]
[null,"CL12145","2013-10-07T17:25:44.180","Софт","Юг","Частные клиенты",77,"Да",3.1,0,"Уилл Смит"]
[null,"CL12154","2013-10-07T17:53:11.878","Аксессуары","Юг","Некоммерческие",77,"Да",3.2,{"v":7200,"d":"7,200р."},"Джонни Депп"]
[null,"CL12155","2013-10-07T17:57:17.622","Ноутбук","Запад","Корпорация",67,"Да",2.1,{"v":7500,"d":"7,500р."},"Уилл Смит"]
[null,"CL12164","2013-10-07T18:28:05.644","Персональный ПК","Юг","Частные клиенты",65,"Да",3.1,{"v":7500,"d":"7,500р."},"Бред Питт"]
[null,"CL12168","2013-10-07T18:41:10.089","Персональный ПК","Запад","Корпорация",78,"Да",3.3,{"v":4500,"d":"4,500р."},"Уилл Смит"]
[null,"CL12175","2013-10-07T19:08:55.799","Монитор","Центр","Малый бизнес",73,"Нет",2.9,{"v":5700,"d":"5,700р."},"Колин Фаррел"]
[null,"CL12184","2013-10-07T19:41:19.604","Монитор","Юг","Некоммерческие",93,"Да",2.4,{"v":6900,"d":"6,900р."},"Джонни Депп"]
[null,"CL12191","2013-10-07T20:04:11.708","Аксессуары","Запад","Корпорация",69,"Да",2.9,{"v":5700,"d":"5,700р."},"Джеки Чан"]
[null,"CL12194","2013-10-07T20:16:02.746","Аксессуары","Юг","Малый бизнес",79,"Да",3.9,{"v":5400,"d":"5,400р."},"Джеки Чан"]
[null,"CL12203","2013-10-07T20:38:21.689","Софт","Север","Некоммерческие",68,"Да",3.2,0,"Колин Фаррел"]
[null,"CL12209","2013-10-07T20:58:07.209","Софт","Запад","Корпорация",78,"Да",2.5,{"v":7500,"d":"7,500р."},"Колин Фаррел"]
[null,"CL12214","2013-10-07T21:14:11.988","Монитор","Юг","Корпорация",66,"Да",3.6,0,"Колин Фаррел"]
[null,"CL12217","2013-10-07T21:18:25.277","Монитор","Восток","Частные клиенты",79,"Да",2.5,{"v":6300,"d":"6,300р."},"Уилл Смит"]
[null,"CL12224","2013-10-07T21:48:55.996","Другое","Север","Частные клиенты",90,"Да",2.8,{"v":3900,"d":"3,900р."},"Уилл Смит"]
[null,"CL12233","2013-10-08T08:21:50.075","Аксессуары","Центр","Малый бизнес",62,"Да",3.5,0,"Джеки Чан"]
[null,"CL12240","2013-10-08T08:32:17.369","Ноутбук","Центр","Малый бизнес",68,"Да",3.4,{"v":5100,"d":"5,100р."},"Джонни Депп"]
[null,"CL12246","2013-10-08T08:47:14.111","Аксессуары","Юг","Некоммерческие",68,"Да",2.8,0,"Чак Норрис"]
[null,"CL12253","2013-10-08T08:59:13.628","Другое","Юг","Некоммерческие",71,"Да",2.7,{"v":7500,"d":"7,500р."},"Колин Фаррел"]
[null,"CL12254","2013-10-08T09:03:19.038","Другое","Восток","Частные клиенты",75,"Да",2.7,0,"Бред Питт"]
[null,"CL12263","2013-10-08T09:27:08.900","Ноутбук","Запад","Частные клиенты",68,"Да",2.7,{"v":7200,"d":"7,200р."},"Джонни Депп"]
[null,"CL12266","2013-10-08T09:38:53.290","Персональный ПК","Центр","Частные клиенты",77,"Да",2.2,{"v":2700,"d":"2,700р."},"Джонни Депп"]
[null,"CL12273","2013-10-08T10:00:26.972","Ноутбук","Запад","Частные клиенты",73,"Да",2.2,0,"Чак Норрис"]
[null,"CL12283","2013-10-08T10:33:22.561","Ноутбук","Юг","Корпорация",66,"Да",2.9,{"v":5400,"d":"5,400р."},"Уилл Смит"]
[null,"CL12290","2013-10-08T10:52:42.957","Персональный ПК","Север","Некоммерческие",78,"Да",3.3,{"v":5400,"d":"5,400р."},"Джеки Чан"]
[null,"CL12293","2013-10-08T11:05:06.973","Монитор","Север","Малый бизнес",77,"Да",3.2,{"v":5100,"d":"5,100р."},"Уилл Смит"]
[null,"CL12302","2013-10-08T11:31:09.945","Персональный ПК","Восток","Частные клиенты",78,"Да",3.1,{"v":6900,"d":"6,900р."},"Уилл Смит"]
[null,"CL12303","2013-10-08T11:36:25.794","Аксессуары","Юг","Малый бизнес",77,"Да",2.8,{"v":7800,"d":"7,800р."},"Чак Норрис"]
[null,"CL12312","2013-10-08T12:04:08.238","Аксессуары","Юг","Малый бизнес",81,"Да",{"v":3,"d":"3.0"},0,"Джонни Депп"]
[null,"CL12317","2013-10-08T12:12:22.503","Софт","Запад","Малый бизнес",84,"Да",{"v":3,"d":"3.0"},{"v":5700,"d":"5,700р."},"Чак Норрис"]
[null,"CL12323","2013-10-08T12:32:33.324","Персональный ПК","Юг","Частные клиенты",75,"Да",{"v":3,"d":"3.0"},0,"Джеки Чан"]
[null,"CL12332","2013-10-08T12:57:33.730","Аксессуары","Юг","Некоммерческие",85,"Да",2.8,{"v":7800,"d":"7,800р."},"Уилл Смит"]
[null,"CL12339","2013-10-08T13:21:15.085","Монитор","Север","Частные клиенты",75,"Да",3.5,0,"Колин Фаррел"]
[null,"CL12342","2013-10-08T13:28:02.633","Персональный ПК","Юг","Некоммерческие",71,"Да",{"v":3,"d":"3.0"},{"v":7800,"d":"7,800р."},"Джонни Депп"]
[null,"CL12351","2013-10-08T13:56:32.019","Аксессуары","Север","Некоммерческие",74,"Да",2.6,0,"Джонни Депп"]
[null,"CL12354","2013-10-08T14:06:31.955","Ноутбук","Запад","Частные клиенты",74,"Да",2.9,{"v":5700,"d":"5,700р."},"Джонни Депп"]
[null,"CL12362","2013-10-08T14:30:09.562","Монитор","Восток","Некоммерческие",69,"Да",2.6,{"v":3900,"d":"3,900р."},"Уилл Смит"]
[null,"CL12369","2013-10-08T14:50:40.408","Аксессуары","Центр","Некоммерческие",66,"Да",{"v":3,"d":"3.0"},0,"Джонни Депп"]
[null,"CL12372","2013-10-08T14:57:13.529","Персональный ПК","Центр","Частные клиенты",85,"Да",2.8,0,"Уилл Смит"]
[null,"CL12381","2013-10-08T15:18:43.814","Другое","Юг","Малый бизнес",76,"Да",2.7,{"v":6000,"d":"6,000р."},"Чак Норрис"]
[null,"CL12388","2013-10-08T15:43:16.734","Аксессуары","Центр","Малый бизнес",70,"Нет",3.1,{"v":6900,"d":"6,900р."},"Колин Фаррел"]
[null,"CL12391","2013-10-08T15:49:45.683","Ноутбук","Запад","Корпорация",75,"Да",3.2,0,"Колин Фаррел"]
[null,"CL12401","2013-10-08T16:23:29.556","Софт","Центр","Корпорация",95,"Да",3.4,{"v":1500,"d":"1,500р."},"Чак Норрис"]
[null,"CL12402","2013-10-08T16:27:02.421","Софт","Запад","Некоммерческие",86,"Да",2.9,0,"Колин Фаррел"]
[null,"CL12411","2013-10-08T17:02:12.516","Персональный ПК","Запад","Малый бизнес",72,"Да",3.1,0,"Бред Питт"]
[null,"CL12418","2013-10-08T17:21:15.474","Аксессуары","Восток","Корпорация",73,"Да",3.6,{"v":5100,"d":"5,100р."},"Джонни Депп"]
[null,"CL12421","2013-10-08T17:28:37.942","Софт","Восток","Корпорация",76,"Да",2.8,0,"Уилл Смит"]
[null,"CL12428","2013-10-08T17:47:31.609","Аксессуары","Центр","Малый бизнес",72,"Да",3.1,0,"Уилл Смит"]
[null,"CL12438","2013-10-08T18:16:43.234","Софт","Юг","Некоммерческие",79,"Да",2.9,0,"Бред Питт"]
[null,"CL12441","2013-10-08T18:27:47.866","Ноутбук","Север","Некоммерческие",84,"Да",2.5,{"v":6900,"d":"6,900р."},"Джеки Чан"]
[null,"CL12448","2013-10-08T18:47:50.035","Персональный ПК","Центр","Корпорация",83,"Да",3.9,{"v":6600,"d":"6,600р."},"Бред Питт"]
[null,"CL12451","2013-10-08T18:54:11.106","Ноутбук","Центр","Частные клиенты",64,"Да",2.7,0,"Уилл Смит"]
[null,"CL12460","2013-10-08T19:22:23.611","Аксессуары","Восток","Корпорация",99,"Нет",2.3,{"v":5100,"d":"5,100р."},"Чак Норрис"]
[null,"CL12469","2013-10-08T19:47:33.966","Софт","Запад","Корпорация",66,"Да",3.2,0,"Бред Питт"]
[null,"CL12471","2013-10-08T19:55:32.958","Аксессуары","Север","Частные клиенты",75,"Да",3.6,{"v":6000,"d":"6,000р."},"Бред Питт"]
[null,"CL12480","2013-10-08T20:26:01.490","Ноутбук","Север","Малый бизнес",76,"Да",2.2,0,"Колин Фаррел"]
[null,"CL12487","2013-10-08T20:45:03.314","Аксессуары","Запад","Малый бизнес",71,"Да",3.9,0,"Уилл Смит"]
[null,"CL12490","2013-10-08T20:51:58.989","Софт","Юг","Малый бизнес",73,"Да",2.5,0,"Чак Норрис"]
[null,"CL12497","2013-10-08T21:01:32.173","Персональный ПК","Север","Частные клиенты",88,"Да",2.9,{"v":5100,"d":"5,100р."},"Уилл Смит"]
[null,"CL12506","2013-10-08T21:24:13.647","Аксессуары","Восток","Корпорация",80,"Да",2.4,0,"Бред Питт"]
[null,"CL12510","2013-10-08T21:38:08.212","Другое","Запад","Малый бизнес",82,"Да",3.5,{"v":6000,"d":"6,000р."},"Чак Норрис"]
[null,"CL12517","2013-10-08T21:56:55.932","Монитор","Запад","Корпорация",81,"Да",{"v":3,"d":"3.0"},{"v":7200,"d":"7,200р."},"Уилл Смит"]
[null,"CL12520","2013-10-09T08:05:56.818","Аксессуары","Центр","Некоммерческие",80,"Да",2.2,0,"Чак Норрис"]
[null,"CL12527","2013-10-09T08:20:11.479","Софт","Восток","Частные клиенты",86,"Да",2.4,{"v":3600,"d":"3,600р."},"Джеки Чан"]
[null,"CL12536","2013-10-09T08:42:21.300","Другое","Центр","Корпорация",72,"Да",2.9,{"v":4800,"d":"4,800р."},"Уилл Смит"]
[null,"CL12543","2013-10-09T09:02:46.791","Другое","Центр","Частные клиенты",62,"Да",3.2,0,"Чак Норрис"]
[null,"CL12547","2013-10-09T09:15:00.635","Софт","Центр","Частные клиенты",74,"Да",3.2,{"v":5400,"d":"5,400р."},"Джонни Депп"]
[null,"CL12550","2013-10-09T09:26:56.082","Аксессуары","Юг","Частные клиенты",76,"Нет",{"v":3,"d":"3.0"},0,"Джеки Чан"]
[null,"CL12559","2013-10-09T09:50:01.803","Софт","Юг","Корпорация",77,"Да",2.3,0,"Колин Фаррел"]
[null,"CL12566","2013-10-09T10:08:41.353","Монитор","Восток","Малый бизнес",57,"Да",3.4,{"v":5700,"d":"5,700р."},"Джонни Депп"]
[null,"CL12569","2013-10-09T10:16:52.027","Аксессуары","Восток","Частные клиенты",76,"Да",2.8,0,"Чак Норрис"]
[null,"CL12577","2013-10-09T10:46:52.515","Персональный ПК","Север","Частные клиенты",82,"Да",2.9,0,"Чак Норрис"]
[null,"CL12586","2013-10-09T11:23:43.452","Персональный ПК","Запад","Малый бизнес",53,"Да",3.8,{"v":5400,"d":"5,400р."},"Бред Питт"]
[null,"CL12589","2013-10-09T11:34:50.324","Ноутбук","Север","Частные клиенты",67,"Да",3.5,{"v":6300,"d":"6,300р."},"Уилл Смит"]
[null,"CL12596","2013-10-09T11:55:43.623","Софт","Центр","Корпорация",72,"Да",3.5,{"v":4800,"d":"4,800р."},"Джонни Депп"]
[null,"CL12599","2013-10-09T12:03:38.385","Софт","Центр","Малый бизнес",68,"Да",3.3,{"v":3300,"d":"3,300р."},"Джонни Депп"]
[null,"CL12608","2013-10-09T12:31:32.784","Персональный ПК","Север","Некоммерческие",66,"Да",3.5,{"v":4200,"d":"4,200р."},"Джеки Чан"]
[null,"CL12614","2013-10-09T12:42:03.402","Софт","Восток","Малый бизнес",69,"Да",2.8,{"v":7200,"d":"7,200р."},"Уилл Смит"]
[null,"CL12619","2013-10-09T12:59:56.182","Другое","Центр","Малый бизнес",72,"Да",3.2,{"v":7200,"d":"7,200р."},"Чак Норрис"]
[null,"CL12626","2013-10-09T13:22:06.288","Персональный ПК","Север","Некоммерческие",74,"Да",2.9,{"v":7800,"d":"7,800р."},"Уилл Смит"]
[null,"CL12635","2013-10-09T13:42:41.618","Аксессуары","Центр","Некоммерческие",89,"Да",3.6,{"v":5700,"d":"5,700р."},"Джеки Чан"]
[null,"CL12638","2013-10-09T13:51:22.276","Софт","Восток","Малый бизнес",78,"Да",2.4,{"v":5700,"d":"5,700р."},"Уилл Смит"]
[null,"CL12645","2013-10-09T14:11:41.773","Ноутбук","Юг","Частные клиенты",69,"Да",2.4,{"v":4800,"d":"4,800р."},"Колин Фаррел"]
[null,"CL12651","2013-10-09T14:28:02.263","Софт","Центр","Частные клиенты",81,"Да",2.5,{"v":5700,"d":"5,700р."},"Колин Фаррел"]
[null,"CL12656","2013-10-09T14:44:54.190","Ноутбук","Север","Некоммерческие",83,"Да",2.7,0,"Уилл Смит"]
[null,"CL12665","2013-10-09T15:14:50.215","Софт","Север","Некоммерческие",79,"Да",2.5,{"v":7200,"d":"7,200р."},"Джеки Чан"]
[null,"CL12668","2013-10-09T15:29:14.195","Персональный ПК","Центр","Корпорация",75,"Да",2.7,{"v":4800,"d":"4,800р."},"Колин Фаррел"]
[null,"CL12675","2013-10-09T15:55:53.196","Софт","Север","Корпорация",71,"Да",1.9,0,"Джеки Чан"]
[null,"CL12681","2013-10-09T16:17:13.746","Монитор","Восток","Некоммерческие",72,"Да",3.9,{"v":4200,"d":"4,200р."},"Бред Питт"]
[null,"CL12688","2013-10-09T16:28:37.338","Персональный ПК","Восток","Некоммерческие",76,"Да",4.4,0,"Джеки Чан"]
[null,"CL12695","2013-10-09T16:53:51.809","Софт","Юг","Частные клиенты",70,"Да",3.3,0,"Джонни Депп"]
[null,"CL12698","2013-10-09T17:01:31.196","Ноутбук","Юг","Корпорация",60,"Нет",{"v":3,"d":"3.0"},{"v":3300,"d":"3,300р."},"Джеки Чан"]
[null,"CL12705","2013-10-09T17:14:02.132","Персональный ПК","Север","Частные клиенты",76,"Да",2.7,0,"Джеки Чан"]
[null,"CL12714","2013-10-09T17:34:52.773","Персональный ПК","Север","Некоммерческие",78,"Да",2.9,0,"Колин Фаррел"]
[null,"CL12718","2013-10-09T17:47:52.238","Монитор","Юг","Некоммерческие",82,"Да",2.6,{"v":6000,"d":"6,000р."},"Джеки Чан"]
[null,"CL12725","2013-10-09T18:07:51.200","Ноутбук","Центр","Частные клиенты",79,"Да",3.6,0,"Бред Питт"]
[null,"CL12734","2013-10-09T18:36:02.220","Ноутбук","Восток","Некоммерческие",69,"Да",3.8,0,"Уилл Смит"]
[null,"CL12735","2013-10-09T18:40:18.836","Монитор","Центр","Корпорация",68,"Да",3.3,0,"Джеки Чан"]
[null,"CL12744","2013-10-09T19:12:11.470","Софт","Восток","Малый бизнес",72,"Да",3.6,{"v":4200,"d":"4,200р."},"Бред Питт"]
[null,"CL12747","2013-10-09T19:21:41.898","Другое","Север","Корпорация",59,"Да",2.9,{"v":5100,"d":"5,100р."},"Бред Питт"]
[null,"CL12759","2013-10-09T20:00:08.766","Монитор","Восток","Малый бизнес",85,"Да",2.5,{"v":4500,"d":"4,500р."},"Чак Норрис"]
[null,"CL12764","2013-10-09T20:11:12.210","Монитор","Запад","Малый бизнес",64,"Да",3.3,{"v":7500,"d":"7,500р."},"Чак Норрис"]
[null,"CL12767","2013-10-09T20:18:16.899","Софт","Центр","Некоммерческие",63,"Да",2.7,{"v":9300,"d":"9,300р."},"Джеки Чан"]
[null,"CL12774","2013-10-09T20:37:32.518","Софт","Север","Некоммерческие",78,"Да",2.9,0,"Уилл Смит"]
[null,"CL12783","2013-10-09T21:06:08.967","Софт","Восток","Корпорация",63,"Да",2.8,{"v":7200,"d":"7,200р."},"Чак Норрис"]
[null,"CL12784","2013-10-09T21:08:24.157","Аксессуары","Запад","Частные клиенты",71,"Да",3.3,0,"Джеки Чан"]
[null,"CL12796","2013-10-09T21:43:53.487","Аксессуары","Запад","Малый бизнес",70,"Да",2.7,{"v":9300,"d":"9,300р."},"Уилл Смит"]
[null,"CL12797","2013-10-09T21:48:15.890","Персональный ПК","Центр","Корпорация",95,"Да",3.2,0,"Джеки Чан"]
[null,"CL12804","2013-10-10T08:08:34.992","Другое","Север","Частные клиенты",69,"Да",2.6,{"v":6600,"d":"6,600р."},"Бред Питт"]
[null,"CL12813","2013-10-10T08:43:41.186","Ноутбук","Запад","Некоммерческие",61,"Да",3.9,0,"Джеки Чан"]
[null,"CL12816","2013-10-10T08:47:00.305","Аксессуары","Восток","Малый бизнес",68,"Да",3.2,0,"Уилл Смит"]
[null,"CL12823","2013-10-10T09:07:15.441","Другое","Центр","Некоммерческие",79,"Да",{"v":3,"d":"3.0"},0,"Бред Питт"]
[null,"CL12833","2013-10-10T09:37:40.863","Софт","Центр","Корпорация",67,"Да",2.9,0,"Уилл Смит"]
[null,"CL12834","2013-10-10T09:39:31.298","Персональный ПК","Центр","Частные клиенты",74,"Да",2.9,{"v":6600,"d":"6,600р."},"Бред Питт"]
[null,"CL12843","2013-10-10T10:10:05.459","Монитор","Центр","Корпорация",79,"Да",3.4,{"v":4800,"d":"4,800р."},"Уилл Смит"]
[null,"CL12846","2013-10-10T10:21:58.537","Персональный ПК","Юг","Частные клиенты",87,"Да",3.1,{"v":3300,"d":"3,300р."},"Джеки Чан"]
[null,"CL12853","2013-10-10T10:43:10.521","Ноутбук","Центр","Малый бизнес",72,"Да",3.1,{"v":5400,"d":"5,400р."},"Бред Питт"]
[null,"CL12862","2013-10-10T11:11:34.349","Софт","Запад","Частные клиенты",62,"Да",3.1,{"v":9000,"d":"9,000р."},"Уилл Смит"]
[null,"CL12867","2013-10-10T11:29:21.111","Другое","Север","Малый бизнес",85,"Да",1.6,{"v":7800,"d":"7,800р."},"Чак Норрис"]
[null,"CL12873","2013-10-10T11:42:03.181","Персональный ПК","Центр","Частные клиенты",76,"Нет",2.7,{"v":8400,"d":"8,400р."},"Бред Питт"]
[null,"CL12882","2013-10-10T12:01:29.057","Другое","Север","Малый бизнес",81,"Да",2.6,{"v":5100,"d":"5,100р."},"Джеки Чан"]
[null,"CL12883","2013-10-10T12:05:59.220","Софт","Восток","Частные клиенты",74,"Да",2.2,{"v":4800,"d":"4,800р."},"Чак Норрис"]
[null,"CL12892","2013-10-10T12:30:44.092","Софт","Север","Частные клиенты",69,"Да",3.3,{"v":5700,"d":"5,700р."},"Колин Фаррел"]
[null,"CL12895","2013-10-10T12:36:37.239","Софт","Центр","Малый бизнес",88,"Да",2.8,{"v":6000,"d":"6,000р."},"Джонни Депп"]
[null,"CL12904","2013-10-10T12:59:08.421","Другое","Север","Частные клиенты",79,"Да",2.5,{"v":7200,"d":"7,200р."},"Колин Фаррел"]
[null,"CL12912","2013-10-10T13:20:27.130","Аксессуары","Восток","Некоммерческие",79,"Да",2.5,0,"Бред Питт"]
[null,"CL12919","2013-10-10T13:40:27.283","Персональный ПК","Восток","Малый бизнес",69,"Да",3.4,{"v":7200,"d":"7,200р."},"Джеки Чан"]
[null,"CL12922","2013-10-10T13:48:58.891","Аксессуары","Юг","Корпорация",77,"Да",2.1,{"v":6900,"d":"6,900р."},"Джеки Чан"]
[null,"CL12931","2013-10-10T14:16:49.985","Ноутбук","Центр","Корпорация",65,"Да",3.2,{"v":5400,"d":"5,400р."},"Колин Фаррел"]
[null,"CL12932","2013-10-10T14:19:40.700","Монитор","Север","Корпорация",82,"Да",2.8,0,"Джеки Чан"]
[null,"CL12941","2013-10-10T14:48:36.331","Аксессуары","Юг","Частные клиенты",68,"Да",3.6,0,"Колин Фаррел"]
[null,"CL12945","2013-10-10T14:55:33.560","Персональный ПК","Восток","Частные клиенты",88,"Да",2.3,0,"Бред Питт"]
[null,"CL12952","2013-10-10T15:15:05.322","Другое","Юг","Корпорация",71,"Да",3.2,{"v":6900,"d":"6,900р."},"Бред Питт"]
[null,"CL12961","2013-10-10T15:42:05.496","Ноутбук","Север","Некоммерческие",77,"Да",2.8,0,"Колин Фаррел"]
[null,"CL12968","2013-10-10T16:06:55.489","Ноутбук","Запад","Частные клиенты",89,"Да",3.5,0,"Уилл Смит"]
[null,"CL12971","2013-10-10T16:10:51.121","Другое","Центр","Корпорация",56,"Да",2.9,0,"Джонни Депп"]
[null,"CL12978","2013-10-10T16:24:31.505","Софт","Юг","Некоммерческие",88,"Да",3.8,0,"Джонни Депп"]
[null,"CL12982","2013-10-10T16:35:45.339","Монитор","Север","Некоммерческие",78,"Да",3.1,0,"Джонни Депп"]
[null,"CL12991","2013-10-10T16:57:44.968","Аксессуары","Запад","Малый бизнес",55,"Да",3.1,{"v":5400,"d":"5,400р."},"Чак Норрис"]
[null,"CL12998","2013-10-10T17:11:03.736","Другое","Запад","Корпорация",81,"Да",3.3,{"v":5700,"d":"5,700р."},"Бред Питт"]
[null,"CL13001","2013-10-10T17:21:09.066","Персональный ПК","Восток","Частные клиенты",75,"Да",3.6,{"v":3900,"d":"3,900р."},"Бред Питт"]
[null,"CL13010","2013-10-10T17:43:48.750","Персональный ПК","Центр","Частные клиенты",73,"Да",2.9,{"v":5100,"d":"5,100р."},"Уилл Смит"]
[null,"CL13012","2013-10-10T17:49:10.900","Персональный ПК","Запад","Некоммерческие",71,"Да",2.7,{"v":6300,"d":"6,300р."},"Бред Питт"]
[null,"CL13021","2013-10-10T18:22:04.346","Софт","Центр","Корпорация",95,"Да",2.7,{"v":2400,"d":"2,400р."},"Бред Питт"]
[null,"CL13030","2013-10-10T18:50:37.455","Софт","Центр","Малый бизнес",80,"Да",2.5,{"v":5100,"d":"5,100р."},"Колин Фаррел"]
[null,"CL13031","2013-10-10T18:54:34.659","Другое","Юг","Малый бизнес",73,"Да",3.1,0,"Джонни Депп"]
[null,"CL13040","2013-10-10T19:21:46.103","Другое","Центр","Корпорация",85,"Да",2.9,0,"Бред Питт"]
[null,"CL13047","2013-10-10T19:43:18.680","Монитор","Север","Частные клиенты",57,"Да",3.6,{"v":7500,"d":"7,500р."},"Чак Норрис"]
[null,"CL13049","2013-10-10T19:47:18.256","Другое","Запад","Малый бизнес",72,"Да",2.1,{"v":6900,"d":"6,900р."},"Колин Фаррел"]
[null,"CL13060","2013-10-10T20:27:31.081","Аксессуары","Юг","Частные клиенты",74,"Да",3.1,0,"Уилл Смит"]
[null,"CL13067","2013-10-10T20:42:10.927","Другое","Север","Корпорация",60,"Да",2.9,0,"Бред Питт"]
[null,"CL13070","2013-10-10T20:52:27.513","Ноутбук","Юг","Некоммерческие",75,"Да",3.2,{"v":5400,"d":"5,400р."},"Уилл Смит"]
[null,"CL13077","2013-10-10T21:14:31.958","Монитор","Север","Малый бизнес",76,"Нет",3.5,{"v":7800,"d":"7,800р."},"Джеки Чан"]
[null,"CL13080","2013-10-10T21:24:24.681","Монитор","Юг","Некоммерческие",78,"Да",2.7,0,"Джонни Депп"]
[null,"CL13086","2013-10-10T21:37:54.671","Персональный ПК","Восток","Корпорация",75,"Да",2.7,0,"Бред Питт"]
[null,"CL13097","2013-10-11T08:07:55.775","Монитор","Север","Частные клиенты",72,"Да",3.3,{"v":6300,"d":"6,300р."},"Колин Фаррел"]
[null,"CL13100","2013-10-11T08:15:46.440","Ноутбук","Юг","Малый бизнес",63,"Да",2.6,0,"Колин Фаррел"]
[null,"CL13109","2013-10-11T08:39:27.647","Монитор","Центр","Некоммерческие",75,"Да",2.6,{"v":5400,"d":"5,400р."},"Уилл Смит"]
[null,"CL13116","2013-10-11T09:06:22.031","Монитор","Юг","Корпорация",65,"Да",3.7,0,"Бред Питт"]
[null,"CL13119","2013-10-11T09:16:00.814","Другое","Юг","Некоммерческие",89,"Да",2.6,{"v":5700,"d":"5,700р."},"Джонни Депп"]
[null,"CL13127","2013-10-11T09:37:39.008","Другое","Запад","Корпорация",73,"Да",2.9,{"v":6300,"d":"6,300р."},"Бред Питт"]
[null,"CL13130","2013-10-11T09:49:49.082","Ноутбук","Центр","Частные клиенты",71,"Да",3.3,0,"Колин Фаррел"]
[null,"CL13139","2013-10-11T10:12:26.348","Персональный ПК","Центр","Некоммерческие",77,"Да",{"v":3,"d":"3.0"},{"v":6300,"d":"6,300р."},"Джонни Депп"]
[null,"CL13146","2013-10-11T10:31:44.420","Ноутбук","Юг","Некоммерческие",73,"Да",3.2,{"v":6300,"d":"6,300р."},"Джонни Депп"]
[null,"CL13149","2013-10-11T10:42:27.179","Аксессуары","Запад","Частные клиенты",88,"Нет",2.9,{"v":6300,"d":"6,300р."},"Джонни Депп"]
[null,"CL13158","2013-10-11T11:03:57.747","Софт","Север","Корпорация",83,"Да",2.9,{"v":5400,"d":"5,400р."},"Чак Норрис"]
[null,"CL13164","2013-10-11T11:23:29.398","Ноутбук","Центр","Корпорация",72,"Да",{"v":3,"d":"3.0"},0,"Джеки Чан"]
[null,"CL13169","2013-10-11T11:36:28.482","Персональный ПК","Восток","Корпорация",73,"Да",3.4,{"v":6600,"d":"6,600р."},"Джеки Чан"]
[null,"CL13176","2013-10-11T11:57:12.223","Ноутбук","Запад","Корпорация",77,"Да",2.5,{"v":6900,"d":"6,900р."},"Уилл Смит"]
[null,"CL13179","2013-10-11T12:06:40.842","Другое","Север","Частные клиенты",59,"Нет",3.5,0,"Джеки Чан"]
[null,"CL13188","2013-10-11T12:25:33.702","Софт","Центр","Малый бизнес",81,"Да",{"v":2,"d":"2.0"},0,"Колин Фаррел"]
[null,"CL13195","2013-10-11T12:36:48.553","Аксессуары","Север","Частные клиенты",73,"Да",3.6,{"v":8400,"d":"8,400р."},"Бред Питт"]
[null,"CL13201","2013-10-11T12:56:30.311","Ноутбук","Центр","Малый бизнес",76,"Да",{"v":3,"d":"3.0"},0,"Джонни Депп"]
[null,"CL13206","2013-10-11T13:06:29.054","Софт","Восток","Корпорация",70,"Да",2.9,0,"Колин Фаррел"]
[null,"CL13215","2013-10-11T13:30:53.462","Персональный ПК","Юг","Некоммерческие",61,"Да",3.6,{"v":5400,"d":"5,400р."},"Бред Питт"]
[null,"CL13218","2013-10-11T13:41:09.045","Другое","Запад","Некоммерческие",63,"Да",4.2,{"v":6900,"d":"6,900р."},"Джонни Депп"]
[null,"CL13225","2013-10-11T14:00:55.547","Монитор","Запад","Малый бизнес",85,"Да",3.5,{"v":3900,"d":"3,900р."},"Джеки Чан"]
[null,"CL13231","2013-10-11T14:18:19.962","Монитор","Запад","Частные клиенты",80,"Да",3.6,0,"Колин Фаррел"]
[null,"CL13238","2013-10-11T14:37:13.171","Ноутбук","Восток","Малый бизнес",74,"Нет",3.4,{"v":3000,"d":"3,000р."},"Джеки Чан"]
[null,"CL13245","2013-10-11T14:57:20.751","Персональный ПК","Юг","Малый бизнес",67,"Да",3.3,0,"Чак Норрис"]
[null,"CL13248","2013-10-11T15:12:25.500","Ноутбук","Север","Малый бизнес",81,"Да",2.9,0,"Джеки Чан"]
[null,"CL13255","2013-10-11T15:39:43.135","Персональный ПК","Север","Малый бизнес",80,"Да",2.5,{"v":6600,"d":"6,600р."},"Джонни Депп"]
[null,"CL13264","2013-10-11T16:00:28.124","Персональный ПК","Север","Частные клиенты",84,"Да",3.6,{"v":5100,"d":"5,100р."},"Уилл Смит"]
[null,"CL13268","2013-10-11T16:12:43.002","Другое","Запад","Корпорация",75,"Да",4.2,{"v":4800,"d":"4,800р."},"Колин Фаррел"]
[null,"CL13275","2013-10-11T16:28:02.638","Софт","Юг","Корпорация",73,"Да",2.6,{"v":5400,"d":"5,400р."},"Колин Фаррел"]
[null,"CL13278","2013-10-11T16:37:59.686","Другое","Запад","Малый бизнес",76,"Да",3.2,{"v":9000,"d":"9,000р."},"Уилл Смит"]
[null,"CL13287","2013-10-11T16:59:10.615","Аксессуары","Север","Корпорация",88,"Да",2.4,{"v":6300,"d":"6,300р."},"Джонни Депп"]
[null,"CL13294","2013-10-11T17:12:06.569","Другое","Центр","Некоммерческие",75,"Да",2.7,0,"Бред Питт"]
[null,"CL13297","2013-10-11T17:19:04.222","Персональный ПК","Центр","Малый бизнес",84,"Да",4.1,{"v":8400,"d":"8,400р."},"Чак Норрис"]
[null,"CL13302","2013-10-11T17:33:20.532","Персональный ПК","Центр","Некоммерческие",70,"Да",3.5,0,"Джеки Чан"]
[null,"CL13314","2013-10-11T18:08:40.883","Персональный ПК","Запад","Корпорация",77,"Нет",2.9,{"v":5400,"d":"5,400р."},"Бред Питт"]
[null,"CL13317","2013-10-11T18:13:35.603","Другое","Запад","Некоммерческие",72,"Да",2.9,{"v":7800,"d":"7,800р."},"Чак Норрис"]
[null,"CL13324","2013-10-11T18:32:36.451","Персональный ПК","Север","Частные клиенты",80,"Да",3.2,0,"Джонни Депп"]
[null,"CL13327","2013-10-11T18:41:20.893","Другое","Центр","Некоммерческие",80,"Да",2.8,0,"Уилл Смит"]
[null,"CL13334","2013-10-11T19:03:26.525","Ноутбук","Север","Некоммерческие",67,"Да",3.6,0,"Джеки Чан"]
[null,"CL13339","2013-10-11T19:20:40.346","Аксессуары","Восток","Частные клиенты",69,"Да",2.5,0,"Колин Фаррел"]
[null,"CL13347","2013-10-11T19:51:38.891","Другое","Юг","Некоммерческие",69,"Да",2.5,0,"Джеки Чан"]
[null,"CL13354","2013-10-11T20:19:46.542","Аксессуары","Север","Малый бизнес",78,"Да",3.8,{"v":6000,"d":"6,000р."},"Бред Питт"]
[null,"CL13363","2013-10-11T20:53:11.318","Ноутбук","Запад","Частные клиенты",58,"Да",3.4,0,"Джонни Депп"]
[null,"CL13366","2013-10-11T21:01:19.069","Аксессуары","Центр","Малый бизнес",69,"Нет",2.2,{"v":4500,"d":"4,500р."},"Джонни Депп"]
[null,"CL13373","2013-10-11T21:25:25.642","Ноутбук","Центр","Корпорация",71,"Да",2.2,{"v":5100,"d":"5,100р."},"Колин Фаррел"]
[null,"CL13376","2013-10-11T21:33:14.388","Персональный ПК","Север","Некоммерческие",72,"Да",2.2,{"v":7500,"d":"7,500р."},"Колин Фаррел"]
[null,"CL13384","2013-10-11T22:00:25.116","Софт","Юг","Малый бизнес",76,"Да",1.9,{"v":6900,"d":"6,900р."},"Бред Питт"]
[null,"CL13393","2013-10-12T08:33:59.222","Аксессуары","Юг","Частные клиенты",60,"Да",3.6,{"v":7800,"d":"7,800р."},"Колин Фаррел"]
[null,"CL13396","2013-10-12T08:41:55.611","Персональный ПК","Центр","Корпорация",83,"Да",3.5,0,"Джонни Депп"]
[null,"CL13403","2013-10-12T09:06:42.771","Ноутбук","Восток","Некоммерческие",88,"Да",2.7,0,"Уилл Смит"]
[null,"CL13412","2013-10-12T09:26:36.774","Персональный ПК","Восток","Некоммерческие",58,"Да",3.1,{"v":5100,"d":"5,100р."},"Чак Норрис"]
[null,"CL13417","2013-10-12T09:38:10.940","Монитор","Юг","Корпорация",72,"Да",1.7,{"v":6300,"d":"6,300р."},"Джеки Чан"]
[null,"CL13423","2013-10-12T09:51:06.375","Монитор","Юг","Частные клиенты",77,"Да",2.6,{"v":7800,"d":"7,800р."},"Джеки Чан"]
[null,"CL13426","2013-10-12T10:03:21.677","Ноутбук","Запад","Малый бизнес",68,"Да",{"v":4,"d":"4.0"},0,"Уилл Смит"]
[null,"CL13433","2013-10-12T10:28:27.796","Софт","Север","Некоммерческие",58,"Да",3.2,{"v":7800,"d":"7,800р."},"Джеки Чан"]
[null,"CL13442","2013-10-12T11:07:39.140","Персональный ПК","Север","Малый бизнес",68,"Да",3.4,0,"Джонни Депп"]
[null,"CL13445","2013-10-12T11:16:43.212","Аксессуары","Центр","Частные клиенты",68,"Да",1.9,{"v":6000,"d":"6,000р."},"Джеки Чан"]
[null,"CL13454","2013-10-12T11:42:30.797","Персональный ПК","Центр","Корпорация",66,"Да",3.2,{"v":3000,"d":"3,000р."},"Чак Норрис"]
[null,"CL13462","2013-10-12T12:00:46.987","Аксессуары","Восток","Частные клиенты",83,"Нет",2.8,{"v":3300,"d":"3,300р."},"Чак Норрис"]
[null,"CL13463","2013-10-12T12:05:06.344","Персональный ПК","Восток","Малый бизнес",73,"Да",2.7,{"v":4500,"d":"4,500р."},"Колин Фаррел"]
[null,"CL13472","2013-10-12T12:29:51.868","Ноутбук","Запад","Некоммерческие",69,"Да",3.1,{"v":5700,"d":"5,700р."},"Чак Норрис"]
[null,"CL13475","2013-10-12T12:37:45.239","Аксессуары","Север","Малый бизнес",75,"Да",3.2,0,"Джонни Депп"]
[null,"CL13482","2013-10-12T13:05:13.929","Аксессуары","Запад","Частные клиенты",64,"Да",2.8,0,"Джонни Депп"]
[null,"CL13491","2013-10-12T13:31:51.263","Монитор","Запад","Частные клиенты",89,"Да",2.2,0,"Уилл Смит"]
[null,"CL13495","2013-10-12T13:43:16.930","Монитор","Запад","Корпорация",66,"Да",1.9,{"v":6300,"d":"6,300р."},"Колин Фаррел"]
[null,"CL13502","2013-10-12T14:00:54.188","Персональный ПК","Север","Частные клиенты",54,"Да",3.1,{"v":8400,"d":"8,400р."},"Бред Питт"]
[null,"CL13511","2013-10-12T14:24:19.046","Аксессуары","Север","Некоммерческие",60,"Да",3.2,{"v":3300,"d":"3,300р."},"Джонни Депп"]
[null,"CL13512","2013-10-12T14:26:51.603","Персональный ПК","Центр","Частные клиенты",87,"Да",3.3,{"v":5700,"d":"5,700р."},"Джеки Чан"]
[null,"CL13521","2013-10-12T14:55:11.934","Монитор","Восток","Некоммерческие",72,"Да",2.8,{"v":5100,"d":"5,100р."},"Чак Норрис"]
[null,"CL13528","2013-10-12T15:13:30.304","Другое","Юг","Малый бизнес",76,"Нет",3.7,{"v":6300,"d":"6,300р."},"Чак Норрис"]
[null,"CL13532","2013-10-12T15:24:20.495","Аксессуары","Центр","Корпорация",75,"Да",3.1,{"v":5400,"d":"5,400р."},"Колин Фаррел"]
[null,"CL13541","2013-10-12T15:49:25.880","Аксессуары","Юг","Малый бизнес",72,"Да",2.9,{"v":5700,"d":"5,700р."},"Бред Питт"]
[null,"CL13548","2013-10-12T16:09:11.518","Другое","Восток","Частные клиенты",87,"Да",3.1,0,"Уилл Смит"]
[null,"CL13551","2013-10-12T16:15:43.112","Ноутбук","Север","Корпорация",66,"Да",2.4,{"v":8700,"d":"8,700р."},"Джеки Чан"]
[null,"CL13560","2013-10-12T16:39:12.073","Монитор","Юг","Частные клиенты",80,"Да",2.6,{"v":6300,"d":"6,300р."},"Чак Норрис"]
[null,"CL13562","2013-10-12T16:47:31.394","Аксессуары","Север","Малый бизнес",90,"Да",2.2,0,"Бред Питт"]
[null,"CL13571","2013-10-12T17:15:57.694","Монитор","Запад","Частные клиенты",72,"Да",3.5,0,"Джонни Депп"]
[null,"CL13574","2013-10-12T17:27:54.349","Монитор","Запад","Малый бизнес",65,"Да",3.1,0,"Уилл Смит"]
[null,"CL13581","2013-10-12T17:41:51.761","Монитор","Север","Частные клиенты",86,"Да",3.5,0,"Чак Норрис"]
[null,"CL13590","2013-10-12T18:01:24.534","Аксессуары","Север","Частные клиенты",80,"Да",3.3,{"v":6000,"d":"6,000р."},"Бред Питт"]
[null,"CL13597","2013-10-12T18:20:40.342","Монитор","Север","Корпорация",85,"Да",3.5,0,"Джеки Чан"]
[null,"CL13599","2013-10-12T18:29:07.418","Ноутбук","Север","Частные клиенты",85,"Да",3.6,0,"Колин Фаррел"]
[null,"CL13610","2013-10-12T18:44:35.627","Софт","Центр","Некоммерческие",68,"Да",2.8,{"v":6900,"d":"6,900р."},"Джонни Депп"]
[null,"CL13611","2013-10-12T18:49:21.359","Другое","Восток","Некоммерческие",72,"Да",2.8,{"v":7500,"d":"7,500р."},"Чак Норрис"]
[null,"CL13620","2013-10-12T19:17:29.563","Аксессуары","Запад","Корпорация",62,"Да",2.7,0,"Колин Фаррел"]
[null,"CL13627","2013-10-12T19:41:09.183","Софт","Запад","Корпорация",88,"Да",2.2,0,"Уилл Смит"]
[null,"CL13630","2013-10-12T19:47:38.945","Аксессуары","Центр","Корпорация",79,"Да",3.4,0,"Джеки Чан"]
[null,"CL13636","2013-10-12T20:04:17.704","Монитор","Север","Частные клиенты",72,"Да",2.4,0,"Джеки Чан"]
[null,"CL13647","2013-10-12T20:34:39.104","Аксессуары","Запад","Корпорация",60,"Да",3.6,0,"Джонни Депп"]
[null,"CL13650","2013-10-12T20:40:24.464","Аксессуары","Восток","Корпорация",70,"Да",2.6,{"v":6900,"d":"6,900р."},"Уилл Смит"]
[null,"CL13659","2013-10-12T21:03:12.677","Ноутбук","Север","Корпорация",81,"Да",{"v":3,"d":"3.0"},0,"Джеки Чан"]
[null,"CL13660","2013-10-12T21:03:20.612","Монитор","Восток","Корпорация",83,"Да",2.4,0,"Джеки Чан"]
[null,"CL13669","2013-10-12T21:36:58.542","Софт","Центр","Некоммерческие",77,"Да",3.7,{"v":3300,"d":"3,300р."},"Бред Питт"]
[null,"CL13677","2013-10-12T21:52:34.244","Другое","Центр","Частные клиенты",74,"Да",2.7,0,"Уилл Смит"]
[null,"CL13680","2013-10-13T08:03:24.119","Ноутбук","Юг","Некоммерческие",65,"Да",2.9,0,"Уилл Смит"]
[null,"CL13689","2013-10-13T08:29:39.005","Ноутбук","Запад","Малый бизнес",66,"Да",2.3,{"v":4800,"d":"4,800р."},"Бред Питт"]
[null,"CL13696","2013-10-13T08:44:38.896","Ноутбук","Север","Корпорация",67,"Да",2.8,{"v":7800,"d":"7,800р."},"Уилл Смит"]
[null,"CL13699","2013-10-13T08:50:46.963","Софт","Восток","Корпорация",80,"Да",2.7,0,"Уилл Смит"]
[null,"CL13708","2013-10-13T09:15:53.557","Софт","Юг","Частные клиенты",75,"Да",3.2,0,"Чак Норрис"]
[null,"CL13714","2013-10-13T09:35:19.334","Персональный ПК","Юг","Некоммерческие",84,"Да",3.4,0,"Джеки Чан"]
[null,"CL13719","2013-10-13T09:51:08.540","Софт","Центр","Некоммерческие",85,"Да",3.4,{"v":5700,"d":"5,700р."},"Джеки Чан"]
[null,"CL13726","2013-10-13T10:14:26.854","Другое","Восток","Некоммерческие",74,"Да",{"v":2,"d":"2.0"},{"v":6300,"d":"6,300р."},"Колин Фаррел"]
[null,"CL13729","2013-10-13T10:26:42.343","Монитор","Восток","Частные клиенты",82,"Да",4.1,0,"Джонни Депп"]
[null,"CL13738","2013-10-13T10:42:12.680","Монитор","Юг","Частные клиенты",74,"Да",2.6,{"v":7200,"d":"7,200р."},"Уилл Смит"]
[null,"CL13745","2013-10-13T11:07:06.905","Персональный ПК","Запад","Некоммерческие",71,"Да",2.3,0,"Бред Питт"]
[null,"CL13751","2013-10-13T11:27:19.634","Монитор","Восток","Некоммерческие",77,"Да",2.8,{"v":4800,"d":"4,800р."},"Бред Питт"]
[null,"CL13756","2013-10-13T11:44:18.985","Другое","Север","Малый бизнес",78,"Да",2.9,{"v":6300,"d":"6,300р."},"Чак Норрис"]
[null,"CL13759","2013-10-13T11:54:15.328","Аксессуары","Центр","Малый бизнес",61,"Да",3.3,0,"Бред Питт"]
[null,"CL13768","2013-10-13T12:22:21.154","Софт","Восток","Корпорация",75,"Да",2.5,{"v":5400,"d":"5,400р."},"Уилл Смит"]
[null,"CL13775","2013-10-13T12:37:33.319","Другое","Центр","Некоммерческие",75,"Да",2.3,{"v":4500,"d":"4,500р."},"Джонни Депп"]
[null,"CL13781","2013-10-13T12:56:35.740","Софт","Центр","Малый бизнес",83,"Да",3.2,{"v":4500,"d":"4,500р."},"Уилл Смит"]
[null,"CL13788","2013-10-13T13:15:50.208","Персональный ПК","Север","Корпорация",71,"Да",3.3,{"v":6000,"d":"6,000р."},"Джонни Депп"]
[null,"CL13795","2013-10-13T13:33:58.071","Персональный ПК","Центр","Малый бизнес",83,"Да",3.7,{"v":4500,"d":"4,500р."},"Бред Питт"]
[null,"CL13798","2013-10-13T13:44:23.331","Монитор","Центр","Частные клиенты",65,"Да",3.7,0,"Колин Фаррел"]
[null,"CL13805","2013-10-13T14:06:49.588","Ноутбук","Восток","Малый бизнес",87,"Да",3.4,{"v":9300,"d":"9,300р."},"Чак Норрис"]
[null,"CL13808","2013-10-13T14:15:49.241","Ноутбук","Запад","Частные клиенты",77,"Да",3.2,{"v":6900,"d":"6,900р."},"Джеки Чан"]
[null,"CL13818","2013-10-13T14:45:54.990","Софт","Восток","Малый бизнес",62,"Да",2.4,0,"Колин Фаррел"]
[null,"CL13825","2013-10-13T15:05:51.633","Софт","Юг","Корпорация",74,"Да",2.3,0,"Джеки Чан"]
[null,"CL13828","2013-10-13T15:14:06.405","Ноутбук","Восток","Частные клиенты",57,"Да",3.6,{"v":6300,"d":"6,300р."},"Бред Питт"]
[null,"CL13837","2013-10-13T15:34:49.652","Монитор","Запад","Частные клиенты",90,"Да",2.5,{"v":6000,"d":"6,000р."},"Бред Питт"]
[null,"CL13844","2013-10-13T15:46:50.619","Персональный ПК","Центр","Корпорация",78,"Да",3.2,{"v":6600,"d":"6,600р."},"Уилл Смит"]
[null,"CL13847","2013-10-13T15:57:18.316","Софт","Запад","Частные клиенты",81,"Да",3.6,{"v":5100,"d":"5,100р."},"Колин Фаррел"]
[null,"CL13852","2013-10-13T16:15:37.940","Софт","Север","Малый бизнес",81,"Да",2.3,{"v":8100,"d":"8,100р."},"Чак Норрис"]
[null,"CL13858","2013-10-13T16:36:46.747","Аксессуары","Юг","Корпорация",92,"Да",2.6,0,"Бред Питт"]
[null,"CL13867","2013-10-13T17:12:28.340","Другое","Запад","Частные клиенты",83,"Да",2.7,{"v":4800,"d":"4,800р."},"Джонни Депп"]
[null,"CL13874","2013-10-13T17:39:00.375","Персональный ПК","Запад","Малый бизнес",87,"Да",2.5,{"v":8100,"d":"8,100р."},"Чак Норрис"]
[null,"CL13877","2013-10-13T17:46:19.171","Другое","Восток","Малый бизнес",89,"Да",2.7,0,"Колин Фаррел"]
[null,"CL13884","2013-10-13T18:10:42.249","Ноутбук","Запад","Частные клиенты",65,"Да",{"v":3,"d":"3.0"},0,"Бред Питт"]
[null,"CL13889","2013-10-13T18:23:59.380","Монитор","Юг","Частные клиенты",73,"Да",3.2,0,"Джонни Депп"]
[null,"CL13897","2013-10-13T18:46:05.537","Софт","Юг","Частные клиенты",79,"Да",3.6,0,"Джеки Чан"]
[null,"CL13904","2013-10-13T19:04:20.057","Персональный ПК","Центр","Некоммерческие",79,"Нет",3.1,{"v":5700,"d":"5,700р."},"Бред Питт"]
[null,"CL13907","2013-10-13T19:10:13.845","Софт","Запад","Малый бизнес",76,"Да",{"v":3,"d":"3.0"},{"v":5400,"d":"5,400р."},"Джонни Депп"]
[null,"CL13916","2013-10-13T19:35:42.746","Ноутбук","Запад","Некоммерческие",91,"Да",3.6,0,"Колин Фаррел"]
[null,"CL13923","2013-10-13T19:57:23.862","Ноутбук","Север","Корпорация",64,"Да",2.7,0,"Джонни Депп"]
[null,"CL13926","2013-10-13T20:08:11.876","Ноутбук","Запад","Корпорация",65,"Да",2.5,{"v":8700,"d":"8,700р."},"Чак Норрис"]
[null,"CL13934","2013-10-13T20:34:49.427","Монитор","Север","Частные клиенты",73,"Да",3.6,0,"Чак Норрис"]
[null,"CL13943","2013-10-13T20:56:55.308","Софт","Восток","Малый бизнес",81,"Да",3.6,{"v":6600,"d":"6,600р."},"Бред Питт"]
[null,"CL13946","2013-10-13T21:02:56.374","Монитор","Запад","Корпорация",84,"Да",3.6,{"v":4500,"d":"4,500р."},"Колин Фаррел"]
[null,"CL13953","2013-10-13T21:28:59.707","Монитор","Восток","Частные клиенты",67,"Да",2.4,{"v":6000,"d":"6,000р."},"Колин Фаррел"]
[null,"CL13956","2013-10-13T21:37:34.225","Ноутбук","Запад","Малый бизнес",59,"Да",2.7,0,"Чак Норрис"]
[null,"CL13967","2013-10-14T08:07:45.604","Аксессуары","Север","Частные клиенты",92,"Да",3.8,{"v":6300,"d":"6,300р."},"Бред Питт"]
[null,"CL13973","2013-10-14T08:31:41.466","Аксессуары","Юг","Некоммерческие",92,"Да",3.6,{"v":4800,"d":"4,800р."},"Чак Норрис"]
[null,"CL13976","2013-10-14T08:37:41.993","Аксессуары","Центр","Частные клиенты",65,"Да",2.7,{"v":6000,"d":"6,000р."},"Колин Фаррел"]
[null,"CL13983","2013-10-14T08:58:46.254","Ноутбук","Север","Частные клиенты",73,"Да",2.4,{"v":3900,"d":"3,900р."},"Чак Норрис"]
[null,"CL13992","2013-10-14T09:22:59.155","Другое","Центр","Частные клиенты",74,"Да",3.2,{"v":7200,"d":"7,200р."},"Бред Питт"]
[null,"CL13995","2013-10-14T09:35:22.320","Аксессуары","Север","Частные клиенты",93,"Да",2.8,{"v":6600,"d":"6,600р."},"Уилл Смит"]
[null,"CL14004","2013-10-14T10:03:30.323","Монитор","Запад","Малый бизнес",70,"Да",3.7,{"v":8400,"d":"8,400р."},"Уилл Смит"]
[null,"CL14006","2013-10-14T10:11:42.078","Софт","Восток","Малый бизнес",70,"Да",3.5,{"v":9300,"d":"9,300р."},"Чак Норрис"]
[null,"CL14013","2013-10-14T10:26:38.965","Софт","Центр","Некоммерческие",76,"Да",2.6,{"v":6300,"d":"6,300р."},"Джеки Чан"]
[null,"CL14022","2013-10-14T10:59:26.434","Софт","Север","Малый бизнес",88,"Да",2.5,{"v":6300,"d":"6,300р."},"Уилл Смит"]
[null,"CL14025","2013-10-14T11:06:02.459","Софт","Запад","Некоммерческие",83,"Да",2.8,0,"Бред Питт"]
[null,"CL14032","2013-10-14T11:22:40.970","Ноутбук","Юг","Некоммерческие",79,"Да",3.3,{"v":5700,"d":"5,700р."},"Уилл Смит"]
[null,"CL14041","2013-10-14T11:40:59.962","Персональный ПК","Центр","Малый бизнес",65,"Да",2.9,{"v":5100,"d":"5,100р."},"Джеки Чан"]
[null,"CL14045","2013-10-14T11:55:23.664","Ноутбук","Восток","Корпорация",84,"Да",2.7,0,"Бред Питт"]
[null,"CL14052","2013-10-14T12:11:32.116","Ноутбук","Юг","Корпорация",73,"Да",3.8,{"v":6000,"d":"6,000р."},"Джонни Депп"]
[null,"CL14055","2013-10-14T12:17:36.935","Монитор","Север","Частные клиенты",69,"Да",2.5,{"v":6600,"d":"6,600р."},"Джеки Чан"]
[null,"CL14062","2013-10-14T12:37:52.872","Аксессуары","Восток","Частные клиенты",91,"Да",3.5,{"v":4800,"d":"4,800р."},"Бред Питт"]
[null,"CL14071","2013-10-14T12:57:52.753","Ноутбук","Север","Корпорация",63,"Да",{"v":3,"d":"3.0"},{"v":7200,"d":"7,200р."},"Уилл Смит"]
[null,"CL14078","2013-10-14T13:19:17.266","Ноутбук","Центр","Малый бизнес",66,"Да",3.6,0,"Колин Фаррел"]
[null,"CL14082","2013-10-14T13:30:13.090","Другое","Север","Малый бизнес",82,"Да",3.7,0,"Уилл Смит"]
[null,"CL14091","2013-10-14T13:54:46.205","Софт","Юг","Частные клиенты",78,"Да",3.1,{"v":7500,"d":"7,500р."},"Джеки Чан"]
[null,"CL14092","2013-10-14T13:59:14.210","Другое","Центр","Корпорация",75,"Да",3.6,0,"Бред Питт"]
[null,"CL14101","2013-10-14T14:26:44.883","Другое","Восток","Частные клиенты",76,"Да",{"v":3,"d":"3.0"},{"v":5400,"d":"5,400р."},"Колин Фаррел"]
[null,"CL14104","2013-10-14T14:32:36.745","Другое","Север","Корпорация",78,"Да",2.6,0,"Бред Питт"]
[null,"CL14112","2013-10-14T14:58:49.293","Монитор","Восток","Малый бизнес",65,"Да",2.9,{"v":4500,"d":"4,500р."},"Чак Норрис"]
[null,"CL14121","2013-10-14T15:26:36.593","Монитор","Центр","Малый бизнес",63,"Да",2.9,{"v":3900,"d":"3,900р."},"Джонни Депп"]
[null,"CL14124","2013-10-14T15:33:33.429","Персональный ПК","Юг","Некоммерческие",70,"Да",3.6,0,"Джонни Депп"]
[null,"CL14131","2013-10-14T15:49:27.689","Другое","Юг","Корпорация",88,"Да",2.5,0,"Бред Питт"]
[null,"CL14140","2013-10-14T16:16:37.111","Ноутбук","Запад","Некоммерческие",64,"Да",2.9,0,"Чак Норрис"]
[null,"CL14141","2013-10-14T16:20:13.169","Аксессуары","Север","Некоммерческие",84,"Да",2.5,{"v":5400,"d":"5,400р."},"Джеки Чан"]
[null,"CL14149","2013-10-14T16:40:08.409","Софт","Север","Малый бизнес",70,"Да",3.3,0,"Чак Норрис"]
[null,"CL14154","2013-10-14T16:52:31.389","Софт","Юг","Частные клиенты",78,"Да",3.1,0,"Джеки Чан"]
[null,"CL14161","2013-10-14T17:06:47.403","Ноутбук","Восток","Частные клиенты",77,"Да",3.1,0,"Колин Фаррел"]
[null,"CL14170","2013-10-14T17:33:49.158","Ноутбук","Запад","Корпорация",76,"Да",2.7,{"v":6300,"d":"6,300р."},"Чак Норрис"]
[null,"CL14177","2013-10-14T17:55:27.238","Другое","Север","Некоммерческие",69,"Да",2.5,0,"Уилл Смит"]
[null,"CL14180","2013-10-14T18:05:30.494","Софт","Восток","Частные клиенты",70,"Да",2.4,{"v":6000,"d":"6,000р."},"Уилл Смит"]
[null,"CL14186","2013-10-14T18:23:42.209","Софт","Юг","Малый бизнес",71,"Да",3.4,0,"Уилл Смит"]
[null,"CL14191","2013-10-14T18:36:33.253","Софт","Юг","Корпорация",69,"Да",2.2,{"v":3300,"d":"3,300р."},"Колин Фаррел"]
[null,"CL14200","2013-10-14T19:11:31.683","Монитор","Центр","Частные клиенты",103,"Да",3.5,0,"Колин Фаррел"]
[null,"CL14203","2013-10-14T19:23:09.246","Монитор","Север","Частные клиенты",74,"Да",3.4,{"v":3900,"d":"3,900р."},"Колин Фаррел"]
[null,"CL14210","2013-10-14T19:43:54.716","Аксессуары","Юг","Частные клиенты",74,"Да",2.3,{"v":7200,"d":"7,200р."},"Колин Фаррел"]
[null,"CL14219","2013-10-14T20:18:03.885","Другое","Запад","Некоммерческие",76,"Да",2.8,0,"Чак Норрис"]
[null,"CL14227","2013-10-14T20:48:44.029","Персональный ПК","Север","Малый бизнес",65,"Да",3.4,0,"Колин Фаррел"]
[null,"CL14230","2013-10-14T20:57:00.301","Аксессуары","Центр","Частные клиенты",68,"Да",2.8,0,"Джеки Чан"]
[null,"CL14239","2013-10-14T21:17:20.196","Персональный ПК","Север","Корпорация",76,"Да",3.9,{"v":6300,"d":"6,300р."},"Чак Норрис"]
[null,"CL14240","2013-10-14T21:22:51.342","Персональный ПК","Юг","Корпорация",72,"Да",3.7,0,"Бред Питт"]
[null,"CL14249","2013-10-14T21:46:59.933","Аксессуары","Центр","Корпорация",74,"Да",2.5,{"v":4500,"d":"4,500р."},"Джеки Чан"]
[null,"CL14252","2013-10-14T21:57:16.734","Аксессуары","Центр","Частные клиенты",76,"Да",2.8,{"v":6600,"d":"6,600р."},"Джонни Депп"]
[null,"CL14264","2013-10-15T08:38:34.448","Софт","Центр","Малый бизнес",74,"Да",3.2,0,"Джеки Чан"]
[null,"CL14269","2013-10-15T08:50:43.582","Софт","Восток","Некоммерческие",84,"Да",2.7,{"v":6000,"d":"6,000р."},"Чак Норрис"]
[null,"CL14276","2013-10-15T09:09:02.504","Монитор","Юг","Малый бизнес",71,"Да",2.7,{"v":4500,"d":"4,500р."},"Уилл Смит"]
[null,"CL14279","2013-10-15T09:20:02.736","Персональный ПК","Центр","Малый бизнес",69,"Да",3.3,0,"Чак Норрис"]
[null,"CL14288","2013-10-15T09:44:48.555","Ноутбук","Юг","Некоммерческие",65,"Да",{"v":3,"d":"3.0"},0,"Джонни Депп"]
[null,"CL14289","2013-10-15T09:45:07.216","Ноутбук","Север","Частные клиенты",90,"Да",3.5,0,"Бред Питт"]
[null,"CL14301","2013-10-15T10:13:21.593","Монитор","Восток","Некоммерческие",74,"Да",3.9,{"v":5400,"d":"5,400р."},"Колин Фаррел"]
[null,"CL14306","2013-10-15T10:24:15.006","Аксессуары","Центр","Частные клиенты",76,"Да",2.8,{"v":4800,"d":"4,800р."},"Уилл Смит"]
[null,"CL14309","2013-10-15T10:38:45.516","Другое","Север","Частные клиенты",83,"Да",{"v":3,"d":"3.0"},{"v":4500,"d":"4,500р."},"Бред Питт"]
[null,"CL14318","2013-10-15T11:08:25.890","Аксессуары","Запад","Корпорация",87,"Да",2.2,0,"Джеки Чан"]
[null,"CL14325","2013-10-15T11:31:54.836","Персональный ПК","Восток","Частные клиенты",64,"Да",{"v":3,"d":"3.0"},{"v":4200,"d":"4,200р."},"Джонни Депп"]
[null,"CL14331","2013-10-15T11:53:25.802","Ноутбук","Восток","Некоммерческие",69,"Да",2.7,0,"Колин Фаррел"]
[null,"CL14333","2013-10-15T11:59:33.043","Софт","Центр","Малый бизнес",69,"Да",2.7,{"v":9300,"d":"9,300р."},"Бред Питт"]
[null,"CL14334","2013-10-15T12:01:57.559","Монитор","Центр","Частные клиенты",62,"Да",2.6,{"v":6300,"d":"6,300р."},"Чак Норрис"]
[null,"CL14335","2013-10-15T12:06:04.214","Персональный ПК","Запад","Некоммерческие",70,"Да",3.3,0,"Бред Питт"]
[null,"CL14336","2013-10-15T12:10:16.747","Монитор","Центр","Корпорация",82,"Да",3.6,{"v":6900,"d":"6,900р."},"Уилл Смит"]
[null,"CL14337","2013-10-15T12:12:37.134","Ноутбук","Центр","Малый бизнес",75,"Да",{"v":3,"d":"3.0"},0,"Чак Норрис"]
[null,"CL14338","2013-10-15T12:17:49.960","Софт","Центр","Некоммерческие",76,"Да",3.8,0,"Джонни Депп"]
[null,"CL14339","2013-10-15T12:20:01.296","Софт","Север","Некоммерческие",84,"Да",1.9,{"v":6600,"d":"6,600р."},"Джонни Депп"]
[null,"CL14340","2013-10-15T12:21:41.027","Персональный ПК","Юг","Малый бизнес",81,"Да",3.9,{"v":6000,"d":"6,000р."},"Джонни Депп"]
[null,"CL14341","2013-10-15T12:25:19.758","Аксессуары","Юг","Частные клиенты",74,"Да",3.2,0,"Джеки Чан"]
[null,"CL14342","2013-10-15T12:29:03.776","Софт","Центр","Корпорация",63,"Да",2.2,0,"Джеки Чан"]
[null,"CL14343","2013-10-15T12:30:02.242","Ноутбук","Север","Частные клиенты",78,"Да",2.9,{"v":5100,"d":"5,100р."},"Колин Фаррел"]
[null,"CL14344","2013-10-15T12:32:13.607","Персональный ПК","Север","Некоммерческие",81,"Да",3.4,{"v":6000,"d":"6,000р."},"Чак Норрис"]
[null,"CL14345","2013-10-15T12:33:27.844","Другое","Север","Частные клиенты",65,"Да",2.6,0,"Джонни Депп"]
[null,"CL14346","2013-10-15T12:36:52.780","Ноутбук","Север","Малый бизнес",77,"Да",3.5,{"v":5700,"d":"5,700р."},"Чак Норрис"]
[null,"CL14347","2013-10-15T12:38:22.711","Персональный ПК","Запад","Некоммерческие",63,"Да",2.5,{"v":6000,"d":"6,000р."},"Джонни Депп"]
[null,"CL14348","2013-10-15T12:42:09.513","Аксессуары","Запад","Некоммерческие",72,"Да",3.8,{"v":6900,"d":"6,900р."},"Бред Питт"]
[null,"CL14349","2013-10-15T12:43:35.400","Другое","Север","Малый бизнес",66,"Да",2.4,0,"Джонни Депп"]
[null,"CL14350","2013-10-15T12:44:22.621","Ноутбук","Юг","Некоммерческие",82,"Да",2.6,{"v":6600,"d":"6,600р."},"Бред Питт"]
[null,"CL14351","2013-10-15T12:46:46.457","Софт","Север","Некоммерческие",80,"Да",2.5,{"v":7800,"d":"7,800р."},"Джонни Депп"]
[null,"CL14352","2013-10-15T12:47:56.234","Аксессуары","Юг","Корпорация",71,"Да",3.6,{"v":8100,"d":"8,100р."},"Джеки Чан"]
[null,"CL14353","2013-10-15T12:50:09.450","Аксессуары","Север","Малый бизнес",75,"Да",2.4,{"v":7500,"d":"7,500р."},"Бред Питт"]
[null,"CL14354","2013-10-15T12:51:54.421","Персональный ПК","Юг","Некоммерческие",80,"Да",3.1,0,"Уилл Смит"]
[null,"CL14355","2013-10-15T12:52:06.166","Монитор","Север","Корпорация",62,"Да",2.9,{"v":4500,"d":"4,500р."},"Джеки Чан"]
[null,"CL14356","2013-10-15T12:57:04.648","Софт","Север","Некоммерческие",85,"Да",3.4,0,"Джеки Чан"]
[null,"CL14357","2013-10-15T13:02:25.246","Другое","Центр","Некоммерческие",76,"Да",2.5,{"v":6900,"d":"6,900р."},"Джонни Депп"]
[null,"CL14358","2013-10-15T13:03:52.405","Софт","Центр","Корпорация",72,"Да",3.2,0,"Джонни Депп"]
[null,"CL14359","2013-10-15T13:04:13.086","Персональный ПК","Запад","Некоммерческие",61,"Да",3.3,{"v":4800,"d":"4,800р."},"Уилл Смит"]
[null,"CL14360","2013-10-15T13:09:10.819","Другое","Центр","Некоммерческие",92,"Нет",{"v":3,"d":"3.0"},{"v":5400,"d":"5,400р."},"Бред Питт"]
[null,"CL14361","2013-10-15T13:14:02.596","Монитор","Север","Некоммерческие",69,"Да",2.5,0,"Чак Норрис"]
[null,"CL14362","2013-10-15T13:17:24.720","Другое","Восток","Корпорация",71,"Да",3.4,0,"Бред Питт"]
[null,"CL14363","2013-10-15T13:21:34.189","Аксессуары","Юг","Частные клиенты",84,"Да",3.1,0,"Уилл Смит"]
[null,"CL14364","2013-10-15T13:26:44.126","Ноутбук","Юг","Частные клиенты",75,"Да",2.5,0,"Уилл Смит"]
[null,"CL14365","2013-10-15T13:28:01.521","Монитор","Юг","Корпорация",84,"Нет",3.6,0,"Джонни Депп"]
[null,"CL14366","2013-10-15T13:31:54.874","Ноутбук","Восток","Частные клиенты",92,"Да",3.3,{"v":6300,"d":"6,300р."},"Уилл Смит"]
[null,"CL14367","2013-10-15T13:37:14.530","Персональный ПК","Центр","Частные клиенты",74,"Нет",1.7,{"v":5100,"d":"5,100р."},"Колин Фаррел"]
[null,"CL14368","2013-10-15T13:40:16.287","Монитор","Центр","Малый бизнес",71,"Да",3.1,{"v":5100,"d":"5,100р."},"Чак Норрис"]
[null,"CL14369","2013-10-15T13:42:27.183","Другое","Запад","Некоммерческие",75,"Да",3.5,{"v":4200,"d":"4,200р."},"Джеки Чан"]
[null,"CL14370","2013-10-15T13:46:45.933","Софт","Запад","Корпорация",62,"Да",3.1,{"v":6000,"d":"6,000р."},"Уилл Смит"]
[null,"CL14371","2013-10-15T13:48:59.692","Аксессуары","Юг","Некоммерческие",75,"Да",2.1,{"v":5100,"d":"5,100р."},"Уилл Смит"]
[null,"CL14372","2013-10-15T13:53:59.729","Ноутбук","Юг","Частные клиенты",62,"Нет",2.7,0,"Джонни Депп"]
[null,"CL14373","2013-10-15T13:57:21.621","Другое","Центр","Некоммерческие",74,"Да",3.2,{"v":3900,"d":"3,900р."},"Чак Норрис"]
[null,"CL14374","2013-10-15T14:02:29.497","Персональный ПК","Запад","Малый бизнес",82,"Да",3.2,0,"Уилл Смит"]
[null,"CL14375","2013-10-15T14:04:00.518","Персональный ПК","Восток","Малый бизнес",80,"Нет",2.8,{"v":6300,"d":"6,300р."},"Джонни Депп"]
[null,"CL14376","2013-10-15T14:06:29.670","Ноутбук","Юг","Малый бизнес",68,"Да",2.6,{"v":7200,"d":"7,200р."},"Бред Питт"]
[null,"CL14377","2013-10-15T14:08:34.757","Персональный ПК","Север","Некоммерческие",70,"Да",2.9,{"v":6600,"d":"6,600р."},"Чак Норрис"]
[null,"CL14378","2013-10-15T14:09:30.609","Софт","Центр","Некоммерческие",82,"Да",3.5,{"v":4800,"d":"4,800р."},"Чак Норрис"]
[null,"CL14379","2013-10-15T14:14:51.431","Софт","Юг","Малый бизнес",59,"Да",3.8,{"v":6600,"d":"6,600р."},"Джеки Чан"]
[null,"CL14380","2013-10-15T14:16:47.231","Монитор","Юг","Некоммерческие",76,"Да",2.8,0,"Уилл Смит"]
[null,"CL14381","2013-10-15T14:18:16.331","Ноутбук","Центр","Малый бизнес",96,"Да",3.1,{"v":6600,"d":"6,600р."},"Джонни Депп"]
[null,"CL14382","2013-10-15T14:22:04.982","Ноутбук","Юг","Малый бизнес",81,"Да",3.1,{"v":4200,"d":"4,200р."},"Бред Питт"]
[null,"CL14383","2013-10-15T14:23:09.031","Монитор","Юг","Некоммерческие",87,"Да",2.7,0,"Чак Норрис"]
[null,"CL14384","2013-10-15T14:28:29.157","Персональный ПК","Центр","Малый бизнес",74,"Да",3.4,{"v":7200,"d":"7,200р."},"Джеки Чан"]
[null,"CL14385","2013-10-15T14:31:58.065","Ноутбук","Юг","Корпорация",69,"Да",2.4,0,"Уилл Смит"]
[null,"CL14386","2013-10-15T14:34:12.271","Персональный ПК","Центр","Малый бизнес",80,"Нет",2.6,0,"Джонни Депп"]
[null,"CL14387","2013-10-15T14:36:39.955","Ноутбук","Север","Малый бизнес",76,"Да",3.2,0,"Бред Питт"]
[null,"CL14388","2013-10-15T14:39:29.071","Аксессуары","Центр","Частные клиенты",77,"Да",3.3,0,"Джеки Чан"]
[null,"CL14389","2013-10-15T14:44:58.954","Персональный ПК","Север","Корпорация",62,"Да",3.2,{"v":9000,"d":"9,000р."},"Джеки Чан"]
[null,"CL14390","2013-10-15T14:47:04.096","Персональный ПК","Юг","Частные клиенты",68,"Да",3.6,0,"Уилл Смит"]
[null,"CL14391","2013-10-15T14:49:28.958","Софт","Юг","Малый бизнес",78,"Да",2.1,0,"Чак Норрис"]
[null,"CL14392","2013-10-15T14:54:58.023","Монитор","Юг","Малый бизнес",84,"Нет",2.9,{"v":4200,"d":"4,200р."},"Уилл Смит"]
[null,"CL14393","2013-10-15T14:58:30.967","Ноутбук","Центр","Малый бизнес",74,"Да",3.5,{"v":6000,"d":"6,000р."},"Джеки Чан"]
[null,"CL14394","2013-10-15T14:58:56.649","Софт","Юг","Частные клиенты",78,"Да",2.7,{"v":7500,"d":"7,500р."},"Уилл Смит"]
[null,"CL14395","2013-10-15T15:04:00.020","Персональный ПК","Восток","Малый бизнес",102,"Да",{"v":3,"d":"3.0"},{"v":7800,"d":"7,800р."},"Джонни Депп"]
[null,"CL14396","2013-10-15T15:07:47.641","Персональный ПК","Центр","Малый бизнес",97,"Да",3.1,{"v":6000,"d":"6,000р."},"Джеки Чан"]
[null,"CL14397","2013-10-15T15:09:34.890","Монитор","Север","Корпорация",62,"Да",4.5,0,"Джонни Депп"]
[null,"CL14398","2013-10-15T15:14:14.461","Монитор","Восток","Малый бизнес",81,"Да",2.8,{"v":6000,"d":"6,000р."},"Колин Фаррел"]
[null,"CL14399","2013-10-15T15:16:39.388","Аксессуары","Восток","Малый бизнес",69,"Да",3.4,{"v":9300,"d":"9,300р."},"Колин Фаррел"]
[null,"CL14400","2013-10-15T15:20:53.241","Другое","Центр","Корпорация",87,"Да",{"v":3,"d":"3.0"},{"v":7500,"d":"7,500р."},"Бред Питт"]
[null,"CL14401","2013-10-15T15:24:20.917","Ноутбук","Восток","Частные клиенты",73,"Да",{"v":3,"d":"3.0"},{"v":6600,"d":"6,600р."},"Бред Питт"]
[null,"CL14402","2013-10-15T15:25:41.537","Ноутбук","Север","Некоммерческие",78,"Да",3.5,{"v":7500,"d":"7,500р."},"Чак Норрис"]
[null,"CL14403","2013-10-15T15:28:57.946","Ноутбук","Север","Малый бизнес",88,"Да",2.8,{"v":4800,"d":"4,800р."},"Колин Фаррел"]
[null,"CL14404","2013-10-15T15:33:15.712","Монитор","Восток","Частные клиенты",74,"Да",2.2,{"v":3900,"d":"3,900р."},"Уилл Смит"]
[null,"CL14405","2013-10-15T15:37:42.981","Монитор","Юг","Частные клиенты",78,"Да",2.8,0,"Джеки Чан"]
[null,"CL14406","2013-10-15T15:38:28.693","Монитор","Центр","Частные клиенты",68,"Да",2.3,0,"Джеки Чан"]
[null,"CL14407","2013-10-15T15:39:15.861","Аксессуары","Запад","Корпорация",82,"Да",3.2,0,"Бред Питт"]
[null,"CL14408","2013-10-15T15:40:51.136","Другое","Восток","Некоммерческие",74,"Да",3.6,{"v":7800,"d":"7,800р."},"Колин Фаррел"]
[null,"CL14409","2013-10-15T15:44:58.160","Монитор","Восток","Корпорация",72,"Да",3.3,0,"Чак Норрис"]
[null,"CL14410","2013-10-15T15:45:11.387","Ноутбук","Юг","Малый бизнес",74,"Да",2.7,0,"Джеки Чан"]
[null,"CL14411","2013-10-15T15:47:54.458","Другое","Юг","Частные клиенты",57,"Да",2.2,{"v":3300,"d":"3,300р."},"Уилл Смит"]
[null,"CL14412","2013-10-15T15:53:31.458","Софт","Север","Частные клиенты",74,"Да",2.6,{"v":5700,"d":"5,700р."},"Джонни Депп"]
[null,"CL14413","2013-10-15T15:55:08.854","Софт","Север","Малый бизнес",76,"Да",2.2,{"v":5400,"d":"5,400р."},"Бред Питт"]
[null,"CL14414","2013-10-15T16:00:08.618","Софт","Центр","Некоммерческие",65,"Да",1.9,{"v":6900,"d":"6,900р."},"Джеки Чан"]
[null,"CL14415","2013-10-15T16:03:46.164","Другое","Юг","Некоммерческие",76,"Нет",3.2,{"v":6300,"d":"6,300р."},"Чак Норрис"]
[null,"CL14416","2013-10-15T16:07:06.220","Другое","Север","Корпорация",85,"Да",3.3,{"v":7200,"d":"7,200р."},"Чак Норрис"]
[null,"CL14417","2013-10-15T16:08:03.813","Другое","Запад","Частные клиенты",85,"Нет",3.1,0,"Уилл Смит"]
[null,"CL14418","2013-10-15T16:11:27.486","Ноутбук","Центр","Малый бизнес",72,"Нет",3.2,0,"Чак Норрис"]
[null,"CL14419","2013-10-15T16:12:14.207","Другое","Запад","Малый бизнес",74,"Да",3.2,{"v":7500,"d":"7,500р."},"Джонни Депп"]
[null,"CL14420","2013-10-15T16:14:10.535","Персональный ПК","Юг","Некоммерческие",60,"Да",2.9,{"v":8400,"d":"8,400р."},"Чак Норрис"]
[null,"CL14421","2013-10-15T16:17:51.571","Аксессуары","Север","Частные клиенты",89,"Да",2.6,0,"Уилл Смит"]
[null,"CL14422","2013-10-15T16:19:05.729","Софт","Север","Некоммерческие",78,"Да",3.4,0,"Джеки Чан"]
[null,"CL14423","2013-10-15T16:24:06.835","Аксессуары","Север","Малый бизнес",70,"Да",{"v":3,"d":"3.0"},0,"Джеки Чан"]
[null,"CL14424","2013-10-15T16:25:15.551","Персональный ПК","Север","Некоммерческие",70,"Да",2.9,{"v":5700,"d":"5,700р."},"Уилл Смит"]
[null,"CL14425","2013-10-15T16:25:54.063","Персональный ПК","Юг","Малый бизнес",69,"Да",2.8,{"v":8700,"d":"8,700р."},"Колин Фаррел"]
[null,"CL14426","2013-10-15T16:29:04.107","Софт","Центр","Корпорация",67,"Да",2.9,{"v":6300,"d":"6,300р."},"Колин Фаррел"]
[null,"CL14427","2013-10-15T16:32:40.265","Софт","Север","Малый бизнес",62,"Да",3.3,0,"Колин Фаррел"]
[null,"CL14428","2013-10-15T16:37:14.223","Ноутбук","Север","Малый бизнес",91,"Да",2.9,{"v":7500,"d":"7,500р."},"Чак Норрис"]
[null,"CL14429","2013-10-15T16:38:01.545","Ноутбук","Север","Некоммерческие",51,"Да",3.3,0,"Джонни Депп"]
[null,"CL14430","2013-10-15T16:43:08.379","Аксессуары","Центр","Малый бизнес",65,"Да",3.3,0,"Уилл Смит"]
[null,"CL14431","2013-10-15T16:48:01.344","Софт","Север","Малый бизнес",88,"Да",4.2,{"v":5400,"d":"5,400р."},"Джеки Чан"]
[null,"CL14432","2013-10-15T16:50:39.649","Монитор","Запад","Частные клиенты",67,"Да",2.3,{"v":6000,"d":"6,000р."},"Джеки Чан"]
[null,"CL14433","2013-10-15T16:53:18.647","Другое","Север","Малый бизнес",73,"Да",2.5,{"v":4200,"d":"4,200р."},"Джеки Чан"]
[null,"CL14434","2013-10-15T16:54:18.426","Другое","Восток","Малый бизнес",73,"Да",3.1,{"v":7200,"d":"7,200р."},"Джонни Депп"]
[null,"CL14435","2013-10-15T17:00:01.816","Другое","Север","Малый бизнес",78,"Да",3.5,{"v":6000,"d":"6,000р."},"Бред Питт"]
[null,"CL14436","2013-10-15T17:00:44.421","Персональный ПК","Центр","Малый бизнес",72,"Да",2.4,0,"Джеки Чан"]
[null,"CL14437","2013-10-15T17:04:08.290","Аксессуары","Запад","Частные клиенты",68,"Да",{"v":2,"d":"2.0"},0,"Джонни Депп"]
[null,"CL14438","2013-10-15T17:06:59.995","Другое","Юг","Частные клиенты",78,"Да",2.7,0,"Джеки Чан"]
[null,"CL14439","2013-10-15T17:11:49.461","Ноутбук","Центр","Малый бизнес",71,"Да",3.2,{"v":6600,"d":"6,600р."},"Чак Норрис"]
[null,"CL14440","2013-10-15T17:12:20.422","Ноутбук","Север","Корпорация",71,"Да",2.7,{"v":4500,"d":"4,500р."},"Уилл Смит"]
[null,"CL14441","2013-10-15T17:17:41.204","Софт","Центр","Частные клиенты",73,"Да",3.1,0,"Джеки Чан"]
[null,"CL14442","2013-10-15T17:20:21.173","Софт","Юг","Корпорация",72,"Да",3.2,0,"Колин Фаррел"]
[null,"CL14443","2013-10-15T17:23:06.354","Софт","Запад","Корпорация",72,"Нет",{"v":2,"d":"2.0"},{"v":8400,"d":"8,400р."},"Колин Фаррел"]
[null,"CL14444","2013-10-15T17:23:55.282","Другое","Запад","Малый бизнес",57,"Да",2.8,0,"Джеки Чан"]
[null,"CL14445","2013-10-15T17:28:30.154","Аксессуары","Восток","Некоммерческие",67,"Да",2.8,0,"Джеки Чан"]
[null,"CL14446","2013-10-15T17:29:00.276","Софт","Север","Корпорация",68,"Да",2.5,0,"Джеки Чан"]
[null,"CL14447","2013-10-15T17:32:42.420","Ноутбук","Запад","Корпорация",67,"Да",2.7,{"v":6900,"d":"6,900р."},"Джонни Депп"]
[null,"CL14448","2013-10-15T17:32:47.023","Персональный ПК","Центр","Малый бизнес",67,"Да",2.1,{"v":5700,"d":"5,700р."},"Чак Норрис"]
[null,"CL14449","2013-10-15T17:35:54.747","Монитор","Север","Корпорация",77,"Да",3.4,0,"Джеки Чан"]
[null,"CL14450","2013-10-15T17:39:17.614","Ноутбук","Запад","Малый бизнес",75,"Да",2.5,{"v":7200,"d":"7,200р."},"Уилл Смит"]
[null,"CL14451","2013-10-15T17:41:16.881","Монитор","Запад","Частные клиенты",69,"Да",3.4,0,"Чак Норрис"]
[null,"CL14452","2013-10-15T17:43:24.353","Софт","Восток","Малый бизнес",71,"Да",2.2,{"v":6900,"d":"6,900р."},"Колин Фаррел"]
[null,"CL14453","2013-10-15T17:46:32.643","Персональный ПК","Запад","Некоммерческие",81,"Да",2.8,{"v":4800,"d":"4,800р."},"Уилл Смит"]
[null,"CL14454","2013-10-15T17:49:04.387","Персональный ПК","Центр","Малый бизнес",70,"Да",3.7,0,"Уилл Смит"]
[null,"CL14455","2013-10-15T17:50:40.800","Софт","Юг","Частные клиенты",81,"Да",2.6,{"v":7800,"d":"7,800р."},"Джонни Депп"]
[null,"CL14456","2013-10-15T17:55:06.777","Монитор","Восток","Частные клиенты",56,"Да",4.5,{"v":4200,"d":"4,200р."},"Уилл Смит"]
[null,"CL14457","2013-10-15T17:56:47.459","Монитор","Запад","Корпорация",61,"Да",1.8,0,"Чак Норрис"]
[null,"CL14458","2013-10-15T17:58:27.436","Монитор","Восток","Малый бизнес",79,"Да",2.4,{"v":3900,"d":"3,900р."},"Джонни Депп"]
[null,"CL14459","2013-10-15T17:59:02.860","Софт","Юг","Корпорация",75,"Да",2.5,{"v":6300,"d":"6,300р."},"Колин Фаррел"]
[null,"CL14460","2013-10-15T18:00:58.643","Персональный ПК","Юг","Некоммерческие",73,"Да",3.1,0,"Джонни Депп"]
[null,"CL14461","2013-10-15T18:04:49.926","Монитор","Восток","Малый бизнес",62,"Да",2.7,0,"Бред Питт"]
[null,"CL14462","2013-10-15T18:06:14.094","Аксессуары","Центр","Частные клиенты",74,"Да",2.9,{"v":5400,"d":"5,400р."},"Джеки Чан"]
[null,"CL14463","2013-10-15T18:11:10.249","Аксессуары","Север","Некоммерческие",80,"Да",3.2,{"v":3900,"d":"3,900р."},"Уилл Смит"]
[null,"CL14464","2013-10-15T18:15:37.530","Другое","Юг","Некоммерческие",72,"Да",3.9,0,"Чак Норрис"]
[null,"CL14465","2013-10-15T18:17:55.135","Софт","Центр","Некоммерческие",58,"Да",2.3,{"v":4500,"d":"4,500р."},"Бред Питт"]
[null,"CL14466","2013-10-15T18:21:13.942","Аксессуары","Север","Некоммерческие",75,"Да",2.5,{"v":4200,"d":"4,200р."},"Бред Питт"]
[null,"CL14467","2013-10-15T18:26:25.514","Другое","Запад","Некоммерческие",82,"Да",3.8,0,"Бред Питт"]
[null,"CL14468","2013-10-15T18:29:33.125","Монитор","Север","Некоммерческие",80,"Да",2.7,0,"Джеки Чан"]
[null,"CL14469","2013-10-15T18:34:06.784","Софт","Восток","Частные клиенты",70,"Да",3.2,0,"Джеки Чан"]
[null,"CL14470","2013-10-15T18:38:21.655","Монитор","Центр","Некоммерческие",75,"Да",3.4,0,"Чак Норрис"]
[null,"CL14471","2013-10-15T18:43:03.727","Персональный ПК","Центр","Частные клиенты",69,"Да",3.5,{"v":4800,"d":"4,800р."},"Колин Фаррел"]
[null,"CL14472","2013-10-15T18:47:02.231","Персональный ПК","Восток","Корпорация",67,"Да",2.5,{"v":5400,"d":"5,400р."},"Чак Норрис"]
[null,"CL14473","2013-10-15T18:48:43.161","Софт","Восток","Некоммерческие",74,"Да",2.9,{"v":3300,"d":"3,300р."},"Джеки Чан"]
[null,"CL14474","2013-10-15T18:49:35.129","Ноутбук","Центр","Частные клиенты",70,"Да",2.9,0,"Джеки Чан"]
[null,"CL14475","2013-10-15T18:52:22.589","Персональный ПК","Запад","Частные клиенты",76,"Да",{"v":4,"d":"4.0"},0,"Уилл Смит"]
[null,"CL14476","2013-10-15T18:57:37.666","Персональный ПК","Север","Частные клиенты",71,"Да",3.2,0,"Чак Норрис"]
[null,"CL14477","2013-10-15T18:59:35.580","Другое","Запад","Малый бизнес",88,"Да",3.3,0,"Чак Норрис"]
[null,"CL14478","2013-10-15T19:02:36.971","Аксессуары","Центр","Некоммерческие",78,"Да",2.9,0,"Джеки Чан"]
[null,"CL14479","2013-10-15T19:05:53.121","Софт","Центр","Корпорация",76,"Да",2.9,{"v":6900,"d":"6,900р."},"Бред Питт"]
[null,"CL14480","2013-10-15T19:08:35.765","Аксессуары","Восток","Малый бизнес",75,"Да",3.1,{"v":4800,"d":"4,800р."},"Джонни Депп"]
[null,"CL14481","2013-10-15T19:11:15.008","Аксессуары","Восток","Некоммерческие",61,"Да",2.9,{"v":4200,"d":"4,200р."},"Джонни Депп"]
[null,"CL14482","2013-10-15T19:15:43.337","Аксессуары","Центр","Корпорация",72,"Да",3.3,{"v":7800,"d":"7,800р."},"Чак Норрис"]
[null,"CL14483","2013-10-15T19:18:54.622","Монитор","Запад","Малый бизнес",71,"Да",2.7,0,"Колин Фаррел"]
[null,"CL14484","2013-10-15T19:20:57.998","Персональный ПК","Восток","Частные клиенты",71,"Да",{"v":3,"d":"3.0"},{"v":7500,"d":"7,500р."},"Джонни Депп"]
[null,"CL14485","2013-10-15T19:25:56.837","Аксессуары","Восток","Некоммерческие",67,"Да",2.3,{"v":6000,"d":"6,000р."},"Колин Фаррел"]
[null,"CL14486","2013-10-15T19:30:08.035","Монитор","Север","Частные клиенты",76,"Да",3.5,{"v":7800,"d":"7,800р."},"Джонни Депп"]
[null,"CL14487","2013-10-15T19:34:17.145","Монитор","Север","Корпорация",75,"Да",2.3,{"v":8400,"d":"8,400р."},"Бред Питт"]
[null,"CL14488","2013-10-15T19:36:44.810","Ноутбук","Юг","Некоммерческие",73,"Да",3.1,{"v":5700,"d":"5,700р."},"Бред Питт"]
[null,"CL14489","2013-10-15T19:42:19.276","Ноутбук","Юг","Некоммерческие",87,"Да",3.5,0,"Чак Норрис"]
[null,"CL14490","2013-10-15T19:43:49.613","Софт","Север","Частные клиенты",71,"Да",3.1,{"v":6000,"d":"6,000р."},"Бред Питт"]
[null,"CL14491","2013-10-15T19:44:40.526","Другое","Центр","Некоммерческие",73,"Да",2.7,{"v":7500,"d":"7,500р."},"Джеки Чан"]
[null,"CL14492","2013-10-15T19:45:25.973","Персональный ПК","Юг","Некоммерческие",87,"Да",2.9,0,"Чак Норрис"]
[null,"CL14493","2013-10-15T19:48:21.878","Монитор","Запад","Корпорация",62,"Да",3.8,{"v":6600,"d":"6,600р."},"Колин Фаррел"]
[null,"CL14494","2013-10-15T19:50:14.101","Софт","Центр","Корпорация",80,"Да",2.7,0,"Бред Питт"]
[null,"CL14495","2013-10-15T19:51:40.938","Ноутбук","Юг","Малый бизнес",73,"Да",3.2,{"v":5400,"d":"5,400р."},"Колин Фаррел"]
[null,"CL14496","2013-10-15T19:55:11.788","Аксессуары","Север","Малый бизнес",66,"Да",{"v":3,"d":"3.0"},0,"Чак Норрис"]
[null,"CL14497","2013-10-15T20:00:36.028","Монитор","Юг","Корпорация",87,"Да",{"v":3,"d":"3.0"},0,"Джеки Чан"]
[null,"CL14498","2013-10-15T20:04:20.730","Аксессуары","Юг","Корпорация",65,"Да",2.9,0,"Бред Питт"]
[null,"CL14499","2013-10-15T20:06:36.338","Другое","Центр","Корпорация",76,"Да",2.8,{"v":3900,"d":"3,900р."},"Бред Питт"]
[null,"CL14500","2013-10-15T20:12:02.646","Персональный ПК","Север","Корпорация",84,"Да",2.7,0,"Бред Питт"]
[null,"CL14501","2013-10-15T20:14:49.383","Ноутбук","Север","Корпорация",74,"Да",2.6,0,"Бред Питт"]
[null,"CL14502","2013-10-15T20:17:07.866","Другое","Восток","Некоммерческие",75,"Да",3.8,{"v":5400,"d":"5,400р."},"Уилл Смит"]
[null,"CL14503","2013-10-15T20:17:24.849","Монитор","Восток","Малый бизнес",84,"Да",2.6,0,"Уилл Смит"]
[null,"CL14504","2013-10-15T20:19:09.721","Софт","Север","Корпорация",81,"Да",3.1,0,"Чак Норрис"]
[null,"CL14505","2013-10-15T20:23:47.970","Персональный ПК","Юг","Малый бизнес",70,"Да",3.2,{"v":5400,"d":"5,400р."},"Чак Норрис"]
[null,"CL14506","2013-10-15T20:26:32.500","Аксессуары","Запад","Малый бизнес",78,"Да",2.8,0,"Уилл Смит"]
[null,"CL14507","2013-10-15T20:28:54.527","Ноутбук","Север","Частные клиенты",80,"Да",2.9,{"v":5700,"d":"5,700р."},"Колин Фаррел"]
[null,"CL14508","2013-10-15T20:30:25.169","Персональный ПК","Запад","Частные клиенты",69,"Да",2.8,0,"Джонни Депп"]
[null,"CL14509","2013-10-15T20:31:40.481","Ноутбук","Юг","Малый бизнес",69,"Да",2.9,0,"Колин Фаррел"]
[null,"CL14510","2013-10-15T20:37:17.513","Аксессуары","Юг","Некоммерческие",81,"Да",2.6,{"v":3900,"d":"3,900р."},"Джеки Чан"]
[null,"CL14511","2013-10-15T20:41:52.647","Персональный ПК","Центр","Корпорация",71,"Да",2.8,{"v":6600,"d":"6,600р."},"Бред Питт"]
[null,"CL14512","2013-10-15T20:43:44.232","Другое","Запад","Малый бизнес",60,"Да",2.5,{"v":6000,"d":"6,000р."},"Колин Фаррел"]
[null,"CL14513","2013-10-15T20:43:56.649","Аксессуары","Запад","Малый бизнес",72,"Да",2.4,0,"Джонни Депп"]
[null,"CL14514","2013-10-15T20:47:41.843","Монитор","Юг","Малый бизнес",82,"Да",2.5,{"v":8400,"d":"8,400р."},"Колин Фаррел"]
[null,"CL14515","2013-10-15T20:53:04.037","Другое","Север","Малый бизнес",79,"Да",{"v":3,"d":"3.0"},{"v":6900,"d":"6,900р."},"Чак Норрис"]
[null,"CL14516","2013-10-15T20:56:19.387","Ноутбук","Центр","Некоммерческие",70,"Да",2.7,{"v":6600,"d":"6,600р."},"Уилл Смит"]
[null,"CL14517","2013-10-15T21:01:24.384","Софт","Центр","Частные клиенты",78,"Да",3.3,0,"Бред Питт"]
[null,"CL14518","2013-10-15T21:03:21.716","Аксессуары","Юг","Некоммерческие",81,"Да",2.5,0,"Джеки Чан"]
[null,"CL14519","2013-10-15T21:04:26.583","Персональный ПК","Запад","Частные клиенты",64,"Да",3.2,{"v":6000,"d":"6,000р."},"Джеки Чан"]
[null,"CL14520","2013-10-15T21:05:39.206","Аксессуары","Запад","Малый бизнес",70,"Да",3.3,0,"Бред Питт"]
[null,"CL14521","2013-10-15T21:08:36.298","Софт","Север","Некоммерческие",78,"Да",3.1,{"v":5700,"d":"5,700р."},"Чак Норрис"]
[null,"CL14522","2013-10-15T21:08:59.798","Софт","Запад","Некоммерческие",72,"Да",3.5,0,"Бред Питт"]
[null,"CL14523","2013-10-15T21:13:20.727","Ноутбук","Юг","Частные клиенты",81,"Да",3.3,0,"Бред Питт"]
[null,"CL14524","2013-10-15T21:15:06.830","Аксессуары","Север","Частные клиенты",81,"Да",3.3,{"v":8700,"d":"8,700р."},"Джонни Депп"]
[null,"CL14525","2013-10-15T21:18:41.639","Ноутбук","Север","Корпорация",60,"Да",3.1,{"v":6300,"d":"6,300р."},"Чак Норрис"]
[null,"CL14526","2013-10-15T21:24:26.145","Другое","Восток","Корпорация",62,"Да",2.5,{"v":6900,"d":"6,900р."},"Джонни Депп"]
[null,"CL14527","2013-10-15T21:29:05.538","Монитор","Восток","Малый бизнес",72,"Да",4.1,0,"Бред Питт"]
[null,"CL14528","2013-10-15T21:30:04.778","Монитор","Север","Некоммерческие",77,"Да",{"v":4,"d":"4.0"},0,"Бред Питт"]
[null,"CL14529","2013-10-15T21:32:31.365","Ноутбук","Восток","Некоммерческие",78,"Да",3.7,0,"Чак Норрис"]
[null,"CL14530","2013-10-15T21:34:32.625","Софт","Центр","Частные клиенты",65,"Да",3.1,0,"Уилл Смит"]
[null,"CL14531","2013-10-15T21:39:46.135","Софт","Юг","Малый бизнес",79,"Да",3.8,0,"Джонни Депп"]
[null,"CL14532","2013-10-15T21:40:51.732","Аксессуары","Восток","Частные клиенты",80,"Да",4.5,{"v":5100,"d":"5,100р."},"Джеки Чан"]
[null,"CL14533","2013-10-15T21:41:42.387","Аксессуары","Север","Малый бизнес",82,"Да",2.9,0,"Джонни Депп"]
[null,"CL14534","2013-10-15T21:44:57.379","Аксессуары","Север","Некоммерческие",69,"Да",3.4,0,"Джонни Депп"]
[null,"CL14535","2013-10-15T21:48:36.891","Персональный ПК","Запад","Корпорация",96,"Да",3.1,{"v":6000,"d":"6,000р."},"Чак Норрис"]
[null,"CL14536","2013-10-15T21:49:10.892","Софт","Восток","Частные клиенты",76,"Да",2.3,0,"Колин Фаррел"]
[null,"CL14537","2013-10-15T21:49:59.334","Софт","Запад","Некоммерческие",76,"Да",2.5,{"v":6300,"d":"6,300р."},"Колин Фаррел"]
[null,"CL14538","2013-10-15T21:51:18.119","Монитор","Центр","Некоммерческие",82,"Да",2.8,{"v":7500,"d":"7,500р."},"Бред Питт"]
[null,"CL14539","2013-10-15T21:51:51.539","Монитор","Центр","Корпорация",80,"Да",2.2,0,"Колин Фаррел"]
[null,"CL14540","2013-10-15T21:54:01.916","Другое","Центр","Некоммерческие",80,"Да",2.7,{"v":8100,"d":"8,100р."},"Колин Фаррел"]
[null,"CL14541","2013-10-15T21:58:02.569","Софт","Север","Малый бизнес",78,"Да",3.5,{"v":5400,"d":"5,400р."},"Уилл Смит"]
[null,"CL14542","2013-10-15T21:58:47.351","Другое","Центр","Малый бизнес",82,"Да",3.5,0,"Уилл Смит"]
[null,"CL14543","2013-10-15T21:59:01.233","Аксессуары","Запад","Малый бизнес",81,"Да",2.8,0,"Джеки Чан"]
[null,"CL14544","2013-10-15T22:04:19.228","Софт","Юг","Корпорация",61,"Да",3.3,0,"Джеки Чан"]
[null,"CL14545","2013-10-16T08:07:25.693","Софт","Север","Корпорация",72,"Да",{"v":3,"d":"3.0"},{"v":3000,"d":"3,000р."},"Бред Питт"]
[null,"CL14546","2013-10-16T08:11:49.095","Другое","Центр","Некоммерческие",75,"Да",3.2,{"v":5700,"d":"5,700р."},"Колин Фаррел"]
[null,"CL14547","2013-10-16T08:15:09.232","Ноутбук","Запад","Частные клиенты",62,"Да",3.8,0,"Чак Норрис"]
[null,"CL14548","2013-10-16T08:19:39.915","Персональный ПК","Восток","Частные клиенты",77,"Да",3.1,{"v":7500,"d":"7,500р."},"Джеки Чан"]
[null,"CL14549","2013-10-16T08:22:08.809","Монитор","Восток","Корпорация",74,"Да",2.8,{"v":4200,"d":"4,200р."},"Бред Питт"]
[null,"CL14550","2013-10-16T08:25:19.094","Аксессуары","Север","Частные клиенты",73,"Да",2.9,{"v":5400,"d":"5,400р."},"Бред Питт"]
[null,"CL14551","2013-10-16T08:30:55.388","Аксессуары","Центр","Некоммерческие",71,"Да",3.8,{"v":6000,"d":"6,000р."},"Колин Фаррел"]
[null,"CL14552","2013-10-16T08:36:11.803","Персональный ПК","Центр","Корпорация",78,"Да",3.3,0,"Уилл Смит"]
[null,"CL14553","2013-10-16T08:40:47.793","Аксессуары","Восток","Малый бизнес",71,"Да",2.9,{"v":7500,"d":"7,500р."},"Чак Норрис"]
[null,"CL14554","2013-10-16T08:42:59.190","Аксессуары","Центр","Некоммерческие",70,"Да",3.6,{"v":6900,"d":"6,900р."},"Чак Норрис"]
[null,"CL14555","2013-10-16T08:48:30.359","Софт","Север","Некоммерческие",68,"Да",2.9,0,"Чак Норрис"]
[null,"CL14556","2013-10-16T08:50:17.148","Монитор","Запад","Малый бизнес",72,"Да",2.9,{"v":6300,"d":"6,300р."},"Джеки Чан"]
[null,"CL14557","2013-10-16T08:55:32.370","Аксессуары","Центр","Частные клиенты",83,"Да",2.1,0,"Чак Норрис"]
[null,"CL14558","2013-10-16T09:00:56.912","Ноутбук","Центр","Корпорация",69,"Нет",4.3,{"v":4500,"d":"4,500р."},"Колин Фаррел"]
[null,"CL14559","2013-10-16T09:01:30.757","Ноутбук","Восток","Частные клиенты",58,"Да",3.8,{"v":3900,"d":"3,900р."},"Чак Норрис"]
[null,"CL14560","2013-10-16T09:06:42.758","Аксессуары","Юг","Некоммерческие",76,"Да",3.1,0,"Уилл Смит"]
[null,"CL14561","2013-10-16T09:11:50.249","Ноутбук","Центр","Корпорация",69,"Да",3.8,0,"Джеки Чан"]
[null,"CL14562","2013-10-16T09:12:38.920","Другое","Юг","Некоммерческие",81,"Нет",3.8,0,"Джонни Депп"]
[null,"CL14563","2013-10-16T09:17:35.671","Другое","Восток","Частные клиенты",68,"Да",{"v":3,"d":"3.0"},0,"Чак Норрис"]
[null,"CL14564","2013-10-16T09:22:20.178","Софт","Восток","Некоммерческие",88,"Да",3.3,0,"Уилл Смит"]
[null,"CL14565","2013-10-16T09:25:42.082","Софт","Центр","Малый бизнес",75,"Да",2.2,{"v":6600,"d":"6,600р."},"Джеки Чан"]
[null,"CL14566","2013-10-16T09:27:09.237","Другое","Запад","Некоммерческие",66,"Нет",2.8,0,"Джеки Чан"]
[null,"CL14567","2013-10-16T09:29:09.082","Ноутбук","Север","Частные клиенты",55,"Да",2.8,{"v":4500,"d":"4,500р."},"Бред Питт"]
[null,"CL14568","2013-10-16T09:33:29.494","Аксессуары","Центр","Некоммерческие",78,"Да",2.5,{"v":8700,"d":"8,700р."},"Уилл Смит"]
[null,"CL14569","2013-10-16T09:35:05.342","Аксессуары","Север","Корпорация",68,"Да",3.1,{"v":6900,"d":"6,900р."},"Джеки Чан"]
[null,"CL14570","2013-10-16T09:36:00.318","Персональный ПК","Запад","Некоммерческие",67,"Да",2.9,{"v":6900,"d":"6,900р."},"Уилл Смит"]
[null,"CL14571","2013-10-16T09:40:39.688","Ноутбук","Запад","Корпорация",73,"Нет",3.4,0,"Бред Питт"]
[null,"CL14572","2013-10-16T09:42:13.005","Софт","Север","Малый бизнес",56,"Да",2.1,{"v":5400,"d":"5,400р."},"Джонни Депп"]
[null,"CL14573","2013-10-16T09:44:48.298","Персональный ПК","Запад","Частные клиенты",73,"Да",{"v":3,"d":"3.0"},0,"Джонни Депп"]
[null,"CL14574","2013-10-16T09:48:25.346","Аксессуары","Север","Малый бизнес",71,"Да",2.3,0,"Чак Норрис"]
[null,"CL14575","2013-10-16T09:51:49.221","Ноутбук","Центр","Некоммерческие",84,"Да",3.5,{"v":3000,"d":"3,000р."},"Уилл Смит"]
[null,"CL14576","2013-10-16T09:51:53.655","Монитор","Запад","Частные клиенты",80,"Да",{"v":3,"d":"3.0"},{"v":6300,"d":"6,300р."},"Чак Норрис"]
[null,"CL14577","2013-10-16T09:51:54.786","Софт","Север","Корпорация",66,"Да",{"v":3,"d":"3.0"},0,"Уилл Смит"]
[null,"CL14578","2013-10-16T09:55:41.371","Монитор","Юг","Малый бизнес",79,"Да",3.5,{"v":3600,"d":"3,600р."},"Колин Фаррел"]
[null,"CL14579","2013-10-16T09:57:04.451","Софт","Центр","Частные клиенты",68,"Да",3.6,{"v":6600,"d":"6,600р."},"Бред Питт"]
[null,"CL14580","2013-10-16T10:02:26.771","Другое","Центр","Частные клиенты",70,"Да",{"v":2,"d":"2.0"},0,"Бред Питт"]
[null,"CL14581","2013-10-16T10:04:28.972","Аксессуары","Восток","Некоммерческие",78,"Да",3.4,{"v":4200,"d":"4,200р."},"Джеки Чан"]
[null,"CL14582","2013-10-16T10:06:34.884","Монитор","Север","Малый бизнес",95,"Да",3.2,{"v":8700,"d":"8,700р."},"Джонни Депп"]
[null,"CL14583","2013-10-16T10:10:35.106","Софт","Юг","Корпорация",82,"Да",3.8,{"v":5100,"d":"5,100р."},"Бред Питт"]
[null,"CL14584","2013-10-16T10:13:58.534","Монитор","Центр","Корпорация",65,"Да",2.9,{"v":6300,"d":"6,300р."},"Бред Питт"]
[null,"CL14585","2013-10-16T10:15:09.246","Другое","Запад","Некоммерческие",65,"Да",3.4,{"v":6600,"d":"6,600р."},"Уилл Смит"]
[null,"CL14586","2013-10-16T10:15:09.982","Персональный ПК","Юг","Некоммерческие",74,"Да",2.6,{"v":8100,"d":"8,100р."},"Бред Питт"]
[null,"CL14587","2013-10-16T10:17:08.088","Ноутбук","Восток","Частные клиенты",74,"Да",{"v":3,"d":"3.0"},{"v":5400,"d":"5,400р."},"Уилл Смит"]
[null,"CL14588","2013-10-16T10:17:09.898","Монитор","Центр","Некоммерческие",70,"Да",2.7,{"v":4500,"d":"4,500р."},"Колин Фаррел"]
[null,"CL14589","2013-10-16T10:19:04.982","Ноутбук","Запад","Малый бизнес",82,"Да",3.8,{"v":2700,"d":"2,700р."},"Бред Питт"]
[null,"CL14590","2013-10-16T10:19:48.875","Ноутбук","Север","Малый бизнес",85,"Да",2.5,0,"Джонни Депп"]
[null,"CL14591","2013-10-16T10:25:03.313","Софт","Юг","Малый бизнес",63,"Да",3.4,{"v":6300,"d":"6,300р."},"Бред Питт"]
[null,"CL14592","2013-10-16T10:29:00.506","Другое","Запад","Частные клиенты",78,"Да",3.4,{"v":6300,"d":"6,300р."},"Джеки Чан"]
[null,"CL14593","2013-10-16T10:33:27.588","Ноутбук","Запад","Частные клиенты",62,"Да",2.2,{"v":4800,"d":"4,800р."},"Джонни Депп"]
[null,"CL14594","2013-10-16T10:38:44.526","Персональный ПК","Центр","Некоммерческие",75,"Да",2.8,0,"Джеки Чан"]
[null,"CL14595","2013-10-16T10:39:03.751","Ноутбук","Север","Некоммерческие",74,"Да",2.8,{"v":3900,"d":"3,900р."},"Колин Фаррел"]
[null,"CL14596","2013-10-16T10:42:48.560","Аксессуары","Восток","Частные клиенты",69,"Да",{"v":3,"d":"3.0"},{"v":6000,"d":"6,000р."},"Колин Фаррел"]
[null,"CL14597","2013-10-16T10:44:05.795","Ноутбук","Центр","Частные клиенты",78,"Да",3.3,0,"Колин Фаррел"]
[null,"CL14598","2013-10-16T10:46:24.023","Персональный ПК","Юг","Частные клиенты",77,"Да",2.1,{"v":8700,"d":"8,700р."},"Джеки Чан"]
[null,"CL14599","2013-10-16T10:47:35.945","Софт","Север","Малый бизнес",79,"Да",2.4,{"v":3900,"d":"3,900р."},"Бред Питт"]
[null,"CL14600","2013-10-16T10:49:50.621","Другое","Запад","Некоммерческие",96,"Да",2.6,{"v":7200,"d":"7,200р."},"Колин Фаррел"]
[null,"CL14601","2013-10-16T10:50:51.083","Аксессуары","Запад","Корпорация",65,"Да",3.1,{"v":8700,"d":"8,700р."},"Уилл Смит"]
[null,"CL14602","2013-10-16T10:51:50.666","Монитор","Центр","Некоммерческие",79,"Да",3.5,{"v":6300,"d":"6,300р."},"Уилл Смит"]
[null,"CL14603","2013-10-16T10:56:29.636","Аксессуары","Восток","Частные клиенты",76,"Да",2.7,0,"Бред Питт"]
[null,"CL14604","2013-10-16T11:00:31.917","Ноутбук","Запад","Корпорация",81,"Да",2.9,{"v":6000,"d":"6,000р."},"Бред Питт"]
[null,"CL14605","2013-10-16T11:00:41.723","Ноутбук","Восток","Частные клиенты",67,"Да",2.5,0,"Колин Фаррел"]
[null,"CL14606","2013-10-16T11:03:19.422","Другое","Запад","Некоммерческие",75,"Нет",2.1,{"v":9300,"d":"9,300р."},"Джеки Чан"]
[null,"CL14607","2013-10-16T11:06:06.789","Аксессуары","Центр","Некоммерческие",73,"Да",2.7,{"v":6300,"d":"6,300р."},"Уилл Смит"]
[null,"CL14608","2013-10-16T11:10:04.248","Аксессуары","Восток","Частные клиенты",67,"Да",2.4,{"v":2700,"d":"2,700р."},"Колин Фаррел"]
[null,"CL14609","2013-10-16T11:14:31.014","Аксессуары","Север","Некоммерческие",69,"Да",2.8,{"v":7500,"d":"7,500р."},"Чак Норрис"]
[null,"CL14610","2013-10-16T11:15:18.604","Монитор","Центр","Частные клиенты",80,"Нет",3.1,{"v":5100,"d":"5,100р."},"Бред Питт"]
[null,"CL14611","2013-10-16T11:17:05.428","Аксессуары","Восток","Малый бизнес",76,"Да",3.2,{"v":4500,"d":"4,500р."},"Джеки Чан"]
[null,"CL14612","2013-10-16T11:19:27.605","Монитор","Юг","Частные клиенты",85,"Да",4.1,0,"Колин Фаррел"]
[null,"CL14613","2013-10-16T11:24:00.576","Софт","Запад","Частные клиенты",63,"Да",2.8,0,"Чак Норрис"]
[null,"CL14614","2013-10-16T11:27:48.392","Персональный ПК","Восток","Некоммерческие",85,"Да",2.2,{"v":3900,"d":"3,900р."},"Уилл Смит"]
[null,"CL14615","2013-10-16T11:31:56.514","Монитор","Юг","Корпорация",74,"Да",2.3,{"v":7200,"d":"7,200р."},"Джонни Депп"]
[null,"CL14616","2013-10-16T11:33:31.448","Софт","Центр","Малый бизнес",71,"Да",4.2,{"v":7200,"d":"7,200р."},"Джонни Депп"]
[null,"CL14617","2013-10-16T11:37:57.190","Ноутбук","Центр","Малый бизнес",71,"Да",2.8,{"v":4500,"d":"4,500р."},"Колин Фаррел"]
[null,"CL14618","2013-10-16T11:38:17.055","Аксессуары","Юг","Малый бизнес",75,"Да",3.2,{"v":5400,"d":"5,400р."},"Колин Фаррел"]
[null,"CL14619","2013-10-16T11:41:25.020","Ноутбук","Центр","Частные клиенты",73,"Да",{"v":3,"d":"3.0"},0,"Колин Фаррел"]
[null,"CL14620","2013-10-16T11:45:55.209","Персональный ПК","Центр","Частные клиенты",73,"Да",3.5,{"v":6300,"d":"6,300р."},"Джонни Депп"]
[null,"CL14621","2013-10-16T11:46:52.682","Ноутбук","Восток","Малый бизнес",63,"Да",3.5,0,"Уилл Смит"]
[null,"CL14622","2013-10-16T11:51:30.399","Ноутбук","Восток","Некоммерческие",68,"Да",2.6,0,"Бред Питт"]
[null,"CL14623","2013-10-16T11:56:41.647","Персональный ПК","Юг","Частные клиенты",72,"Да",2.1,{"v":6000,"d":"6,000р."},"Уилл Смит"]
[null,"CL14624","2013-10-16T11:58:00.523","Аксессуары","Север","Корпорация",73,"Да",1.9,{"v":7200,"d":"7,200р."},"Чак Норрис"]
[null,"CL14625","2013-10-16T12:01:37.541","Другое","Восток","Некоммерческие",67,"Да",3.6,0,"Джонни Депп"]
[null,"CL14626","2013-10-16T12:06:14.973","Аксессуары","Юг","Частные клиенты",84,"Да",2.2,0,"Колин Фаррел"]
[null,"CL14627","2013-10-16T12:06:40.310","Аксессуары","Север","Частные клиенты",80,"Да",2.1,0,"Уилл Смит"]
[null,"CL14628","2013-10-16T12:07:34.424","Аксессуары","Запад","Некоммерческие",70,"Да",2.4,0,"Джонни Депп"]
[null,"CL14629","2013-10-16T12:09:41.808","Софт","Юг","Корпорация",81,"Да",3.2,{"v":7200,"d":"7,200р."},"Уилл Смит"]
[null,"CL14630","2013-10-16T12:09:50.236","Монитор","Север","Корпорация",87,"Да",2.6,0,"Колин Фаррел"]
[null,"CL14631","2013-10-16T12:14:17.023","Другое","Север","Некоммерческие",65,"Да",3.1,{"v":7200,"d":"7,200р."},"Джонни Депп"]
[null,"CL14632","2013-10-16T12:15:10.866","Софт","Запад","Частные клиенты",91,"Да",2.8,{"v":7500,"d":"7,500р."},"Уилл Смит"]
[null,"CL14633","2013-10-16T12:19:17.630","Аксессуары","Запад","Частные клиенты",73,"Да",2.9,{"v":4500,"d":"4,500р."},"Чак Норрис"]
[null,"CL14634","2013-10-16T12:19:45.094","Ноутбук","Юг","Корпорация",82,"Да",3.3,0,"Джонни Депп"]
[null,"CL14635","2013-10-16T12:24:31.578","Персональный ПК","Запад","Частные клиенты",72,"Да",3.5,{"v":5700,"d":"5,700р."},"Колин Фаррел"]
[null,"CL14636","2013-10-16T12:27:18.994","Аксессуары","Центр","Корпорация",84,"Да",{"v":3,"d":"3.0"},{"v":6300,"d":"6,300р."},"Джеки Чан"]
[null,"CL14637","2013-10-16T12:29:59.841","Аксессуары","Север","Частные клиенты",83,"Да",3.2,{"v":6900,"d":"6,900р."},"Чак Норрис"]
[null,"CL14638","2013-10-16T12:35:19.842","Монитор","Центр","Малый бизнес",71,"Да",2.7,{"v":9300,"d":"9,300р."},"Чак Норрис"]
[null,"CL14639","2013-10-16T12:37:19.948","Персональный ПК","Север","Малый бизнес",70,"Да",2.5,{"v":4500,"d":"4,500р."},"Колин Фаррел"]
[null,"CL14640","2013-10-16T12:42:02.483","Персональный ПК","Запад","Малый бизнес",96,"Да",2.6,{"v":5400,"d":"5,400р."},"Джонни Депп"]
[null,"CL14641","2013-10-16T12:43:21.362","Другое","Центр","Некоммерческие",77,"Да",2.6,0,"Чак Норрис"]
[null,"CL14642","2013-10-16T12:49:04.234","Ноутбук","Север","Некоммерческие",76,"Да",2.7,0,"Колин Фаррел"]
[null,"CL14643","2013-10-16T12:54:47.205","Монитор","Север","Некоммерческие",89,"Да",2.8,0,"Джонни Депп"]
[null,"CL14644","2013-10-16T12:57:44.464","Монитор","Восток","Некоммерческие",78,"Да",3.5,{"v":7200,"d":"7,200р."},"Джеки Чан"]
[null,"CL14645","2013-10-16T13:02:44.692","Аксессуары","Восток","Корпорация",80,"Да",2.7,0,"Колин Фаррел"]
[null,"CL14646","2013-10-16T13:06:40.329","Ноутбук","Центр","Малый бизнес",78,"Да",2.7,0,"Уилл Смит"]
[null,"CL14647","2013-10-16T13:10:25.162","Персональный ПК","Север","Корпорация",79,"Да",3.3,{"v":5100,"d":"5,100р."},"Джонни Депп"]
[null,"CL14648","2013-10-16T13:11:19.624","Аксессуары","Юг","Корпорация",70,"Да",2.7,{"v":6000,"d":"6,000р."},"Чак Норрис"]
[null,"CL14649","2013-10-16T13:13:08.682","Другое","Север","Некоммерческие",92,"Да",2.6,0,"Джеки Чан"]
[null,"CL14650","2013-10-16T13:17:29.313","Другое","Восток","Малый бизнес",89,"Да",3.4,{"v":5700,"d":"5,700р."},"Чак Норрис"]
[null,"CL14651","2013-10-16T13:21:16.925","Аксессуары","Юг","Малый бизнес",69,"Да",3.3,{"v":4500,"d":"4,500р."},"Колин Фаррел"]
[null,"CL14652","2013-10-16T13:22:23.683","Ноутбук","Центр","Некоммерческие",69,"Нет",3.3,0,"Бред Питт"]
[null,"CL14653","2013-10-16T13:25:02.474","Монитор","Центр","Малый бизнес",77,"Да",1.9,0,"Джонни Депп"]
[null,"CL14654","2013-10-16T13:25:15.143","Монитор","Восток","Малый бизнес",76,"Да",3.6,{"v":6000,"d":"6,000р."},"Джонни Депп"]
[null,"CL14655","2013-10-16T13:28:53.858","Софт","Восток","Корпорация",74,"Да",2.7,{"v":6600,"d":"6,600р."},"Джеки Чан"]
[null,"CL14656","2013-10-16T13:29:48.557","Аксессуары","Юг","Частные клиенты",68,"Да",2.6,{"v":7500,"d":"7,500р."},"Джонни Депп"]
[null,"CL14657","2013-10-16T13:32:42.540","Персональный ПК","Центр","Некоммерческие",80,"Да",{"v":2,"d":"2.0"},{"v":7500,"d":"7,500р."},"Бред Питт"]
[null,"CL14658","2013-10-16T13:33:51.897","Аксессуары","Запад","Частные клиенты",70,"Да",3.4,0,"Уилл Смит"]
[null,"CL14659","2013-10-16T13:36:39.678","Персональный ПК","Юг","Некоммерческие",59,"Да",3.3,{"v":5400,"d":"5,400р."},"Бред Питт"]
[null,"CL14660","2013-10-16T13:37:30.136","Персональный ПК","Восток","Малый бизнес",74,"Да",2.7,{"v":5100,"d":"5,100р."},"Колин Фаррел"]
[null,"CL14661","2013-10-16T13:38:22.899","Другое","Юг","Частные клиенты",83,"Да",3.5,0,"Колин Фаррел"]
[null,"CL14662","2013-10-16T13:43:32.212","Софт","Запад","Малый бизнес",64,"Да",2.9,{"v":5400,"d":"5,400р."},"Джеки Чан"]
[null,"CL14663","2013-10-16T13:46:16.046","Другое","Центр","Малый бизнес",68,"Да",2.5,{"v":6000,"d":"6,000р."},"Чак Норрис"]
[null,"CL14664","2013-10-16T13:49:33.011","Другое","Центр","Некоммерческие",74,"Да",3.2,{"v":7800,"d":"7,800р."},"Джеки Чан"]
[null,"CL14665","2013-10-16T13:51:08.955","Персональный ПК","Запад","Некоммерческие",75,"Да",2.7,{"v":3900,"d":"3,900р."},"Бред Питт"]
[null,"CL14666","2013-10-16T13:55:45.569","Персональный ПК","Центр","Малый бизнес",75,"Да",2.7,{"v":3000,"d":"3,000р."},"Джеки Чан"]
[null,"CL14667","2013-10-16T13:57:42.022","Другое","Юг","Малый бизнес",78,"Да",{"v":3,"d":"3.0"},{"v":3600,"d":"3,600р."},"Джеки Чан"]
[null,"CL14668","2013-10-16T14:00:31.094","Ноутбук","Центр","Частные клиенты",75,"Да",3.5,{"v":5400,"d":"5,400р."},"Джеки Чан"]
[null,"CL14669","2013-10-16T14:05:29.911","Ноутбук","Восток","Малый бизнес",78,"Нет",3.7,{"v":7800,"d":"7,800р."},"Уилл Смит"]
[null,"CL14670","2013-10-16T14:08:50.105","Другое","Восток","Малый бизнес",69,"Да",3.9,0,"Джеки Чан"]
[null,"CL14671","2013-10-16T14:09:57.396","Софт","Запад","Некоммерческие",69,"Да",3.6,0,"Уилл Смит"]
[null,"CL14672","2013-10-16T14:13:18.445","Другое","Восток","Частные клиенты",76,"Да",{"v":3,"d":"3.0"},{"v":6000,"d":"6,000р."},"Бред Питт"]
[null,"CL14673","2013-10-16T14:18:21.030","Монитор","Центр","Корпорация",69,"Да",2.7,0,"Бред Питт"]
[null,"CL14674","2013-10-16T14:19:02.377","Аксессуары","Центр","Корпорация",69,"Да",2.8,{"v":4200,"d":"4,200р."},"Колин Фаррел"]
[null,"CL14675","2013-10-16T14:24:09.815","Персональный ПК","Центр","Корпорация",61,"Да",3.1,0,"Бред Питт"]
[null,"CL14676","2013-10-16T14:28:10.021","Ноутбук","Юг","Частные клиенты",81,"Да",3.3,{"v":7500,"d":"7,500р."},"Колин Фаррел"]
[null,"CL14677","2013-10-16T14:32:09.510","Софт","Север","Малый бизнес",76,"Да",2.2,0,"Бред Питт"]
[null,"CL14678","2013-10-16T14:34:09.664","Аксессуары","Запад","Частные клиенты",60,"Да",{"v":2,"d":"2.0"},{"v":6600,"d":"6,600р."},"Уилл Смит"]
[null,"CL14679","2013-10-16T14:38:44.653","Софт","Север","Корпорация",71,"Да",4.2,{"v":8100,"d":"8,100р."},"Джеки Чан"]
[null,"CL14680","2013-10-16T14:40:35.990","Персональный ПК","Север","Малый бизнес",78,"Да",3.7,{"v":5100,"d":"5,100р."},"Джонни Депп"]
[null,"CL14681","2013-10-16T14:44:16.490","Ноутбук","Запад","Малый бизнес",84,"Да",3.4,{"v":8400,"d":"8,400р."},"Джонни Депп"]
[null,"CL14682","2013-10-16T14:48:06.590","Софт","Запад","Корпорация",77,"Да",2.7,{"v":7200,"d":"7,200р."},"Джеки Чан"]
[null,"CL14683","2013-10-16T14:50:31.866","Софт","Север","Частные клиенты",72,"Да",3.1,{"v":5100,"d":"5,100р."},"Чак Норрис"]
[null,"CL14684","2013-10-16T14:52:51.719","Другое","Юг","Некоммерческие",73,"Да",{"v":3,"d":"3.0"},{"v":8100,"d":"8,100р."},"Бред Питт"]
[null,"CL14685","2013-10-16T14:54:18.482","Другое","Восток","Малый бизнес",79,"Да",2.8,0,"Бред Питт"]
[null,"CL14686","2013-10-16T14:55:13.739","Монитор","Север","Малый бизнес",72,"Да",3.5,0,"Колин Фаррел"]
[null,"CL14687","2013-10-16T14:59:32.200","Персональный ПК","Восток","Некоммерческие",68,"Да",3.1,0,"Бред Питт"]
[null,"CL14688","2013-10-16T14:59:41.979","Аксессуары","Юг","Малый бизнес",80,"Да",2.4,{"v":6000,"d":"6,000р."},"Чак Норрис"]
[null,"CL14689","2013-10-16T15:02:08.082","Ноутбук","Север","Корпорация",79,"Да",2.5,{"v":6300,"d":"6,300р."},"Бред Питт"]
[null,"CL14690","2013-10-16T15:07:40.710","Другое","Запад","Корпорация",67,"Да",{"v":2,"d":"2.0"},{"v":6000,"d":"6,000р."},"Колин Фаррел"]
[null,"CL14691","2013-10-16T15:07:44.952","Персональный ПК","Восток","Малый бизнес",80,"Да",2.6,{"v":6600,"d":"6,600р."},"Колин Фаррел"]
[null,"CL14692","2013-10-16T15:10:03.549","Персональный ПК","Запад","Малый бизнес",70,"Да",3.8,{"v":5400,"d":"5,400р."},"Джонни Депп"]
[null,"CL14693","2013-10-16T15:13:04.275","Софт","Восток","Малый бизнес",64,"Да",3.2,0,"Чак Норрис"]
[null,"CL14694","2013-10-16T15:14:35.613","Персональный ПК","Центр","Малый бизнес",79,"Да",2.9,0,"Бред Питт"]
[null,"CL14695","2013-10-16T15:19:32.038","Ноутбук","Восток","Некоммерческие",69,"Да",2.8,{"v":4200,"d":"4,200р."},"Чак Норрис"]
[null,"CL14696","2013-10-16T15:22:11.356","Софт","Юг","Корпорация",75,"Да",2.8,{"v":6000,"d":"6,000р."},"Джонни Депп"]
[null,"CL14697","2013-10-16T15:27:27.513","Персональный ПК","Центр","Частные клиенты",57,"Да",2.5,{"v":5700,"d":"5,700р."},"Колин Фаррел"]
[null,"CL14698","2013-10-16T15:31:23.047","Персональный ПК","Восток","Малый бизнес",77,"Да",2.9,{"v":8100,"d":"8,100р."},"Уилл Смит"]
[null,"CL14699","2013-10-16T15:36:36.561","Другое","Север","Некоммерческие",78,"Да",4.3,0,"Чак Норрис"]
[null,"CL14700","2013-10-16T15:37:31.959","Персональный ПК","Центр","Малый бизнес",80,"Да",2.6,{"v":3600,"d":"3,600р."},"Бред Питт"]
[null,"CL14701","2013-10-16T15:39:15.003","Аксессуары","Запад","Корпорация",67,"Да",3.2,0,"Бред Питт"]
[null,"CL14702","2013-10-16T15:43:13.506","Софт","Восток","Некоммерческие",75,"Да",3.4,0,"Чак Норрис"]
[null,"CL14703","2013-10-16T15:48:12.840","Монитор","Юг","Некоммерческие",65,"Да",3.5,{"v":4800,"d":"4,800р."},"Чак Норрис"]
[null,"CL14704","2013-10-16T15:48:40.539","Софт","Запад","Частные клиенты",81,"Да",3.7,{"v":6600,"d":"6,600р."},"Колин Фаррел"]
[null,"CL14705","2013-10-16T15:49:41.558","Ноутбук","Центр","Частные клиенты",68,"Да",{"v":3,"d":"3.0"},{"v":4500,"d":"4,500р."},"Чак Норрис"]
[null,"CL14706","2013-10-16T15:50:52.407","Персональный ПК","Восток","Корпорация",75,"Да",3.5,0,"Джеки Чан"]
[null,"CL14707","2013-10-16T15:50:58.934","Ноутбук","Центр","Малый бизнес",75,"Да",{"v":3,"d":"3.0"},{"v":5100,"d":"5,100р."},"Джеки Чан"]
[null,"CL14708","2013-10-16T15:55:34.855","Софт","Запад","Частные клиенты",73,"Да",2.2,0,"Джонни Депп"]
[null,"CL14709","2013-10-16T16:00:33.039","Другое","Восток","Частные клиенты",78,"Да",3.4,0,"Бред Питт"]
[null,"CL14710","2013-10-16T16:01:43.264","Другое","Центр","Корпорация",81,"Да",3.2,{"v":6600,"d":"6,600р."},"Джеки Чан"]
[null,"CL14711","2013-10-16T16:03:05.475","Аксессуары","Юг","Некоммерческие",71,"Да",3.8,{"v":5100,"d":"5,100р."},"Колин Фаррел"]
[null,"CL14712","2013-10-16T16:08:21.184","Персональный ПК","Центр","Частные клиенты",74,"Да",3.2,0,"Уилл Смит"]
[null,"CL14713","2013-10-16T16:09:10.390","Аксессуары","Запад","Малый бизнес",83,"Да",2.4,0,"Джонни Депп"]
[null,"CL14714","2013-10-16T16:09:59.450","Ноутбук","Север","Частные клиенты",64,"Да",3.8,0,"Уилл Смит"]
[null,"CL14715","2013-10-16T16:12:04.380","Ноутбук","Центр","Некоммерческие",77,"Да",2.5,{"v":4800,"d":"4,800р."},"Колин Фаррел"]
[null,"CL14716","2013-10-16T16:15:41.782","Софт","Центр","Частные клиенты",82,"Да",3.1,{"v":5100,"d":"5,100р."},"Джеки Чан"]
[null,"CL14717","2013-10-16T16:20:37.219","Софт","Север","Частные клиенты",64,"Да",{"v":3,"d":"3.0"},{"v":6900,"d":"6,900р."},"Бред Питт"]
[null,"CL14718","2013-10-16T16:22:02.121","Ноутбук","Центр","Некоммерческие",71,"Да",2.2,0,"Чак Норрис"]
[null,"CL14719","2013-10-16T16:26:33.098","Аксессуары","Центр","Корпорация",87,"Да",2.6,0,"Чак Норрис"]
[null,"CL14720","2013-10-16T16:27:17.807","Ноутбук","Восток","Частные клиенты",91,"Да",{"v":3,"d":"3.0"},{"v":6000,"d":"6,000р."},"Джонни Депп"]
[null,"CL14721","2013-10-16T16:27:19.366","Аксессуары","Центр","Некоммерческие",80,"Да",2.4,0,"Чак Норрис"]
[null,"CL14722","2013-10-16T16:32:45.236","Монитор","Восток","Частные клиенты",83,"Да",3.4,{"v":5700,"d":"5,700р."},"Колин Фаррел"]
[null,"CL14723","2013-10-16T16:36:38.799","Другое","Север","Некоммерческие",67,"Да",2.7,0,"Колин Фаррел"]
[null,"CL14724","2013-10-16T16:40:35.875","Софт","Север","Корпорация",74,"Да",2.9,{"v":8100,"d":"8,100р."},"Чак Норрис"]
[null,"CL14725","2013-10-16T16:40:56.115","Ноутбук","Центр","Некоммерческие",81,"Да",2.2,0,"Джонни Депп"]
[null,"CL14726","2013-10-16T16:42:41.256","Персональный ПК","Юг","Некоммерческие",67,"Нет",3.2,0,"Чак Норрис"]
[null,"CL14727","2013-10-16T16:44:05.954","Софт","Юг","Частные клиенты",65,"Да",2.6,{"v":7800,"d":"7,800р."},"Уилл Смит"]
[null,"CL14728","2013-10-16T16:44:17.378","Персональный ПК","Север","Корпорация",81,"Да",2.8,0,"Уилл Смит"]
[null,"CL14729","2013-10-16T16:48:40.967","Софт","Север","Малый бизнес",73,"Да",3.1,{"v":1800,"d":"1,800р."},"Уилл Смит"]
[null,"CL14730","2013-10-16T16:49:58.819","Монитор","Центр","Некоммерческие",73,"Да",3.3,{"v":7200,"d":"7,200р."},"Колин Фаррел"]
[null,"CL14731","2013-10-16T16:51:29.932","Софт","Восток","Частные клиенты",79,"Да",2.8,{"v":7500,"d":"7,500р."},"Уилл Смит"]
[null,"CL14732","2013-10-16T16:56:07.201","Персональный ПК","Центр","Частные клиенты",91,"Да",2.5,{"v":5700,"d":"5,700р."},"Уилл Смит"]
[null,"CL14733","2013-10-16T16:59:34.940","Монитор","Юг","Корпорация",68,"Да",2.5,0,"Джонни Депп"]
[null,"CL14734","2013-10-16T17:04:52.780","Персональный ПК","Восток","Частные клиенты",69,"Да",3.4,{"v":6900,"d":"6,900р."},"Джеки Чан"]
[null,"CL14735","2013-10-16T17:05:36.673","Персональный ПК","Центр","Малый бизнес",66,"Да",2.3,{"v":9300,"d":"9,300р."},"Джеки Чан"]
[null,"CL14736","2013-10-16T17:06:27.600","Аксессуары","Север","Малый бизнес",66,"Да",3.6,{"v":6600,"d":"6,600р."},"Бред Питт"]
[null,"CL14737","2013-10-16T17:07:32.141","Ноутбук","Восток","Корпорация",71,"Да",3.2,0,"Чак Норрис"]
[null,"CL14738","2013-10-16T17:12:28.471","Софт","Север","Корпорация",70,"Да",2.4,0,"Бред Питт"]
[null,"CL14739","2013-10-16T17:17:09.036","Монитор","Восток","Малый бизнес",71,"Да",3.4,{"v":6000,"d":"6,000р."},"Джеки Чан"]
[null,"CL14740","2013-10-16T17:17:31.225","Аксессуары","Центр","Малый бизнес",75,"Да",{"v":2,"d":"2.0"},0,"Джонни Депп"]
[null,"CL14741","2013-10-16T17:20:01.150","Софт","Центр","Малый бизнес",92,"Да",3.7,{"v":7500,"d":"7,500р."},"Бред Питт"]
[null,"CL14742","2013-10-16T17:22:29.631","Персональный ПК","Запад","Некоммерческие",86,"Да",2.5,0,"Уилл Смит"]
[null,"CL14743","2013-10-16T17:27:21.720","Софт","Центр","Некоммерческие",84,"Да",1.9,{"v":6600,"d":"6,600р."},"Джеки Чан"]
[null,"CL14744","2013-10-16T17:27:31.649","Монитор","Север","Корпорация",71,"Да",2.5,{"v":6300,"d":"6,300р."},"Уилл Смит"]
[null,"CL14745","2013-10-16T17:31:40.786","Софт","Восток","Малый бизнес",84,"Нет",2.2,0,"Чак Норрис"]
[null,"CL14746","2013-10-16T17:37:09.231","Персональный ПК","Центр","Корпорация",78,"Да",3.3,{"v":6000,"d":"6,000р."},"Уилл Смит"]
[null,"CL14747","2013-10-16T17:42:48.807","Другое","Юг","Малый бизнес",80,"Да",4.1,0,"Уилл Смит"]
[null,"CL14748","2013-10-16T17:43:41.865","Персональный ПК","Центр","Некоммерческие",75,"Да",2.4,{"v":4800,"d":"4,800р."},"Колин Фаррел"]
[null,"CL14749","2013-10-16T17:45:22.877","Софт","Восток","Корпорация",69,"Да",2.7,0,"Колин Фаррел"]
[null,"CL14750","2013-10-16T17:50:12.300","Аксессуары","Восток","Некоммерческие",78,"Да",2.6,0,"Бред Питт"]
[null,"CL14751","2013-10-16T17:54:14.609","Ноутбук","Север","Частные клиенты",75,"Да",{"v":3,"d":"3.0"},{"v":4800,"d":"4,800р."},"Уилл Смит"]
[null,"CL14752","2013-10-16T17:55:27.888","Другое","Север","Корпорация",82,"Да",2.5,{"v":5700,"d":"5,700р."},"Бред Питт"]
[null,"CL14753","2013-10-16T17:57:18.847","Аксессуары","Запад","Некоммерческие",67,"Да",2.8,{"v":4500,"d":"4,500р."},"Джонни Депп"]
[null,"CL14754","2013-10-16T17:58:50.568","Персональный ПК","Запад","Некоммерческие",75,"Да",{"v":3,"d":"3.0"},0,"Чак Норрис"]
[null,"CL14755","2013-10-16T18:01:08.867","Аксессуары","Восток","Некоммерческие",83,"Да",3.3,{"v":6300,"d":"6,300р."},"Бред Питт"]
[null,"CL14756","2013-10-16T18:06:43.744","Аксессуары","Восток","Некоммерческие",83,"Да",{"v":3,"d":"3.0"},0,"Чак Норрис"]
[null,"CL14757","2013-10-16T18:11:35.820","Персональный ПК","Запад","Малый бизнес",82,"Да",2.9,{"v":4800,"d":"4,800р."},"Бред Питт"]
[null,"CL14758","2013-10-16T18:12:29.691","Ноутбук","Запад","Корпорация",91,"Да",3.9,0,"Чак Норрис"]
[null,"CL14759","2013-10-16T18:15:57.796","Другое","Север","Малый бизнес",66,"Да",3.1,0,"Чак Норрис"]
[null,"CL14760","2013-10-16T18:20:43.098","Аксессуары","Юг","Частные клиенты",74,"Нет",{"v":3,"d":"3.0"},{"v":6900,"d":"6,900р."},"Чак Норрис"]
[null,"CL14761","2013-10-16T18:24:35.303","Другое","Восток","Некоммерческие",77,"Да",{"v":3,"d":"3.0"},{"v":6000,"d":"6,000р."},"Колин Фаррел"]
[null,"CL14762","2013-10-16T18:28:41.129","Персональный ПК","Юг","Малый бизнес",69,"Да",3.6,{"v":4200,"d":"4,200р."},"Уилл Смит"]
[null,"CL14763","2013-10-16T18:33:37.465","Другое","Запад","Частные клиенты",91,"Да",2.9,0,"Уилл Смит"]
[null,"CL14764","2013-10-16T18:34:39.131","Ноутбук","Центр","Корпорация",76,"Да",3.6,{"v":9300,"d":"9,300р."},"Бред Питт"]
[null,"CL14765","2013-10-16T18:37:03.524","Аксессуары","Юг","Корпорация",71,"Да",{"v":3,"d":"3.0"},{"v":4800,"d":"4,800р."},"Колин Фаррел"]
[null,"CL14766","2013-10-16T18:41:19.104","Аксессуары","Восток","Корпорация",71,"Да",3.3,0,"Уилл Смит"]
[null,"CL14767","2013-10-16T18:45:52.577","Аксессуары","Юг","Частные клиенты",70,"Да",2.6,{"v":7500,"d":"7,500р."},"Джонни Депп"]
[null,"CL14768","2013-10-16T18:49:55.161","Другое","Центр","Малый бизнес",81,"Да",3.7,{"v":7500,"d":"7,500р."},"Уилл Смит"]
[null,"CL14769","2013-10-16T18:51:49.521","Монитор","Юг","Некоммерческие",71,"Да",3.3,{"v":3900,"d":"3,900р."},"Джонни Депп"]
[null,"CL14770","2013-10-16T18:55:11.559","Персональный ПК","Запад","Малый бизнес",77,"Да",2.8,{"v":1500,"d":"1,500р."},"Чак Норрис"]
[null,"CL14771","2013-10-16T19:00:11.593","Персональный ПК","Восток","Малый бизнес",63,"Да",2.7,{"v":6000,"d":"6,000р."},"Джонни Депп"]
[null,"CL14772","2013-10-16T19:04:27.451","Монитор","Запад","Некоммерческие",69,"Да",3.4,0,"Джонни Депп"]
[null,"CL14773","2013-10-16T19:05:34.797","Аксессуары","Восток","Корпорация",80,"Да",2.9,0,"Бред Питт"]
[null,"CL14774","2013-10-16T19:06:16.747","Персональный ПК","Запад","Малый бизнес",63,"Да",2.4,{"v":6000,"d":"6,000р."},"Бред Питт"]
[null,"CL14775","2013-10-16T19:08:24.881","Ноутбук","Запад","Частные клиенты",73,"Да",3.2,0,"Джеки Чан"]
[null,"CL14776","2013-10-16T19:09:19.339","Монитор","Центр","Частные клиенты",80,"Да",3.2,{"v":8400,"d":"8,400р."},"Бред Питт"]
[null,"CL14777","2013-10-16T19:11:45.063","Другое","Юг","Малый бизнес",81,"Да",2.1,{"v":7200,"d":"7,200р."},"Джонни Депп"]
[null,"CL14778","2013-10-16T19:14:27.042","Аксессуары","Центр","Частные клиенты",69,"Да",3.2,0,"Уилл Смит"]
[null,"CL14779","2013-10-16T19:15:27.622","Персональный ПК","Восток","Корпорация",72,"Да",3.3,0,"Джеки Чан"]
[null,"CL14780","2013-10-16T19:20:29.858","Софт","Север","Частные клиенты",82,"Да",3.2,{"v":6900,"d":"6,900р."},"Джонни Депп"]
[null,"CL14781","2013-10-16T19:20:39.169","Ноутбук","Юг","Частные клиенты",85,"Да",2.8,0,"Бред Питт"]
[null,"CL14782","2013-10-16T19:22:43.648","Монитор","Север","Частные клиенты",88,"Да",3.3,{"v":8700,"d":"8,700р."},"Джонни Депп"]
[null,"CL14783","2013-10-16T19:25:00.812","Софт","Север","Малый бизнес",74,"Да",3.8,{"v":7500,"d":"7,500р."},"Уилл Смит"]
[null,"CL14784","2013-10-16T19:28:35.130","Монитор","Восток","Корпорация",71,"Да",2.9,{"v":6000,"d":"6,000р."},"Джеки Чан"]
[null,"CL14785","2013-10-16T19:33:21.545","Ноутбук","Юг","Частные клиенты",68,"Да",2.6,{"v":6300,"d":"6,300р."},"Колин Фаррел"]
[null,"CL14786","2013-10-16T19:36:21.022","Монитор","Север","Частные клиенты",74,"Да",1.9,{"v":8100,"d":"8,100р."},"Бред Питт"]
[null,"CL14787","2013-10-16T19:39:40.634","Персональный ПК","Восток","Малый бизнес",70,"Да",3.3,{"v":3300,"d":"3,300р."},"Джонни Депп"]
[null,"CL14788","2013-10-16T19:40:45.646","Аксессуары","Запад","Частные клиенты",65,"Да",3.6,{"v":4200,"d":"4,200р."},"Уилл Смит"]
[null,"CL14789","2013-10-16T19:46:10.049","Аксессуары","Север","Малый бизнес",87,"Да",4.6,{"v":5400,"d":"5,400р."},"Джонни Депп"]
[null,"CL14790","2013-10-16T19:49:32.425","Персональный ПК","Восток","Частные клиенты",61,"Да",2.3,0,"Чак Норрис"]
[null,"CL14791","2013-10-16T19:50:48.772","Монитор","Центр","Некоммерческие",88,"Да",3.7,{"v":4800,"d":"4,800р."},"Колин Фаррел"]
[null,"CL14792","2013-10-16T19:52:04.309","Другое","Центр","Корпорация",68,"Да",2.8,{"v":4800,"d":"4,800р."},"Уилл Смит"]
[null,"CL14793","2013-10-16T19:54:35.474","Монитор","Восток","Частные клиенты",90,"Да",3.2,0,"Чак Норрис"]
[null,"CL14794","2013-10-16T19:57:52.558","Аксессуары","Север","Малый бизнес",91,"Да",2.8,{"v":5700,"d":"5,700р."},"Колин Фаррел"]
[null,"CL14795","2013-10-16T19:58:47.634","Софт","Север","Частные клиенты",59,"Да",2.3,{"v":9300,"d":"9,300р."},"Чак Норрис"]
[null,"CL14796","2013-10-16T20:01:43.104","Ноутбук","Центр","Корпорация",79,"Да",2.9,{"v":5400,"d":"5,400р."},"Уилл Смит"]
[null,"CL14797","2013-10-16T20:02:55.301","Аксессуары","Восток","Корпорация",88,"Да",2.9,0,"Уилл Смит"]
[null,"CL14798","2013-10-16T20:07:22.464","Софт","Юг","Малый бизнес",70,"Да",3.4,{"v":6600,"d":"6,600р."},"Уилл Смит"]
[null,"CL14799","2013-10-16T20:09:37.100","Аксессуары","Центр","Частные клиенты",73,"Да",2.8,0,"Чак Норрис"]
[null,"CL14800","2013-10-16T20:12:04.842","Другое","Центр","Частные клиенты",76,"Да",{"v":3,"d":"3.0"},{"v":5400,"d":"5,400р."},"Джеки Чан"]
[null,"CL14801","2013-10-16T20:13:12.262","Софт","Восток","Частные клиенты",64,"Да",3.3,{"v":4800,"d":"4,800р."},"Джеки Чан"]
[null,"CL14802","2013-10-16T20:14:50.690","Другое","Центр","Некоммерческие",66,"Да",3.6,0,"Джонни Депп"]
[null,"CL14803","2013-10-16T20:17:50.255","Софт","Восток","Малый бизнес",73,"Да",3.1,{"v":5700,"d":"5,700р."},"Уилл Смит"]
[null,"CL14804","2013-10-16T20:22:39.765","Софт","Север","Частные клиенты",72,"Да",4.1,0,"Чак Норрис"]
[null,"CL14805","2013-10-16T20:28:03.450","Ноутбук","Запад","Корпорация",76,"Да",2.8,{"v":6600,"d":"6,600р."},"Чак Норрис"]
[null,"CL14806","2013-10-16T20:31:58.861","Софт","Запад","Малый бизнес",69,"Да",2.5,{"v":8100,"d":"8,100р."},"Джонни Депп"]
[null,"CL14807","2013-10-16T20:33:38.862","Аксессуары","Север","Малый бизнес",84,"Да",2.6,{"v":6000,"d":"6,000р."},"Джонни Депп"]
[null,"CL14808","2013-10-16T20:35:12.549","Монитор","Запад","Частные клиенты",73,"Да",4.1,{"v":7500,"d":"7,500р."},"Джеки Чан"]
[null,"CL14809","2013-10-16T20:40:10.714","Персональный ПК","Восток","Некоммерческие",63,"Да",4.4,0,"Уилл Смит"]
[null,"CL14810","2013-10-16T20:41:00.700","Персональный ПК","Восток","Корпорация",69,"Да",2.6,{"v":3300,"d":"3,300р."},"Джеки Чан"]
[null,"CL14811","2013-10-16T20:42:45.680","Софт","Юг","Частные клиенты",69,"Да",3.7,{"v":7500,"d":"7,500р."},"Бред Питт"]
[null,"CL14812","2013-10-16T20:47:54.262","Монитор","Юг","Частные клиенты",81,"Да",{"v":3,"d":"3.0"},{"v":3900,"d":"3,900р."},"Уилл Смит"]
[null,"CL14813","2013-10-16T20:49:49.794","Персональный ПК","Центр","Корпорация",70,"Да",1.8,{"v":9000,"d":"9,000р."},"Уилл Смит"]
[null,"CL14814","2013-10-16T20:55:32.594","Аксессуары","Юг","Некоммерческие",99,"Да",2.6,0,"Джонни Депп"]
[null,"CL14815","2013-10-16T21:00:23.052","Персональный ПК","Центр","Корпорация",81,"Да",2.4,0,"Уилл Смит"]
[null,"CL14816","2013-10-16T21:01:57.788","Софт","Запад","Частные клиенты",74,"Да",3.6,0,"Джеки Чан"]
[null,"CL14817","2013-10-16T21:05:38.693","Ноутбук","Центр","Малый бизнес",74,"Да",4.1,0,"Чак Норрис"]
[null,"CL14818","2013-10-16T21:10:39.636","Ноутбук","Запад","Некоммерческие",83,"Да",2.3,{"v":5400,"d":"5,400р."},"Уилл Смит"]
[null,"CL14819","2013-10-16T21:13:30.499","Другое","Юг","Частные клиенты",66,"Да",2.3,0,"Бред Питт"]
[null,"CL14820","2013-10-16T21:15:05.414","Персональный ПК","Запад","Частные клиенты",58,"Да",2.7,{"v":4200,"d":"4,200р."},"Джеки Чан"]
[null,"CL14821","2013-10-16T21:19:28.352","Монитор","Центр","Корпорация",86,"Да",4.3,0,"Чак Норрис"]
[null,"CL14822","2013-10-16T21:24:45.189","Другое","Юг","Корпорация",79,"Да",3.7,0,"Бред Питт"]
[null,"CL14823","2013-10-16T21:26:57.981","Аксессуары","Восток","Некоммерческие",79,"Да",3.3,0,"Джонни Депп"]
[null,"CL14824","2013-10-16T21:30:54.072","Ноутбук","Центр","Корпорация",80,"Да",{"v":3,"d":"3.0"},{"v":6000,"d":"6,000р."},"Чак Норрис"]
[null,"CL14825","2013-10-16T21:36:35.194","Персональный ПК","Запад","Частные клиенты",78,"Да",3.8,0,"Джонни Депп"]
[null,"CL14826","2013-10-16T21:41:07.910","Персональный ПК","Восток","Частные клиенты",74,"Да",3.2,0,"Колин Фаррел"]
[null,"CL14827","2013-10-16T21:44:15.065","Софт","Восток","Некоммерческие",88,"Да",3.9,0,"Бред Питт"]
[null,"CL14828","2013-10-16T21:48:42.533","Ноутбук","Юг","Некоммерческие",72,"Да",3.1,0,"Чак Норрис"]
[null,"CL14829","2013-10-16T21:49:27.289","Персональный ПК","Север","Некоммерческие",90,"Да",2.6,0,"Уилл Смит"]
[null,"CL14830","2013-10-16T21:51:55.906","Монитор","Восток","Некоммерческие",69,"Да",3.5,{"v":2100,"d":"2,100р."},"Уилл Смит"]
[null,"CL14831","2013-10-16T21:56:39.815","Софт","Юг","Корпорация",70,"Да",3.1,{"v":4500,"d":"4,500р."},"Бред Питт"]
[null,"CL14832","2013-10-16T22:00:12.301","Аксессуары","Запад","Малый бизнес",73,"Да",2.6,{"v":8100,"d":"8,100р."},"Джеки Чан"]

{"sheet":"Расчеты","index":2,"n_rows":1061,"n_cols":19,"rows_kept":1061,"merged":[[0,1,0,2],[5,1,5,2],[101,2,101,3],[101,4,101,5],[101,6,101,7]]}
[null,"Расчеты",{"$nulls":7},"Графики",null,"Список сравнений",null,"Помощь"]
[{"$nulls":9},"Звонков в день",null,{"$f":"INDEX(спскСравнений,,ROWS($K$2:K2))","v":"Продукт"},null,{"$f":"\"В\"&LOWER(\"ыберите два \"&C3&\"а для сравнения\")","v":"Выберите два продукта для сравнения"}]
[null,"Сравнение",{"$f":"INDEX(спскСравнений,C4)","v":"Продукт"},"Опция 1",5,"Опция 2",3,"График к показу",null,"Время разговоров в день",null,{"$f":"INDEX(спскСравнений,,ROWS($K$2:K3))","v":"Регион"},null,{"$f":"IF(знчСтатусПомощи,\"Скрыть помощь\",\"Показать помощь\")","v":"Показать помощь"},0]
[null,null,1,null,{"$f":"INDEX(Данные!$M$6:$P$11,Расчеты!$E$3,Расчеты!$C$4)","v":"Софт"},null,{"$f":"INDEX(Данные!$M$6:$P$11,Расчеты!$G$3,Расчеты!$C$4)","v":"Ноутбук"},3,null,"Индекс решения в день",null,{"$f":"INDEX(спскСравнений,,ROWS($K$2:K4))","v":"Категории клиент"},null,"Надпись подвала"]
[{"$nulls":9},"Удовлетворенность в день",null,{"$f":"INDEX(спскСравнений,,ROWS($K$2:K5))","v":"Агент"},null,{"$f":"Данные!M15&TEXT(TODAY(),\" дддд, д МММ гггг\")","v":"Дашборд подготовлен сайтом Exceltip.ru, пятница, 6 сен 2013"}]
[null,"Начало 4-х недельного периода",null,{"$f":"Дашборд!R2","v":"2013-08-30"},{"$f":"B37","v":"2013-09-26"},{"$nulls":4},"Дополнительный доход в день"]
[]
[null,null,"ИТОГО ЗВОНКОВ",null,null,"Время РАЗГОВОРА",null,null,"ИНДЕКС РЕШЕНИЯ",null,null,"УДОВЛЕТВОРЕННОСТЬ",null,null,"ДОПОЛНИТЕЛЬНЫЕ ПРОДАЖИ"]
[null,"Дата","Итого звонков",{"$f":"E4","v":"Софт"},{"$f":"G4","v":"Ноутбук"},"Время разговора",{"$f":"D9","v":"Софт"},{"$f":"E9","v":"Ноутбук"},"Индекс решения",{"$f":"G9","v":"Софт"},{"$f":"H9","v":"Ноутбук"},"Удовлетворенность",{"$f":"J9","v":"Софт"},{"$f":"K9","v":"Ноутбук"},"Дополнительные продажи",{"$f":"M9","v":"Софт"},{"$f":"N9","v":"Ноутбук"},null,"День недели"]
[null,{"$f":"D6","v":"2013-08-30"},{"$f":"SUMPRODUCT(--(спскДатаЗвонков=B10))","v":291},{"$f":"SUMPRODUCT((спскДатаЗвонков=$B10)*(спскВыбора=D$9))","v":38},{"$f":"SUMPRODUCT((спскДатаЗвонков=$B10)*(спскВыбора=E$9))","v":49},{"$f":"SUMPRODUCT((спскДатаЗвонков=B10)*(Данные[Длительность звонка]))/60/60","v":{"v":6.035,"d":"6.0"}},{"$f":"SUMPRODUCT((спскВыбора=G$9)*(спскДатаЗвонков=$B10)*Данные[Длительность звонка])/60/60","v":{"v":0.7733333333333333,"d":"0.8"}},{"$f":"SUMPRODUCT((спскВыбора=H$9)*(спскДатаЗвонков=$B10)*Данные[Длительность звонка])/60/60","v":{"v":1.0174999999999998,"d":"1.0"}},{"$f":"SUMPRODUCT((спскДатаЗвонков=$B10)*(Данные[Решен]=\"Да\"))/$C10","v":{"v":0.9484536082474226,"d":"95%"}},{"$f":"SUMPRODUCT((спскВыбора=J$9)*(спскДатаЗвонков=$B10)*(Данные[Решен]=\"Да\"))/D10","v":{"v":0.9473684210526315,"d":"95%"}},{"$f":"SUMPRODUCT((спскВыбора=K$9)*(спскДатаЗвонков=$B10)*(Данные[Решен]=\"Да\"))/E10","v":{"v":0.9795918367346939,"d":"98%"}},{"$f":"SUMPRODUCT((спскДатаЗвонков=$B10)*(Данные[Индекс удовлетворенности]))/$C10","v":{"v":2.984192439862541,"d":"2.9842"}},{"$f":"SUMPRODUCT((спскДатаЗвонков=$B10)*(спскВыбора=M$9)*(Данные[Индекс удовлетворенности]))/$D10","v":{"v":3.0947368421052635,"d":"3.0947"}},{"$f":"SUMPRODUCT((спскДатаЗвонков=$B10)*(спскВыбора=N$9)*(Данные[Индекс удовлетворенности]))/$E10","v":{"v":2.8795918367346935,"d":"2.8796"}},{"$f":"SUMPRODUCT((спскДатаЗвонков=$B10)*(Данные[Доп продажи]))","v":1035000},{"$f":"SUMPRODUCT((спскДатаЗвонков=$B10)*(спскВыбора=P$9)*(Данные[Доп продажи]))","v":120000},{"$f":"SUMPRODUCT((спскДатаЗвонков=$B10)*(спскВыбора=Q$9)*(Данные[Доп продажи]))","v":170700},null,{"$f":"WEEKDAY(B10,2)","v":5}]
[null,{"$f":"B10+1","v":"2013-08-31"},277,{"$f":"SUMPRODUCT((спскДатаЗвонков=$B11)*(спскВыбора=D$9))","v":37},{"$f":"SUMPRODUCT((спскДатаЗвонков=$B11)*(спскВыбора=E$9))","v":46},{"$f":"SUMPRODUCT((спскДатаЗвонков=B11)*(Данные[Длительность звонка]))/60/60","v":{"v":5.794722222222222,"d":"5.8"}},{"$f":"SUMPRODUCT((спскВыбора=G$9)*(спскДатаЗвонков=$B11)*Данные[Длительность звонка])/60/60","v":{"v":0.7936111111111112,"d":"0.8"}},{"$f":"SUMPRODUCT((спскВыбора=H$9)*(спскДатаЗвонков=$B11)*Данные[Длительность звонка])/60/60","v":{"v":0.9766666666666667,"d":"1.0"}},{"$f":"SUMPRODUCT((спскДатаЗвонков=$B11)*(Данные[Решен]=\"Да\"))/$C11","v":{"v":0.9530685920577617,"d":"95%"}},{"$f":"SUMPRODUCT((спскВыбора=J$9)*(спскДатаЗвонков=$B11)*(Данные[Решен]=\"Да\"))/D11","v":{"v":0.9459459459459459,"d":"95%"}},{"$f":"SUMPRODUCT((спскВыбора=K$9)*(спскДатаЗвонков=$B11)*(Данные[Решен]=\"Да\"))/E11","v":{"v":1,"d":"100%"}},{"$f":"SUMPRODUCT((спскДатаЗвонков=$B11)*(Данные[Индекс удовлетворенности]))/$C11","v":{"v":3.0234657039711186,"d":"3.0235"}},{"$f":"SUMPRODUCT((спскДатаЗвонков=$B11)*(спскВыбора=M$9)*(Данные[Индекс удовлетворенности]))/$D11","v":{"v":3.186486486486487,"d":"3.1865"}},{"$f":"SUMPRODUCT((спскДатаЗвонков=$B11)*(спскВыбора=N$9)*(Данные[Индекс удовлетворенности]))/$E11","v":{"v":2.9,"d":"2.9000"}},{"$f":"SUMPRODUCT((спскДатаЗвонков=$B11)*(Данные[Доп продажи]))","v":930000},{"$f":"SUMPRODUCT((спскДатаЗвонков=$B11)*(спскВыбора=P$9)*(Данные[Доп продажи]))","v":128400},{"$f":"SUMPRODUCT((спскДатаЗвонков=$B11)*(спскВыбора=Q$9)*(Данные[Доп продажи]))","v":151500},null,{"$f":"WEEKDAY(B11,2)","v":6}]
[null,{"$f":"B11+1","v":"2013-09-01"},290,{"$f":"SUMPRODUCT((спскДатаЗвонков=$B12)*(спскВыбора=D$9))","v":31},{"$f":"SUMPRODUCT((спскДатаЗвонков=$B12)*(спскВыбора=E$9))","v":40},{"$f":"SUMPRODUCT((спскДатаЗвонков=B12)*(Данные[Длительность звонка]))/60/60","v":{"v":6.038611111111111,"d":"6.0"}},{"$f":"SUMPRODUCT((спскВыбора=G$9)*(спскДатаЗвонков=$B12)*Данные[Длительность звонка])/60/60","v":{"v":0.6319444444444444,"d":"0.6"}},{"$f":"SUMPRODUCT((спскВыбора=H$9)*(спскДатаЗвонков=$B12)*Данные[Длительность звонка])/60/60","v":{"v":0.8194444444444444,"d":"0.8"}},{"$f":"SUMPRODUCT((спскДатаЗвонков=$B12)*(Данные[Решен]=\"Да\"))/$C12","v":{"v":0.9379310344827586,"d":"94%"}},{"$f":"SUMPRODUCT((спскВыбора=J$9)*(спскДатаЗвонков=$B12)*(Данные[Решен]=\"Да\"))/D12","v":{"v":0.8709677419354839,"d":"87%"}},{"$f":"SUMPRODUCT((спскВыбора=K$9)*(спскДатаЗвонков=$B12)*(Данные[Решен]=\"Да\"))/E12","v":{"v":0.925,"d":"93%"}},{"$f":"SUMPRODUCT((спскДатаЗвонков=$B12)*(Данные[Индекс удовлетворенности]))/$C12","v":{"v":2.983793103448277,"d":"2.9838"}},{"$f":"SUMPRODUCT((спскДатаЗвонков=$B12)*(спскВыбора=M$9)*(Данные[Индекс удовлетворенности]))/$D12","v":{"v":2.929032258064516,"d":"2.9290"}},{"$f":"SUMPRODUCT((спскДатаЗвонков=$B12)*(спскВыбора=N$9)*(Данные[Индекс удовлетворенности]))/$E12","v":{"v":3.0574999999999997,"d":"3.0575"}},{"$f":"SUMPRODUCT((спскДатаЗвонков=$B12)*(Данные[Доп продажи]))","v":1137300},{"$f":"SUMPRODUCT((спскДатаЗвонков=$B12)*(спскВыбора=P$9)*(Данные[Доп продажи]))","v":117600},{"$f":"SUMPRODUCT((спскДатаЗвонков=$B12)*(спскВыбора=Q$9)*(Данные[Доп продажи]))","v":153600},null,7]
[null,"2013-09-02",297,{"$f":"SUMPRODUCT((спскДатаЗвонков=$B13)*(спскВыбора=D$9))","v":50},{"$f":"SUMPRODUCT((спскДатаЗвонков=$B13)*(спскВыбора=E$9))","v":49},{"$f":"SUMPRODUCT((спскДатаЗвонков=B13)*(Данные[Длительность звонка]))/60/60","v":{"v":6.2444444444444445,"d":"6.2"}},{"$f":"SUMPRODUCT((спскВыбора=G$9)*(спскДатаЗвонков=$B13)*Данные[Длительность звонка])/60/60","v":{"v":1.0427777777777778,"d":"1.0"}},{"$f":"SUMPRODUCT((спскВыбора=H$9)*(спскДатаЗвонков=$B13)*Данные[Длительность звонка])/60/60","v":{"v":1.01,"d":"1.0"}},{"$f":"SUMPRODUCT((спскДатаЗвонков=$B13)*(Данные[Решен]=\"Да\"))/$C13","v":{"v":0.9663299663299664,"d":"97%"}},{"$f":"SUMPRODUCT((спскВыбора=J$9)*(спскДатаЗвонков=$B13)*(Данные[Решен]=\"Да\"))/D13","v":{"v":0.98,"d":"98%"}},{"$f":"SUMPRODUCT((спскВыбора=K$9)*(спскДатаЗвонков=$B13)*(Данные[Решен]=\"Да\"))/E13","v":{"v":0.9795918367346939,"d":"98%"}},{"$f":"SUMPRODUCT((спскДатаЗвонков=$B13)*(Данные[Индекс удовлетворенности]))/$C13","v":{"v":3.005387205387204,"d":"3.0054"}},{"$f":"SUMPRODUCT((спскДатаЗвонков=$B13)*(спскВыбора=M$9)*(Данные[Индекс удовлетворенности]))/$D13","v":{"v":2.8960000000000004,"d":"2.8960"}},{"$f":"SUMPRODUCT((спскДатаЗвонков=$B13)*(спскВыбора=N$9)*(Данные[Индекс удовлетворенности]))/$E13","v":{"v":3.0346938775510215,"d":"3.0347"}},{"$f":"SUMPRODUCT((спскДатаЗвонков=$B13)*(Данные[Доп продажи]))","v":1119600},{"$f":"SUMPRODUCT((спскДатаЗвонков=$B13)*(спскВыбора=P$9)*(Данные[Доп продажи]))","v":172200},{"$f":"SUMPRODUCT((спскДатаЗвонков=$B13)*(спскВыбора=Q$9)*(Данные[Доп продажи]))","v":179100},null,1]
[null,"2013-09-03",286,{"$f":"SUMPRODUCT((спскДатаЗвонков=$B14)*(спскВыбора=D$9))","v":51},{"$f":"SUMPRODUCT((спскДатаЗвонков=$B14)*(спскВыбора=E$9))","v":48},{"$f":"SUMPRODUCT((спскДатаЗвонков=B14)*(Данные[Длительность звонка]))/60/60","v":{"v":5.919444444444445,"d":"5.9"}},{"$f":"SUMPRODUCT((спскВыбора=G$9)*(спскДатаЗвонков=$B14)*Данные[Длительность звонка])/60/60","v":{"v":1.0708333333333333,"d":"1.1"}},{"$f":"SUMPRODUCT((спскВыбора=H$9)*(спскДатаЗвонков=$B14)*Данные[Длительность звонка])/60/60","v":{"v":0.9863888888888889,"d":"1.0"}},{"$f":"SUMPRODUCT((спскДатаЗвонков=$B14)*(Данные[Решен]=\"Да\"))/$C14","v":{"v":0.9440559440559441,"d":"94%"}},{"$f":"SUMPRODUCT((спскВыбора=J$9)*(спскДатаЗвонков=$B14)*(Данные[Решен]=\"Да\"))/D14","v":{"v":0.9803921568627451,"d":"98%"}},{"$f":"SUMPRODUCT((спскВыбора=K$9)*(спскДатаЗвонков=$B14)*(Данные[Решен]=\"Да\"))/E14","v":{"v":0.9375,"d":"94%"}},{"$f":"SUMPRODUCT((спскДатаЗвонков=$B14)*(Данные[Индекс удовлетворенности]))/$C14","v":{"v":2.9496503496503466,"d":"2.9497"}},{"$f":"SUMPRODUCT((спскДатаЗвонков=$B14)*(спскВыбора=M$9)*(Данные[Индекс удовлетворенности]))/$D14","v":{"v":2.960784313725491,"d":"2.9608"}},{"$f":"SUMPRODUCT((спскДатаЗвонков=$B14)*(спскВыбора=N$9)*(Данные[Индекс удовлетворенности]))/$E14","v":{"v":2.875,"d":"2.8750"}},{"$f":"SUMPRODUCT((спскДатаЗвонков=$B14)*(Данные[Доп продажи]))","v":1030800},{"$f":"SUMPRODUCT((спскДатаЗвонков=$B14)*(спскВыбора=P$9)*(Данные[Доп продажи]))","v":154200},{"$f":"SUMPRODUCT((спскДатаЗвонков=$B14)*(спскВыбора=Q$9)*(Данные[Доп продажи]))","v":148200},null,2]
[null,"2013-09-04",285,{"$f":"SUMPRODUCT((спскДатаЗвонков=$B15)*(спскВыбора=D$9))","v":48},{"$f":"SUMPRODUCT((спскДатаЗвонков=$B15)*(спскВыбора=E$9))","v":49},{"$f":"SUMPRODUCT((спскДатаЗвонков=B15)*(Данные[Длительность звонка]))/60/60","v":{"v":5.8983333333333325,"d":"5.9"}},{"$f":"SUMPRODUCT((спскВыбора=G$9)*(спскДатаЗвонков=$B15)*Данные[Длительность звонка])/60/60","v":{"v":0.9880555555555556,"d":"1.0"}},{"$f":"SUMPRODUCT((спскВыбора=H$9)*(спскДатаЗвонков=$B15)*Данные[Длительность звонка])/60/60","v":{"v":1.0069444444444444,"d":"1.0"}},{"$f":"SUMPRODUCT((спскДатаЗвонков=$B15)*(Данные[Решен]=\"Да\"))/$C15","v":{"v":0.9543859649122807,"d":"95%"}},{"$f":"SUMPRODUCT((спскВыбора=J$9)*(спскДатаЗвонков=$B15)*(Данные[Решен]=\"Да\"))/D15","v":{"v":0.9583333333333334,"d":"96%"}},{"$f":"SUMPRODUCT((спскВыбора=K$9)*(спскДатаЗвонков=$B15)*(Данные[Решен]=\"Да\"))/E15","v":{"v":0.9795918367346939,"d":"98%"}},{"$f":"SUMPRODUCT((спскДатаЗвонков=$B15)*(Данные[Индекс удовлетворенности]))/$C15","v":{"v":2.948421052631578,"d":"2.9484"}},{"$f":"SUMPRODUCT((спскДатаЗвонков=$B15)*(спскВыбора=M$9)*(Данные[Индекс удовлетворенности]))/$D15","v":{"v":3.0416666666666674,"d":"3.0417"}},{"$f":"SUMPRODUCT((спскДатаЗвонков=$B15)*(спскВыбора=N$9)*(Данные[Индекс удовлетворенности]))/$E15","v":{"v":2.96530612244898,"d":"2.9653"}},{"$f":"SUMPRODUCT((спскДатаЗвонков=$B15)*(Данные[Доп продажи]))","v":1146900},{"$f":"SUMPRODUCT((спскДатаЗвонков=$B15)*(спскВыбора=P$9)*(Данные[Доп продажи]))","v":203100},{"$f":"SUMPRODUCT((спскДатаЗвонков=$B15)*(спскВыбора=Q$9)*(Данные[Доп продажи]))","v":188700},null,3]
[null,"2013-09-05",284,{"$f":"SUMPRODUCT((спскДатаЗвонков=$B16)*(спскВыбора=D$9))","v":46},{"$f":"SUMPRODUCT((спскДатаЗвонков=$B16)*(спскВыбора=E$9))","v":42},{"$f":"SUMPRODUCT((спскДатаЗвонков=B16)*(Данные[Длительность звонка]))/60/60","v":{"v":5.941111111111111,"d":"5.9"}},{"$f":"SUMPRODUCT((спскВыбора=G$9)*(спскДатаЗвонков=$B16)*Данные[Длительность звонка])/60/60","v":{"v":0.9947222222222222,"d":"1.0"}},{"$f":"SUMPRODUCT((спскВыбора=H$9)*(спскДатаЗвонков=$B16)*Данные[Длительность звонка])/60/60","v":{"v":0.8777777777777778,"d":"0.9"}},{"$f":"SUMPRODUCT((спскДатаЗвонков=$B16)*(Данные[Решен]=\"Да\"))/$C16","v":{"v":0.9507042253521126,"d":"95%"}},{"$f":"SUMPRODUCT((спскВыбора=J$9)*(спскДатаЗвонков=$B16)*(Данные[Решен]=\"Да\"))/D16","v":{"v":0.8695652173913043,"d":"87%"}},{"$f":"SUMPRODUCT((спскВыбора=K$9)*(спскДатаЗвонков=$B16)*(Данные[Решен]=\"Да\"))/E16","v":{"v":0.9523809523809523,"d":"95%"}},{"$f":"SUMPRODUCT((спскДатаЗвонков=$B16)*(Данные[Индекс удовлетворенности]))/$C16","v":{"v":3.013732394366196,"d":"3.0137"}},{"$f":"SUMPRODUCT((спскДатаЗвонков=$B16)*(спскВыбора=M$9)*(Данные[Индекс удовлетворенности]))/$D16","v":{"v":3.0173913043478264,"d":"3.0174"}},{"$f":"SUMPRODUCT((спскДатаЗвонков=$B16)*(спскВыбора=N$9)*(Данные[Индекс удовлетворенности]))/$E16","v":{"v":3.1047619047619044,"d":"3.1048"}},{"$f":"SUMPRODUCT((спскДатаЗвонков=$B16)*(Данные[Доп продажи]))","v":1013400},{"$f":"SUMPRODUCT((спскДатаЗвонков=$B16)*(спскВыбора=P$9)*(Данные[Доп продажи]))","v":178500},{"$f":"SUMPRODUCT((спскДатаЗвонков=$B16)*(спскВыбора=Q$9)*(Данные[Доп продажи]))","v":134400},null,4]
[null,"2013-09-06",285,{"$f":"SUMPRODUCT((спскДатаЗвонков=$B17)*(спскВыбора=D$9))","v":49},{"$f":"SUMPRODUCT((спскДатаЗвонков=$B17)*(спскВыбора=E$9))","v":41},{"$f":"SUMPRODUCT((спскДатаЗвонков=B17)*(Данные[Длительность звонка]))/60/60","v":{"v":5.857777777777778,"d":"5.9"}},{"$f":"SUMPRODUCT((спскВыбора=G$9)*(спскДатаЗвонков=$B17)*Данные[Длительность звонка])/60/60","v":{"v":1.031111111111111,"d":"1.0"}},{"$f":"SUMPRODUCT((спскВыбора=H$9)*(спскДатаЗвонков=$B17)*Данные[Длительность звонка])/60/60","v":{"v":0.825,"d":"0.8"}},{"$f":"SUMPRODUCT((спскДатаЗвонков=$B17)*(Данные[Решен]=\"Да\"))/$C17","v":{"v":0.9368421052631579,"d":"94%"}},{"$f":"SUMPRODUCT((спскВыбора=J$9)*(спскДатаЗвонков=$B17)*(Данные[Решен]=\"Да\"))/D17","v":{"v":0.9591836734693877,"d":"96%"}},{"$f":"SUMPRODUCT((спскВыбора=K$9)*(спскДатаЗвонков=$B17)*(Данные[Решен]=\"Да\"))/E17","v":{"v":0.926829268292683,"d":"93%"}},{"$f":"SUMPRODUCT((спскДатаЗвонков=$B17)*(Данные[Индекс удовлетворенности]))/$C17","v":{"v":2.998596491228071,"d":"2.9986"}},{"$f":"SUMPRODUCT((спскДатаЗвонков=$B17)*(спскВыбора=M$9)*(Данные[Индекс удовлетворенности]))/$D17","v":{"v":3.002040816326531,"d":"3.0020"}},{"$f":"SUMPRODUCT((спскДатаЗвонков=$B17)*(спскВыбора=N$9)*(Данные[Индекс удовлетворенности]))/$E17","v":{"v":2.902439024390244,"d":"2.9024"}},{"$f":"SUMPRODUCT((спскДатаЗвонков=$B17)*(Данные[Доп продажи]))","v":1042800},{"$f":"SUMPRODUCT((спскДатаЗвонков=$B17)*(спскВыбора=P$9)*(Данные[Доп продажи]))","v":162300},{"$f":"SUMPRODUCT((спскДатаЗвонков=$B17)*(спскВыбора=Q$9)*(Данные[Доп продажи]))","v":162300},null,5]
[null,"2013-09-07",293,{"$f":"SUMPRODUCT((спскДатаЗвонков=$B18)*(спскВыбора=D$9))","v":62},{"$f":"SUMPRODUCT((спскДатаЗвонков=$B18)*(спскВыбора=E$9))","v":38},{"$f":"SUMPRODUCT((спскДатаЗвонков=B18)*(Данные[Длительность звонка]))/60/60","v":{"v":6.182222222222222,"d":"6.2"}},{"$f":"SUMPRODUCT((спскВыбора=G$9)*(спскДатаЗвонков=$B18)*Данные[Длительность звонка])/60/60","v":{"v":1.2802777777777776,"d":"1.3"}},{"$f":"SUMPRODUCT((спскВыбора=H$9)*(спскДатаЗвонков=$B18)*Данные[Длительность звонка])/60/60","v":{"v":0.7952777777777779,"d":"0.8"}},{"$f":"SUMPRODUCT((спскДатаЗвонков=$B18)*(Данные[Решен]=\"Да\"))/$C18","v":{"v":0.9453924914675768,"d":"95%"}},{"$f":"SUMPRODUCT((спскВыбора=J$9)*(спскДатаЗвонков=$B18)*(Данные[Решен]=\"Да\"))/D18","v":{"v":0.9516129032258065,"d":"95%"}},{"$f":"SUMPRODUCT((спскВыбора=K$9)*(спскДатаЗвонков=$B18)*(Данные[Решен]=\"Да\"))/E18","v":{"v":0.9736842105263158,"d":"97%"}},{"$f":"SUMPRODUCT((спскДатаЗвонков=$B18)*(Данные[Индекс удовлетворенности]))/$C18","v":{"v":2.9894197952218438,"d":"2.9894"}},{"$f":"SUMPRODUCT((спскДатаЗвонков=$B18)*(спскВыбора=M$9)*(Данные[Индекс удовлетворенности]))/$D18","v":{"v":2.958064516129032,"d":"2.9581"}},{"$f":"SUMPRODUCT((спскДатаЗвонков=$B18)*(спскВыбора=N$9)*(Данные[Индекс удовлетворенности]))/$E18","v":{"v":2.9157894736842103,"d":"2.9158"}},{"$f":"SUMPRODUCT((спскДатаЗвонков=$B18)*(Данные[Доп продажи]))","v":1036800},{"$f":"SUMPRODUCT((спскДатаЗвонков=$B18)*(спскВыбора=P$9)*(Данные[Доп продажи]))","v":239100},{"$f":"SUMPRODUCT((спскДатаЗвонков=$B18)*(спскВыбора=Q$9)*(Данные[Доп продажи]))","v":161700},null,6]
[null,"2013-09-08",296,{"$f":"SUMPRODUCT((спскДатаЗвонков=$B19)*(спскВыбора=D$9))","v":49},{"$f":"SUMPRODUCT((спскДатаЗвонков=$B19)*(спскВыбора=E$9))","v":52},{"$f":"SUMPRODUCT((спскДатаЗвонков=B19)*(Данные[Длительность звонка]))/60/60","v":{"v":6.116944444444444,"d":"6.1"}},{"$f":"SUMPRODUCT((спскВыбора=G$9)*(спскДатаЗвонков=$B19)*Данные[Длительность звонка])/60/60","v":{"v":1.0186111111111111,"d":"1.0"}},{"$f":"SUMPRODUCT((спскВыбора=H$9)*(спскДатаЗвонков=$B19)*Данные[Длительность звонка])/60/60","v":{"v":1.0683333333333331,"d":"1.1"}},{"$f":"SUMPRODUCT((спскДатаЗвонков=$B19)*(Данные[Решен]=\"Да\"))/$C19","v":{"v":0.9662162162162162,"d":"97%"}},{"$f":"SUMPRODUCT((спскВыбора=J$9)*(спскДатаЗвонков=$B19)*(Данные[Решен]=\"Да\"))/D19","v":{"v":1,"d":"100%"}},{"$f":"SUMPRODUCT((спскВыбора=K$9)*(спскДатаЗвонков=$B19)*(Данные[Решен]=\"Да\"))/E19","v":{"v":0.9807692307692307,"d":"98%"}},{"$f":"SUMPRODUCT((спскДатаЗвонков=$B19)*(Данные[Индекс удовлетворенности]))/$C19","v":{"v":2.9645270270270268,"d":"2.9645"}},{"$f":"SUMPRODUCT((спскДатаЗвонков=$B19)*(спскВыбора=M$9)*(Данные[Индекс удовлетворенности]))/$D19","v":{"v":2.9775510204081628,"d":"2.9776"}},{"$f":"SUMPRODUCT((спскДатаЗвонков=$B19)*(спскВыбора=N$9)*(Данные[Индекс удовлетворенности]))/$E19","v":{"v":3.0307692307692315,"d":"3.0308"}},{"$f":"SUMPRODUCT((спскДатаЗвонков=$B19)*(Данные[Доп продажи]))","v":1086900},{"$f":"SUMPRODUCT((спскДатаЗвонков=$B19)*(спскВыбора=P$9)*(Данные[Доп продажи]))","v":178800},{"$f":"SUMPRODUCT((спскДатаЗвонков=$B19)*(спскВыбора=Q$9)*(Данные[Доп продажи]))","v":175800},null,7]
[null,"2013-09-09",292,{"$f":"SUMPRODUCT((спскДатаЗвонков=$B20)*(спскВыбора=D$9))","v":40},{"$f":"SUMPRODUCT((спскДатаЗвонков=$B20)*(спскВыбора=E$9))","v":56},{"$f":"SUMPRODUCT((спскДатаЗвонков=B20)*(Данные[Длительность звонка]))/60/60","v":{"v":6.133055555555556,"d":"6.1"}},{"$f":"SUMPRODUCT((спскВыбора=G$9)*(спскДатаЗвонков=$B20)*Данные[Длительность звонка])/60/60","v":{"v":0.8177777777777778,"d":"0.8"}},{"$f":"SUMPRODUCT((спскВыбора=H$9)*(спскДатаЗвонков=$B20)*Данные[Длительность звонка])/60/60","v":{"v":1.1769444444444443,"d":"1.2"}},{"$f":"SUMPRODUCT((спскДатаЗвонков=$B20)*(Данные[Решен]=\"Да\"))/$C20","v":{"v":0.9452054794520548,"d":"95%"}},{"$f":"SUMPRODUCT((спскВыбора=J$9)*(спскДатаЗвонков=$B20)*(Данные[Решен]=\"Да\"))/D20","v":{"v":0.925,"d":"93%"}},{"$f":"SUMPRODUCT((спскВыбора=K$9)*(спскДатаЗвонков=$B20)*(Данные[Решен]=\"Да\"))/E20","v":{"v":0.9821428571428571,"d":"98%"}},{"$f":"SUMPRODUCT((спскДатаЗвонков=$B20)*(Данные[Индекс удовлетворенности]))/$C20","v":{"v":3.0205479452054793,"d":"3.0205"}},{"$f":"SUMPRODUCT((спскДатаЗвонков=$B20)*(спскВыбора=M$9)*(Данные[Индекс удовлетворенности]))/$D20","v":{"v":3.105000000000001,"d":"3.1050"}},{"$f":"SUMPRODUCT((спскДатаЗвонков=$B20)*(спскВыбора=N$9)*(Данные[Индекс удовлетворенности]))/$E20","v":{"v":3.0392857142857146,"d":"3.0393"}},{"$f":"SUMPRODUCT((спскДатаЗвонков=$B20)*(Данные[Доп продажи]))","v":1101900},{"$f":"SUMPRODUCT((спскДатаЗвонков=$B20)*(спскВыбора=P$9)*(Данные[Доп продажи]))","v":129000},{"$f":"SUMPRODUCT((спскДатаЗвонков=$B20)*(спскВыбора=Q$9)*(Данные[Доп продажи]))","v":211500},null,1]
[null,"2013-09-10",301,{"$f":"SUMPRODUCT((спскДатаЗвонков=$B21)*(спскВыбора=D$9))","v":49},{"$f":"SUMPRODUCT((спскДатаЗвонков=$B21)*(спскВыбора=E$9))","v":49},{"$f":"SUMPRODUCT((спскДатаЗвонков=B21)*(Данные[Длительность звонка]))/60/60","v":{"v":6.286944444444444,"d":"6.3"}},{"$f":"SUMPRODUCT((спскВыбора=G$9)*(спскДатаЗвонков=$B21)*Данные[Длительность звонка])/60/60","v":{"v":0.9880555555555556,"d":"1.0"}},{"$f":"SUMPRODUCT((спскВыбора=H$9)*(спскДатаЗвонков=$B21)*Данные[Длительность звонка])/60/60","v":{"v":1.03,"d":"1.0"}},{"$f":"SUMPRODUCT((спскДатаЗвонков=$B21)*(Данные[Решен]=\"Да\"))/$C21","v":{"v":0.9401993355481728,"d":"94%"}},{"$f":"SUMPRODUCT((спскВыбора=J$9)*(спскДатаЗвонков=$B21)*(Данные[Решен]=\"Да\"))/D21","v":{"v":1,"d":"100%"}},{"$f":"SUMPRODUCT((спскВыбора=K$9)*(спскДатаЗвонков=$B21)*(Данные[Решен]=\"Да\"))/E21","v":{"v":0.8979591836734694,"d":"90%"}},{"$f":"SUMPRODUCT((спскДатаЗвонков=$B21)*(Данные[Индекс удовлетворенности]))/$C21","v":{"v":3.0043189368770777,"d":"3.0043"}},{"$f":"SUMPRODUCT((спскДатаЗвонков=$B21)*(спскВыбора=M$9)*(Данные[Индекс удовлетворенности]))/$D21","v":{"v":3.038775510204081,"d":"3.0388"}},{"$f":"SUMPRODUCT((спскДатаЗвонков=$B21)*(спскВыбора=N$9)*(Данные[Индекс удовлетворенности]))/$E21","v":{"v":3.0693877551020403,"d":"3.0694"}},{"$f":"SUMPRODUCT((спскДатаЗвонков=$B21)*(Данные[Доп продажи]))","v":1098600},{"$f":"SUMPRODUCT((спскДатаЗвонков=$B21)*(спскВыбора=P$9)*(Данные[Доп продажи]))","v":203700},{"$f":"SUMPRODUCT((спскДатаЗвонков=$B21)*(спскВыбора=Q$9)*(Данные[Доп продажи]))","v":192900},null,2]
[null,"2013-09-11",313,{"$f":"SUMPRODUCT((спскДатаЗвонков=$B22)*(спскВыбора=D$9))","v":58},{"$f":"SUMPRODUCT((спскДатаЗвонков=$B22)*(спскВыбора=E$9))","v":54},{"$f":"SUMPRODUCT((спскДатаЗвонков=B22)*(Данные[Длительность звонка]))/60/60","v":{"v":6.626666666666667,"d":"6.6"}},{"$f":"SUMPRODUCT((спскВыбора=G$9)*(спскДатаЗвонков=$B22)*Данные[Длительность звонка])/60/60","v":{"v":1.2302777777777778,"d":"1.2"}},{"$f":"SUMPRODUCT((спскВыбора=H$9)*(спскДатаЗвонков=$B22)*Данные[Длительность звонка])/60/60","v":{"v":1.1475,"d":"1.1"}},{"$f":"SUMPRODUCT((спскДатаЗвонков=$B22)*(Данные[Решен]=\"Да\"))/$C22","v":{"v":0.9552715654952076,"d":"96%"}},{"$f":"SUMPRODUCT((спскВыбора=J$9)*(спскДатаЗвонков=$B22)*(Данные[Решен]=\"Да\"))/D22","v":{"v":0.9827586206896551,"d":"98%"}},{"$f":"SUMPRODUCT((спскВыбора=K$9)*(спскДатаЗвонков=$B22)*(Данные[Решен]=\"Да\"))/E22","v":{"v":0.9259259259259259,"d":"93%"}},{"$f":"SUMPRODUCT((спскДатаЗвонков=$B22)*(Данные[Индекс удовлетворенности]))/$C22","v":{"v":2.9619808306709268,"d":"2.9620"}},{"$f":"SUMPRODUCT((спскДатаЗвонков=$B22)*(спскВыбора=M$9)*(Данные[Индекс удовлетворенности]))/$D22","v":{"v":2.968965517241379,"d":"2.9690"}},{"$f":"SUMPRODUCT((спскДатаЗвонков=$B22)*(спскВыбора=N$9)*(Данные[Индекс удовлетворенности]))/$E22","v":{"v":2.942592592592593,"d":"2.9426"}},{"$f":"SUMPRODUCT((спскДатаЗвонков=$B22)*(Данные[Доп продажи]))","v":1162200},{"$f":"SUMPRODUCT((спскДатаЗвонков=$B22)*(спскВыбора=P$9)*(Данные[Доп продажи]))","v":186900},{"$f":"SUMPRODUCT((спскДатаЗвонков=$B22)*(спскВыбора=Q$9)*(Данные[Доп продажи]))","v":149700},null,3]
[null,"2013-09-12",304,{"$f":"SUMPRODUCT((спскДатаЗвонков=$B23)*(спскВыбора=D$9))","v":47},{"$f":"SUMPRODUCT((спскДатаЗвонков=$B23)*(спскВыбора=E$9))","v":48},{"$f":"SUMPRODUCT((спскДатаЗвонков=B23)*(Данные[Длительность звонка]))/60/60","v":{"v":6.393611111111111,"d":"6.4"}},{"$f":"SUMPRODUCT((спскВыбора=G$9)*(спскДатаЗвонков=$B23)*Данные[Длительность звонка])/60/60","v":{"v":1.0280555555555555,"d":"1.0"}},{"$f":"SUMPRODUCT((спскВыбора=H$9)*(спскДатаЗвонков=$B23)*Данные[Длительность звонка])/60/60","v":{"v":1.011388888888889,"d":"1.0"}},{"$f":"SUMPRODUCT((спскДатаЗвонков=$B23)*(Данные[Решен]=\"Да\"))/$C23","v":{"v":0.9638157894736842,"d":"96%"}},{"$f":"SUMPRODUCT((спскВыбора=J$9)*(спскДатаЗвонков=$B23)*(Данные[Решен]=\"Да\"))/D23","v":{"v":1,"d":"100%"}},{"$f":"SUMPRODUCT((спскВыбора=K$9)*(спскДатаЗвонков=$B23)*(Данные[Решен]=\"Да\"))/E23","v":{"v":1,"d":"100%"}},{"$f":"SUMPRODUCT((спскДатаЗвонков=$B23)*(Данные[Индекс удовлетворенности]))/$C23","v":{"v":2.988486842105263,"d":"2.9885"}},{"$f":"SUMPRODUCT((спскДатаЗвонков=$B23)*(спскВыбора=M$9)*(Данные[Индекс удовлетворенности]))/$D23","v":{"v":2.9127659574468088,"d":"2.9128"}},{"$f":"SUMPRODUCT((спскДатаЗвонков=$B23)*(спскВыбора=N$9)*(Данные[Индекс удовлетворенности]))/$E23","v":{"v":3.0625000000000004,"d":"3.0625"}},{"$f":"SUMPRODUCT((спскДатаЗвонков=$B23)*(Данные[Доп продажи]))","v":1096800},{"$f":"SUMPRODUCT((спскДатаЗвонков=$B23)*(спскВыбора=P$9)*(Данные[Доп продажи]))","v":152100},{"$f":"SUMPRODUCT((спскДатаЗвонков=$B23)*(спскВыбора=Q$9)*(Данные[Доп продажи]))","v":217500},null,4]
[null,"2013-09-13",293,{"$f":"SUMPRODUCT((спскДатаЗвонков=$B24)*(спскВыбора=D$9))","v":47},{"$f":"SUMPRODUCT((спскДатаЗвонков=$B24)*(спскВыбора=E$9))","v":42},{"$f":"SUMPRODUCT((спскДатаЗвонков=B24)*(Данные[Длительность звонка]))/60/60","v":{"v":6.145277777777777,"d":"6.1"}},{"$f":"SUMPRODUCT((спскВыбора=G$9)*(спскДатаЗвонков=$B24)*Данные[Длительность звонка])/60/60","v":{"v":1.0194444444444444,"d":"1.0"}},{"$f":"SUMPRODUCT((спскВыбора=H$9)*(спскДатаЗвонков=$B24)*Данные[Длительность звонка])/60/60","v":{"v":0.8858333333333334,"d":"0.9"}},{"$f":"SUMPRODUCT((спскДатаЗвонков=$B24)*(Данные[Решен]=\"Да\"))/$C24","v":{"v":0.931740614334471,"d":"93%"}},{"$f":"SUMPRODUCT((спскВыбора=J$9)*(спскДатаЗвонков=$B24)*(Данные[Решен]=\"Да\"))/D24","v":{"v":0.9148936170212766,"d":"91%"}},{"$f":"SUMPRODUCT((спскВыбора=K$9)*(спскДатаЗвонков=$B24)*(Данные[Решен]=\"Да\"))/E24","v":{"v":0.9047619047619048,"d":"90%"}},{"$f":"SUMPRODUCT((спскДатаЗвонков=$B24)*(Данные[Индекс удовлетворенности]))/$C24","v":{"v":2.945392491467578,"d":"2.9454"}},{"$f":"SUMPRODUCT((спскДатаЗвонков=$B24)*(спскВыбора=M$9)*(Данные[Индекс удовлетворенности]))/$D24","v":{"v":2.9553191489361703,"d":"2.9553"}},{"$f":"SUMPRODUCT((спскДатаЗвонков=$B24)*(спскВыбора=N$9)*(Данные[Индекс удовлетворенности]))/$E24","v":{"v":2.883333333333333,"d":"2.8833"}},{"$f":"SUMPRODUCT((спскДатаЗвонков=$B24)*(Данные[Доп продажи]))","v":1003200},{"$f":"SUMPRODUCT((спскДатаЗвонков=$B24)*(спскВыбора=P$9)*(Данные[Доп продажи]))","v":150000},{"$f":"SUMPRODUCT((спскДатаЗвонков=$B24)*(спскВыбора=Q$9)*(Данные[Доп продажи]))","v":133200},null,5]
[null,"2013-09-14",272,{"$f":"SUMPRODUCT((спскДатаЗвонков=$B25)*(спскВыбора=D$9))","v":43},{"$f":"SUMPRODUCT((спскДатаЗвонков=$B25)*(спскВыбора=E$9))","v":45},{"$f":"SUMPRODUCT((спскДатаЗвонков=B25)*(Данные[Длительность звонка]))/60/60","v":{"v":5.6875,"d":"5.7"}},{"$f":"SUMPRODUCT((спскВыбора=G$9)*(спскДатаЗвонков=$B25)*Данные[Длительность звонка])/60/60","v":{"v":0.8833333333333333,"d":"0.9"}},{"$f":"SUMPRODUCT((спскВыбора=H$9)*(спскДатаЗвонков=$B25)*Данные[Длительность звонка])/60/60","v":{"v":0.961111111111111,"d":"1.0"}},{"$f":"SUMPRODUCT((спскДатаЗвонков=$B25)*(Данные[Решен]=\"Да\"))/$C25","v":{"v":0.9227941176470589,"d":"92%"}},{"$f":"SUMPRODUCT((спскВыбора=J$9)*(спскДатаЗвонков=$B25)*(Данные[Решен]=\"Да\"))/D25","v":{"v":0.9534883720930233,"d":"95%"}},{"$f":"SUMPRODUCT((спскВыбора=K$9)*(спскДатаЗвонков=$B25)*(Данные[Решен]=\"Да\"))/E25","v":{"v":0.8666666666666667,"d":"87%"}},{"$f":"SUMPRODUCT((спскДатаЗвонков=$B25)*(Данные[Индекс удовлетворенности]))/$C25","v":{"v":3.004779411764705,"d":"3.0048"}},{"$f":"SUMPRODUCT((спскДатаЗвонков=$B25)*(спскВыбора=M$9)*(Данные[Индекс удовлетворенности]))/$D25","v":{"v":3.1255813953488367,"d":"3.1256"}},{"$f":"SUMPRODUCT((спскДатаЗвонков=$B25)*(спскВыбора=N$9)*(Данные[Индекс удовлетворенности]))/$E25","v":{"v":3.022222222222223,"d":"3.0222"}},{"$f":"SUMPRODUCT((спскДатаЗвонков=$B25)*(Данные[Доп продажи]))","v":932100},{"$f":"SUMPRODUCT((спскДатаЗвонков=$B25)*(спскВыбора=P$9)*(Данные[Доп продажи]))","v":136200},{"$f":"SUMPRODUCT((спскДатаЗвонков=$B25)*(спскВыбора=Q$9)*(Данные[Доп продажи]))","v":152700},null,6]
[null,"2013-09-15",283,{"$f":"SUMPRODUCT((спскДатаЗвонков=$B26)*(спскВыбора=D$9))","v":45},{"$f":"SUMPRODUCT((спскДатаЗвонков=$B26)*(спскВыбора=E$9))","v":58},{"$f":"SUMPRODUCT((спскДатаЗвонков=B26)*(Данные[Длительность звонка]))/60/60","v":{"v":5.875,"d":"5.9"}},{"$f":"SUMPRODUCT((спскВыбора=G$9)*(спскДатаЗвонков=$B26)*Данные[Длительность звонка])/60/60","v":{"v":0.8941666666666667,"d":"0.9"}},{"$f":"SUMPRODUCT((спскВыбора=H$9)*(спскДатаЗвонков=$B26)*Данные[Длительность звонка])/60/60","v":{"v":1.2072222222222222,"d":"1.2"}},{"$f":"SUMPRODUCT((спскДатаЗвонков=$B26)*(Данные[Решен]=\"Да\"))/$C26","v":{"v":0.9752650176678446,"d":"98%"}},{"$f":"SUMPRODUCT((спскВыбора=J$9)*(спскДатаЗвонков=$B26)*(Данные[Решен]=\"Да\"))/D26","v":{"v":1,"d":"100%"}},{"$f":"SUMPRODUCT((спскВыбора=K$9)*(спскДатаЗвонков=$B26)*(Данные[Решен]=\"Да\"))/E26","v":{"v":1,"d":"100%"}},{"$f":"SUMPRODUCT((спскДатаЗвонков=$B26)*(Данные[Индекс удовлетворенности]))/$C26","v":{"v":3.0176678445229683,"d":"3.0177"}},{"$f":"SUMPRODUCT((спскДатаЗвонков=$B26)*(спскВыбора=M$9)*(Данные[Индекс удовлетворенности]))/$D26","v":{"v":3.0644444444444447,"d":"3.0644"}},{"$f":"SUMPRODUCT((спскДатаЗвонков=$B26)*(спскВыбора=N$9)*(Данные[Индекс удовлетворенности]))/$E26","v":{"v":2.941379310344828,"d":"2.9414"}},{"$f":"SUMPRODUCT((спскДатаЗвонков=$B26)*(Данные[Доп продажи]))","v":1122600},{"$f":"SUMPRODUCT((спскДатаЗвонков=$B26)*(спскВыбора=P$9)*(Данные[Доп продажи]))","v":179400},{"$f":"SUMPRODUCT((спскДатаЗвонков=$B26)*(спскВыбора=Q$9)*(Данные[Доп продажи]))","v":211500},null,7]
[null,"2013-09-16",279,{"$f":"SUMPRODUCT((спскДатаЗвонков=$B27)*(спскВыбора=D$9))","v":56},{"$f":"SUMPRODUCT((спскДатаЗвонков=$B27)*(спскВыбора=E$9))","v":42},{"$f":"SUMPRODUCT((спскДатаЗвонков=B27)*(Данные[Длительность звонка]))/60/60","v":{"v":5.746388888888889,"d":"5.7"}},{"$f":"SUMPRODUCT((спскВыбора=G$9)*(спскДатаЗвонков=$B27)*Данные[Длительность звонка])/60/60","v":{"v":1.1555555555555554,"d":"1.2"}},{"$f":"SUMPRODUCT((спскВыбора=H$9)*(спскДатаЗвонков=$B27)*Данные[Длительность звонка])/60/60","v":{"v":0.8655555555555555,"d":"0.9"}},{"$f":"SUMPRODUCT((спскДатаЗвонков=$B27)*(Данные[Решен]=\"Да\"))/$C27","v":{"v":0.942652329749104,"d":"94%"}},{"$f":"SUMPRODUCT((спскВыбора=J$9)*(спскДатаЗвонков=$B27)*(Данные[Решен]=\"Да\"))/D27","v":{"v":0.9285714285714286,"d":"93%"}},{"$f":"SUMPRODUCT((спскВыбора=K$9)*(спскДатаЗвонков=$B27)*(Данные[Решен]=\"Да\"))/E27","v":{"v":0.9523809523809523,"d":"95%"}},{"$f":"SUMPRODUCT((спскДатаЗвонков=$B27)*(Данные[Индекс удовлетворенности]))/$C27","v":{"v":2.9867383512544796,"d":"2.9867"}},{"$f":"SUMPRODUCT((спскДатаЗвонков=$B27)*(спскВыбора=M$9)*(Данные[Индекс удовлетворенности]))/$D27","v":{"v":3.017857142857143,"d":"3.0179"}},{"$f":"SUMPRODUCT((спскДатаЗвонков=$B27)*(спскВыбора=N$9)*(Данные[Индекс удовлетворенности]))/$E27","v":{"v":2.9690476190476183,"d":"2.9690"}},{"$f":"SUMPRODUCT((спскДатаЗвонков=$B27)*(Данные[Доп продажи]))","v":1011900},{"$f":"SUMPRODUCT((спскДатаЗвонков=$B27)*(спскВыбора=P$9)*(Данные[Доп продажи]))","v":212100},{"$f":"SUMPRODUCT((спскДатаЗвонков=$B27)*(спскВыбора=Q$9)*(Данные[Доп продажи]))","v":146700},null,1]
[null,"2013-09-17",299,{"$f":"SUMPRODUCT((спскДатаЗвонков=$B28)*(спскВыбора=D$9))","v":49},{"$f":"SUMPRODUCT((спскДатаЗвонков=$B28)*(спскВыбора=E$9))","v":55},{"$f":"SUMPRODUCT((спскДатаЗвонков=B28)*(Данные[Длительность звонка]))/60/60","v":{"v":6.282777777777778,"d":"6.3"}},{"$f":"SUMPRODUCT((спскВыбора=G$9)*(спскДатаЗвонков=$B28)*Данные[Длительность звонка])/60/60","v":{"v":1.011388888888889,"d":"1.0"}},{"$f":"SUMPRODUCT((спскВыбора=H$9)*(спскДатаЗвонков=$B28)*Данные[Длительность звонка])/60/60","v":{"v":1.1424999999999998,"d":"1.1"}},{"$f":"SUMPRODUCT((спскДатаЗвонков=$B28)*(Данные[Решен]=\"Да\"))/$C28","v":{"v":0.9698996655518395,"d":"97%"}},{"$f":"SUMPRODUCT((спскВыбора=J$9)*(спскДатаЗвонков=$B28)*(Данные[Решен]=\"Да\"))/D28","v":{"v":0.9591836734693877,"d":"96%"}},{"$f":"SUMPRODUCT((спскВыбора=K$9)*(спскДатаЗвонков=$B28)*(Данные[Решен]=\"Да\"))/E28","v":{"v":0.9272727272727272,"d":"93%"}},{"$f":"SUMPRODUCT((спскДатаЗвонков=$B28)*(Данные[Индекс удовлетворенности]))/$C28","v":{"v":3.0130434782608684,"d":"3.0130"}},{"$f":"SUMPRODUCT((спскДатаЗвонков=$B28)*(спскВыбора=M$9)*(Данные[Индекс удовлетворенности]))/$D28","v":{"v":2.979591836734694,"d":"2.9796"}},{"$f":"SUMPRODUCT((спскДатаЗвонков=$B28)*(спскВыбора=N$9)*(Данные[Индекс удовлетворенности]))/$E28","v":{"v":3.023636363636365,"d":"3.0236"}},{"$f":"SUMPRODUCT((спскДатаЗвонков=$B28)*(Данные[Доп продажи]))","v":1081500},{"$f":"SUMPRODUCT((спскДатаЗвонков=$B28)*(спскВыбора=P$9)*(Данные[Доп продажи]))","v":194400},{"$f":"SUMPRODUCT((спскДатаЗвонков=$B28)*(спскВыбора=Q$9)*(Данные[Доп продажи]))","v":161700},null,2]
[null,"2013-09-18",295,{"$f":"SUMPRODUCT((спскДатаЗвонков=$B29)*(спскВыбора=D$9))","v":58},{"$f":"SUMPRODUCT((спскДатаЗвонков=$B29)*(спскВыбора=E$9))","v":52},{"$f":"SUMPRODUCT((спскДатаЗвонков=B29)*(Данные[Длительность звонка]))/60/60","v":{"v":6.189444444444445,"d":"6.2"}},{"$f":"SUMPRODUCT((спскВыбора=G$9)*(спскДатаЗвонков=$B29)*Данные[Длительность звонка])/60/60","v":{"v":1.196388888888889,"d":"1.2"}},{"$f":"SUMPRODUCT((спскВыбора=H$9)*(спскДатаЗвонков=$B29)*Данные[Длительность звонка])/60/60","v":{"v":1.093888888888889,"d":"1.1"}},{"$f":"SUMPRODUCT((спскДатаЗвонков=$B29)*(Данные[Решен]=\"Да\"))/$C29","v":{"v":0.9491525423728814,"d":"95%"}},{"$f":"SUMPRODUCT((спскВыбора=J$9)*(спскДатаЗвонков=$B29)*(Данные[Решен]=\"Да\"))/D29","v":{"v":0.9310344827586207,"d":"93%"}},{"$f":"SUMPRODUCT((спскВыбора=K$9)*(спскДатаЗвонков=$B29)*(Данные[Решен]=\"Да\"))/E29","v":{"v":0.9807692307692307,"d":"98%"}},{"$f":"SUMPRODUCT((спскДатаЗвонков=$B29)*(Данные[Индекс удовлетворенности]))/$C29","v":{"v":2.992881355932204,"d":"2.9929"}},{"$f":"SUMPRODUCT((спскДатаЗвонков=$B29)*(спскВыбора=M$9)*(Данные[Индекс удовлетворенности]))/$D29","v":{"v":3.0637931034482757,"d":"3.0638"}},{"$f":"SUMPRODUCT((спскДатаЗвонков=$B29)*(спскВыбора=N$9)*(Данные[Индекс удовлетворенности]))/$E29","v":{"v":3.069230769230769,"d":"3.0692"}},{"$f":"SUMPRODUCT((спскДатаЗвонков=$B29)*(Данные[Доп продажи]))","v":1047900},{"$f":"SUMPRODUCT((спскДатаЗвонков=$B29)*(спскВыбора=P$9)*(Данные[Доп продажи]))","v":231600},{"$f":"SUMPRODUCT((спскДатаЗвонков=$B29)*(спскВыбора=Q$9)*(Данные[Доп продажи]))","v":176400},null,3]
[null,"2013-09-19",293,{"$f":"SUMPRODUCT((спскДатаЗвонков=$B30)*(спскВыбора=D$9))","v":30},{"$f":"SUMPRODUCT((спскДатаЗвонков=$B30)*(спскВыбора=E$9))","v":54},{"$f":"SUMPRODUCT((спскДатаЗвонков=B30)*(Данные[Длительность звонка]))/60/60","v":{"v":6.051666666666667,"d":"6.1"}},{"$f":"SUMPRODUCT((спскВыбора=G$9)*(спскДатаЗвонков=$B30)*Данные[Длительность звонка])/60/60","v":{"v":0.6055555555555556,"d":"0.6"}},{"$f":"SUMPRODUCT((спскВыбора=H$9)*(спскДатаЗвонков=$B30)*Данные[Длительность звонка])/60/60","v":{"v":1.1027777777777779,"d":"1.1"}},{"$f":"SUMPRODUCT((спскДатаЗвонков=$B30)*(Данные[Решен]=\"Да\"))/$C30","v":{"v":0.931740614334471,"d":"93%"}},{"$f":"SUMPRODUCT((спскВыбора=J$9)*(спскДатаЗвонков=$B30)*(Данные[Решен]=\"Да\"))/D30","v":{"v":0.9666666666666667,"d":"97%"}},{"$f":"SUMPRODUCT((спскВыбора=K$9)*(спскДатаЗвонков=$B30)*(Данные[Решен]=\"Да\"))/E30","v":{"v":0.9444444444444444,"d":"94%"}},{"$f":"SUMPRODUCT((спскДатаЗвонков=$B30)*(Данные[Индекс удовлетворенности]))/$C30","v":{"v":2.963139931740614,"d":"2.9631"}},{"$f":"SUMPRODUCT((спскДатаЗвонков=$B30)*(спскВыбора=M$9)*(Данные[Индекс удовлетворенности]))/$D30","v":{"v":2.9099999999999997,"d":"2.9100"}},{"$f":"SUMPRODUCT((спскДатаЗвонков=$B30)*(спскВыбора=N$9)*(Данные[Индекс удовлетворенности]))/$E30","v":{"v":2.942592592592593,"d":"2.9426"}},{"$f":"SUMPRODUCT((спскДатаЗвонков=$B30)*(Данные[Доп продажи]))","v":1081200},{"$f":"SUMPRODUCT((спскДатаЗвонков=$B30)*(спскВыбора=P$9)*(Данные[Доп продажи]))","v":100800},{"$f":"SUMPRODUCT((спскДатаЗвонков=$B30)*(спскВыбора=Q$9)*(Данные[Доп продажи]))","v":204300},null,4]
[null,"2013-09-20",289,{"$f":"SUMPRODUCT((спскДатаЗвонков=$B31)*(спскВыбора=D$9))","v":46},{"$f":"SUMPRODUCT((спскДатаЗвонков=$B31)*(спскВыбора=E$9))","v":43},{"$f":"SUMPRODUCT((спскДатаЗвонков=B31)*(Данные[Длительность звонка]))/60/60","v":{"v":6.029444444444445,"d":"6.0"}},{"$f":"SUMPRODUCT((спскВыбора=G$9)*(спскДатаЗвонков=$B31)*Данные[Длительность звонка])/60/60","v":{"v":0.9747222222222223,"d":"1.0"}},{"$f":"SUMPRODUCT((спскВыбора=H$9)*(спскДатаЗвонков=$B31)*Данные[Длительность звонка])/60/60","v":{"v":0.8786111111111111,"d":"0.9"}},{"$f":"SUMPRODUCT((спскДатаЗвонков=$B31)*(Данные[Решен]=\"Да\"))/$C31","v":{"v":0.9550173010380623,"d":"96%"}},{"$f":"SUMPRODUCT((спскВыбора=J$9)*(спскДатаЗвонков=$B31)*(Данные[Решен]=\"Да\"))/D31","v":{"v":0.9782608695652174,"d":"98%"}},{"$f":"SUMPRODUCT((спскВыбора=K$9)*(спскДатаЗвонков=$B31)*(Данные[Решен]=\"Да\"))/E31","v":{"v":0.9534883720930233,"d":"95%"}},{"$f":"SUMPRODUCT((спскДатаЗвонков=$B31)*(Данные[Индекс удовлетворенности]))/$C31","v":{"v":3.0148788927335657,"d":"3.0149"}},{"$f":"SUMPRODUCT((спскДатаЗвонков=$B31)*(спскВыбора=M$9)*(Данные[Индекс удовлетворенности]))/$D31","v":{"v":3.12391304347826,"d":"3.1239"}},{"$f":"SUMPRODUCT((спскДатаЗвонков=$B31)*(спскВыбора=N$9)*(Данные[Индекс удовлетворенности]))/$E31","v":{"v":2.9767441860465116,"d":"2.9767"}},{"$f":"SUMPRODUCT((спскДатаЗвонков=$B31)*(Данные[Доп продажи]))","v":1014600},{"$f":"SUMPRODUCT((спскДатаЗвонков=$B31)*(спскВыбора=P$9)*(Данные[Доп продажи]))","v":179100},{"$f":"SUMPRODUCT((спскДатаЗвонков=$B31)*(спскВыбора=Q$9)*(Данные[Доп продажи]))","v":135900},null,5]
[null,"2013-09-21",288,{"$f":"SUMPRODUCT((спскДатаЗвонков=$B32)*(спскВыбора=D$9))","v":51},{"$f":"SUMPRODUCT((спскДатаЗвонков=$B32)*(спскВыбора=E$9))","v":38},{"$f":"SUMPRODUCT((спскДатаЗвонков=B32)*(Данные[Длительность звонка]))/60/60","v":{"v":5.962777777777777,"d":"6.0"}},{"$f":"SUMPRODUCT((спскВыбора=G$9)*(спскДатаЗвонков=$B32)*Данные[Длительность звонка])/60/60","v":{"v":1.0683333333333331,"d":"1.1"}},{"$f":"SUMPRODUCT((спскВыбора=H$9)*(спскДатаЗвонков=$B32)*Данные[Длительность звонка])/60/60","v":{"v":0.8163888888888889,"d":"0.8"}},{"$f":"SUMPRODUCT((спскДатаЗвонков=$B32)*(Данные[Решен]=\"Да\"))/$C32","v":{"v":0.96875,"d":"97%"}},{"$f":"SUMPRODUCT((спскВыбора=J$9)*(спскДатаЗвонков=$B32)*(Данные[Решен]=\"Да\"))/D32","v":{"v":0.9803921568627451,"d":"98%"}},{"$f":"SUMPRODUCT((спскВыбора=K$9)*(спскДатаЗвонков=$B32)*(Данные[Решен]=\"Да\"))/E32","v":{"v":0.9736842105263158,"d":"97%"}},{"$f":"SUMPRODUCT((спскДатаЗвонков=$B32)*(Данные[Индекс удовлетворенности]))/$C32","v":{"v":3.0461805555555563,"d":"3.0462"}},{"$f":"SUMPRODUCT((спскДатаЗвонков=$B32)*(спскВыбора=M$9)*(Данные[Индекс удовлетворенности]))/$D32","v":{"v":3.149019607843137,"d":"3.1490"}},{"$f":"SUMPRODUCT((спскДатаЗвонков=$B32)*(спскВыбора=N$9)*(Данные[Индекс удовлетворенности]))/$E32","v":{"v":3.139473684210527,"d":"3.1395"}},{"$f":"SUMPRODUCT((спскДатаЗвонков=$B32)*(Данные[Доп продажи]))","v":962100},{"$f":"SUMPRODUCT((спскДатаЗвонков=$B32)*(спскВыбора=P$9)*(Данные[Доп продажи]))","v":137700},{"$f":"SUMPRODUCT((спскДатаЗвонков=$B32)*(спскВыбора=Q$9)*(Данные[Доп продажи]))","v":115500},null,6]
[null,"2013-09-22",294,{"$f":"SUMPRODUCT((спскДатаЗвонков=$B33)*(спскВыбора=D$9))","v":55},{"$f":"SUMPRODUCT((спскДатаЗвонков=$B33)*(спскВыбора=E$9))","v":51},{"$f":"SUMPRODUCT((спскДатаЗвонков=B33)*(Данные[Длительность звонка]))/60/60","v":{"v":6.191944444444444,"d":"6.2"}},{"$f":"SUMPRODUCT((спскВыбора=G$9)*(спскДатаЗвонков=$B33)*Данные[Длительность звонка])/60/60","v":{"v":1.172222222222222,"d":"1.2"}},{"$f":"SUMPRODUCT((спскВыбора=H$9)*(спскДатаЗвонков=$B33)*Данные[Длительность звонка])/60/60","v":{"v":1.0822222222222222,"d":"1.1"}},{"$f":"SUMPRODUCT((спскДатаЗвонков=$B33)*(Данные[Решен]=\"Да\"))/$C33","v":{"v":0.9455782312925171,"d":"95%"}},{"$f":"SUMPRODUCT((спскВыбора=J$9)*(спскДатаЗвонков=$B33)*(Данные[Решен]=\"Да\"))/D33","v":{"v":0.9636363636363636,"d":"96%"}},{"$f":"SUMPRODUCT((спскВыбора=K$9)*(спскДатаЗвонков=$B33)*(Данные[Решен]=\"Да\"))/E33","v":{"v":0.9411764705882353,"d":"94%"}},{"$f":"SUMPRODUCT((спскДатаЗвонков=$B33)*(Данные[Индекс удовлетворенности]))/$C33","v":{"v":3.010884353741497,"d":"3.0109"}},{"$f":"SUMPRODUCT((спскДатаЗвонков=$B33)*(спскВыбора=M$9)*(Данные[Индекс удовлетворенности]))/$D33","v":{"v":3.101818181818181,"d":"3.1018"}},{"$f":"SUMPRODUCT((спскДатаЗвонков=$B33)*(спскВыбора=N$9)*(Данные[Индекс удовлетворенности]))/$E33","v":{"v":2.9862745098039207,"d":"2.9863"}},{"$f":"SUMPRODUCT((спскДатаЗвонков=$B33)*(Данные[Доп продажи]))","v":1114500},{"$f":"SUMPRODUCT((спскДатаЗвонков=$B33)*(спскВыбора=P$9)*(Данные[Доп продажи]))","v":193800},{"$f":"SUMPRODUCT((спскДатаЗвонков=$B33)*(спскВыбора=Q$9)*(Данные[Доп продажи]))","v":173100},null,7]
[null,"2013-09-23",311,{"$f":"SUMPRODUCT((спскДатаЗвонков=$B34)*(спскВыбора=D$9))","v":44},{"$f":"SUMPRODUCT((спскДатаЗвонков=$B34)*(спскВыбора=E$9))","v":62},{"$f":"SUMPRODUCT((спскДатаЗвонков=B34)*(Данные[Длительность звонка]))/60/60","v":{"v":6.490833333333333,"d":"6.5"}},{"$f":"SUMPRODUCT((спскВыбора=G$9)*(спскДатаЗвонков=$B34)*Данные[Длительность звонка])/60/60","v":{"v":0.9230555555555555,"d":"0.9"}},{"$f":"SUMPRODUCT((спскВыбора=H$9)*(спскДатаЗвонков=$B34)*Данные[Длительность звонка])/60/60","v":{"v":1.26,"d":"1.3"}},{"$f":"SUMPRODUCT((спскДатаЗвонков=$B34)*(Данные[Решен]=\"Да\"))/$C34","v":{"v":0.9710610932475884,"d":"97%"}},{"$f":"SUMPRODUCT((спскВыбора=J$9)*(спскДатаЗвонков=$B34)*(Данные[Решен]=\"Да\"))/D34","v":{"v":0.9545454545454546,"d":"95%"}},{"$f":"SUMPRODUCT((спскВыбора=K$9)*(спскДатаЗвонков=$B34)*(Данные[Решен]=\"Да\"))/E34","v":{"v":0.9838709677419355,"d":"98%"}},{"$f":"SUMPRODUCT((спскДатаЗвонков=$B34)*(Данные[Индекс удовлетворенности]))/$C34","v":{"v":2.977813504823151,"d":"2.9778"}},{"$f":"SUMPRODUCT((спскДатаЗвонков=$B34)*(спскВыбора=M$9)*(Данные[Индекс удовлетворенности]))/$D34","v":{"v":3.0295454545454548,"d":"3.0295"}},{"$f":"SUMPRODUCT((спскДатаЗвонков=$B34)*(спскВыбора=N$9)*(Данные[Индекс удовлетворенности]))/$E34","v":{"v":2.9419354838709673,"d":"2.9419"}},{"$f":"SUMPRODUCT((спскДатаЗвонков=$B34)*(Данные[Доп продажи]))","v":1043700},{"$f":"SUMPRODUCT((спскДатаЗвонков=$B34)*(спскВыбора=P$9)*(Данные[Доп продажи]))","v":159000},{"$f":"SUMPRODUCT((спскДатаЗвонков=$B34)*(спскВыбора=Q$9)*(Данные[Доп продажи]))","v":186300},null,1]
[null,"2013-09-24",298,{"$f":"SUMPRODUCT((спскДатаЗвонков=$B35)*(спскВыбора=D$9))","v":52},{"$f":"SUMPRODUCT((спскДатаЗвонков=$B35)*(спскВыбора=E$9))","v":63},{"$f":"SUMPRODUCT((спскДатаЗвонков=B35)*(Данные[Длительность звонка]))/60/60","v":{"v":6.233611111111111,"d":"6.2"}},{"$f":"SUMPRODUCT((спскВыбора=G$9)*(спскДатаЗвонков=$B35)*Данные[Длительность звонка])/60/60","v":{"v":1.071388888888889,"d":"1.1"}},{"$f":"SUMPRODUCT((спскВыбора=H$9)*(спскДатаЗвонков=$B35)*Данные[Длительность звонка])/60/60","v":{"v":1.3127777777777778,"d":"1.3"}},{"$f":"SUMPRODUCT((спскДатаЗвонков=$B35)*(Данные[Решен]=\"Да\"))/$C35","v":{"v":0.9530201342281879,"d":"95%"}},{"$f":"SUMPRODUCT((спскВыбора=J$9)*(спскДатаЗвонков=$B35)*(Данные[Решен]=\"Да\"))/D35","v":{"v":0.9615384615384616,"d":"96%"}},{"$f":"SUMPRODUCT((спскВыбора=K$9)*(спскДатаЗвонков=$B35)*(Данные[Решен]=\"Да\"))/E35","v":{"v":0.9523809523809523,"d":"95%"}},{"$f":"SUMPRODUCT((спскДатаЗвонков=$B35)*(Данные[Индекс удовлетворенности]))/$C35","v":{"v":2.9879194630872488,"d":"2.9879"}},{"$f":"SUMPRODUCT((спскДатаЗвонков=$B35)*(спскВыбора=M$9)*(Данные[Индекс удовлетворенности]))/$D35","v":{"v":3.030769230769231,"d":"3.0308"}},{"$f":"SUMPRODUCT((спскДатаЗвонков=$B35)*(спскВыбора=N$9)*(Данные[Индекс удовлетворенности]))/$E35","v":{"v":2.984126984126984,"d":"2.9841"}},{"$f":"SUMPRODUCT((спскДатаЗвонков=$B35)*(Данные[Доп продажи]))","v":1110600},{"$f":"SUMPRODUCT((спскДатаЗвонков=$B35)*(спскВыбора=P$9)*(Данные[Доп продажи]))","v":206100},{"$f":"SUMPRODUCT((спскДатаЗвонков=$B35)*(спскВыбора=Q$9)*(Данные[Доп продажи]))","v":203700},null,2]
[null,"2013-09-25",288,{"$f":"SUMPRODUCT((спскДатаЗвонков=$B36)*(спскВыбора=D$9))","v":54},{"$f":"SUMPRODUCT((спскДатаЗвонков=$B36)*(спскВыбора=E$9))","v":51},{"$f":"SUMPRODUCT((спскДатаЗвонков=B36)*(Данные[Длительность звонка]))/60/60","v":{"v":5.980277777777777,"d":"6.0"}},{"$f":"SUMPRODUCT((спскВыбора=G$9)*(спскДатаЗвонков=$B36)*Данные[Длительность звонка])/60/60","v":{"v":1.1177777777777778,"d":"1.1"}},{"$f":"SUMPRODUCT((спскВыбора=H$9)*(спскДатаЗвонков=$B36)*Данные[Длительность звонка])/60/60","v":{"v":1.041388888888889,"d":"1.0"}},{"$f":"SUMPRODUCT((спскДатаЗвонков=$B36)*(Данные[Решен]=\"Да\"))/$C36","v":{"v":0.9340277777777778,"d":"93%"}},{"$f":"SUMPRODUCT((спскВыбора=J$9)*(спскДатаЗвонков=$B36)*(Данные[Решен]=\"Да\"))/D36","v":{"v":0.9629629629629629,"d":"96%"}},{"$f":"SUMPRODUCT((спскВыбора=K$9)*(спскДатаЗвонков=$B36)*(Данные[Решен]=\"Да\"))/E36","v":{"v":0.8823529411764706,"d":"88%"}},{"$f":"SUMPRODUCT((спскДатаЗвонков=$B36)*(Данные[Индекс удовлетворенности]))/$C36","v":{"v":2.9920138888888896,"d":"2.9920"}},{"$f":"SUMPRODUCT((спскДатаЗвонков=$B36)*(спскВыбора=M$9)*(Данные[Индекс удовлетворенности]))/$D36","v":{"v":3.024074074074074,"d":"3.0241"}},{"$f":"SUMPRODUCT((спскДатаЗвонков=$B36)*(спскВыбора=N$9)*(Данные[Индекс удовлетворенности]))/$E36","v":{"v":3.0529411764705885,"d":"3.0529"}},{"$f":"SUMPRODUCT((спскДатаЗвонков=$B36)*(Данные[Доп продажи]))","v":1040400},{"$f":"SUMPRODUCT((спскДатаЗвонков=$B36)*(спскВыбора=P$9)*(Данные[Доп продажи]))","v":183600},{"$f":"SUMPRODUCT((спскДатаЗвонков=$B36)*(спскВыбора=Q$9)*(Данные[Доп продажи]))","v":202200},null,3]
[null,"2013-09-26",294,{"$f":"SUMPRODUCT((спскДатаЗвонков=$B37)*(спскВыбора=D$9))","v":62},{"$f":"SUMPRODUCT((спскДатаЗвонков=$B37)*(спскВыбора=E$9))","v":34},{"$f":"SUMPRODUCT((спскДатаЗвонков=B37)*(Данные[Длительность звонка]))/60/60","v":{"v":6.104166666666667,"d":"6.1"}},{"$f":"SUMPRODUCT((спскВыбора=G$9)*(спскДатаЗвонков=$B37)*Данные[Длительность звонка])/60/60","v":{"v":1.291388888888889,"d":"1.3"}},{"$f":"SUMPRODUCT((спскВыбора=H$9)*(спскДатаЗвонков=$B37)*Данные[Длительность звонка])/60/60","v":{"v":0.7058333333333333,"d":"0.7"}},{"$f":"SUMPRODUCT((спскДатаЗвонков=$B37)*(Данные[Решен]=\"Да\"))/$C37","v":{"v":0.9489795918367347,"d":"95%"}},{"$f":"SUMPRODUCT((спскВыбора=J$9)*(спскДатаЗвонков=$B37)*(Данные[Решен]=\"Да\"))/D37","v":{"v":0.9193548387096774,"d":"92%"}},{"$f":"SUMPRODUCT((спскВыбора=K$9)*(спскДатаЗвонков=$B37)*(Данные[Решен]=\"Да\"))/E37","v":{"v":0.9705882352941176,"d":"97%"}},{"$f":"SUMPRODUCT((спскДатаЗвонков=$B37)*(Данные[Индекс удовлетворенности]))/$C37","v":{"v":3.0221088435374166,"d":"3.0221"}},{"$f":"SUMPRODUCT((спскДатаЗвонков=$B37)*(спскВыбора=M$9)*(Данные[Индекс удовлетворенности]))/$D37","v":{"v":2.988709677419354,"d":"2.9887"}},{"$f":"SUMPRODUCT((спскДатаЗвонков=$B37)*(спскВыбора=N$9)*(Данные[Индекс удовлетворенности]))/$E37","v":{"v":3.1176470588235285,"d":"3.1176"}},{"$f":"SUMPRODUCT((спскДатаЗвонков=$B37)*(Данные[Доп продажи]))","v":999600},{"$f":"SUMPRODUCT((спскДатаЗвонков=$B37)*(спскВыбора=P$9)*(Данные[Доп продажи]))","v":216000},{"$f":"SUMPRODUCT((спскДатаЗвонков=$B37)*(спскВыбора=Q$9)*(Данные[Доп продажи]))","v":117600},null,4]
[null,null,{"$f":"SUM(C10:C37)","v":8170},{"$f":"SUM(D10:D37)","v":1347},1351,{"$f":"ROUND(SUM(F10:F37)/C38*60*60,0)","v":{"v":75,"d":"75.0"}},{"$f":"ROUND(SUM(G10:G37)/D38*60*60,0)","v":{"v":75,"d":"75.0"}},{"$f":"ROUND(SUM(H10:H37)/E38*60*60,0)","v":{"v":75,"d":"75.0"}},{"$f":"SUMPRODUCT(I10:I37,C10:C37)/C38","v":{"v":0.9504283965728274,"d":"95%"}},{"$f":"SUMPRODUCT(J10:J37,D10:D37)/D38","v":{"v":0.9561989606533037,"d":"96%"}},{"$f":"SUMPRODUCT(K10:K37,E10:E37)/E38","v":{"v":0.9533678756476683,"d":"95%"}},{"$f":"SUMPRODUCT(L10:L37,C10:C37)/C38","v":{"v":2.993096695226438,"d":"2.9931"}},{"$f":"SUMPRODUCT(M10:M37,D10:D37)/D38","v":{"v":3.0223459539717896,"d":"3.0223"}},{"$f":"SUMPRODUCT(N10:N37,E10:E37)/E38","v":{"v":2.9918578830495925,"d":"2.9919"}},{"$f":"SUM(O10:O37)","v":29604900},{"$f":"SUM(P10:P37)","v":4805700},{"$f":"SUM(Q10:Q37)","v":4718400}]
[{"$nulls":14},{"$f":"O38/1000 & \" т.р.\"","v":"29604.9 т.р."},{"$f":"P38/1000 & \" т.р.\"","v":"4805.7 т.р."},"4718.4 т.р."]
[]
[null,"Распределение по дням",{"$nulls":9},"ИТОГО",{"$f":"M9","v":"Софт"},{"$f":"N9","v":"Ноутбук"},"% звонков с дополнительными продажами"]
[1,"Понедельник",{"$f":"SUMIFS($C$10:$C$37,$S$10:$S$37,A42)","v":1179},{"$nulls":7},1,{"$f":"SUMPRODUCT((спскДатаЗвонков>=$D$6)*(спскДатаЗвонков<=$E$6)*(Данные[Индекс удовлетворенности]<=$K42))","v":1},{"$f":"SUMPRODUCT((спскДатаЗвонков>=$D$6)*(спскДатаЗвонков<=$E$6)*(спскВыбора=M$41)*(Данные[Индекс удовлетворенности]<=$K42))","v":0},{"$f":"SUMPRODUCT((спскДатаЗвонков>=$D$6)*(спскДатаЗвонков<=$E$6)*(спскВыбора=N$41)*(Данные[Индекс удовлетворенности]<=$K42))","v":0},{"$f":"SUMPRODUCT((спскДатаЗвонков>=$D$6)*(спскДатаЗвонков<=$E$6)*(Данные[Доп продажи]>0))/$C$38","v":{"v":0.6037943696450428,"d":"60%"}},{"$f":"SUMPRODUCT((спскДатаЗвонков>=$D$6)*(спскДатаЗвонков<=$E$6)*(спскВыбора=P$9)*(Данные[Доп продажи]>0))/D$38","v":{"v":0.5976243504083147,"d":"60%"}},{"$f":"SUMPRODUCT((спскДатаЗвонков>=$D$6)*(спскДатаЗвонков<=$E$6)*(спскВыбора=P$9)*(Данные[Доп продажи]>0))/E$38","v":{"v":0.5958549222797928,"d":"60%"}}]
[2,"Вторник",{"$f":"SUMIFS($C$10:$C$37,$S$10:$S$37,A43)","v":1184},{"$nulls":7},2,{"$f":"SUMPRODUCT((спскДатаЗвонков>=$D$6)*(спскДатаЗвонков<=$E$6)*(Данные[Индекс удовлетворенности]<=$K43))","v":264},{"$f":"SUMPRODUCT((спскДатаЗвонков>=$D$6)*(спскДатаЗвонков<=$E$6)*(спскВыбора=M$41)*(Данные[Индекс удовлетворенности]<=$K43))","v":37},{"$f":"SUMPRODUCT((спскДатаЗвонков>=$D$6)*(спскДатаЗвонков<=$E$6)*(спскВыбора=N$41)*(Данные[Индекс удовлетворенности]<=$K43))","v":38}]
[3,"Среда",{"$f":"SUMIFS($C$10:$C$37,$S$10:$S$37,A44)","v":1181},{"$nulls":7},3,{"$f":"SUMPRODUCT((спскДатаЗвонков>=$D$6)*(спскДатаЗвонков<=$E$6)*(Данные[Индекс удовлетворенности]<=$K44))","v":4454},{"$f":"SUMPRODUCT((спскДатаЗвонков>=$D$6)*(спскДатаЗвонков<=$E$6)*(спскВыбора=M$41)*(Данные[Индекс удовлетворенности]<=$K44))","v":693},{"$f":"SUMPRODUCT((спскДатаЗвонков>=$D$6)*(спскДатаЗвонков<=$E$6)*(спскВыбора=N$41)*(Данные[Индекс удовлетворенности]<=$K44))","v":757}]
[4,"Четверг",1175,{"$nulls":7},4,{"$f":"SUMPRODUCT((спскДатаЗвонков>=$D$6)*(спскДатаЗвонков<=$E$6)*(Данные[Индекс удовлетворенности]<=$K45))","v":8029},{"$f":"SUMPRODUCT((спскДатаЗвонков>=$D$6)*(спскДатаЗвонков<=$E$6)*(спскВыбора=M$41)*(Данные[Индекс удовлетворенности]<=$K45))","v":1316},{"$f":"SUMPRODUCT((спскДатаЗвонков>=$D$6)*(спскДатаЗвонков<=$E$6)*(спскВыбора=N$41)*(Данные[Индекс удовлетворенности]<=$K45))","v":1328}]
[5,"Пятница",1158,{"$nulls":7},5,{"$f":"SUMPRODUCT((спскДатаЗвонков>=$D$6)*(спскДатаЗвонков<=$E$6)*(Данные[Индекс удовлетворенности]<=$K46))","v":8170},{"$f":"SUMPRODUCT((спскДатаЗвонков>=$D$6)*(спскДатаЗвонков<=$E$6)*(спскВыбора=M$41)*(Данные[Индекс удовлетворенности]<=$K46))","v":1347},{"$f":"SUMPRODUCT((спскДатаЗвонков>=$D$6)*(спскДатаЗвонков<=$E$6)*(спскВыбора=N$41)*(Данные[Индекс удовлетворенности]<=$K46))","v":1351}]
[6,"Суббота",1130]
[7,"Воскресенье",1163,{"$nulls":11},"Upsell Distribution by Product"]
[{"$nulls":13},"#","Категория","Сумма доп продаж"]
[{"$nulls":13},1,{"$f":"IFERROR(INDEX(спскПродуктов,N50),\"\")","v":"Монитор"},{"$f":"SUMPRODUCT((спскДатаЗвонков>=$D$6)*(спскДатаЗвонков<=$E$6)*(Данные[Категория продукта]=O50)*(Данные[Доп продажи]))","v":5229000}]
[{"$nulls":13},2,"Персональный ПК",{"$f":"SUMPRODUCT((спскДатаЗвонков>=$D$6)*(спскДатаЗвонков<=$E$6)*(Данные[Категория продукта]=O51)*(Данные[Доп продажи]))","v":4803300}]
[{"$nulls":13},3,"Ноутбук",{"$f":"SUMPRODUCT((спскДатаЗвонков>=$D$6)*(спскДатаЗвонков<=$E$6)*(Данные[Категория продукта]=O52)*(Данные[Доп продажи]))","v":4718400}]
[{"$nulls":13},4,{"$f":"IFERROR(INDEX(спскПродуктов,N53),\"\")","v":"Аксессуары"},{"$f":"SUMPRODUCT((спскДатаЗвонков>=$D$6)*(спскДатаЗвонков<=$E$6)*(Данные[Категория продукта]=O53)*(Данные[Доп продажи]))","v":4862400}]
[{"$nulls":13},5,"Софт",{"$f":"SUMPRODUCT((спскДатаЗвонков>=$D$6)*(спскДатаЗвонков<=$E$6)*(Данные[Категория продукта]=O54)*(Данные[Доп продажи]))","v":4805700}]
[{"$nulls":13},6,"Другое",{"$f":"SUMPRODUCT((спскДатаЗвонков>=$D$6)*(спскДатаЗвонков<=$E$6)*(Данные[Категория продукта]=O55)*(Данные[Доп продажи]))","v":5186100}]
[{"$nulls":13},7,"",{"$f":"SUMPRODUCT((спскДатаЗвонков>=$D$6)*(спскДатаЗвонков<=$E$6)*(Данные[Категория продукта]=O56)*(Данные[Доп продажи]))","v":0}]
[{"$nulls":13},8,"",{"$f":"SUMPRODUCT((спскДатаЗвонков>=$D$6)*(спскДатаЗвонков<=$E$6)*(Данные[Категория продукта]=O57)*(Данные[Доп продажи]))","v":0}]
[{"$nulls":13},9,"",{"$f":"SUMPRODUCT((спскДатаЗвонков>=$D$6)*(спскДатаЗвонков<=$E$6)*(Данные[Категория продукта]=O58)*(Данные[Доп продажи]))","v":0}]
[]
[{"$nulls":11},"last call position  + 1",{"$f":"MATCH(E6+1,спскДатаЗвонков,0)","v":9027},{"$f":"COUNTIF(N62:N1061,TRUE)","v":185},{"$f":"COUNTIF(O62:O1061,TRUE)","v":169},"Звонки ИСТИНА",null,"Последние 100 звонков"]
[null,"Расчеты для сравнения",{"$nulls":9},"Последние 100 звонков","ВСЕ",{"$f":"M9","v":"Софт"},{"$f":"N9","v":"Ноутбук"},{"$f":"N61","v":"Софт"},{"$f":"O61","v":"Ноутбук"},{"$f":"P61","v":"Софт"},{"$f":"Q61","v":"Ноутбук"}]
[null,"Название диаграммы",{"$f":"N61","v":"Софт"},{"$f":"O61","v":"Ноутбук"},{"$nulls":7},1,{"$f":"IF(INDEX(Данные[Решен],$M$60-$L62)=\"Да\",1,-1)","v":1},{"$f":"(INDEX(спскВыбора,$M$60-$L62)=N$61)","v":false},{"$f":"(INDEX(спскВыбора,$M$60-$L62)=O$61)","v":false},{"$f":"N62+0","v":0},{"$f":"O62+0","v":0},{"$f":"IF(INDEX(Данные[Решен],$M$60-MATCH(L62,P$62:P$1061,0))=\"Да\",1,-1)","v":-1},{"$f":"IF(INDEX(Данные[Решен],$M$60-MATCH(L62,Q$62:Q$1061,0))=\"Да\",1,-1)","v":1}]
[null,"Пункты в выбранном измерении",{"$nulls":9},2,{"$f":"IF(INDEX(Данные[Решен],$M$60-$L63)=\"Да\",1,-1)","v":-1},{"$f":"(INDEX(спскВыбора,$M$60-$L63)=N$61)","v":true},{"$f":"(INDEX(спскВыбора,$M$60-$L63)=O$61)","v":false},{"$f":"P62+N63","v":1},{"$f":"Q62+O63","v":0},{"$f":"IF(INDEX(Данные[Решен],$M$60-MATCH(L63,P$62:P$1061,0))=\"Да\",1,-1)","v":1},{"$f":"IF(INDEX(Данные[Решен],$M$60-MATCH(L63,Q$62:Q$1061,0))=\"Да\",1,-1)","v":1}]
["ID","Item","Calls",{"$nulls":8},3,{"$f":"IF(INDEX(Данные[Решен],$M$60-$L64)=\"Да\",1,-1)","v":1},{"$f":"(INDEX(спскВыбора,$M$60-$L64)=N$61)","v":true},{"$f":"(INDEX(спскВыбора,$M$60-$L64)=O$61)","v":false},{"$f":"P63+N64","v":2},{"$f":"Q63+O64","v":0},{"$f":"IF(INDEX(Данные[Решен],$M$60-MATCH(L64,P$62:P$1061,0))=\"Да\",1,-1)","v":1},{"$f":"IF(INDEX(Данные[Решен],$M$60-MATCH(L64,Q$62:Q$1061,0))=\"Да\",1,-1)","v":1}]
[1,{"$f":"IFERROR(INDEX(Данные!$M$6:$P$11,A65,Расчеты!$C$4),\"\")","v":"Монитор"},{"$f":"SUMPRODUCT((спскДатаЗвонков>=$D$6)*(спскДатаЗвонков<=$E$6)*(спскВыбора=B65))","v":1384},{"$f":"IF(B65=\"\",\"\",TEXT(C65,\"#,##\")&\" звонков\")","v":"13,84 звонков"},{"$nulls":7},4,{"$f":"IF(INDEX(Данные[Решен],$M$60-$L65)=\"Да\",1,-1)","v":1},{"$f":"(INDEX(спскВыбора,$M$60-$L65)=N$61)","v":false},{"$f":"(INDEX(спскВыбора,$M$60-$L65)=O$61)","v":false},2,0,{"$f":"IF(INDEX(Данные[Решен],$M$60-MATCH(L65,P$62:P$1061,0))=\"Да\",1,-1)","v":1},{"$f":"IF(INDEX(Данные[Решен],$M$60-MATCH(L65,Q$62:Q$1061,0))=\"Да\",1,-1)","v":-1}]
[2,{"$f":"IFERROR(INDEX(Данные!$M$6:$P$11,A66,Расчеты!$C$4),\"\")","v":"Персональный ПК"},{"$f":"SUMPRODUCT((спскДатаЗвонков>=$D$6)*(спскДатаЗвонков<=$E$6)*(спскВыбора=B66))","v":1347},{"$f":"IF(B66=\"\",\"\",TEXT(C66,\"#,##\"))","v":"13,47"},{"$nulls":7},5,{"$f":"IF(INDEX(Данные[Решен],$M$60-$L66)=\"Да\",1,-1)","v":1},{"$f":"(INDEX(спскВыбора,$M$60-$L66)=N$61)","v":false},{"$f":"(INDEX(спскВыбора,$M$60-$L66)=O$61)","v":false},2,0,{"$f":"IF(INDEX(Данные[Решен],$M$60-MATCH(L66,P$62:P$1061,0))=\"Да\",1,-1)","v":-1},{"$f":"IF(INDEX(Данные[Решен],$M$60-MATCH(L66,Q$62:Q$1061,0))=\"Да\",1,-1)","v":1}]
[3,{"$f":"IFERROR(INDEX(Данные!$M$6:$P$11,A67,Расчеты!$C$4),\"\")","v":"Ноутбук"},{"$f":"SUMPRODUCT((спскДатаЗвонков>=$D$6)*(спскДатаЗвонков<=$E$6)*(спскВыбора=B67))","v":1351},{"$f":"IF(B67=\"\",\"\",TEXT(C67,\"#,##\"))","v":"13,51"},{"$nulls":7},6,{"$f":"IF(INDEX(Данные[Решен],$M$60-$L67)=\"Да\",1,-1)","v":1},{"$f":"(INDEX(спскВыбора,$M$60-$L67)=N$61)","v":false},{"$f":"(INDEX(спскВыбора,$M$60-$L67)=O$61)","v":false},2,0,{"$f":"IF(INDEX(Данные[Решен],$M$60-MATCH(L67,P$62:P$1061,0))=\"Да\",1,-1)","v":1},{"$f":"IF(INDEX(Данные[Решен],$M$60-MATCH(L67,Q$62:Q$1061,0))=\"Да\",1,-1)","v":1}]
[4,{"$f":"IFERROR(INDEX(Данные!$M$6:$P$11,A68,Расчеты!$C$4),\"\")","v":"Аксессуары"},{"$f":"SUMPRODUCT((спскДатаЗвонков>=$D$6)*(спскДатаЗвонков<=$E$6)*(спскВыбора=B68))","v":1347},"13,47",{"$nulls":7},7,{"$f":"IF(INDEX(Данные[Решен],$M$60-$L68)=\"Да\",1,-1)","v":1},{"$f":"(INDEX(спскВыбора,$M$60-$L68)=N$61)","v":false},{"$f":"(INDEX(спскВыбора,$M$60-$L68)=O$61)","v":false},2,0,{"$f":"IF(INDEX(Данные[Решен],$M$60-MATCH(L68,P$62:P$1061,0))=\"Да\",1,-1)","v":1},{"$f":"IF(INDEX(Данные[Решен],$M$60-MATCH(L68,Q$62:Q$1061,0))=\"Да\",1,-1)","v":1}]
[5,{"$f":"IFERROR(INDEX(Данные!$M$6:$P$11,A69,Расчеты!$C$4),\"\")","v":"Софт"},{"$f":"SUMPRODUCT((спскДатаЗвонков>=$D$6)*(спскДатаЗвонков<=$E$6)*(спскВыбора=B69))","v":1347},"13,47",{"$nulls":7},8,{"$f":"IF(INDEX(Данные[Решен],$M$60-$L69)=\"Да\",1,-1)","v":1},{"$f":"(INDEX(спскВыбора,$M$60-$L69)=N$61)","v":false},{"$f":"(INDEX(спскВыбора,$M$60-$L69)=O$61)","v":false},{"$f":"P68+N69","v":2},{"$f":"Q68+O69","v":0},{"$f":"IF(INDEX(Данные[Решен],$M$60-MATCH(L69,P$62:P$1061,0))=\"Да\",1,-1)","v":1},{"$f":"IF(INDEX(Данные[Решен],$M$60-MATCH(L69,Q$62:Q$1061,0))=\"Да\",1,-1)","v":1}]
[6,{"$f":"IFERROR(INDEX(Данные!$M$6:$P$11,A70,Расчеты!$C$4),\"\")","v":"Другое"},{"$f":"SUMPRODUCT((спскДатаЗвонков>=$D$6)*(спскДатаЗвонков<=$E$6)*(спскВыбора=B70))","v":1394},"13,94",{"$nulls":7},9,{"$f":"IF(INDEX(Данные[Решен],$M$60-$L70)=\"Да\",1,-1)","v":1},{"$f":"(INDEX(спскВыбора,$M$60-$L70)=N$61)","v":true},{"$f":"(INDEX(спскВыбора,$M$60-$L70)=O$61)","v":false},3,0,{"$f":"IF(INDEX(Данные[Решен],$M$60-MATCH(L70,P$62:P$1061,0))=\"Да\",1,-1)","v":1},{"$f":"IF(INDEX(Данные[Решен],$M$60-MATCH(L70,Q$62:Q$1061,0))=\"Да\",1,-1)","v":1}]
[{"$nulls":11},10,{"$f":"IF(INDEX(Данные[Решен],$M$60-$L71)=\"Да\",1,-1)","v":1},{"$f":"(INDEX(спскВыбора,$M$60-$L71)=N$61)","v":false},{"$f":"(INDEX(спскВыбора,$M$60-$L71)=O$61)","v":false},3,0,{"$f":"IF(INDEX(Данные[Решен],$M$60-MATCH(L71,P$62:P$1061,0))=\"Да\",1,-1)","v":-1},{"$f":"IF(INDEX(Данные[Решен],$M$60-MATCH(L71,Q$62:Q$1061,0))=\"Да\",1,-1)","v":1}]
[null,"Разговоры по дням",{"$nulls":9},11,{"$f":"IF(INDEX(Данные[Решен],$M$60-$L72)=\"Да\",1,-1)","v":1},{"$f":"(INDEX(спскВыбора,$M$60-$L72)=N$61)","v":false},{"$f":"(INDEX(спскВыбора,$M$60-$L72)=O$61)","v":false},3,0,{"$f":"IF(INDEX(Данные[Решен],$M$60-MATCH(L72,P$62:P$1061,0))=\"Да\",1,-1)","v":-1},{"$f":"IF(INDEX(Данные[Решен],$M$60-MATCH(L72,Q$62:Q$1061,0))=\"Да\",1,-1)","v":1}]
[{"$nulls":11},12,{"$f":"IF(INDEX(Данные[Решен],$M$60-$L73)=\"Да\",1,-1)","v":1},{"$f":"(INDEX(спскВыбора,$M$60-$L73)=N$61)","v":false},{"$f":"(INDEX(спскВыбора,$M$60-$L73)=O$61)","v":false},3,0,{"$f":"IF(INDEX(Данные[Решен],$M$60-MATCH(L73,P$62:P$1061,0))=\"Да\",1,-1)","v":1},{"$f":"IF(INDEX(Данные[Решен],$M$60-MATCH(L73,Q$62:Q$1061,0))=\"Да\",1,-1)","v":1}]
[{"$nulls":11},13,{"$f":"IF(INDEX(Данные[Решен],$M$60-$L74)=\"Да\",1,-1)","v":1},{"$f":"(INDEX(спскВыбора,$M$60-$L74)=N$61)","v":false},{"$f":"(INDEX(спскВыбора,$M$60-$L74)=O$61)","v":false},3,0,{"$f":"IF(INDEX(Данные[Решен],$M$60-MATCH(L74,P$62:P$1061,0))=\"Да\",1,-1)","v":1},{"$f":"IF(INDEX(Данные[Решен],$M$60-MATCH(L74,Q$62:Q$1061,0))=\"Да\",1,-1)","v":1}]
[{"$nulls":11},14,{"$f":"IF(INDEX(Данные[Решен],$M$60-$L75)=\"Да\",1,-1)","v":1},{"$f":"(INDEX(спскВыбора,$M$60-$L75)=N$61)","v":false},{"$f":"(INDEX(спскВыбора,$M$60-$L75)=O$61)","v":false},{"$f":"P74+N75","v":3},{"$f":"Q74+O75","v":0},{"$f":"IF(INDEX(Данные[Решен],$M$60-MATCH(L75,P$62:P$1061,0))=\"Да\",1,-1)","v":1},{"$f":"IF(INDEX(Данные[Решен],$M$60-MATCH(L75,Q$62:Q$1061,0))=\"Да\",1,-1)","v":1}]
[{"$nulls":11},15,{"$f":"IF(INDEX(Данные[Решен],$M$60-$L76)=\"Да\",1,-1)","v":1},{"$f":"(INDEX(спскВыбора,$M$60-$L76)=N$61)","v":false},{"$f":"(INDEX(спскВыбора,$M$60-$L76)=O$61)","v":false},3,0,{"$f":"IF(INDEX(Данные[Решен],$M$60-MATCH(L76,P$62:P$1061,0))=\"Да\",1,-1)","v":1},{"$f":"IF(INDEX(Данные[Решен],$M$60-MATCH(L76,Q$62:Q$1061,0))=\"Да\",1,-1)","v":1}]
[{"$nulls":11},16,{"$f":"IF(INDEX(Данные[Решен],$M$60-$L77)=\"Да\",1,-1)","v":1},{"$f":"(INDEX(спскВыбора,$M$60-$L77)=N$61)","v":false},{"$f":"(INDEX(спскВыбора,$M$60-$L77)=O$61)","v":false},3,0,{"$f":"IF(INDEX(Данные[Решен],$M$60-MATCH(L77,P$62:P$1061,0))=\"Да\",1,-1)","v":1},{"$f":"IF(INDEX(Данные[Решен],$M$60-MATCH(L77,Q$62:Q$1061,0))=\"Да\",1,-1)","v":1}]
[{"$nulls":11},17,{"$f":"IF(INDEX(Данные[Решен],$M$60-$L78)=\"Да\",1,-1)","v":1},{"$f":"(INDEX(спскВыбора,$M$60-$L78)=N$61)","v":true},{"$f":"(INDEX(спскВыбора,$M$60-$L78)=O$61)","v":false},4,0,{"$f":"IF(INDEX(Данные[Решен],$M$60-MATCH(L78,P$62:P$1061,0))=\"Да\",1,-1)","v":1},{"$f":"IF(INDEX(Данные[Решен],$M$60-MATCH(L78,Q$62:Q$1061,0))=\"Да\",1,-1)","v":1}]
[{"$nulls":11},18,{"$f":"IF(INDEX(Данные[Решен],$M$60-$L79)=\"Да\",1,-1)","v":1},{"$f":"(INDEX(спскВыбора,$M$60-$L79)=N$61)","v":false},{"$f":"(INDEX(спскВыбора,$M$60-$L79)=O$61)","v":true},4,1,{"$f":"IF(INDEX(Данные[Решен],$M$60-MATCH(L79,P$62:P$1061,0))=\"Да\",1,-1)","v":1},{"$f":"IF(INDEX(Данные[Решен],$M$60-MATCH(L79,Q$62:Q$1061,0))=\"Да\",1,-1)","v":1}]
[{"$nulls":11},19,{"$f":"IF(INDEX(Данные[Решен],$M$60-$L80)=\"Да\",1,-1)","v":1},{"$f":"(INDEX(спскВыбора,$M$60-$L80)=N$61)","v":false},{"$f":"(INDEX(спскВыбора,$M$60-$L80)=O$61)","v":false},4,1,{"$f":"IF(INDEX(Данные[Решен],$M$60-MATCH(L80,P$62:P$1061,0))=\"Да\",1,-1)","v":1},{"$f":"IF(INDEX(Данные[Решен],$M$60-MATCH(L80,Q$62:Q$1061,0))=\"Да\",1,-1)","v":1}]
[{"$nulls":11},20,{"$f":"IF(INDEX(Данные[Решен],$M$60-$L81)=\"Да\",1,-1)","v":-1},{"$f":"(INDEX(спскВыбора,$M$60-$L81)=N$61)","v":true},{"$f":"(INDEX(спскВыбора,$M$60-$L81)=O$61)","v":false},5,1,{"$f":"IF(INDEX(Данные[Решен],$M$60-MATCH(L81,P$62:P$1061,0))=\"Да\",1,-1)","v":1},{"$f":"IF(INDEX(Данные[Решен],$M$60-MATCH(L81,Q$62:Q$1061,0))=\"Да\",1,-1)","v":1}]
[{"$nulls":11},21,{"$f":"IF(INDEX(Данные[Решен],$M$60-$L82)=\"Да\",1,-1)","v":1},{"$f":"(INDEX(спскВыбора,$M$60-$L82)=N$61)","v":false},{"$f":"(INDEX(спскВыбора,$M$60-$L82)=O$61)","v":true},5,2,{"$f":"IF(INDEX(Данные[Решен],$M$60-MATCH(L82,P$62:P$1061,0))=\"Да\",1,-1)","v":1},{"$f":"IF(INDEX(Данные[Решен],$M$60-MATCH(L82,Q$62:Q$1061,0))=\"Да\",1,-1)","v":1}]
[null,"Время разговора по дням",{"$nulls":9},22,{"$f":"IF(INDEX(Данные[Решен],$M$60-$L83)=\"Да\",1,-1)","v":1},{"$f":"(INDEX(спскВыбора,$M$60-$L83)=N$61)","v":true},{"$f":"(INDEX(спскВыбора,$M$60-$L83)=O$61)","v":false},6,2,{"$f":"IF(INDEX(Данные[Решен],$M$60-MATCH(L83,P$62:P$1061,0))=\"Да\",1,-1)","v":1},{"$f":"IF(INDEX(Данные[Решен],$M$60-MATCH(L83,Q$62:Q$1061,0))=\"Да\",1,-1)","v":1}]
[{"$nulls":11},23,{"$f":"IF(INDEX(Данные[Решен],$M$60-$L84)=\"Да\",1,-1)","v":1},{"$f":"(INDEX(спскВыбора,$M$60-$L84)=N$61)","v":false},{"$f":"(INDEX(спскВыбора,$M$60-$L84)=O$61)","v":false},6,2,{"$f":"IF(INDEX(Данные[Решен],$M$60-MATCH(L84,P$62:P$1061,0))=\"Да\",1,-1)","v":1},{"$f":"IF(INDEX(Данные[Решен],$M$60-MATCH(L84,Q$62:Q$1061,0))=\"Да\",1,-1)","v":1}]
[{"$nulls":11},24,{"$f":"IF(INDEX(Данные[Решен],$M$60-$L85)=\"Да\",1,-1)","v":1},{"$f":"(INDEX(спскВыбора,$M$60-$L85)=N$61)","v":false},{"$f":"(INDEX(спскВыбора,$M$60-$L85)=O$61)","v":false},6,2,{"$f":"IF(INDEX(Данные[Решен],$M$60-MATCH(L85,P$62:P$1061,0))=\"Да\",1,-1)","v":1},{"$f":"IF(INDEX(Данные[Решен],$M$60-MATCH(L85,Q$62:Q$1061,0))=\"Да\",1,-1)","v":1}]
[{"$nulls":11},25,{"$f":"IF(INDEX(Данные[Решен],$M$60-$L86)=\"Да\",1,-1)","v":1},{"$f":"(INDEX(спскВыбора,$M$60-$L86)=N$61)","v":false},{"$f":"(INDEX(спскВыбора,$M$60-$L86)=O$61)","v":false},{"$f":"P85+N86","v":6},2,{"$f":"IF(INDEX(Данные[Решен],$M$60-MATCH(L86,P$62:P$1061,0))=\"Да\",1,-1)","v":1},{"$f":"IF(INDEX(Данные[Решен],$M$60-MATCH(L86,Q$62:Q$1061,0))=\"Да\",1,-1)","v":1}]
[{"$nulls":11},26,{"$f":"IF(INDEX(Данные[Решен],$M$60-$L87)=\"Да\",1,-1)","v":1},{"$f":"(INDEX(спскВыбора,$M$60-$L87)=N$61)","v":true},{"$f":"(INDEX(спскВыбора,$M$60-$L87)=O$61)","v":false},7,2,{"$f":"IF(INDEX(Данные[Решен],$M$60-MATCH(L87,P$62:P$1061,0))=\"Да\",1,-1)","v":1},{"$f":"IF(INDEX(Данные[Решен],$M$60-MATCH(L87,Q$62:Q$1061,0))=\"Да\",1,-1)","v":1}]
[{"$nulls":11},27,{"$f":"IF(INDEX(Данные[Решен],$M$60-$L88)=\"Да\",1,-1)","v":1},{"$f":"(INDEX(спскВыбора,$M$60-$L88)=N$61)","v":false},{"$f":"(INDEX(спскВыбора,$M$60-$L88)=O$61)","v":false},7,2,{"$f":"IF(INDEX(Данные[Решен],$M$60-MATCH(L88,P$62:P$1061,0))=\"Да\",1,-1)","v":1},{"$f":"IF(INDEX(Данные[Решен],$M$60-MATCH(L88,Q$62:Q$1061,0))=\"Да\",1,-1)","v":1}]
[{"$nulls":11},28,{"$f":"IF(INDEX(Данные[Решен],$M$60-$L89)=\"Да\",1,-1)","v":1},{"$f":"(INDEX(спскВыбора,$M$60-$L89)=N$61)","v":true},{"$f":"(INDEX(спскВыбора,$M$60-$L89)=O$61)","v":false},8,2,{"$f":"IF(INDEX(Данные[Решен],$M$60-MATCH(L89,P$62:P$1061,0))=\"Да\",1,-1)","v":1},{"$f":"IF(INDEX(Данные[Решен],$M$60-MATCH(L89,Q$62:Q$1061,0))=\"Да\",1,-1)","v":1}]
[{"$nulls":11},29,{"$f":"IF(INDEX(Данные[Решен],$M$60-$L90)=\"Да\",1,-1)","v":1},{"$f":"(INDEX(спскВыбора,$M$60-$L90)=N$61)","v":false},{"$f":"(INDEX(спскВыбора,$M$60-$L90)=O$61)","v":true},8,3,{"$f":"IF(INDEX(Данные[Решен],$M$60-MATCH(L90,P$62:P$1061,0))=\"Да\",1,-1)","v":1},{"$f":"IF(INDEX(Данные[Решен],$M$60-MATCH(L90,Q$62:Q$1061,0))=\"Да\",1,-1)","v":1}]
[{"$nulls":11},30,{"$f":"IF(INDEX(Данные[Решен],$M$60-$L91)=\"Да\",1,-1)","v":1},{"$f":"(INDEX(спскВыбора,$M$60-$L91)=N$61)","v":false},{"$f":"(INDEX(спскВыбора,$M$60-$L91)=O$61)","v":false},8,3,{"$f":"IF(INDEX(Данные[Решен],$M$60-MATCH(L91,P$62:P$1061,0))=\"Да\",1,-1)","v":1},{"$f":"IF(INDEX(Данные[Решен],$M$60-MATCH(L91,Q$62:Q$1061,0))=\"Да\",1,-1)","v":1}]
[{"$nulls":11},31,{"$f":"IF(INDEX(Данные[Решен],$M$60-$L92)=\"Да\",1,-1)","v":1},{"$f":"(INDEX(спскВыбора,$M$60-$L92)=N$61)","v":true},{"$f":"(INDEX(спскВыбора,$M$60-$L92)=O$61)","v":false},9,3,{"$f":"IF(INDEX(Данные[Решен],$M$60-MATCH(L92,P$62:P$1061,0))=\"Да\",1,-1)","v":1},{"$f":"IF(INDEX(Данные[Решен],$M$60-MATCH(L92,Q$62:Q$1061,0))=\"Да\",1,-1)","v":1}]
[{"$nulls":11},32,{"$f":"IF(INDEX(Данные[Решен],$M$60-$L93)=\"Да\",1,-1)","v":1},{"$f":"(INDEX(спскВыбора,$M$60-$L93)=N$61)","v":false},{"$f":"(INDEX(спскВыбора,$M$60-$L93)=O$61)","v":false},9,3,{"$f":"IF(INDEX(Данные[Решен],$M$60-MATCH(L93,P$62:P$1061,0))=\"Да\",1,-1)","v":1},{"$f":"IF(INDEX(Данные[Решен],$M$60-MATCH(L93,Q$62:Q$1061,0))=\"Да\",1,-1)","v":1}]
[null,"Индекс решения",{"$nulls":9},33,{"$f":"IF(INDEX(Данные[Решен],$M$60-$L94)=\"Да\",1,-1)","v":1},{"$f":"(INDEX(спскВыбора,$M$60-$L94)=N$61)","v":false},{"$f":"(INDEX(спскВыбора,$M$60-$L94)=O$61)","v":false},9,3,{"$f":"IF(INDEX(Данные[Решен],$M$60-MATCH(L94,P$62:P$1061,0))=\"Да\",1,-1)","v":1},{"$f":"IF(INDEX(Данные[Решен],$M$60-MATCH(L94,Q$62:Q$1061,0))=\"Да\",1,-1)","v":1}]
[{"$nulls":11},34,{"$f":"IF(INDEX(Данные[Решен],$M$60-$L95)=\"Да\",1,-1)","v":1},{"$f":"(INDEX(спскВыбора,$M$60-$L95)=N$61)","v":false},{"$f":"(INDEX(спскВыбора,$M$60-$L95)=O$61)","v":false},9,3,{"$f":"IF(INDEX(Данные[Решен],$M$60-MATCH(L95,P$62:P$1061,0))=\"Да\",1,-1)","v":1},{"$f":"IF(INDEX(Данные[Решен],$M$60-MATCH(L95,Q$62:Q$1061,0))=\"Да\",1,-1)","v":1}]
[{"$nulls":11},35,{"$f":"IF(INDEX(Данные[Решен],$M$60-$L96)=\"Да\",1,-1)","v":-1},{"$f":"(INDEX(спскВыбора,$M$60-$L96)=N$61)","v":true},{"$f":"(INDEX(спскВыбора,$M$60-$L96)=O$61)","v":false},10,3,{"$f":"IF(INDEX(Данные[Решен],$M$60-MATCH(L96,P$62:P$1061,0))=\"Да\",1,-1)","v":1},{"$f":"IF(INDEX(Данные[Решен],$M$60-MATCH(L96,Q$62:Q$1061,0))=\"Да\",1,-1)","v":1}]
[{"$nulls":11},36,{"$f":"IF(INDEX(Данные[Решен],$M$60-$L97)=\"Да\",1,-1)","v":-1},{"$f":"(INDEX(спскВыбора,$M$60-$L97)=N$61)","v":false},{"$f":"(INDEX(спскВыбора,$M$60-$L97)=O$61)","v":true},10,4,{"$f":"IF(INDEX(Данные[Решен],$M$60-MATCH(L97,P$62:P$1061,0))=\"Да\",1,-1)","v":1},{"$f":"IF(INDEX(Данные[Решен],$M$60-MATCH(L97,Q$62:Q$1061,0))=\"Да\",1,-1)","v":1}]
[{"$nulls":11},37,{"$f":"IF(INDEX(Данные[Решен],$M$60-$L98)=\"Да\",1,-1)","v":-1},{"$f":"(INDEX(спскВыбора,$M$60-$L98)=N$61)","v":true},{"$f":"(INDEX(спскВыбора,$M$60-$L98)=O$61)","v":false},11,4,{"$f":"IF(INDEX(Данные[Решен],$M$60-MATCH(L98,P$62:P$1061,0))=\"Да\",1,-1)","v":1},{"$f":"IF(INDEX(Данные[Решен],$M$60-MATCH(L98,Q$62:Q$1061,0))=\"Да\",1,-1)","v":-1}]
[{"$nulls":11},38,{"$f":"IF(INDEX(Данные[Решен],$M$60-$L99)=\"Да\",1,-1)","v":1},{"$f":"(INDEX(спскВыбора,$M$60-$L99)=N$61)","v":true},{"$f":"(INDEX(спскВыбора,$M$60-$L99)=O$61)","v":false},12,4,{"$f":"IF(INDEX(Данные[Решен],$M$60-MATCH(L99,P$62:P$1061,0))=\"Да\",1,-1)","v":1},{"$f":"IF(INDEX(Данные[Решен],$M$60-MATCH(L99,Q$62:Q$1061,0))=\"Да\",1,-1)","v":1}]
[{"$nulls":11},39,{"$f":"IF(INDEX(Данные[Решен],$M$60-$L100)=\"Да\",1,-1)","v":1},{"$f":"(INDEX(спскВыбора,$M$60-$L100)=N$61)","v":false},{"$f":"(INDEX(спскВыбора,$M$60-$L100)=O$61)","v":false},12,4,{"$f":"IF(INDEX(Данные[Решен],$M$60-MATCH(L100,P$62:P$1061,0))=\"Да\",1,-1)","v":1},{"$f":"IF(INDEX(Данные[Решен],$M$60-MATCH(L100,Q$62:Q$1061,0))=\"Да\",1,-1)","v":1}]
[null,"Последние 100 звонков",{"$nulls":9},40,{"$f":"IF(INDEX(Данные[Решен],$M$60-$L101)=\"Да\",1,-1)","v":1},{"$f":"(INDEX(спскВыбора,$M$60-$L101)=N$61)","v":true},{"$f":"(INDEX(спскВыбора,$M$60-$L101)=O$61)","v":false},13,4,{"$f":"IF(INDEX(Данные[Решен],$M$60-MATCH(L101,P$62:P$1061,0))=\"Да\",1,-1)","v":1},{"$f":"IF(INDEX(Данные[Решен],$M$60-MATCH(L101,Q$62:Q$1061,0))=\"Да\",1,-1)","v":1}]
[{"$nulls":11},41,{"$f":"IF(INDEX(Данные[Решен],$M$60-$L102)=\"Да\",1,-1)","v":1},{"$f":"(INDEX(спскВыбора,$M$60-$L102)=N$61)","v":false},{"$f":"(INDEX(спскВыбора,$M$60-$L102)=O$61)","v":false},13,4,{"$f":"IF(INDEX(Данные[Решен],$M$60-MATCH(L102,P$62:P$1061,0))=\"Да\",1,-1)","v":-1},{"$f":"IF(INDEX(Данные[Решен],$M$60-MATCH(L102,Q$62:Q$1061,0))=\"Да\",1,-1)","v":1}]
[{"$nulls":11},42,{"$f":"IF(INDEX(Данные[Решен],$M$60-$L103)=\"Да\",1,-1)","v":1},{"$f":"(INDEX(спскВыбора,$M$60-$L103)=N$61)","v":false},{"$f":"(INDEX(спскВыбора,$M$60-$L103)=O$61)","v":false},13,4,{"$f":"IF(INDEX(Данные[Решен],$M$60-MATCH(L103,P$62:P$1061,0))=\"Да\",1,-1)","v":1},{"$f":"IF(INDEX(Данные[Решен],$M$60-MATCH(L103,Q$62:Q$1061,0))=\"Да\",1,-1)","v":1}]
[{"$nulls":11},43,{"$f":"IF(INDEX(Данные[Решен],$M$60-$L104)=\"Да\",1,-1)","v":1},{"$f":"(INDEX(спскВыбора,$M$60-$L104)=N$61)","v":false},{"$f":"(INDEX(спскВыбора,$M$60-$L104)=O$61)","v":true},13,5,{"$f":"IF(INDEX(Данные[Решен],$M$60-MATCH(L104,P$62:P$1061,0))=\"Да\",1,-1)","v":1},{"$f":"IF(INDEX(Данные[Решен],$M$60-MATCH(L104,Q$62:Q$1061,0))=\"Да\",1,-1)","v":1}]
[{"$nulls":11},44,{"$f":"IF(INDEX(Данные[Решен],$M$60-$L105)=\"Да\",1,-1)","v":1},{"$f":"(INDEX(спскВыбора,$M$60-$L105)=N$61)","v":false},{"$f":"(INDEX(спскВыбора,$M$60-$L105)=O$61)","v":false},13,5,{"$f":"IF(INDEX(Данные[Решен],$M$60-MATCH(L105,P$62:P$1061,0))=\"Да\",1,-1)","v":1},{"$f":"IF(INDEX(Данные[Решен],$M$60-MATCH(L105,Q$62:Q$1061,0))=\"Да\",1,-1)","v":1}]
[{"$nulls":11},45,{"$f":"IF(INDEX(Данные[Решен],$M$60-$L106)=\"Да\",1,-1)","v":1},{"$f":"(INDEX(спскВыбора,$M$60-$L106)=N$61)","v":true},{"$f":"(INDEX(спскВыбора,$M$60-$L106)=O$61)","v":false},14,5,{"$f":"IF(INDEX(Данные[Решен],$M$60-MATCH(L106,P$62:P$1061,0))=\"Да\",1,-1)","v":1},{"$f":"IF(INDEX(Данные[Решен],$M$60-MATCH(L106,Q$62:Q$1061,0))=\"Да\",1,-1)","v":1}]
[{"$nulls":11},46,{"$f":"IF(INDEX(Данные[Решен],$M$60-$L107)=\"Да\",1,-1)","v":1},{"$f":"(INDEX(спскВыбора,$M$60-$L107)=N$61)","v":false},{"$f":"(INDEX(спскВыбора,$M$60-$L107)=O$61)","v":false},14,5,{"$f":"IF(INDEX(Данные[Решен],$M$60-MATCH(L107,P$62:P$1061,0))=\"Да\",1,-1)","v":1},{"$f":"IF(INDEX(Данные[Решен],$M$60-MATCH(L107,Q$62:Q$1061,0))=\"Да\",1,-1)","v":1}]
[{"$nulls":11},47,{"$f":"IF(INDEX(Данные[Решен],$M$60-$L108)=\"Да\",1,-1)","v":-1},{"$f":"(INDEX(спскВыбора,$M$60-$L108)=N$61)","v":false},{"$f":"(INDEX(спскВыбора,$M$60-$L108)=O$61)","v":false},14,5,{"$f":"IF(INDEX(Данные[Решен],$M$60-MATCH(L108,P$62:P$1061,0))=\"Да\",1,-1)","v":1},{"$f":"IF(INDEX(Данные[Решен],$M$60-MATCH(L108,Q$62:Q$1061,0))=\"Да\",1,-1)","v":1}]
[{"$nulls":11},48,{"$f":"IF(INDEX(Данные[Решен],$M$60-$L109)=\"Да\",1,-1)","v":1},{"$f":"(INDEX(спскВыбора,$M$60-$L109)=N$61)","v":false},{"$f":"(INDEX(спскВыбора,$M$60-$L109)=O$61)","v":false},14,5,{"$f":"IF(INDEX(Данные[Решен],$M$60-MATCH(L109,P$62:P$1061,0))=\"Да\",1,-1)","v":1},{"$f":"IF(INDEX(Данные[Решен],$M$60-MATCH(L109,Q$62:Q$1061,0))=\"Да\",1,-1)","v":1}]
[{"$nulls":11},49,{"$f":"IF(INDEX(Данные[Решен],$M$60-$L110)=\"Да\",1,-1)","v":1},{"$f":"(INDEX(спскВыбора,$M$60-$L110)=N$61)","v":false},{"$f":"(INDEX(спскВыбора,$M$60-$L110)=O$61)","v":false},14,5,{"$f":"IF(INDEX(Данные[Решен],$M$60-MATCH(L110,P$62:P$1061,0))=\"Да\",1,-1)","v":1},{"$f":"IF(INDEX(Данные[Решен],$M$60-MATCH(L110,Q$62:Q$1061,0))=\"Да\",1,-1)","v":1}]
[{"$nulls":11},50,{"$f":"IF(INDEX(Данные[Решен],$M$60-$L111)=\"Да\",1,-1)","v":1},{"$f":"(INDEX(спскВыбора,$M$60-$L111)=N$61)","v":false},{"$f":"(INDEX(спскВыбора,$M$60-$L111)=O$61)","v":false},14,5,{"$f":"IF(INDEX(Данные[Решен],$M$60-MATCH(L111,P$62:P$1061,0))=\"Да\",1,-1)","v":1},{"$f":"IF(INDEX(Данные[Решен],$M$60-MATCH(L111,Q$62:Q$1061,0))=\"Да\",1,-1)","v":1}]
[{"$nulls":11},51,{"$f":"IF(INDEX(Данные[Решен],$M$60-$L112)=\"Да\",1,-1)","v":1},{"$f":"(INDEX(спскВыбора,$M$60-$L112)=N$61)","v":false},{"$f":"(INDEX(спскВыбора,$M$60-$L112)=O$61)","v":false},14,5,{"$f":"IF(INDEX(Данные[Решен],$M$60-MATCH(L112,P$62:P$1061,0))=\"Да\",1,-1)","v":1},{"$f":"IF(INDEX(Данные[Решен],$M$60-MATCH(L112,Q$62:Q$1061,0))=\"Да\",1,-1)","v":1}]
[null,"Удовлетворенность",{"$nulls":9},52,{"$f":"IF(INDEX(Данные[Решен],$M$60-$L113)=\"Да\",1,-1)","v":1},{"$f":"(INDEX(спскВыбора,$M$60-$L113)=N$61)","v":false},{"$f":"(INDEX(спскВыбора,$M$60-$L113)=O$61)","v":false},14,5,{"$f":"IF(INDEX(Данные[Решен],$M$60-MATCH(L113,P$62:P$1061,0))=\"Да\",1,-1)","v":1},{"$f":"IF(INDEX(Данные[Решен],$M$60-MATCH(L113,Q$62:Q$1061,0))=\"Да\",1,-1)","v":1}]
[{"$nulls":11},53,{"$f":"IF(INDEX(Данные[Решен],$M$60-$L114)=\"Да\",1,-1)","v":1},{"$f":"(INDEX(спскВыбора,$M$60-$L114)=N$61)","v":false},{"$f":"(INDEX(спскВыбора,$M$60-$L114)=O$61)","v":true},14,6,{"$f":"IF(INDEX(Данные[Решен],$M$60-MATCH(L114,P$62:P$1061,0))=\"Да\",1,-1)","v":1},{"$f":"IF(INDEX(Данные[Решен],$M$60-MATCH(L114,Q$62:Q$1061,0))=\"Да\",1,-1)","v":1}]
[{"$nulls":11},54,{"$f":"IF(INDEX(Данные[Решен],$M$60-$L115)=\"Да\",1,-1)","v":1},{"$f":"(INDEX(спскВыбора,$M$60-$L115)=N$61)","v":false},{"$f":"(INDEX(спскВыбора,$M$60-$L115)=O$61)","v":false},14,6,{"$f":"IF(INDEX(Данные[Решен],$M$60-MATCH(L115,P$62:P$1061,0))=\"Да\",1,-1)","v":1},{"$f":"IF(INDEX(Данные[Решен],$M$60-MATCH(L115,Q$62:Q$1061,0))=\"Да\",1,-1)","v":1}]
[{"$nulls":11},55,{"$f":"IF(INDEX(Данные[Решен],$M$60-$L116)=\"Да\",1,-1)","v":1},{"$f":"(INDEX(спскВыбора,$M$60-$L116)=N$61)","v":false},{"$f":"(INDEX(спскВыбора,$M$60-$L116)=O$61)","v":false},14,6,{"$f":"IF(INDEX(Данные[Решен],$M$60-MATCH(L116,P$62:P$1061,0))=\"Да\",1,-1)","v":1},{"$f":"IF(INDEX(Данные[Решен],$M$60-MATCH(L116,Q$62:Q$1061,0))=\"Да\",1,-1)","v":1}]
[{"$nulls":11},56,{"$f":"IF(INDEX(Данные[Решен],$M$60-$L117)=\"Да\",1,-1)","v":1},{"$f":"(INDEX(спскВыбора,$M$60-$L117)=N$61)","v":false},{"$f":"(INDEX(спскВыбора,$M$60-$L117)=O$61)","v":false},14,6,{"$f":"IF(INDEX(Данные[Решен],$M$60-MATCH(L117,P$62:P$1061,0))=\"Да\",1,-1)","v":1},{"$f":"IF(INDEX(Данные[Решен],$M$60-MATCH(L117,Q$62:Q$1061,0))=\"Да\",1,-1)","v":1}]
[{"$nulls":11},57,{"$f":"IF(INDEX(Данные[Решен],$M$60-$L118)=\"Да\",1,-1)","v":1},{"$f":"(INDEX(спскВыбора,$M$60-$L118)=N$61)","v":false},{"$f":"(INDEX(спскВыбора,$M$60-$L118)=O$61)","v":false},14,6,{"$f":"IF(INDEX(Данные[Решен],$M$60-MATCH(L118,P$62:P$1061,0))=\"Да\",1,-1)","v":1},{"$f":"IF(INDEX(Данные[Решен],$M$60-MATCH(L118,Q$62:Q$1061,0))=\"Да\",1,-1)","v":1}]
[{"$nulls":11},58,{"$f":"IF(INDEX(Данные[Решен],$M$60-$L119)=\"Да\",1,-1)","v":1},{"$f":"(INDEX(спскВыбора,$M$60-$L119)=N$61)","v":false},{"$f":"(INDEX(спскВыбора,$M$60-$L119)=O$61)","v":false},14,6,{"$f":"IF(INDEX(Данные[Решен],$M$60-MATCH(L119,P$62:P$1061,0))=\"Да\",1,-1)","v":1},{"$f":"IF(INDEX(Данные[Решен],$M$60-MATCH(L119,Q$62:Q$1061,0))=\"Да\",1,-1)","v":1}]
[{"$nulls":11},59,{"$f":"IF(INDEX(Данные[Решен],$M$60-$L120)=\"Да\",1,-1)","v":1},{"$f":"(INDEX(спскВыбора,$M$60-$L120)=N$61)","v":true},{"$f":"(INDEX(спскВыбора,$M$60-$L120)=O$61)","v":false},15,6,{"$f":"IF(INDEX(Данные[Решен],$M$60-MATCH(L120,P$62:P$1061,0))=\"Да\",1,-1)","v":1},{"$f":"IF(INDEX(Данные[Решен],$M$60-MATCH(L120,Q$62:Q$1061,0))=\"Да\",1,-1)","v":1}]
[{"$nulls":11},60,{"$f":"IF(INDEX(Данные[Решен],$M$60-$L121)=\"Да\",1,-1)","v":1},{"$f":"(INDEX(спскВыбора,$M$60-$L121)=N$61)","v":false},{"$f":"(INDEX(спскВыбора,$M$60-$L121)=O$61)","v":true},15,7,{"$f":"IF(INDEX(Данные[Решен],$M$60-MATCH(L121,P$62:P$1061,0))=\"Да\",1,-1)","v":1},{"$f":"IF(INDEX(Данные[Решен],$M$60-MATCH(L121,Q$62:Q$1061,0))=\"Да\",1,-1)","v":-1}]
[{"$nulls":11},61,{"$f":"IF(INDEX(Данные[Решен],$M$60-$L122)=\"Да\",1,-1)","v":1},{"$f":"(INDEX(спскВыбора,$M$60-$L122)=N$61)","v":false},{"$f":"(INDEX(спскВыбора,$M$60-$L122)=O$61)","v":true},15,8,{"$f":"IF(INDEX(Данные[Решен],$M$60-MATCH(L122,P$62:P$1061,0))=\"Да\",1,-1)","v":1},{"$f":"IF(INDEX(Данные[Решен],$M$60-MATCH(L122,Q$62:Q$1061,0))=\"Да\",1,-1)","v":1}]
[{"$nulls":11},62,{"$f":"IF(INDEX(Данные[Решен],$M$60-$L123)=\"Да\",1,-1)","v":-1},{"$f":"(INDEX(спскВыбора,$M$60-$L123)=N$61)","v":false},{"$f":"(INDEX(спскВыбора,$M$60-$L123)=O$61)","v":false},15,8,{"$f":"IF(INDEX(Данные[Решен],$M$60-MATCH(L123,P$62:P$1061,0))=\"Да\",1,-1)","v":1},{"$f":"IF(INDEX(Данные[Решен],$M$60-MATCH(L123,Q$62:Q$1061,0))=\"Да\",1,-1)","v":1}]
[null,"Доп продажи",{"$nulls":9},63,{"$f":"IF(INDEX(Данные[Решен],$M$60-$L124)=\"Да\",1,-1)","v":1},{"$f":"(INDEX(спскВыбора,$M$60-$L124)=N$61)","v":false},{"$f":"(INDEX(спскВыбора,$M$60-$L124)=O$61)","v":false},15,8,{"$f":"IF(INDEX(Данные[Решен],$M$60-MATCH(L124,P$62:P$1061,0))=\"Да\",1,-1)","v":1},{"$f":"IF(INDEX(Данные[Решен],$M$60-MATCH(L124,Q$62:Q$1061,0))=\"Да\",1,-1)","v":1}]
[{"$nulls":11},64,{"$f":"IF(INDEX(Данные[Решен],$M$60-$L125)=\"Да\",1,-1)","v":1},{"$f":"(INDEX(спскВыбора,$M$60-$L125)=N$61)","v":false},{"$f":"(INDEX(спскВыбора,$M$60-$L125)=O$61)","v":false},15,8,{"$f":"IF(INDEX(Данные[Решен],$M$60-MATCH(L125,P$62:P$1061,0))=\"Да\",1,-1)","v":1},{"$f":"IF(INDEX(Данные[Решен],$M$60-MATCH(L125,Q$62:Q$1061,0))=\"Да\",1,-1)","v":-1}]
[{"$nulls":11},65,{"$f":"IF(INDEX(Данные[Решен],$M$60-$L126)=\"Да\",1,-1)","v":1},{"$f":"(INDEX(спскВыбора,$M$60-$L126)=N$61)","v":false},{"$f":"(INDEX(спскВыбора,$M$60-$L126)=O$61)","v":false},15,8,{"$f":"IF(INDEX(Данные[Решен],$M$60-MATCH(L126,P$62:P$1061,0))=\"Да\",1,-1)","v":1},{"$f":"IF(INDEX(Данные[Решен],$M$60-MATCH(L126,Q$62:Q$1061,0))=\"Да\",1,-1)","v":1}]
[{"$nulls":11},66,{"$f":"IF(INDEX(Данные[Решен],$M$60-$L127)=\"Да\",1,-1)","v":1},{"$f":"(INDEX(спскВыбора,$M$60-$L127)=N$61)","v":false},{"$f":"(INDEX(спскВыбора,$M$60-$L127)=O$61)","v":false},15,8,{"$f":"IF(INDEX(Данные[Решен],$M$60-MATCH(L127,P$62:P$1061,0))=\"Да\",1,-1)","v":-1},{"$f":"IF(INDEX(Данные[Решен],$M$60-MATCH(L127,Q$62:Q$1061,0))=\"Да\",1,-1)","v":1}]
[{"$nulls":11},67,{"$f":"IF(INDEX(Данные[Решен],$M$60-$L128)=\"Да\",1,-1)","v":1},{"$f":"(INDEX(спскВыбора,$M$60-$L128)=N$61)","v":false},{"$f":"(INDEX(спскВыбора,$M$60-$L128)=O$61)","v":false},15,8,{"$f":"IF(INDEX(Данные[Решен],$M$60-MATCH(L128,P$62:P$1061,0))=\"Да\",1,-1)","v":1},{"$f":"IF(INDEX(Данные[Решен],$M$60-MATCH(L128,Q$62:Q$1061,0))=\"Да\",1,-1)","v":-1}]
[{"$nulls":11},68,{"$f":"IF(INDEX(Данные[Решен],$M$60-$L129)=\"Да\",1,-1)","v":1},{"$f":"(INDEX(спскВыбора,$M$60-$L129)=N$61)","v":false},{"$f":"(INDEX(спскВыбора,$M$60-$L129)=O$61)","v":false},15,8,{"$f":"IF(INDEX(Данные[Решен],$M$60-MATCH(L129,P$62:P$1061,0))=\"Да\",1,-1)","v":1},{"$f":"IF(INDEX(Данные[Решен],$M$60-MATCH(L129,Q$62:Q$1061,0))=\"Да\",1,-1)","v":1}]
[{"$nulls":11},69,{"$f":"IF(INDEX(Данные[Решен],$M$60-$L130)=\"Да\",1,-1)","v":1},{"$f":"(INDEX(спскВыбора,$M$60-$L130)=N$61)","v":true},{"$f":"(INDEX(спскВыбора,$M$60-$L130)=O$61)","v":false},16,8,{"$f":"IF(INDEX(Данные[Решен],$M$60-MATCH(L130,P$62:P$1061,0))=\"Да\",1,-1)","v":1},{"$f":"IF(INDEX(Данные[Решен],$M$60-MATCH(L130,Q$62:Q$1061,0))=\"Да\",1,-1)","v":1}]
[{"$nulls":11},70,{"$f":"IF(INDEX(Данные[Решен],$M$60-$L131)=\"Да\",1,-1)","v":1},{"$f":"(INDEX(спскВыбора,$M$60-$L131)=N$61)","v":false},{"$f":"(INDEX(спскВыбора,$M$60-$L131)=O$61)","v":false},16,8,{"$f":"IF(INDEX(Данные[Решен],$M$60-MATCH(L131,P$62:P$1061,0))=\"Да\",1,-1)","v":1},{"$f":"IF(INDEX(Данные[Решен],$M$60-MATCH(L131,Q$62:Q$1061,0))=\"Да\",1,-1)","v":1}]
[{"$nulls":11},71,{"$f":"IF(INDEX(Данные[Решен],$M$60-$L132)=\"Да\",1,-1)","v":1},{"$f":"(INDEX(спскВыбора,$M$60-$L132)=N$61)","v":false},{"$f":"(INDEX(спскВыбора,$M$60-$L132)=O$61)","v":true},16,9,{"$f":"IF(INDEX(Данные[Решен],$M$60-MATCH(L132,P$62:P$1061,0))=\"Да\",1,-1)","v":1},{"$f":"IF(INDEX(Данные[Решен],$M$60-MATCH(L132,Q$62:Q$1061,0))=\"Да\",1,-1)","v":1}]
[{"$nulls":11},72,{"$f":"IF(INDEX(Данные[Решен],$M$60-$L133)=\"Да\",1,-1)","v":1},{"$f":"(INDEX(спскВыбора,$M$60-$L133)=N$61)","v":false},{"$f":"(INDEX(спскВыбора,$M$60-$L133)=O$61)","v":false},16,9,{"$f":"IF(INDEX(Данные[Решен],$M$60-MATCH(L133,P$62:P$1061,0))=\"Да\",1,-1)","v":1},{"$f":"IF(INDEX(Данные[Решен],$M$60-MATCH(L133,Q$62:Q$1061,0))=\"Да\",1,-1)","v":1}]
[{"$nulls":11},73,{"$f":"IF(INDEX(Данные[Решен],$M$60-$L134)=\"Да\",1,-1)","v":1},{"$f":"(INDEX(спскВыбора,$M$60-$L134)=N$61)","v":false},{"$f":"(INDEX(спскВыбора,$M$60-$L134)=O$61)","v":false},16,9,{"$f":"IF(INDEX(Данные[Решен],$M$60-MATCH(L134,P$62:P$1061,0))=\"Да\",1,-1)","v":1},{"$f":"IF(INDEX(Данные[Решен],$M$60-MATCH(L134,Q$62:Q$1061,0))=\"Да\",1,-1)","v":1}]
[{"$nulls":11},74,{"$f":"IF(INDEX(Данные[Решен],$M$60-$L135)=\"Да\",1,-1)","v":1},{"$f":"(INDEX(спскВыбора,$M$60-$L135)=N$61)","v":false},{"$f":"(INDEX(спскВыбора,$M$60-$L135)=O$61)","v":false},16,9,{"$f":"IF(INDEX(Данные[Решен],$M$60-MATCH(L135,P$62:P$1061,0))=\"Да\",1,-1)","v":1},{"$f":"IF(INDEX(Данные[Решен],$M$60-MATCH(L135,Q$62:Q$1061,0))=\"Да\",1,-1)","v":1}]
[{"$nulls":11},75,{"$f":"IF(INDEX(Данные[Решен],$M$60-$L136)=\"Да\",1,-1)","v":1},{"$f":"(INDEX(спскВыбора,$M$60-$L136)=N$61)","v":false},{"$f":"(INDEX(спскВыбора,$M$60-$L136)=O$61)","v":false},16,9,{"$f":"IF(INDEX(Данные[Решен],$M$60-MATCH(L136,P$62:P$1061,0))=\"Да\",1,-1)","v":1},{"$f":"IF(INDEX(Данные[Решен],$M$60-MATCH(L136,Q$62:Q$1061,0))=\"Да\",1,-1)","v":1}]
[{"$nulls":11},76,{"$f":"IF(INDEX(Данные[Решен],$M$60-$L137)=\"Да\",1,-1)","v":1},{"$f":"(INDEX(спскВыбора,$M$60-$L137)=N$61)","v":false},{"$f":"(INDEX(спскВыбора,$M$60-$L137)=O$61)","v":false},16,9,{"$f":"IF(INDEX(Данные[Решен],$M$60-MATCH(L137,P$62:P$1061,0))=\"Да\",1,-1)","v":1},{"$f":"IF(INDEX(Данные[Решен],$M$60-MATCH(L137,Q$62:Q$1061,0))=\"Да\",1,-1)","v":-1}]
[{"$nulls":11},77,{"$f":"IF(INDEX(Данные[Решен],$M$60-$L138)=\"Да\",1,-1)","v":1},{"$f":"(INDEX(спскВыбора,$M$60-$L138)=N$61)","v":false},{"$f":"(INDEX(спскВыбора,$M$60-$L138)=O$61)","v":true},16,10,{"$f":"IF(INDEX(Данные[Решен],$M$60-MATCH(L138,P$62:P$1061,0))=\"Да\",1,-1)","v":1},{"$f":"IF(INDEX(Данные[Решен],$M$60-MATCH(L138,Q$62:Q$1061,0))=\"Да\",1,-1)","v":1}]
[{"$nulls":11},78,{"$f":"IF(INDEX(Данные[Решен],$M$60-$L139)=\"Да\",1,-1)","v":1},{"$f":"(INDEX(спскВыбора,$M$60-$L139)=N$61)","v":false},{"$f":"(INDEX(спскВыбора,$M$60-$L139)=O$61)","v":false},{"$f":"P138+N139","v":16},{"$f":"Q138+O139","v":10},{"$f":"IF(INDEX(Данные[Решен],$M$60-MATCH(L139,P$62:P$1061,0))=\"Да\",1,-1)","v":1},{"$f":"IF(INDEX(Данные[Решен],$M$60-MATCH(L139,Q$62:Q$1061,0))=\"Да\",1,-1)","v":-1}]
[{"$nulls":11},79,{"$f":"IF(INDEX(Данные[Решен],$M$60-$L140)=\"Да\",1,-1)","v":1},{"$f":"(INDEX(спскВыбора,$M$60-$L140)=N$61)","v":false},{"$f":"(INDEX(спскВыбора,$M$60-$L140)=O$61)","v":false},16,10,{"$f":"IF(INDEX(Данные[Решен],$M$60-MATCH(L140,P$62:P$1061,0))=\"Да\",1,-1)","v":1},{"$f":"IF(INDEX(Данные[Решен],$M$60-MATCH(L140,Q$62:Q$1061,0))=\"Да\",1,-1)","v":1}]
[{"$nulls":11},80,{"$f":"IF(INDEX(Данные[Решен],$M$60-$L141)=\"Да\",1,-1)","v":1},{"$f":"(INDEX(спскВыбора,$M$60-$L141)=N$61)","v":true},{"$f":"(INDEX(спскВыбора,$M$60-$L141)=O$61)","v":false},17,10,{"$f":"IF(INDEX(Данные[Решен],$M$60-MATCH(L141,P$62:P$1061,0))=\"Да\",1,-1)","v":1},{"$f":"IF(INDEX(Данные[Решен],$M$60-MATCH(L141,Q$62:Q$1061,0))=\"Да\",1,-1)","v":1}]
[{"$nulls":11},81,{"$f":"IF(INDEX(Данные[Решен],$M$60-$L142)=\"Да\",1,-1)","v":1},{"$f":"(INDEX(спскВыбора,$M$60-$L142)=N$61)","v":true},{"$f":"(INDEX(спскВыбора,$M$60-$L142)=O$61)","v":false},18,10,{"$f":"IF(INDEX(Данные[Решен],$M$60-MATCH(L142,P$62:P$1061,0))=\"Да\",1,-1)","v":1},{"$f":"IF(INDEX(Данные[Решен],$M$60-MATCH(L142,Q$62:Q$1061,0))=\"Да\",1,-1)","v":1}]
[{"$nulls":11},82,{"$f":"IF(INDEX(Данные[Решен],$M$60-$L143)=\"Да\",1,-1)","v":1},{"$f":"(INDEX(спскВыбора,$M$60-$L143)=N$61)","v":false},{"$f":"(INDEX(спскВыбора,$M$60-$L143)=O$61)","v":false},18,10,{"$f":"IF(INDEX(Данные[Решен],$M$60-MATCH(L143,P$62:P$1061,0))=\"Да\",1,-1)","v":1},{"$f":"IF(INDEX(Данные[Решен],$M$60-MATCH(L143,Q$62:Q$1061,0))=\"Да\",1,-1)","v":1}]
[{"$nulls":11},83,{"$f":"IF(INDEX(Данные[Решен],$M$60-$L144)=\"Да\",1,-1)","v":1},{"$f":"(INDEX(спскВыбора,$M$60-$L144)=N$61)","v":false},{"$f":"(INDEX(спскВыбора,$M$60-$L144)=O$61)","v":false},18,10,{"$f":"IF(INDEX(Данные[Решен],$M$60-MATCH(L144,P$62:P$1061,0))=\"Да\",1,-1)","v":1},{"$f":"IF(INDEX(Данные[Решен],$M$60-MATCH(L144,Q$62:Q$1061,0))=\"Да\",1,-1)","v":1}]
[{"$nulls":11},84,{"$f":"IF(INDEX(Данные[Решен],$M$60-$L145)=\"Да\",1,-1)","v":1},{"$f":"(INDEX(спскВыбора,$M$60-$L145)=N$61)","v":false},{"$f":"(INDEX(спскВыбора,$M$60-$L145)=O$61)","v":false},18,10,{"$f":"IF(INDEX(Данные[Решен],$M$60-MATCH(L145,P$62:P$1061,0))=\"Да\",1,-1)","v":1},{"$f":"IF(INDEX(Данные[Решен],$M$60-MATCH(L145,Q$62:Q$1061,0))=\"Да\",1,-1)","v":1}]
[{"$nulls":11},85,{"$f":"IF(INDEX(Данные[Решен],$M$60-$L146)=\"Да\",1,-1)","v":1},{"$f":"(INDEX(спскВыбора,$M$60-$L146)=N$61)","v":false},{"$f":"(INDEX(спскВыбора,$M$60-$L146)=O$61)","v":false},18,10,{"$f":"IF(INDEX(Данные[Решен],$M$60-MATCH(L146,P$62:P$1061,0))=\"Да\",1,-1)","v":1},{"$f":"IF(INDEX(Данные[Решен],$M$60-MATCH(L146,Q$62:Q$1061,0))=\"Да\",1,-1)","v":1}]
[{"$nulls":11},86,{"$f":"IF(INDEX(Данные[Решен],$M$60-$L147)=\"Да\",1,-1)","v":1},{"$f":"(INDEX(спскВыбора,$M$60-$L147)=N$61)","v":false},{"$f":"(INDEX(спскВыбора,$M$60-$L147)=O$61)","v":false},18,10,{"$f":"IF(INDEX(Данные[Решен],$M$60-MATCH(L147,P$62:P$1061,0))=\"Да\",1,-1)","v":1},{"$f":"IF(INDEX(Данные[Решен],$M$60-MATCH(L147,Q$62:Q$1061,0))=\"Да\",1,-1)","v":1}]
[{"$nulls":11},87,{"$f":"IF(INDEX(Данные[Решен],$M$60-$L148)=\"Да\",1,-1)","v":1},{"$f":"(INDEX(спскВыбора,$M$60-$L148)=N$61)","v":false},{"$f":"(INDEX(спскВыбора,$M$60-$L148)=O$61)","v":false},18,10,{"$f":"IF(INDEX(Данные[Решен],$M$60-MATCH(L148,P$62:P$1061,0))=\"Да\",1,-1)","v":1},{"$f":"IF(INDEX(Данные[Решен],$M$60-MATCH(L148,Q$62:Q$1061,0))=\"Да\",1,-1)","v":1}]
[{"$nulls":11},88,{"$f":"IF(INDEX(Данные[Решен],$M$60-$L149)=\"Да\",1,-1)","v":1},{"$f":"(INDEX(спскВыбора,$M$60-$L149)=N$61)","v":false},{"$f":"(INDEX(спскВыбора,$M$60-$L149)=O$61)","v":false},18,10,{"$f":"IF(INDEX(Данные[Решен],$M$60-MATCH(L149,P$62:P$1061,0))=\"Да\",1,-1)","v":1},{"$f":"IF(INDEX(Данные[Решен],$M$60-MATCH(L149,Q$62:Q$1061,0))=\"Да\",1,-1)","v":-1}]
[{"$nulls":11},89,{"$f":"IF(INDEX(Данные[Решен],$M$60-$L150)=\"Да\",1,-1)","v":1},{"$f":"(INDEX(спскВыбора,$M$60-$L150)=N$61)","v":false},{"$f":"(INDEX(спскВыбора,$M$60-$L150)=O$61)","v":false},18,10,{"$f":"IF(INDEX(Данные[Решен],$M$60-MATCH(L150,P$62:P$1061,0))=\"Да\",1,-1)","v":1},{"$f":"IF(INDEX(Данные[Решен],$M$60-MATCH(L150,Q$62:Q$1061,0))=\"Да\",1,-1)","v":1}]
[{"$nulls":11},90,{"$f":"IF(INDEX(Данные[Решен],$M$60-$L151)=\"Да\",1,-1)","v":1},{"$f":"(INDEX(спскВыбора,$M$60-$L151)=N$61)","v":false},{"$f":"(INDEX(спскВыбора,$M$60-$L151)=O$61)","v":true},18,11,{"$f":"IF(INDEX(Данные[Решен],$M$60-MATCH(L151,P$62:P$1061,0))=\"Да\",1,-1)","v":-1},{"$f":"IF(INDEX(Данные[Решен],$M$60-MATCH(L151,Q$62:Q$1061,0))=\"Да\",1,-1)","v":1}]
[{"$nulls":11},91,{"$f":"IF(INDEX(Данные[Решен],$M$60-$L152)=\"Да\",1,-1)","v":1},{"$f":"(INDEX(спскВыбора,$M$60-$L152)=N$61)","v":false},{"$f":"(INDEX(спскВыбора,$M$60-$L152)=O$61)","v":true},18,12,{"$f":"IF(INDEX(Данные[Решен],$M$60-MATCH(L152,P$62:P$1061,0))=\"Да\",1,-1)","v":1},{"$f":"IF(INDEX(Данные[Решен],$M$60-MATCH(L152,Q$62:Q$1061,0))=\"Да\",1,-1)","v":1}]
[{"$nulls":11},92,{"$f":"IF(INDEX(Данные[Решен],$M$60-$L153)=\"Да\",1,-1)","v":1},{"$f":"(INDEX(спскВыбора,$M$60-$L153)=N$61)","v":false},{"$f":"(INDEX(спскВыбора,$M$60-$L153)=O$61)","v":false},18,12,{"$f":"IF(INDEX(Данные[Решен],$M$60-MATCH(L153,P$62:P$1061,0))=\"Да\",1,-1)","v":1},{"$f":"IF(INDEX(Данные[Решен],$M$60-MATCH(L153,Q$62:Q$1061,0))=\"Да\",1,-1)","v":1}]
[{"$nulls":11},93,{"$f":"IF(INDEX(Данные[Решен],$M$60-$L154)=\"Да\",1,-1)","v":1},{"$f":"(INDEX(спскВыбора,$M$60-$L154)=N$61)","v":false},{"$f":"(INDEX(спскВыбора,$M$60-$L154)=O$61)","v":false},18,12,{"$f":"IF(INDEX(Данные[Решен],$M$60-MATCH(L154,P$62:P$1061,0))=\"Да\",1,-1)","v":1},{"$f":"IF(INDEX(Данные[Решен],$M$60-MATCH(L154,Q$62:Q$1061,0))=\"Да\",1,-1)","v":1}]
[{"$nulls":11},94,{"$f":"IF(INDEX(Данные[Решен],$M$60-$L155)=\"Да\",1,-1)","v":1},{"$f":"(INDEX(спскВыбора,$M$60-$L155)=N$61)","v":false},{"$f":"(INDEX(спскВыбора,$M$60-$L155)=O$61)","v":false},18,12,{"$f":"IF(INDEX(Данные[Решен],$M$60-MATCH(L155,P$62:P$1061,0))=\"Да\",1,-1)","v":1},{"$f":"IF(INDEX(Данные[Решен],$M$60-MATCH(L155,Q$62:Q$1061,0))=\"Да\",1,-1)","v":1}]
[{"$nulls":11},95,{"$f":"IF(INDEX(Данные[Решен],$M$60-$L156)=\"Да\",1,-1)","v":1},{"$f":"(INDEX(спскВыбора,$M$60-$L156)=N$61)","v":false},{"$f":"(INDEX(спскВыбора,$M$60-$L156)=O$61)","v":false},18,12,{"$f":"IF(INDEX(Данные[Решен],$M$60-MATCH(L156,P$62:P$1061,0))=\"Да\",1,-1)","v":1},{"$f":"IF(INDEX(Данные[Решен],$M$60-MATCH(L156,Q$62:Q$1061,0))=\"Да\",1,-1)","v":1}]
[{"$nulls":11},96,{"$f":"IF(INDEX(Данные[Решен],$M$60-$L157)=\"Да\",1,-1)","v":1},{"$f":"(INDEX(спскВыбора,$M$60-$L157)=N$61)","v":false},{"$f":"(INDEX(спскВыбора,$M$60-$L157)=O$61)","v":false},18,12,{"$f":"IF(INDEX(Данные[Решен],$M$60-MATCH(L157,P$62:P$1061,0))=\"Да\",1,-1)","v":1},{"$f":"IF(INDEX(Данные[Решен],$M$60-MATCH(L157,Q$62:Q$1061,0))=\"Да\",1,-1)","v":1}]
[{"$nulls":11},97,{"$f":"IF(INDEX(Данные[Решен],$M$60-$L158)=\"Да\",1,-1)","v":1},{"$f":"(INDEX(спскВыбора,$M$60-$L158)=N$61)","v":false},{"$f":"(INDEX(спскВыбора,$M$60-$L158)=O$61)","v":false},18,12,{"$f":"IF(INDEX(Данные[Решен],$M$60-MATCH(L158,P$62:P$1061,0))=\"Да\",1,-1)","v":1},{"$f":"IF(INDEX(Данные[Решен],$M$60-MATCH(L158,Q$62:Q$1061,0))=\"Да\",1,-1)","v":1}]
[{"$nulls":11},98,{"$f":"IF(INDEX(Данные[Решен],$M$60-$L159)=\"Да\",1,-1)","v":1},{"$f":"(INDEX(спскВыбора,$M$60-$L159)=N$61)","v":false},{"$f":"(INDEX(спскВыбора,$M$60-$L159)=O$61)","v":false},18,12,{"$f":"IF(INDEX(Данные[Решен],$M$60-MATCH(L159,P$62:P$1061,0))=\"Да\",1,-1)","v":1},{"$f":"IF(INDEX(Данные[Решен],$M$60-MATCH(L159,Q$62:Q$1061,0))=\"Да\",1,-1)","v":1}]
[{"$nulls":11},99,{"$f":"IF(INDEX(Данные[Решен],$M$60-$L160)=\"Да\",1,-1)","v":1},{"$f":"(INDEX(спскВыбора,$M$60-$L160)=N$61)","v":true},{"$f":"(INDEX(спскВыбора,$M$60-$L160)=O$61)","v":false},19,12,{"$f":"IF(INDEX(Данные[Решен],$M$60-MATCH(L160,P$62:P$1061,0))=\"Да\",1,-1)","v":1},{"$f":"IF(INDEX(Данные[Решен],$M$60-MATCH(L160,Q$62:Q$1061,0))=\"Да\",1,-1)","v":1}]
[{"$nulls":11},100,{"$f":"IF(INDEX(Данные[Решен],$M$60-$L161)=\"Да\",1,-1)","v":1},{"$f":"(INDEX(спскВыбора,$M$60-$L161)=N$61)","v":false},{"$f":"(INDEX(спскВыбора,$M$60-$L161)=O$61)","v":false},19,12,{"$f":"IF(INDEX(Данные[Решен],$M$60-MATCH(L161,P$62:P$1061,0))=\"Да\",1,-1)","v":1},{"$f":"IF(INDEX(Данные[Решен],$M$60-MATCH(L161,Q$62:Q$1061,0))=\"Да\",1,-1)","v":1}]
[{"$nulls":11},101,{"$f":"IF(INDEX(Данные[Решен],$M$60-$L162)=\"Да\",1,-1)","v":1},{"$f":"(INDEX(спскВыбора,$M$60-$L162)=N$61)","v":true},{"$f":"(INDEX(спскВыбора,$M$60-$L162)=O$61)","v":false},{"$f":"P161+N162","v":20},{"$f":"Q161+O162","v":12}]
[{"$nulls":11},102,{"$f":"IF(INDEX(Данные[Решен],$M$60-$L163)=\"Да\",1,-1)","v":1},{"$f":"(INDEX(спскВыбора,$M$60-$L163)=N$61)","v":false},{"$f":"(INDEX(спскВыбора,$M$60-$L163)=O$61)","v":false},20,12]
[{"$nulls":11},103,{"$f":"IF(INDEX(Данные[Решен],$M$60-$L164)=\"Да\",1,-1)","v":1},{"$f":"(INDEX(спскВыбора,$M$60-$L164)=N$61)","v":true},{"$f":"(INDEX(спскВыбора,$M$60-$L164)=O$61)","v":false},21,12]
[{"$nulls":11},104,{"$f":"IF(INDEX(Данные[Решен],$M$60-$L165)=\"Да\",1,-1)","v":1},{"$f":"(INDEX(спскВыбора,$M$60-$L165)=N$61)","v":false},{"$f":"(INDEX(спскВыбора,$M$60-$L165)=O$61)","v":false},21,12]
[{"$nulls":11},105,{"$f":"IF(INDEX(Данные[Решен],$M$60-$L166)=\"Да\",1,-1)","v":1},{"$f":"(INDEX(спскВыбора,$M$60-$L166)=N$61)","v":true},{"$f":"(INDEX(спскВыбора,$M$60-$L166)=O$61)","v":false},22,12]
[{"$nulls":11},106,{"$f":"IF(INDEX(Данные[Решен],$M$60-$L167)=\"Да\",1,-1)","v":1},{"$f":"(INDEX(спскВыбора,$M$60-$L167)=N$61)","v":true},{"$f":"(INDEX(спскВыбора,$M$60-$L167)=O$61)","v":false},23,12]
[{"$nulls":11},107,{"$f":"IF(INDEX(Данные[Решен],$M$60-$L168)=\"Да\",1,-1)","v":1},{"$f":"(INDEX(спскВыбора,$M$60-$L168)=N$61)","v":false},{"$f":"(INDEX(спскВыбора,$M$60-$L168)=O$61)","v":false},23,12]
[{"$nulls":11},108,{"$f":"IF(INDEX(Данные[Решен],$M$60-$L169)=\"Да\",1,-1)","v":1},{"$f":"(INDEX(спскВыбора,$M$60-$L169)=N$61)","v":false},{"$f":"(INDEX(спскВыбора,$M$60-$L169)=O$61)","v":true},23,13]
[{"$nulls":11},109,{"$f":"IF(INDEX(Данные[Решен],$M$60-$L170)=\"Да\",1,-1)","v":1},{"$f":"(INDEX(спскВыбора,$M$60-$L170)=N$61)","v":false},{"$f":"(INDEX(спскВыбора,$M$60-$L170)=O$61)","v":false},23,13]
[{"$nulls":11},110,{"$f":"IF(INDEX(Данные[Решен],$M$60-$L171)=\"Да\",1,-1)","v":1},{"$f":"(INDEX(спскВыбора,$M$60-$L171)=N$61)","v":false},{"$f":"(INDEX(спскВыбора,$M$60-$L171)=O$61)","v":false},23,13]
[{"$nulls":11},111,{"$f":"IF(INDEX(Данные[Решен],$M$60-$L172)=\"Да\",1,-1)","v":1},{"$f":"(INDEX(спскВыбора,$M$60-$L172)=N$61)","v":false},{"$f":"(INDEX(спскВыбора,$M$60-$L172)=O$61)","v":false},23,13]
[{"$nulls":11},112,{"$f":"IF(INDEX(Данные[Решен],$M$60-$L173)=\"Да\",1,-1)","v":1},{"$f":"(INDEX(спскВыбора,$M$60-$L173)=N$61)","v":true},{"$f":"(INDEX(спскВыбора,$M$60-$L173)=O$61)","v":false},24,13]
[{"$nulls":11},113,{"$f":"IF(INDEX(Данные[Решен],$M$60-$L174)=\"Да\",1,-1)","v":1},{"$f":"(INDEX(спскВыбора,$M$60-$L174)=N$61)","v":true},{"$f":"(INDEX(спскВыбора,$M$60-$L174)=O$61)","v":false},25,13]
[{"$nulls":11},114,{"$f":"IF(INDEX(Данные[Решен],$M$60-$L175)=\"Да\",1,-1)","v":1},{"$f":"(INDEX(спскВыбора,$M$60-$L175)=N$61)","v":false},{"$f":"(INDEX(спскВыбора,$M$60-$L175)=O$61)","v":false},25,13]
[{"$nulls":11},115,{"$f":"IF(INDEX(Данные[Решен],$M$60-$L176)=\"Да\",1,-1)","v":1},{"$f":"(INDEX(спскВыбора,$M$60-$L176)=N$61)","v":true},{"$f":"(INDEX(спскВыбора,$M$60-$L176)=O$61)","v":false},26,13]
[{"$nulls":11},116,{"$f":"IF(INDEX(Данные[Решен],$M$60-$L177)=\"Да\",1,-1)","v":1},{"$f":"(INDEX(спскВыбора,$M$60-$L177)=N$61)","v":false},{"$f":"(INDEX(спскВыбора,$M$60-$L177)=O$61)","v":false},26,13]
[{"$nulls":11},117,{"$f":"IF(INDEX(Данные[Решен],$M$60-$L178)=\"Да\",1,-1)","v":1},{"$f":"(INDEX(спскВыбора,$M$60-$L178)=N$61)","v":false},{"$f":"(INDEX(спскВыбора,$M$60-$L178)=O$61)","v":true},26,14]
[{"$nulls":11},118,{"$f":"IF(INDEX(Данные[Решен],$M$60-$L179)=\"Да\",1,-1)","v":1},{"$f":"(INDEX(спскВыбора,$M$60-$L179)=N$61)","v":false},{"$f":"(INDEX(спскВыбора,$M$60-$L179)=O$61)","v":true},26,15]
[{"$nulls":11},119,{"$f":"IF(INDEX(Данные[Решен],$M$60-$L180)=\"Да\",1,-1)","v":1},{"$f":"(INDEX(спскВыбора,$M$60-$L180)=N$61)","v":false},{"$f":"(INDEX(спскВыбора,$M$60-$L180)=O$61)","v":false},26,15]
[{"$nulls":11},120,{"$f":"IF(INDEX(Данные[Решен],$M$60-$L181)=\"Да\",1,-1)","v":1},{"$f":"(INDEX(спскВыбора,$M$60-$L181)=N$61)","v":false},{"$f":"(INDEX(спскВыбора,$M$60-$L181)=O$61)","v":false},26,15]
[{"$nulls":11},121,{"$f":"IF(INDEX(Данные[Решен],$M$60-$L182)=\"Да\",1,-1)","v":-1},{"$f":"(INDEX(спскВыбора,$M$60-$L182)=N$61)","v":false},{"$f":"(INDEX(спскВыбора,$M$60-$L182)=O$61)","v":false},26,15]
[{"$nulls":11},122,{"$f":"IF(INDEX(Данные[Решен],$M$60-$L183)=\"Да\",1,-1)","v":1},{"$f":"(INDEX(спскВыбора,$M$60-$L183)=N$61)","v":true},{"$f":"(INDEX(спскВыбора,$M$60-$L183)=O$61)","v":false},27,15]
[{"$nulls":11},123,{"$f":"IF(INDEX(Данные[Решен],$M$60-$L184)=\"Да\",1,-1)","v":1},{"$f":"(INDEX(спскВыбора,$M$60-$L184)=N$61)","v":true},{"$f":"(INDEX(спскВыбора,$M$60-$L184)=O$61)","v":false},28,15]
[{"$nulls":11},124,{"$f":"IF(INDEX(Данные[Решен],$M$60-$L185)=\"Да\",1,-1)","v":1},{"$f":"(INDEX(спскВыбора,$M$60-$L185)=N$61)","v":false},{"$f":"(INDEX(спскВыбора,$M$60-$L185)=O$61)","v":false},28,15]
[{"$nulls":11},125,{"$f":"IF(INDEX(Данные[Решен],$M$60-$L186)=\"Да\",1,-1)","v":1},{"$f":"(INDEX(спскВыбора,$M$60-$L186)=N$61)","v":false},{"$f":"(INDEX(спскВыбора,$M$60-$L186)=O$61)","v":false},28,15]
[{"$nulls":11},126,{"$f":"IF(INDEX(Данные[Решен],$M$60-$L187)=\"Да\",1,-1)","v":1},{"$f":"(INDEX(спскВыбора,$M$60-$L187)=N$61)","v":true},{"$f":"(INDEX(спскВыбора,$M$60-$L187)=O$61)","v":false},29,15]
[{"$nulls":11},127,{"$f":"IF(INDEX(Данные[Решен],$M$60-$L188)=\"Да\",1,-1)","v":1},{"$f":"(INDEX(спскВыбора,$M$60-$L188)=N$61)","v":false},{"$f":"(INDEX(спскВыбора,$M$60-$L188)=O$61)","v":false},29,15]
[{"$nulls":11},128,{"$f":"IF(INDEX(Данные[Решен],$M$60-$L189)=\"Да\",1,-1)","v":1},{"$f":"(INDEX(спскВыбора,$M$60-$L189)=N$61)","v":false},{"$f":"(INDEX(спскВыбора,$M$60-$L189)=O$61)","v":false},29,15]
[{"$nulls":11},129,{"$f":"IF(INDEX(Данные[Решен],$M$60-$L190)=\"Да\",1,-1)","v":1},{"$f":"(INDEX(спскВыбора,$M$60-$L190)=N$61)","v":false},{"$f":"(INDEX(спскВыбора,$M$60-$L190)=O$61)","v":false},29,15]
[{"$nulls":11},130,{"$f":"IF(INDEX(Данные[Решен],$M$60-$L191)=\"Да\",1,-1)","v":1},{"$f":"(INDEX(спскВыбора,$M$60-$L191)=N$61)","v":false},{"$f":"(INDEX(спскВыбора,$M$60-$L191)=O$61)","v":false},29,15]
[{"$nulls":11},131,{"$f":"IF(INDEX(Данные[Решен],$M$60-$L192)=\"Да\",1,-1)","v":1},{"$f":"(INDEX(спскВыбора,$M$60-$L192)=N$61)","v":false},{"$f":"(INDEX(спскВыбора,$M$60-$L192)=O$61)","v":false},29,15]
[{"$nulls":11},132,{"$f":"IF(INDEX(Данные[Решен],$M$60-$L193)=\"Да\",1,-1)","v":1},{"$f":"(INDEX(спскВыбора,$M$60-$L193)=N$61)","v":false},{"$f":"(INDEX(спскВыбора,$M$60-$L193)=O$61)","v":false},29,15]
[{"$nulls":11},133,{"$f":"IF(INDEX(Данные[Решен],$M$60-$L194)=\"Да\",1,-1)","v":1},{"$f":"(INDEX(спскВыбора,$M$60-$L194)=N$61)","v":false},{"$f":"(INDEX(спскВыбора,$M$60-$L194)=O$61)","v":true},29,16]
[{"$nulls":11},134,{"$f":"IF(INDEX(Данные[Решен],$M$60-$L195)=\"Да\",1,-1)","v":1},{"$f":"(INDEX(спскВыбора,$M$60-$L195)=N$61)","v":false},{"$f":"(INDEX(спскВыбора,$M$60-$L195)=O$61)","v":false},29,16]
[{"$nulls":11},135,{"$f":"IF(INDEX(Данные[Решен],$M$60-$L196)=\"Да\",1,-1)","v":1},{"$f":"(INDEX(спскВыбора,$M$60-$L196)=N$61)","v":false},{"$f":"(INDEX(спскВыбора,$M$60-$L196)=O$61)","v":true},29,17]
[{"$nulls":11},136,{"$f":"IF(INDEX(Данные[Решен],$M$60-$L197)=\"Да\",1,-1)","v":1},{"$f":"(INDEX(спскВыбора,$M$60-$L197)=N$61)","v":false},{"$f":"(INDEX(спскВыбора,$M$60-$L197)=O$61)","v":false},29,17]
[{"$nulls":11},137,{"$f":"IF(INDEX(Данные[Решен],$M$60-$L198)=\"Да\",1,-1)","v":1},{"$f":"(INDEX(спскВыбора,$M$60-$L198)=N$61)","v":false},{"$f":"(INDEX(спскВыбора,$M$60-$L198)=O$61)","v":false},29,17]
[{"$nulls":11},138,{"$f":"IF(INDEX(Данные[Решен],$M$60-$L199)=\"Да\",1,-1)","v":1},{"$f":"(INDEX(спскВыбора,$M$60-$L199)=N$61)","v":false},{"$f":"(INDEX(спскВыбора,$M$60-$L199)=O$61)","v":false},29,17]
[{"$nulls":11},139,{"$f":"IF(INDEX(Данные[Решен],$M$60-$L200)=\"Да\",1,-1)","v":1},{"$f":"(INDEX(спскВыбора,$M$60-$L200)=N$61)","v":false},{"$f":"(INDEX(спскВыбора,$M$60-$L200)=O$61)","v":false},29,17]
[{"$nulls":11},140,{"$f":"IF(INDEX(Данные[Решен],$M$60-$L201)=\"Да\",1,-1)","v":1},{"$f":"(INDEX(спскВыбора,$M$60-$L201)=N$61)","v":false},{"$f":"(INDEX(спскВыбора,$M$60-$L201)=O$61)","v":false},29,17]
[{"$nulls":11},141,{"$f":"IF(INDEX(Данные[Решен],$M$60-$L202)=\"Да\",1,-1)","v":1},{"$f":"(INDEX(спскВыбора,$M$60-$L202)=N$61)","v":true},{"$f":"(INDEX(спскВыбора,$M$60-$L202)=O$61)","v":false},30,17]
[{"$nulls":11},142,{"$f":"IF(INDEX(Данные[Решен],$M$60-$L203)=\"Да\",1,-1)","v":1},{"$f":"(INDEX(спскВыбора,$M$60-$L203)=N$61)","v":true},{"$f":"(INDEX(спскВыбора,$M$60-$L203)=O$61)","v":false},31,17]
[{"$nulls":11},143,{"$f":"IF(INDEX(Данные[Решен],$M$60-$L204)=\"Да\",1,-1)","v":1},{"$f":"(INDEX(спскВыбора,$M$60-$L204)=N$61)","v":false},{"$f":"(INDEX(спскВыбора,$M$60-$L204)=O$61)","v":false},31,17]
[{"$nulls":11},144,{"$f":"IF(INDEX(Данные[Решен],$M$60-$L205)=\"Да\",1,-1)","v":1},{"$f":"(INDEX(спскВыбора,$M$60-$L205)=N$61)","v":true},{"$f":"(INDEX(спскВыбора,$M$60-$L205)=O$61)","v":false},32,17]
[{"$nulls":11},145,{"$f":"IF(INDEX(Данные[Решен],$M$60-$L206)=\"Да\",1,-1)","v":1},{"$f":"(INDEX(спскВыбора,$M$60-$L206)=N$61)","v":false},{"$f":"(INDEX(спскВыбора,$M$60-$L206)=O$61)","v":true},32,18]
[{"$nulls":11},146,{"$f":"IF(INDEX(Данные[Решен],$M$60-$L207)=\"Да\",1,-1)","v":1},{"$f":"(INDEX(спскВыбора,$M$60-$L207)=N$61)","v":false},{"$f":"(INDEX(спскВыбора,$M$60-$L207)=O$61)","v":false},32,18]
[{"$nulls":11},147,{"$f":"IF(INDEX(Данные[Решен],$M$60-$L208)=\"Да\",1,-1)","v":1},{"$f":"(INDEX(спскВыбора,$M$60-$L208)=N$61)","v":false},{"$f":"(INDEX(спскВыбора,$M$60-$L208)=O$61)","v":true},32,19]
[{"$nulls":11},148,{"$f":"IF(INDEX(Данные[Решен],$M$60-$L209)=\"Да\",1,-1)","v":1},{"$f":"(INDEX(спскВыбора,$M$60-$L209)=N$61)","v":false},{"$f":"(INDEX(спскВыбора,$M$60-$L209)=O$61)","v":false},32,19]
[{"$nulls":11},149,{"$f":"IF(INDEX(Данные[Решен],$M$60-$L210)=\"Да\",1,-1)","v":1},{"$f":"(INDEX(спскВыбора,$M$60-$L210)=N$61)","v":true},{"$f":"(INDEX(спскВыбора,$M$60-$L210)=O$61)","v":false},33,19]
[{"$nulls":11},150,{"$f":"IF(INDEX(Данные[Решен],$M$60-$L211)=\"Да\",1,-1)","v":1},{"$f":"(INDEX(спскВыбора,$M$60-$L211)=N$61)","v":false},{"$f":"(INDEX(спскВыбора,$M$60-$L211)=O$61)","v":true},33,20]
[{"$nulls":11},151,{"$f":"IF(INDEX(Данные[Решен],$M$60-$L212)=\"Да\",1,-1)","v":1},{"$f":"(INDEX(спскВыбора,$M$60-$L212)=N$61)","v":true},{"$f":"(INDEX(спскВыбора,$M$60-$L212)=O$61)","v":false},34,20]
[{"$nulls":11},152,{"$f":"IF(INDEX(Данные[Решен],$M$60-$L213)=\"Да\",1,-1)","v":1},{"$f":"(INDEX(спскВыбора,$M$60-$L213)=N$61)","v":false},{"$f":"(INDEX(спскВыбора,$M$60-$L213)=O$61)","v":false},34,20]
[{"$nulls":11},153,{"$f":"IF(INDEX(Данные[Решен],$M$60-$L214)=\"Да\",1,-1)","v":1},{"$f":"(INDEX(спскВыбора,$M$60-$L214)=N$61)","v":false},{"$f":"(INDEX(спскВыбора,$M$60-$L214)=O$61)","v":false},34,20]
[{"$nulls":11},154,{"$f":"IF(INDEX(Данные[Решен],$M$60-$L215)=\"Да\",1,-1)","v":1},{"$f":"(INDEX(спскВыбора,$M$60-$L215)=N$61)","v":false},{"$f":"(INDEX(спскВыбора,$M$60-$L215)=O$61)","v":false},34,20]
[{"$nulls":11},155,{"$f":"IF(INDEX(Данные[Решен],$M$60-$L216)=\"Да\",1,-1)","v":1},{"$f":"(INDEX(спскВыбора,$M$60-$L216)=N$61)","v":false},{"$f":"(INDEX(спскВыбора,$M$60-$L216)=O$61)","v":false},34,20]
[{"$nulls":11},156,{"$f":"IF(INDEX(Данные[Решен],$M$60-$L217)=\"Да\",1,-1)","v":1},{"$f":"(INDEX(спскВыбора,$M$60-$L217)=N$61)","v":false},{"$f":"(INDEX(спскВыбора,$M$60-$L217)=O$61)","v":true},34,21]
[{"$nulls":11},157,{"$f":"IF(INDEX(Данные[Решен],$M$60-$L218)=\"Да\",1,-1)","v":1},{"$f":"(INDEX(спскВыбора,$M$60-$L218)=N$61)","v":true},{"$f":"(INDEX(спскВыбора,$M$60-$L218)=O$61)","v":false},35,21]
[{"$nulls":11},158,{"$f":"IF(INDEX(Данные[Решен],$M$60-$L219)=\"Да\",1,-1)","v":1},{"$f":"(INDEX(спскВыбора,$M$60-$L219)=N$61)","v":false},{"$f":"(INDEX(спскВыбора,$M$60-$L219)=O$61)","v":false},35,21]
[{"$nulls":11},159,{"$f":"IF(INDEX(Данные[Решен],$M$60-$L220)=\"Да\",1,-1)","v":1},{"$f":"(INDEX(спскВыбора,$M$60-$L220)=N$61)","v":false},{"$f":"(INDEX(спскВыбора,$M$60-$L220)=O$61)","v":false},35,21]
[{"$nulls":11},160,{"$f":"IF(INDEX(Данные[Решен],$M$60-$L221)=\"Да\",1,-1)","v":1},{"$f":"(INDEX(спскВыбора,$M$60-$L221)=N$61)","v":false},{"$f":"(INDEX(спскВыбора,$M$60-$L221)=O$61)","v":false},35,21]
[{"$nulls":11},161,{"$f":"IF(INDEX(Данные[Решен],$M$60-$L222)=\"Да\",1,-1)","v":1},{"$f":"(INDEX(спскВыбора,$M$60-$L222)=N$61)","v":false},{"$f":"(INDEX(спскВыбора,$M$60-$L222)=O$61)","v":false},35,21]
[{"$nulls":11},162,{"$f":"IF(INDEX(Данные[Решен],$M$60-$L223)=\"Да\",1,-1)","v":1},{"$f":"(INDEX(спскВыбора,$M$60-$L223)=N$61)","v":true},{"$f":"(INDEX(спскВыбора,$M$60-$L223)=O$61)","v":false},36,21]
[{"$nulls":11},163,{"$f":"IF(INDEX(Данные[Решен],$M$60-$L224)=\"Да\",1,-1)","v":-1},{"$f":"(INDEX(спскВыбора,$M$60-$L224)=N$61)","v":false},{"$f":"(INDEX(спскВыбора,$M$60-$L224)=O$61)","v":false},36,21]
[{"$nulls":11},164,{"$f":"IF(INDEX(Данные[Решен],$M$60-$L225)=\"Да\",1,-1)","v":1},{"$f":"(INDEX(спскВыбора,$M$60-$L225)=N$61)","v":true},{"$f":"(INDEX(спскВыбора,$M$60-$L225)=O$61)","v":false},37,21]
[{"$nulls":11},165,{"$f":"IF(INDEX(Данные[Решен],$M$60-$L226)=\"Да\",1,-1)","v":1},{"$f":"(INDEX(спскВыбора,$M$60-$L226)=N$61)","v":false},{"$f":"(INDEX(спскВыбора,$M$60-$L226)=O$61)","v":false},{"$f":"P225+N226","v":37},{"$f":"Q225+O226","v":21}]
[{"$nulls":11},166,{"$f":"IF(INDEX(Данные[Решен],$M$60-$L227)=\"Да\",1,-1)","v":1},{"$f":"(INDEX(спскВыбора,$M$60-$L227)=N$61)","v":false},{"$f":"(INDEX(спскВыбора,$M$60-$L227)=O$61)","v":false},37,21]
[{"$nulls":11},167,{"$f":"IF(INDEX(Данные[Решен],$M$60-$L228)=\"Да\",1,-1)","v":1},{"$f":"(INDEX(спскВыбора,$M$60-$L228)=N$61)","v":false},{"$f":"(INDEX(спскВыбора,$M$60-$L228)=O$61)","v":false},37,21]
[{"$nulls":11},168,{"$f":"IF(INDEX(Данные[Решен],$M$60-$L229)=\"Да\",1,-1)","v":1},{"$f":"(INDEX(спскВыбора,$M$60-$L229)=N$61)","v":false},{"$f":"(INDEX(спскВыбора,$M$60-$L229)=O$61)","v":true},37,22]
[{"$nulls":11},169,{"$f":"IF(INDEX(Данные[Решен],$M$60-$L230)=\"Да\",1,-1)","v":1},{"$f":"(INDEX(спскВыбора,$M$60-$L230)=N$61)","v":true},{"$f":"(INDEX(спскВыбора,$M$60-$L230)=O$61)","v":false},38,22]
[{"$nulls":11},170,{"$f":"IF(INDEX(Данные[Решен],$M$60-$L231)=\"Да\",1,-1)","v":1},{"$f":"(INDEX(спскВыбора,$M$60-$L231)=N$61)","v":false},{"$f":"(INDEX(спскВыбора,$M$60-$L231)=O$61)","v":false},38,22]
[{"$nulls":11},171,{"$f":"IF(INDEX(Данные[Решен],$M$60-$L232)=\"Да\",1,-1)","v":1},{"$f":"(INDEX(спскВыбора,$M$60-$L232)=N$61)","v":false},{"$f":"(INDEX(спскВыбора,$M$60-$L232)=O$61)","v":true},38,23]
[{"$nulls":11},172,{"$f":"IF(INDEX(Данные[Решен],$M$60-$L233)=\"Да\",1,-1)","v":1},{"$f":"(INDEX(спскВыбора,$M$60-$L233)=N$61)","v":false},{"$f":"(INDEX(спскВыбора,$M$60-$L233)=O$61)","v":false},38,23]
[{"$nulls":11},173,{"$f":"IF(INDEX(Данные[Решен],$M$60-$L234)=\"Да\",1,-1)","v":1},{"$f":"(INDEX(спскВыбора,$M$60-$L234)=N$61)","v":false},{"$f":"(INDEX(спскВыбора,$M$60-$L234)=O$61)","v":false},38,23]
[{"$nulls":11},174,{"$f":"IF(INDEX(Данные[Решен],$M$60-$L235)=\"Да\",1,-1)","v":1},{"$f":"(INDEX(спскВыбора,$M$60-$L235)=N$61)","v":false},{"$f":"(INDEX(спскВыбора,$M$60-$L235)=O$61)","v":false},38,23]
[{"$nulls":11},175,{"$f":"IF(INDEX(Данные[Решен],$M$60-$L236)=\"Да\",1,-1)","v":1},{"$f":"(INDEX(спскВыбора,$M$60-$L236)=N$61)","v":false},{"$f":"(INDEX(спскВыбора,$M$60-$L236)=O$61)","v":false},38,23]
[{"$nulls":11},176,{"$f":"IF(INDEX(Данные[Решен],$M$60-$L237)=\"Да\",1,-1)","v":1},{"$f":"(INDEX(спскВыбора,$M$60-$L237)=N$61)","v":true},{"$f":"(INDEX(спскВыбора,$M$60-$L237)=O$61)","v":false},39,23]
[{"$nulls":11},177,{"$f":"IF(INDEX(Данные[Решен],$M$60-$L238)=\"Да\",1,-1)","v":1},{"$f":"(INDEX(спскВыбора,$M$60-$L238)=N$61)","v":false},{"$f":"(INDEX(спскВыбора,$M$60-$L238)=O$61)","v":false},39,23]
[{"$nulls":11},178,{"$f":"IF(INDEX(Данные[Решен],$M$60-$L239)=\"Да\",1,-1)","v":1},{"$f":"(INDEX(спскВыбора,$M$60-$L239)=N$61)","v":false},{"$f":"(INDEX(спскВыбора,$M$60-$L239)=O$61)","v":false},39,23]
[{"$nulls":11},179,{"$f":"IF(INDEX(Данные[Решен],$M$60-$L240)=\"Да\",1,-1)","v":1},{"$f":"(INDEX(спскВыбора,$M$60-$L240)=N$61)","v":false},{"$f":"(INDEX(спскВыбора,$M$60-$L240)=O$61)","v":false},39,23]
[{"$nulls":11},180,{"$f":"IF(INDEX(Данные[Решен],$M$60-$L241)=\"Да\",1,-1)","v":1},{"$f":"(INDEX(спскВыбора,$M$60-$L241)=N$61)","v":false},{"$f":"(INDEX(спскВыбора,$M$60-$L241)=O$61)","v":false},39,23]
[{"$nulls":11},181,{"$f":"IF(INDEX(Данные[Решен],$M$60-$L242)=\"Да\",1,-1)","v":1},{"$f":"(INDEX(спскВыбора,$M$60-$L242)=N$61)","v":true},{"$f":"(INDEX(спскВыбора,$M$60-$L242)=O$61)","v":false},40,23]
[{"$nulls":11},182,{"$f":"IF(INDEX(Данные[Решен],$M$60-$L243)=\"Да\",1,-1)","v":1},{"$f":"(INDEX(спскВыбора,$M$60-$L243)=N$61)","v":false},{"$f":"(INDEX(спскВыбора,$M$60-$L243)=O$61)","v":false},40,23]
[{"$nulls":11},183,{"$f":"IF(INDEX(Данные[Решен],$M$60-$L244)=\"Да\",1,-1)","v":1},{"$f":"(INDEX(спскВыбора,$M$60-$L244)=N$61)","v":false},{"$f":"(INDEX(спскВыбора,$M$60-$L244)=O$61)","v":false},40,23]
[{"$nulls":11},184,{"$f":"IF(INDEX(Данные[Решен],$M$60-$L245)=\"Да\",1,-1)","v":1},{"$f":"(INDEX(спскВыбора,$M$60-$L245)=N$61)","v":false},{"$f":"(INDEX(спскВыбора,$M$60-$L245)=O$61)","v":false},40,23]
[{"$nulls":11},185,{"$f":"IF(INDEX(Данные[Решен],$M$60-$L246)=\"Да\",1,-1)","v":-1},{"$f":"(INDEX(спскВыбора,$M$60-$L246)=N$61)","v":true},{"$f":"(INDEX(спскВыбора,$M$60-$L246)=O$61)","v":false},41,23]
[{"$nulls":11},186,{"$f":"IF(INDEX(Данные[Решен],$M$60-$L247)=\"Да\",1,-1)","v":1},{"$f":"(INDEX(спскВыбора,$M$60-$L247)=N$61)","v":false},{"$f":"(INDEX(спскВыбора,$M$60-$L247)=O$61)","v":false},41,23]
[{"$nulls":11},187,{"$f":"IF(INDEX(Данные[Решен],$M$60-$L248)=\"Да\",1,-1)","v":1},{"$f":"(INDEX(спскВыбора,$M$60-$L248)=N$61)","v":true},{"$f":"(INDEX(спскВыбора,$M$60-$L248)=O$61)","v":false},42,23]
[{"$nulls":11},188,{"$f":"IF(INDEX(Данные[Решен],$M$60-$L249)=\"Да\",1,-1)","v":1},{"$f":"(INDEX(спскВыбора,$M$60-$L249)=N$61)","v":true},{"$f":"(INDEX(спскВыбора,$M$60-$L249)=O$61)","v":false},43,23]
[{"$nulls":11},189,{"$f":"IF(INDEX(Данные[Решен],$M$60-$L250)=\"Да\",1,-1)","v":1},{"$f":"(INDEX(спскВыбора,$M$60-$L250)=N$61)","v":false},{"$f":"(INDEX(спскВыбора,$M$60-$L250)=O$61)","v":false},43,23]
[{"$nulls":11},190,{"$f":"IF(INDEX(Данные[Решен],$M$60-$L251)=\"Да\",1,-1)","v":1},{"$f":"(INDEX(спскВыбора,$M$60-$L251)=N$61)","v":false},{"$f":"(INDEX(спскВыбора,$M$60-$L251)=O$61)","v":false},43,23]
[{"$nulls":11},191,{"$f":"IF(INDEX(Данные[Решен],$M$60-$L252)=\"Да\",1,-1)","v":1},{"$f":"(INDEX(спскВыбора,$M$60-$L252)=N$61)","v":false},{"$f":"(INDEX(спскВыбора,$M$60-$L252)=O$61)","v":false},43,23]
[{"$nulls":11},192,{"$f":"IF(INDEX(Данные[Решен],$M$60-$L253)=\"Да\",1,-1)","v":1},{"$f":"(INDEX(спскВыбора,$M$60-$L253)=N$61)","v":false},{"$f":"(INDEX(спскВыбора,$M$60-$L253)=O$61)","v":false},43,23]
[{"$nulls":11},193,{"$f":"IF(INDEX(Данные[Решен],$M$60-$L254)=\"Да\",1,-1)","v":1},{"$f":"(INDEX(спскВыбора,$M$60-$L254)=N$61)","v":true},{"$f":"(INDEX(спскВыбора,$M$60-$L254)=O$61)","v":false},44,23]
[{"$nulls":11},194,{"$f":"IF(INDEX(Данные[Решен],$M$60-$L255)=\"Да\",1,-1)","v":1},{"$f":"(INDEX(спскВыбора,$M$60-$L255)=N$61)","v":false},{"$f":"(INDEX(спскВыбора,$M$60-$L255)=O$61)","v":false},44,23]
[{"$nulls":11},195,{"$f":"IF(INDEX(Данные[Решен],$M$60-$L256)=\"Да\",1,-1)","v":1},{"$f":"(INDEX(спскВыбора,$M$60-$L256)=N$61)","v":false},{"$f":"(INDEX(спскВыбора,$M$60-$L256)=O$61)","v":false},44,23]
[{"$nulls":11},196,{"$f":"IF(INDEX(Данные[Решен],$M$60-$L257)=\"Да\",1,-1)","v":1},{"$f":"(INDEX(спскВыбора,$M$60-$L257)=N$61)","v":false},{"$f":"(INDEX(спскВыбора,$M$60-$L257)=O$61)","v":false},44,23]
[{"$nulls":11},197,{"$f":"IF(INDEX(Данные[Решен],$M$60-$L258)=\"Да\",1,-1)","v":1},{"$f":"(INDEX(спскВыбора,$M$60-$L258)=N$61)","v":false},{"$f":"(INDEX(спскВыбора,$M$60-$L258)=O$61)","v":false},44,23]
[{"$nulls":11},198,{"$f":"IF(INDEX(Данные[Решен],$M$60-$L259)=\"Да\",1,-1)","v":1},{"$f":"(INDEX(спскВыбора,$M$60-$L259)=N$61)","v":false},{"$f":"(INDEX(спскВыбора,$M$60-$L259)=O$61)","v":false},44,23]
[{"$nulls":11},199,{"$f":"IF(INDEX(Данные[Решен],$M$60-$L260)=\"Да\",1,-1)","v":1},{"$f":"(INDEX(спскВыбора,$M$60-$L260)=N$61)","v":true},{"$f":"(INDEX(спскВыбора,$M$60-$L260)=O$61)","v":false},45,23]
[{"$nulls":11},200,{"$f":"IF(INDEX(Данные[Решен],$M$60-$L261)=\"Да\",1,-1)","v":1},{"$f":"(INDEX(спскВыбора,$M$60-$L261)=N$61)","v":false},{"$f":"(INDEX(спскВыбора,$M$60-$L261)=O$61)","v":false},45,23]
[{"$nulls":11},201,{"$f":"IF(INDEX(Данные[Решен],$M$60-$L262)=\"Да\",1,-1)","v":1},{"$f":"(INDEX(спскВыбора,$M$60-$L262)=N$61)","v":false},{"$f":"(INDEX(спскВыбора,$M$60-$L262)=O$61)","v":false},45,23]
[{"$nulls":11},202,{"$f":"IF(INDEX(Данные[Решен],$M$60-$L263)=\"Да\",1,-1)","v":1},{"$f":"(INDEX(спскВыбора,$M$60-$L263)=N$61)","v":false},{"$f":"(INDEX(спскВыбора,$M$60-$L263)=O$61)","v":true},45,24]
[{"$nulls":11},203,{"$f":"IF(INDEX(Данные[Решен],$M$60-$L264)=\"Да\",1,-1)","v":1},{"$f":"(INDEX(спскВыбора,$M$60-$L264)=N$61)","v":false},{"$f":"(INDEX(спскВыбора,$M$60-$L264)=O$61)","v":false},45,24]
[{"$nulls":11},204,{"$f":"IF(INDEX(Данные[Решен],$M$60-$L265)=\"Да\",1,-1)","v":1},{"$f":"(INDEX(спскВыбора,$M$60-$L265)=N$61)","v":false},{"$f":"(INDEX(спскВыбора,$M$60-$L265)=O$61)","v":false},45,24]
[{"$nulls":11},205,{"$f":"IF(INDEX(Данные[Решен],$M$60-$L266)=\"Да\",1,-1)","v":1},{"$f":"(INDEX(спскВыбора,$M$60-$L266)=N$61)","v":false},{"$f":"(INDEX(спскВыбора,$M$60-$L266)=O$61)","v":false},45,24]
[{"$nulls":11},206,{"$f":"IF(INDEX(Данные[Решен],$M$60-$L267)=\"Да\",1,-1)","v":1},{"$f":"(INDEX(спскВыбора,$M$60-$L267)=N$61)","v":false},{"$f":"(INDEX(спскВыбора,$M$60-$L267)=O$61)","v":false},45,24]
[{"$nulls":11},207,{"$f":"IF(INDEX(Данные[Решен],$M$60-$L268)=\"Да\",1,-1)","v":1},{"$f":"(INDEX(спскВыбора,$M$60-$L268)=N$61)","v":false},{"$f":"(INDEX(спскВыбора,$M$60-$L268)=O$61)","v":true},45,25]
[{"$nulls":11},208,{"$f":"IF(INDEX(Данные[Решен],$M$60-$L269)=\"Да\",1,-1)","v":1},{"$f":"(INDEX(спскВыбора,$M$60-$L269)=N$61)","v":false},{"$f":"(INDEX(спскВыбора,$M$60-$L269)=O$61)","v":false},45,25]
[{"$nulls":11},209,{"$f":"IF(INDEX(Данные[Решен],$M$60-$L270)=\"Да\",1,-1)","v":1},{"$f":"(INDEX(спскВыбора,$M$60-$L270)=N$61)","v":true},{"$f":"(INDEX(спскВыбора,$M$60-$L270)=O$61)","v":false},46,25]
[{"$nulls":11},210,{"$f":"IF(INDEX(Данные[Решен],$M$60-$L271)=\"Да\",1,-1)","v":1},{"$f":"(INDEX(спскВыбора,$M$60-$L271)=N$61)","v":false},{"$f":"(INDEX(спскВыбора,$M$60-$L271)=O$61)","v":true},46,26]
[{"$nulls":11},211,{"$f":"IF(INDEX(Данные[Решен],$M$60-$L272)=\"Да\",1,-1)","v":1},{"$f":"(INDEX(спскВыбора,$M$60-$L272)=N$61)","v":false},{"$f":"(INDEX(спскВыбора,$M$60-$L272)=O$61)","v":true},46,27]
[{"$nulls":11},212,{"$f":"IF(INDEX(Данные[Решен],$M$60-$L273)=\"Да\",1,-1)","v":1},{"$f":"(INDEX(спскВыбора,$M$60-$L273)=N$61)","v":false},{"$f":"(INDEX(спскВыбора,$M$60-$L273)=O$61)","v":false},46,27]
[{"$nulls":11},213,{"$f":"IF(INDEX(Данные[Решен],$M$60-$L274)=\"Да\",1,-1)","v":1},{"$f":"(INDEX(спскВыбора,$M$60-$L274)=N$61)","v":true},{"$f":"(INDEX(спскВыбора,$M$60-$L274)=O$61)","v":false},47,27]
[{"$nulls":11},214,{"$f":"IF(INDEX(Данные[Решен],$M$60-$L275)=\"Да\",1,-1)","v":1},{"$f":"(INDEX(спскВыбора,$M$60-$L275)=N$61)","v":false},{"$f":"(INDEX(спскВыбора,$M$60-$L275)=O$61)","v":false},47,27]
[{"$nulls":11},215,{"$f":"IF(INDEX(Данные[Решен],$M$60-$L276)=\"Да\",1,-1)","v":1},{"$f":"(INDEX(спскВыбора,$M$60-$L276)=N$61)","v":false},{"$f":"(INDEX(спскВыбора,$M$60-$L276)=O$61)","v":false},47,27]
[{"$nulls":11},216,{"$f":"IF(INDEX(Данные[Решен],$M$60-$L277)=\"Да\",1,-1)","v":1},{"$f":"(INDEX(спскВыбора,$M$60-$L277)=N$61)","v":false},{"$f":"(INDEX(спскВыбора,$M$60-$L277)=O$61)","v":false},47,27]
[{"$nulls":11},217,{"$f":"IF(INDEX(Данные[Решен],$M$60-$L278)=\"Да\",1,-1)","v":1},{"$f":"(INDEX(спскВыбора,$M$60-$L278)=N$61)","v":true},{"$f":"(INDEX(спскВыбора,$M$60-$L278)=O$61)","v":false},48,27]
[{"$nulls":11},218,{"$f":"IF(INDEX(Данные[Решен],$M$60-$L279)=\"Да\",1,-1)","v":1},{"$f":"(INDEX(спскВыбора,$M$60-$L279)=N$61)","v":false},{"$f":"(INDEX(спскВыбора,$M$60-$L279)=O$61)","v":false},48,27]
[{"$nulls":11},219,{"$f":"IF(INDEX(Данные[Решен],$M$60-$L280)=\"Да\",1,-1)","v":1},{"$f":"(INDEX(спскВыбора,$M$60-$L280)=N$61)","v":false},{"$f":"(INDEX(спскВыбора,$M$60-$L280)=O$61)","v":false},48,27]
[{"$nulls":11},220,{"$f":"IF(INDEX(Данные[Решен],$M$60-$L281)=\"Да\",1,-1)","v":1},{"$f":"(INDEX(спскВыбора,$M$60-$L281)=N$61)","v":false},{"$f":"(INDEX(спскВыбора,$M$60-$L281)=O$61)","v":false},48,27]
[{"$nulls":11},221,{"$f":"IF(INDEX(Данные[Решен],$M$60-$L282)=\"Да\",1,-1)","v":1},{"$f":"(INDEX(спскВыбора,$M$60-$L282)=N$61)","v":false},{"$f":"(INDEX(спскВыбора,$M$60-$L282)=O$61)","v":false},48,27]
[{"$nulls":11},222,{"$f":"IF(INDEX(Данные[Решен],$M$60-$L283)=\"Да\",1,-1)","v":1},{"$f":"(INDEX(спскВыбора,$M$60-$L283)=N$61)","v":false},{"$f":"(INDEX(спскВыбора,$M$60-$L283)=O$61)","v":false},48,27]
[{"$nulls":11},223,{"$f":"IF(INDEX(Данные[Решен],$M$60-$L284)=\"Да\",1,-1)","v":1},{"$f":"(INDEX(спскВыбора,$M$60-$L284)=N$61)","v":false},{"$f":"(INDEX(спскВыбора,$M$60-$L284)=O$61)","v":false},48,27]
[{"$nulls":11},224,{"$f":"IF(INDEX(Данные[Решен],$M$60-$L285)=\"Да\",1,-1)","v":1},{"$f":"(INDEX(спскВыбора,$M$60-$L285)=N$61)","v":false},{"$f":"(INDEX(спскВыбора,$M$60-$L285)=O$61)","v":false},48,27]
[{"$nulls":11},225,{"$f":"IF(INDEX(Данные[Решен],$M$60-$L286)=\"Да\",1,-1)","v":1},{"$f":"(INDEX(спскВыбора,$M$60-$L286)=N$61)","v":false},{"$f":"(INDEX(спскВыбора,$M$60-$L286)=O$61)","v":false},48,27]
[{"$nulls":11},226,{"$f":"IF(INDEX(Данные[Решен],$M$60-$L287)=\"Да\",1,-1)","v":1},{"$f":"(INDEX(спскВыбора,$M$60-$L287)=N$61)","v":true},{"$f":"(INDEX(спскВыбора,$M$60-$L287)=O$61)","v":false},49,27]
[{"$nulls":11},227,{"$f":"IF(INDEX(Данные[Решен],$M$60-$L288)=\"Да\",1,-1)","v":1},{"$f":"(INDEX(спскВыбора,$M$60-$L288)=N$61)","v":true},{"$f":"(INDEX(спскВыбора,$M$60-$L288)=O$61)","v":false},50,27]
[{"$nulls":11},228,{"$f":"IF(INDEX(Данные[Решен],$M$60-$L289)=\"Да\",1,-1)","v":1},{"$f":"(INDEX(спскВыбора,$M$60-$L289)=N$61)","v":false},{"$f":"(INDEX(спскВыбора,$M$60-$L289)=O$61)","v":false},50,27]
[{"$nulls":11},229,{"$f":"IF(INDEX(Данные[Решен],$M$60-$L290)=\"Да\",1,-1)","v":1},{"$f":"(INDEX(спскВыбора,$M$60-$L290)=N$61)","v":false},{"$f":"(INDEX(спскВыбора,$M$60-$L290)=O$61)","v":false},{"$f":"P289+N290","v":50},{"$f":"Q289+O290","v":27}]
[{"$nulls":11},230,{"$f":"IF(INDEX(Данные[Решен],$M$60-$L291)=\"Да\",1,-1)","v":1},{"$f":"(INDEX(спскВыбора,$M$60-$L291)=N$61)","v":false},{"$f":"(INDEX(спскВыбора,$M$60-$L291)=O$61)","v":false},50,27]
[{"$nulls":11},231,{"$f":"IF(INDEX(Данные[Решен],$M$60-$L292)=\"Да\",1,-1)","v":1},{"$f":"(INDEX(спскВыбора,$M$60-$L292)=N$61)","v":false},{"$f":"(INDEX(спскВыбора,$M$60-$L292)=O$61)","v":false},50,27]
[{"$nulls":11},232,{"$f":"IF(INDEX(Данные[Решен],$M$60-$L293)=\"Да\",1,-1)","v":1},{"$f":"(INDEX(спскВыбора,$M$60-$L293)=N$61)","v":false},{"$f":"(INDEX(спскВыбора,$M$60-$L293)=O$61)","v":false},50,27]
[{"$nulls":11},233,{"$f":"IF(INDEX(Данные[Решен],$M$60-$L294)=\"Да\",1,-1)","v":1},{"$f":"(INDEX(спскВыбора,$M$60-$L294)=N$61)","v":false},{"$f":"(INDEX(спскВыбора,$M$60-$L294)=O$61)","v":false},50,27]
[{"$nulls":11},234,{"$f":"IF(INDEX(Данные[Решен],$M$60-$L295)=\"Да\",1,-1)","v":1},{"$f":"(INDEX(спскВыбора,$M$60-$L295)=N$61)","v":false},{"$f":"(INDEX(спскВыбора,$M$60-$L295)=O$61)","v":false},50,27]
[{"$nulls":11},235,{"$f":"IF(INDEX(Данные[Решен],$M$60-$L296)=\"Да\",1,-1)","v":1},{"$f":"(INDEX(спскВыбора,$M$60-$L296)=N$61)","v":false},{"$f":"(INDEX(спскВыбора,$M$60-$L296)=O$61)","v":true},50,28]
[{"$nulls":11},236,{"$f":"IF(INDEX(Данные[Решен],$M$60-$L297)=\"Да\",1,-1)","v":1},{"$f":"(INDEX(спскВыбора,$M$60-$L297)=N$61)","v":false},{"$f":"(INDEX(спскВыбора,$M$60-$L297)=O$61)","v":false},50,28]
[{"$nulls":11},237,{"$f":"IF(INDEX(Данные[Решен],$M$60-$L298)=\"Да\",1,-1)","v":1},{"$f":"(INDEX(спскВыбора,$M$60-$L298)=N$61)","v":false},{"$f":"(INDEX(спскВыбора,$M$60-$L298)=O$61)","v":false},50,28]
[{"$nulls":11},238,{"$f":"IF(INDEX(Данные[Решен],$M$60-$L299)=\"Да\",1,-1)","v":1},{"$f":"(INDEX(спскВыбора,$M$60-$L299)=N$61)","v":true},{"$f":"(INDEX(спскВыбора,$M$60-$L299)=O$61)","v":false},51,28]
[{"$nulls":11},239,{"$f":"IF(INDEX(Данные[Решен],$M$60-$L300)=\"Да\",1,-1)","v":1},{"$f":"(INDEX(спскВыбора,$M$60-$L300)=N$61)","v":false},{"$f":"(INDEX(спскВыбора,$M$60-$L300)=O$61)","v":false},51,28]
[{"$nulls":11},240,{"$f":"IF(INDEX(Данные[Решен],$M$60-$L301)=\"Да\",1,-1)","v":1},{"$f":"(INDEX(спскВыбора,$M$60-$L301)=N$61)","v":false},{"$f":"(INDEX(спскВыбора,$M$60-$L301)=O$61)","v":false},51,28]
[{"$nulls":11},241,{"$f":"IF(INDEX(Данные[Решен],$M$60-$L302)=\"Да\",1,-1)","v":1},{"$f":"(INDEX(спскВыбора,$M$60-$L302)=N$61)","v":false},{"$f":"(INDEX(спскВыбора,$M$60-$L302)=O$61)","v":false},51,28]
[{"$nulls":11},242,{"$f":"IF(INDEX(Данные[Решен],$M$60-$L303)=\"Да\",1,-1)","v":1},{"$f":"(INDEX(спскВыбора,$M$60-$L303)=N$61)","v":false},{"$f":"(INDEX(спскВыбора,$M$60-$L303)=O$61)","v":false},51,28]
[{"$nulls":11},243,{"$f":"IF(INDEX(Данные[Решен],$M$60-$L304)=\"Да\",1,-1)","v":1},{"$f":"(INDEX(спскВыбора,$M$60-$L304)=N$61)","v":true},{"$f":"(INDEX(спскВыбора,$M$60-$L304)=O$61)","v":false},52,28]
[{"$nulls":11},244,{"$f":"IF(INDEX(Данные[Решен],$M$60-$L305)=\"Да\",1,-1)","v":1},{"$f":"(INDEX(спскВыбора,$M$60-$L305)=N$61)","v":false},{"$f":"(INDEX(спскВыбора,$M$60-$L305)=O$61)","v":true},52,29]
[{"$nulls":11},245,{"$f":"IF(INDEX(Данные[Решен],$M$60-$L306)=\"Да\",1,-1)","v":1},{"$f":"(INDEX(спскВыбора,$M$60-$L306)=N$61)","v":false},{"$f":"(INDEX(спскВыбора,$M$60-$L306)=O$61)","v":false},52,29]
[{"$nulls":11},246,{"$f":"IF(INDEX(Данные[Решен],$M$60-$L307)=\"Да\",1,-1)","v":1},{"$f":"(INDEX(спскВыбора,$M$60-$L307)=N$61)","v":false},{"$f":"(INDEX(спскВыбора,$M$60-$L307)=O$61)","v":false},52,29]
[{"$nulls":11},247,{"$f":"IF(INDEX(Данные[Решен],$M$60-$L308)=\"Да\",1,-1)","v":-1},{"$f":"(INDEX(спскВыбора,$M$60-$L308)=N$61)","v":false},{"$f":"(INDEX(спскВыбора,$M$60-$L308)=O$61)","v":false},52,29]
[{"$nulls":11},248,{"$f":"IF(INDEX(Данные[Решен],$M$60-$L309)=\"Да\",1,-1)","v":1},{"$f":"(INDEX(спскВыбора,$M$60-$L309)=N$61)","v":true},{"$f":"(INDEX(спскВыбора,$M$60-$L309)=O$61)","v":false},53,29]
[{"$nulls":11},249,{"$f":"IF(INDEX(Данные[Решен],$M$60-$L310)=\"Да\",1,-1)","v":1},{"$f":"(INDEX(спскВыбора,$M$60-$L310)=N$61)","v":false},{"$f":"(INDEX(спскВыбора,$M$60-$L310)=O$61)","v":false},53,29]
[{"$nulls":11},250,{"$f":"IF(INDEX(Данные[Решен],$M$60-$L311)=\"Да\",1,-1)","v":1},{"$f":"(INDEX(спскВыбора,$M$60-$L311)=N$61)","v":false},{"$f":"(INDEX(спскВыбора,$M$60-$L311)=O$61)","v":false},53,29]
[{"$nulls":11},251,{"$f":"IF(INDEX(Данные[Решен],$M$60-$L312)=\"Да\",1,-1)","v":-1},{"$f":"(INDEX(спскВыбора,$M$60-$L312)=N$61)","v":false},{"$f":"(INDEX(спскВыбора,$M$60-$L312)=O$61)","v":false},53,29]
[{"$nulls":11},252,{"$f":"IF(INDEX(Данные[Решен],$M$60-$L313)=\"Да\",1,-1)","v":1},{"$f":"(INDEX(спскВыбора,$M$60-$L313)=N$61)","v":false},{"$f":"(INDEX(спскВыбора,$M$60-$L313)=O$61)","v":true},53,30]
[{"$nulls":11},253,{"$f":"IF(INDEX(Данные[Решен],$M$60-$L314)=\"Да\",1,-1)","v":1},{"$f":"(INDEX(спскВыбора,$M$60-$L314)=N$61)","v":false},{"$f":"(INDEX(спскВыбора,$M$60-$L314)=O$61)","v":false},53,30]
[{"$nulls":11},254,{"$f":"IF(INDEX(Данные[Решен],$M$60-$L315)=\"Да\",1,-1)","v":1},{"$f":"(INDEX(спскВыбора,$M$60-$L315)=N$61)","v":false},{"$f":"(INDEX(спскВыбора,$M$60-$L315)=O$61)","v":false},53,30]
[{"$nulls":11},255,{"$f":"IF(INDEX(Данные[Решен],$M$60-$L316)=\"Да\",1,-1)","v":1},{"$f":"(INDEX(спскВыбора,$M$60-$L316)=N$61)","v":false},{"$f":"(INDEX(спскВыбора,$M$60-$L316)=O$61)","v":false},53,30]
[{"$nulls":11},256,{"$f":"IF(INDEX(Данные[Решен],$M$60-$L317)=\"Да\",1,-1)","v":1},{"$f":"(INDEX(спскВыбора,$M$60-$L317)=N$61)","v":false},{"$f":"(INDEX(спскВыбора,$M$60-$L317)=O$61)","v":false},53,30]
[{"$nulls":11},257,{"$f":"IF(INDEX(Данные[Решен],$M$60-$L318)=\"Да\",1,-1)","v":1},{"$f":"(INDEX(спскВыбора,$M$60-$L318)=N$61)","v":false},{"$f":"(INDEX(спскВыбора,$M$60-$L318)=O$61)","v":false},53,30]
[{"$nulls":11},258,{"$f":"IF(INDEX(Данные[Решен],$M$60-$L319)=\"Да\",1,-1)","v":1},{"$f":"(INDEX(спскВыбора,$M$60-$L319)=N$61)","v":false},{"$f":"(INDEX(спскВыбора,$M$60-$L319)=O$61)","v":false},53,30]
[{"$nulls":11},259,{"$f":"IF(INDEX(Данные[Решен],$M$60-$L320)=\"Да\",1,-1)","v":1},{"$f":"(INDEX(спскВыбора,$M$60-$L320)=N$61)","v":false},{"$f":"(INDEX(спскВыбора,$M$60-$L320)=O$61)","v":false},53,30]
[{"$nulls":11},260,{"$f":"IF(INDEX(Данные[Решен],$M$60-$L321)=\"Да\",1,-1)","v":1},{"$f":"(INDEX(спскВыбора,$M$60-$L321)=N$61)","v":false},{"$f":"(INDEX(спскВыбора,$M$60-$L321)=O$61)","v":false},53,30]
[{"$nulls":11},261,{"$f":"IF(INDEX(Данные[Решен],$M$60-$L322)=\"Да\",1,-1)","v":1},{"$f":"(INDEX(спскВыбора,$M$60-$L322)=N$61)","v":true},{"$f":"(INDEX(спскВыбора,$M$60-$L322)=O$61)","v":false},54,30]
[{"$nulls":11},262,{"$f":"IF(INDEX(Данные[Решен],$M$60-$L323)=\"Да\",1,-1)","v":1},{"$f":"(INDEX(спскВыбора,$M$60-$L323)=N$61)","v":false},{"$f":"(INDEX(спскВыбора,$M$60-$L323)=O$61)","v":true},54,31]
[{"$nulls":11},263,{"$f":"IF(INDEX(Данные[Решен],$M$60-$L324)=\"Да\",1,-1)","v":1},{"$f":"(INDEX(спскВыбора,$M$60-$L324)=N$61)","v":false},{"$f":"(INDEX(спскВыбора,$M$60-$L324)=O$61)","v":false},54,31]
[{"$nulls":11},264,{"$f":"IF(INDEX(Данные[Решен],$M$60-$L325)=\"Да\",1,-1)","v":-1},{"$f":"(INDEX(спскВыбора,$M$60-$L325)=N$61)","v":false},{"$f":"(INDEX(спскВыбора,$M$60-$L325)=O$61)","v":false},54,31]
[{"$nulls":11},265,{"$f":"IF(INDEX(Данные[Решен],$M$60-$L326)=\"Да\",1,-1)","v":1},{"$f":"(INDEX(спскВыбора,$M$60-$L326)=N$61)","v":false},{"$f":"(INDEX(спскВыбора,$M$60-$L326)=O$61)","v":false},54,31]
[{"$nulls":11},266,{"$f":"IF(INDEX(Данные[Решен],$M$60-$L327)=\"Да\",1,-1)","v":1},{"$f":"(INDEX(спскВыбора,$M$60-$L327)=N$61)","v":true},{"$f":"(INDEX(спскВыбора,$M$60-$L327)=O$61)","v":false},55,31]
[{"$nulls":11},267,{"$f":"IF(INDEX(Данные[Решен],$M$60-$L328)=\"Да\",1,-1)","v":1},{"$f":"(INDEX(спскВыбора,$M$60-$L328)=N$61)","v":false},{"$f":"(INDEX(спскВыбора,$M$60-$L328)=O$61)","v":false},55,31]
[{"$nulls":11},268,{"$f":"IF(INDEX(Данные[Решен],$M$60-$L329)=\"Да\",1,-1)","v":1},{"$f":"(INDEX(спскВыбора,$M$60-$L329)=N$61)","v":false},{"$f":"(INDEX(спскВыбора,$M$60-$L329)=O$61)","v":false},55,31]
[{"$nulls":11},269,{"$f":"IF(INDEX(Данные[Решен],$M$60-$L330)=\"Да\",1,-1)","v":1},{"$f":"(INDEX(спскВыбора,$M$60-$L330)=N$61)","v":false},{"$f":"(INDEX(спскВыбора,$M$60-$L330)=O$61)","v":false},55,31]
[{"$nulls":11},270,{"$f":"IF(INDEX(Данные[Решен],$M$60-$L331)=\"Да\",1,-1)","v":1},{"$f":"(INDEX(спскВыбора,$M$60-$L331)=N$61)","v":false},{"$f":"(INDEX(спскВыбора,$M$60-$L331)=O$61)","v":false},55,31]
[{"$nulls":11},271,{"$f":"IF(INDEX(Данные[Решен],$M$60-$L332)=\"Да\",1,-1)","v":1},{"$f":"(INDEX(спскВыбора,$M$60-$L332)=N$61)","v":true},{"$f":"(INDEX(спскВыбора,$M$60-$L332)=O$61)","v":false},56,31]
[{"$nulls":11},272,{"$f":"IF(INDEX(Данные[Решен],$M$60-$L333)=\"Да\",1,-1)","v":1},{"$f":"(INDEX(спскВыбора,$M$60-$L333)=N$61)","v":true},{"$f":"(INDEX(спскВыбора,$M$60-$L333)=O$61)","v":false},57,31]
[{"$nulls":11},273,{"$f":"IF(INDEX(Данные[Решен],$M$60-$L334)=\"Да\",1,-1)","v":1},{"$f":"(INDEX(спскВыбора,$M$60-$L334)=N$61)","v":false},{"$f":"(INDEX(спскВыбора,$M$60-$L334)=O$61)","v":false},57,31]
[{"$nulls":11},274,{"$f":"IF(INDEX(Данные[Решен],$M$60-$L335)=\"Да\",1,-1)","v":1},{"$f":"(INDEX(спскВыбора,$M$60-$L335)=N$61)","v":false},{"$f":"(INDEX(спскВыбора,$M$60-$L335)=O$61)","v":false},57,31]
[{"$nulls":11},275,{"$f":"IF(INDEX(Данные[Решен],$M$60-$L336)=\"Да\",1,-1)","v":1},{"$f":"(INDEX(спскВыбора,$M$60-$L336)=N$61)","v":false},{"$f":"(INDEX(спскВыбора,$M$60-$L336)=O$61)","v":false},57,31]
[{"$nulls":11},276,{"$f":"IF(INDEX(Данные[Решен],$M$60-$L337)=\"Да\",1,-1)","v":1},{"$f":"(INDEX(спскВыбора,$M$60-$L337)=N$61)","v":false},{"$f":"(INDEX(спскВыбора,$M$60-$L337)=O$61)","v":false},57,31]
[{"$nulls":11},277,{"$f":"IF(INDEX(Данные[Решен],$M$60-$L338)=\"Да\",1,-1)","v":1},{"$f":"(INDEX(спскВыбора,$M$60-$L338)=N$61)","v":false},{"$f":"(INDEX(спскВыбора,$M$60-$L338)=O$61)","v":false},57,31]
[{"$nulls":11},278,{"$f":"IF(INDEX(Данные[Решен],$M$60-$L339)=\"Да\",1,-1)","v":1},{"$f":"(INDEX(спскВыбора,$M$60-$L339)=N$61)","v":false},{"$f":"(INDEX(спскВыбора,$M$60-$L339)=O$61)","v":false},57,31]
[{"$nulls":11},279,{"$f":"IF(INDEX(Данные[Решен],$M$60-$L340)=\"Да\",1,-1)","v":1},{"$f":"(INDEX(спскВыбора,$M$60-$L340)=N$61)","v":false},{"$f":"(INDEX(спскВыбора,$M$60-$L340)=O$61)","v":false},57,31]
[{"$nulls":11},280,{"$f":"IF(INDEX(Данные[Решен],$M$60-$L341)=\"Да\",1,-1)","v":1},{"$f":"(INDEX(спскВыбора,$M$60-$L341)=N$61)","v":true},{"$f":"(INDEX(спскВыбора,$M$60-$L341)=O$61)","v":false},58,31]
[{"$nulls":11},281,{"$f":"IF(INDEX(Данные[Решен],$M$60-$L342)=\"Да\",1,-1)","v":1},{"$f":"(INDEX(спскВыбора,$M$60-$L342)=N$61)","v":true},{"$f":"(INDEX(спскВыбора,$M$60-$L342)=O$61)","v":false},59,31]
[{"$nulls":11},282,{"$f":"IF(INDEX(Данные[Решен],$M$60-$L343)=\"Да\",1,-1)","v":1},{"$f":"(INDEX(спскВыбора,$M$60-$L343)=N$61)","v":false},{"$f":"(INDEX(спскВыбора,$M$60-$L343)=O$61)","v":false},59,31]
[{"$nulls":11},283,{"$f":"IF(INDEX(Данные[Решен],$M$60-$L344)=\"Да\",1,-1)","v":1},{"$f":"(INDEX(спскВыбора,$M$60-$L344)=N$61)","v":false},{"$f":"(INDEX(спскВыбора,$M$60-$L344)=O$61)","v":false},59,31]
[{"$nulls":11},284,{"$f":"IF(INDEX(Данные[Решен],$M$60-$L345)=\"Да\",1,-1)","v":1},{"$f":"(INDEX(спскВыбора,$M$60-$L345)=N$61)","v":true},{"$f":"(INDEX(спскВыбора,$M$60-$L345)=O$61)","v":false},60,31]
[{"$nulls":11},285,{"$f":"IF(INDEX(Данные[Решен],$M$60-$L346)=\"Да\",1,-1)","v":1},{"$f":"(INDEX(спскВыбора,$M$60-$L346)=N$61)","v":true},{"$f":"(INDEX(спскВыбора,$M$60-$L346)=O$61)","v":false},61,31]
[{"$nulls":11},286,{"$f":"IF(INDEX(Данные[Решен],$M$60-$L347)=\"Да\",1,-1)","v":-1},{"$f":"(INDEX(спскВыбора,$M$60-$L347)=N$61)","v":false},{"$f":"(INDEX(спскВыбора,$M$60-$L347)=O$61)","v":false},61,31]
[{"$nulls":11},287,{"$f":"IF(INDEX(Данные[Решен],$M$60-$L348)=\"Да\",1,-1)","v":1},{"$f":"(INDEX(спскВыбора,$M$60-$L348)=N$61)","v":true},{"$f":"(INDEX(спскВыбора,$M$60-$L348)=O$61)","v":false},62,31]
[{"$nulls":11},288,{"$f":"IF(INDEX(Данные[Решен],$M$60-$L349)=\"Да\",1,-1)","v":1},{"$f":"(INDEX(спскВыбора,$M$60-$L349)=N$61)","v":false},{"$f":"(INDEX(спскВыбора,$M$60-$L349)=O$61)","v":true},62,32]
[{"$nulls":11},289,{"$f":"IF(INDEX(Данные[Решен],$M$60-$L350)=\"Да\",1,-1)","v":1},{"$f":"(INDEX(спскВыбора,$M$60-$L350)=N$61)","v":false},{"$f":"(INDEX(спскВыбора,$M$60-$L350)=O$61)","v":false},62,32]
[{"$nulls":11},290,{"$f":"IF(INDEX(Данные[Решен],$M$60-$L351)=\"Да\",1,-1)","v":1},{"$f":"(INDEX(спскВыбора,$M$60-$L351)=N$61)","v":false},{"$f":"(INDEX(спскВыбора,$M$60-$L351)=O$61)","v":true},62,33]
[{"$nulls":11},291,{"$f":"IF(INDEX(Данные[Решен],$M$60-$L352)=\"Да\",1,-1)","v":1},{"$f":"(INDEX(спскВыбора,$M$60-$L352)=N$61)","v":false},{"$f":"(INDEX(спскВыбора,$M$60-$L352)=O$61)","v":false},62,33]
[{"$nulls":11},292,{"$f":"IF(INDEX(Данные[Решен],$M$60-$L353)=\"Да\",1,-1)","v":1},{"$f":"(INDEX(спскВыбора,$M$60-$L353)=N$61)","v":false},{"$f":"(INDEX(спскВыбора,$M$60-$L353)=O$61)","v":true},62,34]
[{"$nulls":11},293,{"$f":"IF(INDEX(Данные[Решен],$M$60-$L354)=\"Да\",1,-1)","v":1},{"$f":"(INDEX(спскВыбора,$M$60-$L354)=N$61)","v":false},{"$f":"(INDEX(спскВыбора,$M$60-$L354)=O$61)","v":false},{"$f":"P353+N354","v":62},{"$f":"Q353+O354","v":34}]
[{"$nulls":11},294,{"$f":"IF(INDEX(Данные[Решен],$M$60-$L355)=\"Да\",1,-1)","v":-1},{"$f":"(INDEX(спскВыбора,$M$60-$L355)=N$61)","v":false},{"$f":"(INDEX(спскВыбора,$M$60-$L355)=O$61)","v":false},62,34]
[{"$nulls":11},295,{"$f":"IF(INDEX(Данные[Решен],$M$60-$L356)=\"Да\",1,-1)","v":1},{"$f":"(INDEX(спскВыбора,$M$60-$L356)=N$61)","v":false},{"$f":"(INDEX(спскВыбора,$M$60-$L356)=O$61)","v":false},62,34]
[{"$nulls":11},296,{"$f":"IF(INDEX(Данные[Решен],$M$60-$L357)=\"Да\",1,-1)","v":1},{"$f":"(INDEX(спскВыбора,$M$60-$L357)=N$61)","v":false},{"$f":"(INDEX(спскВыбора,$M$60-$L357)=O$61)","v":false},62,34]
[{"$nulls":11},297,{"$f":"IF(INDEX(Данные[Решен],$M$60-$L358)=\"Да\",1,-1)","v":1},{"$f":"(INDEX(спскВыбора,$M$60-$L358)=N$61)","v":false},{"$f":"(INDEX(спскВыбора,$M$60-$L358)=O$61)","v":true},62,35]
[{"$nulls":11},298,{"$f":"IF(INDEX(Данные[Решен],$M$60-$L359)=\"Да\",1,-1)","v":1},{"$f":"(INDEX(спскВыбора,$M$60-$L359)=N$61)","v":false},{"$f":"(INDEX(спскВыбора,$M$60-$L359)=O$61)","v":true},62,36]
[{"$nulls":11},299,{"$f":"IF(INDEX(Данные[Решен],$M$60-$L360)=\"Да\",1,-1)","v":1},{"$f":"(INDEX(спскВыбора,$M$60-$L360)=N$61)","v":true},{"$f":"(INDEX(спскВыбора,$M$60-$L360)=O$61)","v":false},63,36]
[{"$nulls":11},300,{"$f":"IF(INDEX(Данные[Решен],$M$60-$L361)=\"Да\",1,-1)","v":-1},{"$f":"(INDEX(спскВыбора,$M$60-$L361)=N$61)","v":false},{"$f":"(INDEX(спскВыбора,$M$60-$L361)=O$61)","v":true},63,37]
[{"$nulls":11},301,{"$f":"IF(INDEX(Данные[Решен],$M$60-$L362)=\"Да\",1,-1)","v":1},{"$f":"(INDEX(спскВыбора,$M$60-$L362)=N$61)","v":false},{"$f":"(INDEX(спскВыбора,$M$60-$L362)=O$61)","v":false},63,37]
[{"$nulls":11},302,{"$f":"IF(INDEX(Данные[Решен],$M$60-$L363)=\"Да\",1,-1)","v":1},{"$f":"(INDEX(спскВыбора,$M$60-$L363)=N$61)","v":false},{"$f":"(INDEX(спскВыбора,$M$60-$L363)=O$61)","v":true},63,38]
[{"$nulls":11},303,{"$f":"IF(INDEX(Данные[Решен],$M$60-$L364)=\"Да\",1,-1)","v":1},{"$f":"(INDEX(спскВыбора,$M$60-$L364)=N$61)","v":false},{"$f":"(INDEX(спскВыбора,$M$60-$L364)=O$61)","v":false},63,38]
[{"$nulls":11},304,{"$f":"IF(INDEX(Данные[Решен],$M$60-$L365)=\"Да\",1,-1)","v":1},{"$f":"(INDEX(спскВыбора,$M$60-$L365)=N$61)","v":false},{"$f":"(INDEX(спскВыбора,$M$60-$L365)=O$61)","v":true},63,39]
[{"$nulls":11},305,{"$f":"IF(INDEX(Данные[Решен],$M$60-$L366)=\"Да\",1,-1)","v":1},{"$f":"(INDEX(спскВыбора,$M$60-$L366)=N$61)","v":false},{"$f":"(INDEX(спскВыбора,$M$60-$L366)=O$61)","v":false},63,39]
[{"$nulls":11},306,{"$f":"IF(INDEX(Данные[Решен],$M$60-$L367)=\"Да\",1,-1)","v":1},{"$f":"(INDEX(спскВыбора,$M$60-$L367)=N$61)","v":false},{"$f":"(INDEX(спскВыбора,$M$60-$L367)=O$61)","v":false},63,39]
[{"$nulls":11},307,{"$f":"IF(INDEX(Данные[Решен],$M$60-$L368)=\"Да\",1,-1)","v":1},{"$f":"(INDEX(спскВыбора,$M$60-$L368)=N$61)","v":false},{"$f":"(INDEX(спскВыбора,$M$60-$L368)=O$61)","v":true},63,40]
[{"$nulls":11},308,{"$f":"IF(INDEX(Данные[Решен],$M$60-$L369)=\"Да\",1,-1)","v":1},{"$f":"(INDEX(спскВыбора,$M$60-$L369)=N$61)","v":false},{"$f":"(INDEX(спскВыбора,$M$60-$L369)=O$61)","v":false},63,40]
[{"$nulls":11},309,{"$f":"IF(INDEX(Данные[Решен],$M$60-$L370)=\"Да\",1,-1)","v":1},{"$f":"(INDEX(спскВыбора,$M$60-$L370)=N$61)","v":true},{"$f":"(INDEX(спскВыбора,$M$60-$L370)=O$61)","v":false},64,40]
[{"$nulls":11},310,{"$f":"IF(INDEX(Данные[Решен],$M$60-$L371)=\"Да\",1,-1)","v":1},{"$f":"(INDEX(спскВыбора,$M$60-$L371)=N$61)","v":false},{"$f":"(INDEX(спскВыбора,$M$60-$L371)=O$61)","v":false},64,40]
[{"$nulls":11},311,{"$f":"IF(INDEX(Данные[Решен],$M$60-$L372)=\"Да\",1,-1)","v":1},{"$f":"(INDEX(спскВыбора,$M$60-$L372)=N$61)","v":false},{"$f":"(INDEX(спскВыбора,$M$60-$L372)=O$61)","v":true},64,41]
[{"$nulls":11},312,{"$f":"IF(INDEX(Данные[Решен],$M$60-$L373)=\"Да\",1,-1)","v":1},{"$f":"(INDEX(спскВыбора,$M$60-$L373)=N$61)","v":false},{"$f":"(INDEX(спскВыбора,$M$60-$L373)=O$61)","v":false},64,41]
[{"$nulls":11},313,{"$f":"IF(INDEX(Данные[Решен],$M$60-$L374)=\"Да\",1,-1)","v":1},{"$f":"(INDEX(спскВыбора,$M$60-$L374)=N$61)","v":false},{"$f":"(INDEX(спскВыбора,$M$60-$L374)=O$61)","v":false},64,41]
[{"$nulls":11},314,{"$f":"IF(INDEX(Данные[Решен],$M$60-$L375)=\"Да\",1,-1)","v":1},{"$f":"(INDEX(спскВыбора,$M$60-$L375)=N$61)","v":false},{"$f":"(INDEX(спскВыбора,$M$60-$L375)=O$61)","v":true},64,42]
[{"$nulls":11},315,{"$f":"IF(INDEX(Данные[Решен],$M$60-$L376)=\"Да\",1,-1)","v":1},{"$f":"(INDEX(спскВыбора,$M$60-$L376)=N$61)","v":false},{"$f":"(INDEX(спскВыбора,$M$60-$L376)=O$61)","v":false},64,42]
[{"$nulls":11},316,{"$f":"IF(INDEX(Данные[Решен],$M$60-$L377)=\"Да\",1,-1)","v":1},{"$f":"(INDEX(спскВыбора,$M$60-$L377)=N$61)","v":true},{"$f":"(INDEX(спскВыбора,$M$60-$L377)=O$61)","v":false},65,42]
[{"$nulls":11},317,{"$f":"IF(INDEX(Данные[Решен],$M$60-$L378)=\"Да\",1,-1)","v":1},{"$f":"(INDEX(спскВыбора,$M$60-$L378)=N$61)","v":false},{"$f":"(INDEX(спскВыбора,$M$60-$L378)=O$61)","v":false},65,42]
[{"$nulls":11},318,{"$f":"IF(INDEX(Данные[Решен],$M$60-$L379)=\"Да\",1,-1)","v":1},{"$f":"(INDEX(спскВыбора,$M$60-$L379)=N$61)","v":false},{"$f":"(INDEX(спскВыбора,$M$60-$L379)=O$61)","v":false},65,42]
[{"$nulls":11},319,{"$f":"IF(INDEX(Данные[Решен],$M$60-$L380)=\"Да\",1,-1)","v":1},{"$f":"(INDEX(спскВыбора,$M$60-$L380)=N$61)","v":false},{"$f":"(INDEX(спскВыбора,$M$60-$L380)=O$61)","v":false},65,42]
[{"$nulls":11},320,{"$f":"IF(INDEX(Данные[Решен],$M$60-$L381)=\"Да\",1,-1)","v":1},{"$f":"(INDEX(спскВыбора,$M$60-$L381)=N$61)","v":false},{"$f":"(INDEX(спскВыбора,$M$60-$L381)=O$61)","v":false},65,42]
[{"$nulls":11},321,{"$f":"IF(INDEX(Данные[Решен],$M$60-$L382)=\"Да\",1,-1)","v":-1},{"$f":"(INDEX(спскВыбора,$M$60-$L382)=N$61)","v":true},{"$f":"(INDEX(спскВыбора,$M$60-$L382)=O$61)","v":false},66,42]
[{"$nulls":11},322,{"$f":"IF(INDEX(Данные[Решен],$M$60-$L383)=\"Да\",1,-1)","v":1},{"$f":"(INDEX(спскВыбора,$M$60-$L383)=N$61)","v":false},{"$f":"(INDEX(спскВыбора,$M$60-$L383)=O$61)","v":false},66,42]
[{"$nulls":11},323,{"$f":"IF(INDEX(Данные[Решен],$M$60-$L384)=\"Да\",1,-1)","v":1},{"$f":"(INDEX(спскВыбора,$M$60-$L384)=N$61)","v":false},{"$f":"(INDEX(спскВыбора,$M$60-$L384)=O$61)","v":false},66,42]
[{"$nulls":11},324,{"$f":"IF(INDEX(Данные[Решен],$M$60-$L385)=\"Да\",1,-1)","v":1},{"$f":"(INDEX(спскВыбора,$M$60-$L385)=N$61)","v":true},{"$f":"(INDEX(спскВыбора,$M$60-$L385)=O$61)","v":false},67,42]
[{"$nulls":11},325,{"$f":"IF(INDEX(Данные[Решен],$M$60-$L386)=\"Да\",1,-1)","v":1},{"$f":"(INDEX(спскВыбора,$M$60-$L386)=N$61)","v":true},{"$f":"(INDEX(спскВыбора,$M$60-$L386)=O$61)","v":false},68,42]
[{"$nulls":11},326,{"$f":"IF(INDEX(Данные[Решен],$M$60-$L387)=\"Да\",1,-1)","v":1},{"$f":"(INDEX(спскВыбора,$M$60-$L387)=N$61)","v":false},{"$f":"(INDEX(спскВыбора,$M$60-$L387)=O$61)","v":true},68,43]
[{"$nulls":11},327,{"$f":"IF(INDEX(Данные[Решен],$M$60-$L388)=\"Да\",1,-1)","v":1},{"$f":"(INDEX(спскВыбора,$M$60-$L388)=N$61)","v":false},{"$f":"(INDEX(спскВыбора,$M$60-$L388)=O$61)","v":false},68,43]
[{"$nulls":11},328,{"$f":"IF(INDEX(Данные[Решен],$M$60-$L389)=\"Да\",1,-1)","v":1},{"$f":"(INDEX(спскВыбора,$M$60-$L389)=N$61)","v":false},{"$f":"(INDEX(спскВыбора,$M$60-$L389)=O$61)","v":false},68,43]
[{"$nulls":11},329,{"$f":"IF(INDEX(Данные[Решен],$M$60-$L390)=\"Да\",1,-1)","v":1},{"$f":"(INDEX(спскВыбора,$M$60-$L390)=N$61)","v":false},{"$f":"(INDEX(спскВыбора,$M$60-$L390)=O$61)","v":false},68,43]
[{"$nulls":11},330,{"$f":"IF(INDEX(Данные[Решен],$M$60-$L391)=\"Да\",1,-1)","v":1},{"$f":"(INDEX(спскВыбора,$M$60-$L391)=N$61)","v":true},{"$f":"(INDEX(спскВыбора,$M$60-$L391)=O$61)","v":false},69,43]
[{"$nulls":11},331,{"$f":"IF(INDEX(Данные[Решен],$M$60-$L392)=\"Да\",1,-1)","v":1},{"$f":"(INDEX(спскВыбора,$M$60-$L392)=N$61)","v":true},{"$f":"(INDEX(спскВыбора,$M$60-$L392)=O$61)","v":false},70,43]
[{"$nulls":11},332,{"$f":"IF(INDEX(Данные[Решен],$M$60-$L393)=\"Да\",1,-1)","v":1},{"$f":"(INDEX(спскВыбора,$M$60-$L393)=N$61)","v":false},{"$f":"(INDEX(спскВыбора,$M$60-$L393)=O$61)","v":false},70,43]
[{"$nulls":11},333,{"$f":"IF(INDEX(Данные[Решен],$M$60-$L394)=\"Да\",1,-1)","v":1},{"$f":"(INDEX(спскВыбора,$M$60-$L394)=N$61)","v":false},{"$f":"(INDEX(спскВыбора,$M$60-$L394)=O$61)","v":false},70,43]
[{"$nulls":11},334,{"$f":"IF(INDEX(Данные[Решен],$M$60-$L395)=\"Да\",1,-1)","v":1},{"$f":"(INDEX(спскВыбора,$M$60-$L395)=N$61)","v":false},{"$f":"(INDEX(спскВыбора,$M$60-$L395)=O$61)","v":false},70,43]
[{"$nulls":11},335,{"$f":"IF(INDEX(Данные[Решен],$M$60-$L396)=\"Да\",1,-1)","v":1},{"$f":"(INDEX(спскВыбора,$M$60-$L396)=N$61)","v":false},{"$f":"(INDEX(спскВыбора,$M$60-$L396)=O$61)","v":false},70,43]
[{"$nulls":11},336,{"$f":"IF(INDEX(Данные[Решен],$M$60-$L397)=\"Да\",1,-1)","v":1},{"$f":"(INDEX(спскВыбора,$M$60-$L397)=N$61)","v":false},{"$f":"(INDEX(спскВыбора,$M$60-$L397)=O$61)","v":false},70,43]
[{"$nulls":11},337,{"$f":"IF(INDEX(Данные[Решен],$M$60-$L398)=\"Да\",1,-1)","v":1},{"$f":"(INDEX(спскВыбора,$M$60-$L398)=N$61)","v":false},{"$f":"(INDEX(спскВыбора,$M$60-$L398)=O$61)","v":false},70,43]
[{"$nulls":11},338,{"$f":"IF(INDEX(Данные[Решен],$M$60-$L399)=\"Да\",1,-1)","v":-1},{"$f":"(INDEX(спскВыбора,$M$60-$L399)=N$61)","v":false},{"$f":"(INDEX(спскВыбора,$M$60-$L399)=O$61)","v":false},70,43]
[{"$nulls":11},339,{"$f":"IF(INDEX(Данные[Решен],$M$60-$L400)=\"Да\",1,-1)","v":1},{"$f":"(INDEX(спскВыбора,$M$60-$L400)=N$61)","v":false},{"$f":"(INDEX(спскВыбора,$M$60-$L400)=O$61)","v":true},70,44]
[{"$nulls":11},340,{"$f":"IF(INDEX(Данные[Решен],$M$60-$L401)=\"Да\",1,-1)","v":1},{"$f":"(INDEX(спскВыбора,$M$60-$L401)=N$61)","v":false},{"$f":"(INDEX(спскВыбора,$M$60-$L401)=O$61)","v":false},70,44]
[{"$nulls":11},341,{"$f":"IF(INDEX(Данные[Решен],$M$60-$L402)=\"Да\",1,-1)","v":1},{"$f":"(INDEX(спскВыбора,$M$60-$L402)=N$61)","v":false},{"$f":"(INDEX(спскВыбора,$M$60-$L402)=O$61)","v":false},70,44]
[{"$nulls":11},342,{"$f":"IF(INDEX(Данные[Решен],$M$60-$L403)=\"Да\",1,-1)","v":1},{"$f":"(INDEX(спскВыбора,$M$60-$L403)=N$61)","v":false},{"$f":"(INDEX(спскВыбора,$M$60-$L403)=O$61)","v":false},70,44]
[{"$nulls":11},343,{"$f":"IF(INDEX(Данные[Решен],$M$60-$L404)=\"Да\",1,-1)","v":1},{"$f":"(INDEX(спскВыбора,$M$60-$L404)=N$61)","v":false},{"$f":"(INDEX(спскВыбора,$M$60-$L404)=O$61)","v":false},70,44]
[{"$nulls":11},344,{"$f":"IF(INDEX(Данные[Решен],$M$60-$L405)=\"Да\",1,-1)","v":1},{"$f":"(INDEX(спскВыбора,$M$60-$L405)=N$61)","v":true},{"$f":"(INDEX(спскВыбора,$M$60-$L405)=O$61)","v":false},71,44]
[{"$nulls":11},345,{"$f":"IF(INDEX(Данные[Решен],$M$60-$L406)=\"Да\",1,-1)","v":1},{"$f":"(INDEX(спскВыбора,$M$60-$L406)=N$61)","v":false},{"$f":"(INDEX(спскВыбора,$M$60-$L406)=O$61)","v":false},71,44]
[{"$nulls":11},346,{"$f":"IF(INDEX(Данные[Решен],$M$60-$L407)=\"Да\",1,-1)","v":1},{"$f":"(INDEX(спскВыбора,$M$60-$L407)=N$61)","v":true},{"$f":"(INDEX(спскВыбора,$M$60-$L407)=O$61)","v":false},72,44]
[{"$nulls":11},347,{"$f":"IF(INDEX(Данные[Решен],$M$60-$L408)=\"Да\",1,-1)","v":1},{"$f":"(INDEX(спскВыбора,$M$60-$L408)=N$61)","v":false},{"$f":"(INDEX(спскВыбора,$M$60-$L408)=O$61)","v":false},72,44]
[{"$nulls":11},348,{"$f":"IF(INDEX(Данные[Решен],$M$60-$L409)=\"Да\",1,-1)","v":1},{"$f":"(INDEX(спскВыбора,$M$60-$L409)=N$61)","v":true},{"$f":"(INDEX(спскВыбора,$M$60-$L409)=O$61)","v":false},73,44]
[{"$nulls":11},349,{"$f":"IF(INDEX(Данные[Решен],$M$60-$L410)=\"Да\",1,-1)","v":1},{"$f":"(INDEX(спскВыбора,$M$60-$L410)=N$61)","v":false},{"$f":"(INDEX(спскВыбора,$M$60-$L410)=O$61)","v":true},73,45]
[{"$nulls":11},350,{"$f":"IF(INDEX(Данные[Решен],$M$60-$L411)=\"Да\",1,-1)","v":1},{"$f":"(INDEX(спскВыбора,$M$60-$L411)=N$61)","v":false},{"$f":"(INDEX(спскВыбора,$M$60-$L411)=O$61)","v":false},73,45]
[{"$nulls":11},351,{"$f":"IF(INDEX(Данные[Решен],$M$60-$L412)=\"Да\",1,-1)","v":-1},{"$f":"(INDEX(спскВыбора,$M$60-$L412)=N$61)","v":false},{"$f":"(INDEX(спскВыбора,$M$60-$L412)=O$61)","v":false},73,45]
[{"$nulls":11},352,{"$f":"IF(INDEX(Данные[Решен],$M$60-$L413)=\"Да\",1,-1)","v":1},{"$f":"(INDEX(спскВыбора,$M$60-$L413)=N$61)","v":false},{"$f":"(INDEX(спскВыбора,$M$60-$L413)=O$61)","v":false},73,45]
[{"$nulls":11},353,{"$f":"IF(INDEX(Данные[Решен],$M$60-$L414)=\"Да\",1,-1)","v":1},{"$f":"(INDEX(спскВыбора,$M$60-$L414)=N$61)","v":true},{"$f":"(INDEX(спскВыбора,$M$60-$L414)=O$61)","v":false},74,45]
[{"$nulls":11},354,{"$f":"IF(INDEX(Данные[Решен],$M$60-$L415)=\"Да\",1,-1)","v":1},{"$f":"(INDEX(спскВыбора,$M$60-$L415)=N$61)","v":false},{"$f":"(INDEX(спскВыбора,$M$60-$L415)=O$61)","v":false},74,45]
[{"$nulls":11},355,{"$f":"IF(INDEX(Данные[Решен],$M$60-$L416)=\"Да\",1,-1)","v":1},{"$f":"(INDEX(спскВыбора,$M$60-$L416)=N$61)","v":false},{"$f":"(INDEX(спскВыбора,$M$60-$L416)=O$61)","v":true},74,46]
[{"$nulls":11},356,{"$f":"IF(INDEX(Данные[Решен],$M$60-$L417)=\"Да\",1,-1)","v":1},{"$f":"(INDEX(спскВыбора,$M$60-$L417)=N$61)","v":true},{"$f":"(INDEX(спскВыбора,$M$60-$L417)=O$61)","v":false},75,46]
[{"$nulls":11},357,{"$f":"IF(INDEX(Данные[Решен],$M$60-$L418)=\"Да\",1,-1)","v":1},{"$f":"(INDEX(спскВыбора,$M$60-$L418)=N$61)","v":false},{"$f":"(INDEX(спскВыбора,$M$60-$L418)=O$61)","v":false},{"$f":"P417+N418","v":75},{"$f":"Q417+O418","v":46}]
[{"$nulls":11},358,{"$f":"IF(INDEX(Данные[Решен],$M$60-$L419)=\"Да\",1,-1)","v":1},{"$f":"(INDEX(спскВыбора,$M$60-$L419)=N$61)","v":false},{"$f":"(INDEX(спскВыбора,$M$60-$L419)=O$61)","v":false},75,46]
[{"$nulls":11},359,{"$f":"IF(INDEX(Данные[Решен],$M$60-$L420)=\"Да\",1,-1)","v":1},{"$f":"(INDEX(спскВыбора,$M$60-$L420)=N$61)","v":false},{"$f":"(INDEX(спскВыбора,$M$60-$L420)=O$61)","v":false},75,46]
[{"$nulls":11},360,{"$f":"IF(INDEX(Данные[Решен],$M$60-$L421)=\"Да\",1,-1)","v":-1},{"$f":"(INDEX(спскВыбора,$M$60-$L421)=N$61)","v":false},{"$f":"(INDEX(спскВыбора,$M$60-$L421)=O$61)","v":false},75,46]
[{"$nulls":11},361,{"$f":"IF(INDEX(Данные[Решен],$M$60-$L422)=\"Да\",1,-1)","v":1},{"$f":"(INDEX(спскВыбора,$M$60-$L422)=N$61)","v":false},{"$f":"(INDEX(спскВыбора,$M$60-$L422)=O$61)","v":false},75,46]
[{"$nulls":11},362,{"$f":"IF(INDEX(Данные[Решен],$M$60-$L423)=\"Да\",1,-1)","v":1},{"$f":"(INDEX(спскВыбора,$M$60-$L423)=N$61)","v":false},{"$f":"(INDEX(спскВыбора,$M$60-$L423)=O$61)","v":true},75,47]
[{"$nulls":11},363,{"$f":"IF(INDEX(Данные[Решен],$M$60-$L424)=\"Да\",1,-1)","v":-1},{"$f":"(INDEX(спскВыбора,$M$60-$L424)=N$61)","v":false},{"$f":"(INDEX(спскВыбора,$M$60-$L424)=O$61)","v":false},75,47]
[{"$nulls":11},364,{"$f":"IF(INDEX(Данные[Решен],$M$60-$L425)=\"Да\",1,-1)","v":1},{"$f":"(INDEX(спскВыбора,$M$60-$L425)=N$61)","v":false},{"$f":"(INDEX(спскВыбора,$M$60-$L425)=O$61)","v":false},75,47]
[{"$nulls":11},365,{"$f":"IF(INDEX(Данные[Решен],$M$60-$L426)=\"Да\",1,-1)","v":1},{"$f":"(INDEX(спскВыбора,$M$60-$L426)=N$61)","v":false},{"$f":"(INDEX(спскВыбора,$M$60-$L426)=O$61)","v":false},75,47]
[{"$nulls":11},366,{"$f":"IF(INDEX(Данные[Решен],$M$60-$L427)=\"Да\",1,-1)","v":1},{"$f":"(INDEX(спскВыбора,$M$60-$L427)=N$61)","v":false},{"$f":"(INDEX(спскВыбора,$M$60-$L427)=O$61)","v":true},75,48]
[{"$nulls":11},367,{"$f":"IF(INDEX(Данные[Решен],$M$60-$L428)=\"Да\",1,-1)","v":1},{"$f":"(INDEX(спскВыбора,$M$60-$L428)=N$61)","v":false},{"$f":"(INDEX(спскВыбора,$M$60-$L428)=O$61)","v":false},75,48]
[{"$nulls":11},368,{"$f":"IF(INDEX(Данные[Решен],$M$60-$L429)=\"Да\",1,-1)","v":1},{"$f":"(INDEX(спскВыбора,$M$60-$L429)=N$61)","v":false},{"$f":"(INDEX(спскВыбора,$M$60-$L429)=O$61)","v":false},75,48]
[{"$nulls":11},369,{"$f":"IF(INDEX(Данные[Решен],$M$60-$L430)=\"Да\",1,-1)","v":1},{"$f":"(INDEX(спскВыбора,$M$60-$L430)=N$61)","v":false},{"$f":"(INDEX(спскВыбора,$M$60-$L430)=O$61)","v":false},75,48]
[{"$nulls":11},370,{"$f":"IF(INDEX(Данные[Решен],$M$60-$L431)=\"Да\",1,-1)","v":1},{"$f":"(INDEX(спскВыбора,$M$60-$L431)=N$61)","v":false},{"$f":"(INDEX(спскВыбора,$M$60-$L431)=O$61)","v":false},75,48]
[{"$nulls":11},371,{"$f":"IF(INDEX(Данные[Решен],$M$60-$L432)=\"Да\",1,-1)","v":1},{"$f":"(INDEX(спскВыбора,$M$60-$L432)=N$61)","v":false},{"$f":"(INDEX(спскВыбора,$M$60-$L432)=O$61)","v":false},75,48]
[{"$nulls":11},372,{"$f":"IF(INDEX(Данные[Решен],$M$60-$L433)=\"Да\",1,-1)","v":1},{"$f":"(INDEX(спскВыбора,$M$60-$L433)=N$61)","v":false},{"$f":"(INDEX(спскВыбора,$M$60-$L433)=O$61)","v":false},75,48]
[{"$nulls":11},373,{"$f":"IF(INDEX(Данные[Решен],$M$60-$L434)=\"Да\",1,-1)","v":1},{"$f":"(INDEX(спскВыбора,$M$60-$L434)=N$61)","v":false},{"$f":"(INDEX(спскВыбора,$M$60-$L434)=O$61)","v":false},75,48]
[{"$nulls":11},374,{"$f":"IF(INDEX(Данные[Решен],$M$60-$L435)=\"Да\",1,-1)","v":1},{"$f":"(INDEX(спскВыбора,$M$60-$L435)=N$61)","v":false},{"$f":"(INDEX(спскВыбора,$M$60-$L435)=O$61)","v":false},75,48]
[{"$nulls":11},375,{"$f":"IF(INDEX(Данные[Решен],$M$60-$L436)=\"Да\",1,-1)","v":1},{"$f":"(INDEX(спскВыбора,$M$60-$L436)=N$61)","v":false},{"$f":"(INDEX(спскВыбора,$M$60-$L436)=O$61)","v":false},75,48]
[{"$nulls":11},376,{"$f":"IF(INDEX(Данные[Решен],$M$60-$L437)=\"Да\",1,-1)","v":1},{"$f":"(INDEX(спскВыбора,$M$60-$L437)=N$61)","v":false},{"$f":"(INDEX(спскВыбора,$M$60-$L437)=O$61)","v":false},75,48]
[{"$nulls":11},377,{"$f":"IF(INDEX(Данные[Решен],$M$60-$L438)=\"Да\",1,-1)","v":1},{"$f":"(INDEX(спскВыбора,$M$60-$L438)=N$61)","v":false},{"$f":"(INDEX(спскВыбора,$M$60-$L438)=O$61)","v":true},75,49]
[{"$nulls":11},378,{"$f":"IF(INDEX(Данные[Решен],$M$60-$L439)=\"Да\",1,-1)","v":1},{"$f":"(INDEX(спскВыбора,$M$60-$L439)=N$61)","v":false},{"$f":"(INDEX(спскВыбора,$M$60-$L439)=O$61)","v":false},75,49]
[{"$nulls":11},379,{"$f":"IF(INDEX(Данные[Решен],$M$60-$L440)=\"Да\",1,-1)","v":1},{"$f":"(INDEX(спскВыбора,$M$60-$L440)=N$61)","v":false},{"$f":"(INDEX(спскВыбора,$M$60-$L440)=O$61)","v":true},75,50]
[{"$nulls":11},380,{"$f":"IF(INDEX(Данные[Решен],$M$60-$L441)=\"Да\",1,-1)","v":1},{"$f":"(INDEX(спскВыбора,$M$60-$L441)=N$61)","v":false},{"$f":"(INDEX(спскВыбора,$M$60-$L441)=O$61)","v":false},75,50]
[{"$nulls":11},381,{"$f":"IF(INDEX(Данные[Решен],$M$60-$L442)=\"Да\",1,-1)","v":1},{"$f":"(INDEX(спскВыбора,$M$60-$L442)=N$61)","v":false},{"$f":"(INDEX(спскВыбора,$M$60-$L442)=O$61)","v":false},75,50]
[{"$nulls":11},382,{"$f":"IF(INDEX(Данные[Решен],$M$60-$L443)=\"Да\",1,-1)","v":1},{"$f":"(INDEX(спскВыбора,$M$60-$L443)=N$61)","v":false},{"$f":"(INDEX(спскВыбора,$M$60-$L443)=O$61)","v":false},75,50]
[{"$nulls":11},383,{"$f":"IF(INDEX(Данные[Решен],$M$60-$L444)=\"Да\",1,-1)","v":1},{"$f":"(INDEX(спскВыбора,$M$60-$L444)=N$61)","v":false},{"$f":"(INDEX(спскВыбора,$M$60-$L444)=O$61)","v":false},75,50]
[{"$nulls":11},384,{"$f":"IF(INDEX(Данные[Решен],$M$60-$L445)=\"Да\",1,-1)","v":1},{"$f":"(INDEX(спскВыбора,$M$60-$L445)=N$61)","v":false},{"$f":"(INDEX(спскВыбора,$M$60-$L445)=O$61)","v":false},75,50]
[{"$nulls":11},385,{"$f":"IF(INDEX(Данные[Решен],$M$60-$L446)=\"Да\",1,-1)","v":1},{"$f":"(INDEX(спскВыбора,$M$60-$L446)=N$61)","v":true},{"$f":"(INDEX(спскВыбора,$M$60-$L446)=O$61)","v":false},76,50]
[{"$nulls":11},386,{"$f":"IF(INDEX(Данные[Решен],$M$60-$L447)=\"Да\",1,-1)","v":1},{"$f":"(INDEX(спскВыбора,$M$60-$L447)=N$61)","v":false},{"$f":"(INDEX(спскВыбора,$M$60-$L447)=O$61)","v":false},76,50]
[{"$nulls":11},387,{"$f":"IF(INDEX(Данные[Решен],$M$60-$L448)=\"Да\",1,-1)","v":1},{"$f":"(INDEX(спскВыбора,$M$60-$L448)=N$61)","v":false},{"$f":"(INDEX(спскВыбора,$M$60-$L448)=O$61)","v":false},76,50]
[{"$nulls":11},388,{"$f":"IF(INDEX(Данные[Решен],$M$60-$L449)=\"Да\",1,-1)","v":1},{"$f":"(INDEX(спскВыбора,$M$60-$L449)=N$61)","v":false},{"$f":"(INDEX(спскВыбора,$M$60-$L449)=O$61)","v":false},76,50]
[{"$nulls":11},389,{"$f":"IF(INDEX(Данные[Решен],$M$60-$L450)=\"Да\",1,-1)","v":1},{"$f":"(INDEX(спскВыбора,$M$60-$L450)=N$61)","v":true},{"$f":"(INDEX(спскВыбора,$M$60-$L450)=O$61)","v":false},77,50]
[{"$nulls":11},390,{"$f":"IF(INDEX(Данные[Решен],$M$60-$L451)=\"Да\",1,-1)","v":1},{"$f":"(INDEX(спскВыбора,$M$60-$L451)=N$61)","v":false},{"$f":"(INDEX(спскВыбора,$M$60-$L451)=O$61)","v":true},77,51]
[{"$nulls":11},391,{"$f":"IF(INDEX(Данные[Решен],$M$60-$L452)=\"Да\",1,-1)","v":1},{"$f":"(INDEX(спскВыбора,$M$60-$L452)=N$61)","v":false},{"$f":"(INDEX(спскВыбора,$M$60-$L452)=O$61)","v":true},77,52]
[{"$nulls":11},392,{"$f":"IF(INDEX(Данные[Решен],$M$60-$L453)=\"Да\",1,-1)","v":1},{"$f":"(INDEX(спскВыбора,$M$60-$L453)=N$61)","v":true},{"$f":"(INDEX(спскВыбора,$M$60-$L453)=O$61)","v":false},78,52]
[{"$nulls":11},393,{"$f":"IF(INDEX(Данные[Решен],$M$60-$L454)=\"Да\",1,-1)","v":1},{"$f":"(INDEX(спскВыбора,$M$60-$L454)=N$61)","v":false},{"$f":"(INDEX(спскВыбора,$M$60-$L454)=O$61)","v":false},78,52]
[{"$nulls":11},394,{"$f":"IF(INDEX(Данные[Решен],$M$60-$L455)=\"Да\",1,-1)","v":1},{"$f":"(INDEX(спскВыбора,$M$60-$L455)=N$61)","v":false},{"$f":"(INDEX(спскВыбора,$M$60-$L455)=O$61)","v":false},78,52]
[{"$nulls":11},395,{"$f":"IF(INDEX(Данные[Решен],$M$60-$L456)=\"Да\",1,-1)","v":1},{"$f":"(INDEX(спскВыбора,$M$60-$L456)=N$61)","v":false},{"$f":"(INDEX(спскВыбора,$M$60-$L456)=O$61)","v":true},78,53]
[{"$nulls":11},396,{"$f":"IF(INDEX(Данные[Решен],$M$60-$L457)=\"Да\",1,-1)","v":1},{"$f":"(INDEX(спскВыбора,$M$60-$L457)=N$61)","v":false},{"$f":"(INDEX(спскВыбора,$M$60-$L457)=O$61)","v":false},78,53]
[{"$nulls":11},397,{"$f":"IF(INDEX(Данные[Решен],$M$60-$L458)=\"Да\",1,-1)","v":1},{"$f":"(INDEX(спскВыбора,$M$60-$L458)=N$61)","v":false},{"$f":"(INDEX(спскВыбора,$M$60-$L458)=O$61)","v":false},78,53]
[{"$nulls":11},398,{"$f":"IF(INDEX(Данные[Решен],$M$60-$L459)=\"Да\",1,-1)","v":1},{"$f":"(INDEX(спскВыбора,$M$60-$L459)=N$61)","v":true},{"$f":"(INDEX(спскВыбора,$M$60-$L459)=O$61)","v":false},79,53]
[{"$nulls":11},399,{"$f":"IF(INDEX(Данные[Решен],$M$60-$L460)=\"Да\",1,-1)","v":1},{"$f":"(INDEX(спскВыбора,$M$60-$L460)=N$61)","v":true},{"$f":"(INDEX(спскВыбора,$M$60-$L460)=O$61)","v":false},80,53]
[{"$nulls":11},400,{"$f":"IF(INDEX(Данные[Решен],$M$60-$L461)=\"Да\",1,-1)","v":1},{"$f":"(INDEX(спскВыбора,$M$60-$L461)=N$61)","v":false},{"$f":"(INDEX(спскВыбора,$M$60-$L461)=O$61)","v":true},80,54]
[{"$nulls":11},401,{"$f":"IF(INDEX(Данные[Решен],$M$60-$L462)=\"Да\",1,-1)","v":1},{"$f":"(INDEX(спскВыбора,$M$60-$L462)=N$61)","v":true},{"$f":"(INDEX(спскВыбора,$M$60-$L462)=O$61)","v":false},81,54]
[{"$nulls":11},402,{"$f":"IF(INDEX(Данные[Решен],$M$60-$L463)=\"Да\",1,-1)","v":1},{"$f":"(INDEX(спскВыбора,$M$60-$L463)=N$61)","v":false},{"$f":"(INDEX(спскВыбора,$M$60-$L463)=O$61)","v":false},81,54]
[{"$nulls":11},403,{"$f":"IF(INDEX(Данные[Решен],$M$60-$L464)=\"Да\",1,-1)","v":1},{"$f":"(INDEX(спскВыбора,$M$60-$L464)=N$61)","v":false},{"$f":"(INDEX(спскВыбора,$M$60-$L464)=O$61)","v":false},81,54]
[{"$nulls":11},404,{"$f":"IF(INDEX(Данные[Решен],$M$60-$L465)=\"Да\",1,-1)","v":1},{"$f":"(INDEX(спскВыбора,$M$60-$L465)=N$61)","v":false},{"$f":"(INDEX(спскВыбора,$M$60-$L465)=O$61)","v":true},81,55]
[{"$nulls":11},405,{"$f":"IF(INDEX(Данные[Решен],$M$60-$L466)=\"Да\",1,-1)","v":1},{"$f":"(INDEX(спскВыбора,$M$60-$L466)=N$61)","v":false},{"$f":"(INDEX(спскВыбора,$M$60-$L466)=O$61)","v":true},81,56]
[{"$nulls":11},406,{"$f":"IF(INDEX(Данные[Решен],$M$60-$L467)=\"Да\",1,-1)","v":1},{"$f":"(INDEX(спскВыбора,$M$60-$L467)=N$61)","v":false},{"$f":"(INDEX(спскВыбора,$M$60-$L467)=O$61)","v":true},81,57]
[{"$nulls":11},407,{"$f":"IF(INDEX(Данные[Решен],$M$60-$L468)=\"Да\",1,-1)","v":-1},{"$f":"(INDEX(спскВыбора,$M$60-$L468)=N$61)","v":false},{"$f":"(INDEX(спскВыбора,$M$60-$L468)=O$61)","v":false},81,57]
[{"$nulls":11},408,{"$f":"IF(INDEX(Данные[Решен],$M$60-$L469)=\"Да\",1,-1)","v":1},{"$f":"(INDEX(спскВыбора,$M$60-$L469)=N$61)","v":false},{"$f":"(INDEX(спскВыбора,$M$60-$L469)=O$61)","v":false},81,57]
[{"$nulls":11},409,{"$f":"IF(INDEX(Данные[Решен],$M$60-$L470)=\"Да\",1,-1)","v":1},{"$f":"(INDEX(спскВыбора,$M$60-$L470)=N$61)","v":true},{"$f":"(INDEX(спскВыбора,$M$60-$L470)=O$61)","v":false},82,57]
[{"$nulls":11},410,{"$f":"IF(INDEX(Данные[Решен],$M$60-$L471)=\"Да\",1,-1)","v":1},{"$f":"(INDEX(спскВыбора,$M$60-$L471)=N$61)","v":false},{"$f":"(INDEX(спскВыбора,$M$60-$L471)=O$61)","v":false},82,57]
[{"$nulls":11},411,{"$f":"IF(INDEX(Данные[Решен],$M$60-$L472)=\"Да\",1,-1)","v":1},{"$f":"(INDEX(спскВыбора,$M$60-$L472)=N$61)","v":false},{"$f":"(INDEX(спскВыбора,$M$60-$L472)=O$61)","v":true},82,58]
[{"$nulls":11},412,{"$f":"IF(INDEX(Данные[Решен],$M$60-$L473)=\"Да\",1,-1)","v":1},{"$f":"(INDEX(спскВыбора,$M$60-$L473)=N$61)","v":false},{"$f":"(INDEX(спскВыбора,$M$60-$L473)=O$61)","v":false},82,58]
[{"$nulls":11},413,{"$f":"IF(INDEX(Данные[Решен],$M$60-$L474)=\"Да\",1,-1)","v":1},{"$f":"(INDEX(спскВыбора,$M$60-$L474)=N$61)","v":false},{"$f":"(INDEX(спскВыбора,$M$60-$L474)=O$61)","v":false},82,58]
[{"$nulls":11},414,{"$f":"IF(INDEX(Данные[Решен],$M$60-$L475)=\"Да\",1,-1)","v":1},{"$f":"(INDEX(спскВыбора,$M$60-$L475)=N$61)","v":false},{"$f":"(INDEX(спскВыбора,$M$60-$L475)=O$61)","v":false},82,58]
[{"$nulls":11},415,{"$f":"IF(INDEX(Данные[Решен],$M$60-$L476)=\"Да\",1,-1)","v":1},{"$f":"(INDEX(спскВыбора,$M$60-$L476)=N$61)","v":false},{"$f":"(INDEX(спскВыбора,$M$60-$L476)=O$61)","v":false},82,58]
[{"$nulls":11},416,{"$f":"IF(INDEX(Данные[Решен],$M$60-$L477)=\"Да\",1,-1)","v":1},{"$f":"(INDEX(спскВыбора,$M$60-$L477)=N$61)","v":false},{"$f":"(INDEX(спскВыбора,$M$60-$L477)=O$61)","v":false},82,58]
[{"$nulls":11},417,{"$f":"IF(INDEX(Данные[Решен],$M$60-$L478)=\"Да\",1,-1)","v":1},{"$f":"(INDEX(спскВыбора,$M$60-$L478)=N$61)","v":true},{"$f":"(INDEX(спскВыбора,$M$60-$L478)=O$61)","v":false},83,58]
[{"$nulls":11},418,{"$f":"IF(INDEX(Данные[Решен],$M$60-$L479)=\"Да\",1,-1)","v":1},{"$f":"(INDEX(спскВыбора,$M$60-$L479)=N$61)","v":true},{"$f":"(INDEX(спскВыбора,$M$60-$L479)=O$61)","v":false},84,58]
[{"$nulls":11},419,{"$f":"IF(INDEX(Данные[Решен],$M$60-$L480)=\"Да\",1,-1)","v":1},{"$f":"(INDEX(спскВыбора,$M$60-$L480)=N$61)","v":false},{"$f":"(INDEX(спскВыбора,$M$60-$L480)=O$61)","v":true},84,59]
[{"$nulls":11},420,{"$f":"IF(INDEX(Данные[Решен],$M$60-$L481)=\"Да\",1,-1)","v":1},{"$f":"(INDEX(спскВыбора,$M$60-$L481)=N$61)","v":false},{"$f":"(INDEX(спскВыбора,$M$60-$L481)=O$61)","v":false},84,59]
[{"$nulls":11},421,{"$f":"IF(INDEX(Данные[Решен],$M$60-$L482)=\"Да\",1,-1)","v":1},{"$f":"(INDEX(спскВыбора,$M$60-$L482)=N$61)","v":false},{"$f":"(INDEX(спскВыбора,$M$60-$L482)=O$61)","v":false},{"$f":"P481+N482","v":84},{"$f":"Q481+O482","v":59}]
[{"$nulls":11},422,{"$f":"IF(INDEX(Данные[Решен],$M$60-$L483)=\"Да\",1,-1)","v":-1},{"$f":"(INDEX(спскВыбора,$M$60-$L483)=N$61)","v":false},{"$f":"(INDEX(спскВыбора,$M$60-$L483)=O$61)","v":true},84,60]
[{"$nulls":11},423,{"$f":"IF(INDEX(Данные[Решен],$M$60-$L484)=\"Да\",1,-1)","v":1},{"$f":"(INDEX(спскВыбора,$M$60-$L484)=N$61)","v":false},{"$f":"(INDEX(спскВыбора,$M$60-$L484)=O$61)","v":false},84,60]
[{"$nulls":11},424,{"$f":"IF(INDEX(Данные[Решен],$M$60-$L485)=\"Да\",1,-1)","v":1},{"$f":"(INDEX(спскВыбора,$M$60-$L485)=N$61)","v":false},{"$f":"(INDEX(спскВыбора,$M$60-$L485)=O$61)","v":false},84,60]
[{"$nulls":11},425,{"$f":"IF(INDEX(Данные[Решен],$M$60-$L486)=\"Да\",1,-1)","v":1},{"$f":"(INDEX(спскВыбора,$M$60-$L486)=N$61)","v":false},{"$f":"(INDEX(спскВыбора,$M$60-$L486)=O$61)","v":true},84,61]
[{"$nulls":11},426,{"$f":"IF(INDEX(Данные[Решен],$M$60-$L487)=\"Да\",1,-1)","v":1},{"$f":"(INDEX(спскВыбора,$M$60-$L487)=N$61)","v":true},{"$f":"(INDEX(спскВыбора,$M$60-$L487)=O$61)","v":false},85,61]
[{"$nulls":11},427,{"$f":"IF(INDEX(Данные[Решен],$M$60-$L488)=\"Да\",1,-1)","v":1},{"$f":"(INDEX(спскВыбора,$M$60-$L488)=N$61)","v":false},{"$f":"(INDEX(спскВыбора,$M$60-$L488)=O$61)","v":false},85,61]
[{"$nulls":11},428,{"$f":"IF(INDEX(Данные[Решен],$M$60-$L489)=\"Да\",1,-1)","v":1},{"$f":"(INDEX(спскВыбора,$M$60-$L489)=N$61)","v":false},{"$f":"(INDEX(спскВыбора,$M$60-$L489)=O$61)","v":false},85,61]
[{"$nulls":11},429,{"$f":"IF(INDEX(Данные[Решен],$M$60-$L490)=\"Да\",1,-1)","v":1},{"$f":"(INDEX(спскВыбора,$M$60-$L490)=N$61)","v":false},{"$f":"(INDEX(спскВыбора,$M$60-$L490)=O$61)","v":false},85,61]
[{"$nulls":11},430,{"$f":"IF(INDEX(Данные[Решен],$M$60-$L491)=\"Да\",1,-1)","v":1},{"$f":"(INDEX(спскВыбора,$M$60-$L491)=N$61)","v":false},{"$f":"(INDEX(спскВыбора,$M$60-$L491)=O$61)","v":false},85,61]
[{"$nulls":11},431,{"$f":"IF(INDEX(Данные[Решен],$M$60-$L492)=\"Да\",1,-1)","v":1},{"$f":"(INDEX(спскВыбора,$M$60-$L492)=N$61)","v":true},{"$f":"(INDEX(спскВыбора,$M$60-$L492)=O$61)","v":false},86,61]
[{"$nulls":11},432,{"$f":"IF(INDEX(Данные[Решен],$M$60-$L493)=\"Да\",1,-1)","v":1},{"$f":"(INDEX(спскВыбора,$M$60-$L493)=N$61)","v":false},{"$f":"(INDEX(спскВыбора,$M$60-$L493)=O$61)","v":false},86,61]
[{"$nulls":11},433,{"$f":"IF(INDEX(Данные[Решен],$M$60-$L494)=\"Да\",1,-1)","v":-1},{"$f":"(INDEX(спскВыбора,$M$60-$L494)=N$61)","v":false},{"$f":"(INDEX(спскВыбора,$M$60-$L494)=O$61)","v":false},86,61]
[{"$nulls":11},434,{"$f":"IF(INDEX(Данные[Решен],$M$60-$L495)=\"Да\",1,-1)","v":1},{"$f":"(INDEX(спскВыбора,$M$60-$L495)=N$61)","v":false},{"$f":"(INDEX(спскВыбора,$M$60-$L495)=O$61)","v":false},86,61]
[{"$nulls":11},435,{"$f":"IF(INDEX(Данные[Решен],$M$60-$L496)=\"Да\",1,-1)","v":1},{"$f":"(INDEX(спскВыбора,$M$60-$L496)=N$61)","v":false},{"$f":"(INDEX(спскВыбора,$M$60-$L496)=O$61)","v":false},86,61]
[{"$nulls":11},436,{"$f":"IF(INDEX(Данные[Решен],$M$60-$L497)=\"Да\",1,-1)","v":-1},{"$f":"(INDEX(спскВыбора,$M$60-$L497)=N$61)","v":false},{"$f":"(INDEX(спскВыбора,$M$60-$L497)=O$61)","v":false},86,61]
[{"$nulls":11},437,{"$f":"IF(INDEX(Данные[Решен],$M$60-$L498)=\"Да\",1,-1)","v":1},{"$f":"(INDEX(спскВыбора,$M$60-$L498)=N$61)","v":false},{"$f":"(INDEX(спскВыбора,$M$60-$L498)=O$61)","v":false},86,61]
[{"$nulls":11},438,{"$f":"IF(INDEX(Данные[Решен],$M$60-$L499)=\"Да\",1,-1)","v":1},{"$f":"(INDEX(спскВыбора,$M$60-$L499)=N$61)","v":false},{"$f":"(INDEX(спскВыбора,$M$60-$L499)=O$61)","v":false},86,61]
[{"$nulls":11},439,{"$f":"IF(INDEX(Данные[Решен],$M$60-$L500)=\"Да\",1,-1)","v":1},{"$f":"(INDEX(спскВыбора,$M$60-$L500)=N$61)","v":false},{"$f":"(INDEX(спскВыбора,$M$60-$L500)=O$61)","v":true},86,62]
[{"$nulls":11},440,{"$f":"IF(INDEX(Данные[Решен],$M$60-$L501)=\"Да\",1,-1)","v":1},{"$f":"(INDEX(спскВыбора,$M$60-$L501)=N$61)","v":false},{"$f":"(INDEX(спскВыбора,$M$60-$L501)=O$61)","v":false},86,62]
[{"$nulls":11},441,{"$f":"IF(INDEX(Данные[Решен],$M$60-$L502)=\"Да\",1,-1)","v":1},{"$f":"(INDEX(спскВыбора,$M$60-$L502)=N$61)","v":false},{"$f":"(INDEX(спскВыбора,$M$60-$L502)=O$61)","v":true},86,63]
[{"$nulls":11},442,{"$f":"IF(INDEX(Данные[Решен],$M$60-$L503)=\"Да\",1,-1)","v":1},{"$f":"(INDEX(спскВыбора,$M$60-$L503)=N$61)","v":false},{"$f":"(INDEX(спскВыбора,$M$60-$L503)=O$61)","v":false},86,63]
[{"$nulls":11},443,{"$f":"IF(INDEX(Данные[Решен],$M$60-$L504)=\"Да\",1,-1)","v":-1},{"$f":"(INDEX(спскВыбора,$M$60-$L504)=N$61)","v":false},{"$f":"(INDEX(спскВыбора,$M$60-$L504)=O$61)","v":true},86,64]
[{"$nulls":11},444,{"$f":"IF(INDEX(Данные[Решен],$M$60-$L505)=\"Да\",1,-1)","v":1},{"$f":"(INDEX(спскВыбора,$M$60-$L505)=N$61)","v":false},{"$f":"(INDEX(спскВыбора,$M$60-$L505)=O$61)","v":false},86,64]
[{"$nulls":11},445,{"$f":"IF(INDEX(Данные[Решен],$M$60-$L506)=\"Да\",1,-1)","v":1},{"$f":"(INDEX(спскВыбора,$M$60-$L506)=N$61)","v":false},{"$f":"(INDEX(спскВыбора,$M$60-$L506)=O$61)","v":false},86,64]
[{"$nulls":11},446,{"$f":"IF(INDEX(Данные[Решен],$M$60-$L507)=\"Да\",1,-1)","v":1},{"$f":"(INDEX(спскВыбора,$M$60-$L507)=N$61)","v":false},{"$f":"(INDEX(спскВыбора,$M$60-$L507)=O$61)","v":false},86,64]
[{"$nulls":11},447,{"$f":"IF(INDEX(Данные[Решен],$M$60-$L508)=\"Да\",1,-1)","v":1},{"$f":"(INDEX(спскВыбора,$M$60-$L508)=N$61)","v":false},{"$f":"(INDEX(спскВыбора,$M$60-$L508)=O$61)","v":false},86,64]
[{"$nulls":11},448,{"$f":"IF(INDEX(Данные[Решен],$M$60-$L509)=\"Да\",1,-1)","v":1},{"$f":"(INDEX(спскВыбора,$M$60-$L509)=N$61)","v":false},{"$f":"(INDEX(спскВыбора,$M$60-$L509)=O$61)","v":true},86,65]
[{"$nulls":11},449,{"$f":"IF(INDEX(Данные[Решен],$M$60-$L510)=\"Да\",1,-1)","v":1},{"$f":"(INDEX(спскВыбора,$M$60-$L510)=N$61)","v":false},{"$f":"(INDEX(спскВыбора,$M$60-$L510)=O$61)","v":false},86,65]
[{"$nulls":11},450,{"$f":"IF(INDEX(Данные[Решен],$M$60-$L511)=\"Да\",1,-1)","v":1},{"$f":"(INDEX(спскВыбора,$M$60-$L511)=N$61)","v":false},{"$f":"(INDEX(спскВыбора,$M$60-$L511)=O$61)","v":true},86,66]
[{"$nulls":11},451,{"$f":"IF(INDEX(Данные[Решен],$M$60-$L512)=\"Да\",1,-1)","v":1},{"$f":"(INDEX(спскВыбора,$M$60-$L512)=N$61)","v":true},{"$f":"(INDEX(спскВыбора,$M$60-$L512)=O$61)","v":false},87,66]
[{"$nulls":11},452,{"$f":"IF(INDEX(Данные[Решен],$M$60-$L513)=\"Да\",1,-1)","v":1},{"$f":"(INDEX(спскВыбора,$M$60-$L513)=N$61)","v":false},{"$f":"(INDEX(спскВыбора,$M$60-$L513)=O$61)","v":false},87,66]
[{"$nulls":11},453,{"$f":"IF(INDEX(Данные[Решен],$M$60-$L514)=\"Да\",1,-1)","v":-1},{"$f":"(INDEX(спскВыбора,$M$60-$L514)=N$61)","v":false},{"$f":"(INDEX(спскВыбора,$M$60-$L514)=O$61)","v":true},87,67]
[{"$nulls":11},454,{"$f":"IF(INDEX(Данные[Решен],$M$60-$L515)=\"Да\",1,-1)","v":1},{"$f":"(INDEX(спскВыбора,$M$60-$L515)=N$61)","v":false},{"$f":"(INDEX(спскВыбора,$M$60-$L515)=O$61)","v":false},87,67]
[{"$nulls":11},455,{"$f":"IF(INDEX(Данные[Решен],$M$60-$L516)=\"Да\",1,-1)","v":-1},{"$f":"(INDEX(спскВыбора,$M$60-$L516)=N$61)","v":false},{"$f":"(INDEX(спскВыбора,$M$60-$L516)=O$61)","v":false},87,67]
[{"$nulls":11},456,{"$f":"IF(INDEX(Данные[Решен],$M$60-$L517)=\"Да\",1,-1)","v":1},{"$f":"(INDEX(спскВыбора,$M$60-$L517)=N$61)","v":false},{"$f":"(INDEX(спскВыбора,$M$60-$L517)=O$61)","v":false},87,67]
[{"$nulls":11},457,{"$f":"IF(INDEX(Данные[Решен],$M$60-$L518)=\"Да\",1,-1)","v":1},{"$f":"(INDEX(спскВыбора,$M$60-$L518)=N$61)","v":true},{"$f":"(INDEX(спскВыбора,$M$60-$L518)=O$61)","v":false},88,67]
[{"$nulls":11},458,{"$f":"IF(INDEX(Данные[Решен],$M$60-$L519)=\"Да\",1,-1)","v":1},{"$f":"(INDEX(спскВыбора,$M$60-$L519)=N$61)","v":false},{"$f":"(INDEX(спскВыбора,$M$60-$L519)=O$61)","v":false},88,67]
[{"$nulls":11},459,{"$f":"IF(INDEX(Данные[Решен],$M$60-$L520)=\"Да\",1,-1)","v":1},{"$f":"(INDEX(спскВыбора,$M$60-$L520)=N$61)","v":false},{"$f":"(INDEX(спскВыбора,$M$60-$L520)=O$61)","v":false},88,67]
[{"$nulls":11},460,{"$f":"IF(INDEX(Данные[Решен],$M$60-$L521)=\"Да\",1,-1)","v":1},{"$f":"(INDEX(спскВыбора,$M$60-$L521)=N$61)","v":false},{"$f":"(INDEX(спскВыбора,$M$60-$L521)=O$61)","v":false},88,67]
[{"$nulls":11},461,{"$f":"IF(INDEX(Данные[Решен],$M$60-$L522)=\"Да\",1,-1)","v":1},{"$f":"(INDEX(спскВыбора,$M$60-$L522)=N$61)","v":false},{"$f":"(INDEX(спскВыбора,$M$60-$L522)=O$61)","v":false},88,67]
[{"$nulls":11},462,{"$f":"IF(INDEX(Данные[Решен],$M$60-$L523)=\"Да\",1,-1)","v":1},{"$f":"(INDEX(спскВыбора,$M$60-$L523)=N$61)","v":true},{"$f":"(INDEX(спскВыбора,$M$60-$L523)=O$61)","v":false},89,67]
[{"$nulls":11},463,{"$f":"IF(INDEX(Данные[Решен],$M$60-$L524)=\"Да\",1,-1)","v":1},{"$f":"(INDEX(спскВыбора,$M$60-$L524)=N$61)","v":false},{"$f":"(INDEX(спскВыбора,$M$60-$L524)=O$61)","v":true},89,68]
[{"$nulls":11},464,{"$f":"IF(INDEX(Данные[Решен],$M$60-$L525)=\"Да\",1,-1)","v":1},{"$f":"(INDEX(спскВыбора,$M$60-$L525)=N$61)","v":false},{"$f":"(INDEX(спскВыбора,$M$60-$L525)=O$61)","v":false},89,68]
[{"$nulls":11},465,{"$f":"IF(INDEX(Данные[Решен],$M$60-$L526)=\"Да\",1,-1)","v":1},{"$f":"(INDEX(спскВыбора,$M$60-$L526)=N$61)","v":false},{"$f":"(INDEX(спскВыбора,$M$60-$L526)=O$61)","v":false},89,68]
[{"$nulls":11},466,{"$f":"IF(INDEX(Данные[Решен],$M$60-$L527)=\"Да\",1,-1)","v":1},{"$f":"(INDEX(спскВыбора,$M$60-$L527)=N$61)","v":false},{"$f":"(INDEX(спскВыбора,$M$60-$L527)=O$61)","v":false},89,68]
[{"$nulls":11},467,{"$f":"IF(INDEX(Данные[Решен],$M$60-$L528)=\"Да\",1,-1)","v":1},{"$f":"(INDEX(спскВыбора,$M$60-$L528)=N$61)","v":false},{"$f":"(INDEX(спскВыбора,$M$60-$L528)=O$61)","v":false},89,68]
[{"$nulls":11},468,{"$f":"IF(INDEX(Данные[Решен],$M$60-$L529)=\"Да\",1,-1)","v":1},{"$f":"(INDEX(спскВыбора,$M$60-$L529)=N$61)","v":false},{"$f":"(INDEX(спскВыбора,$M$60-$L529)=O$61)","v":false},89,68]
[{"$nulls":11},469,{"$f":"IF(INDEX(Данные[Решен],$M$60-$L530)=\"Да\",1,-1)","v":1},{"$f":"(INDEX(спскВыбора,$M$60-$L530)=N$61)","v":false},{"$f":"(INDEX(спскВыбора,$M$60-$L530)=O$61)","v":false},89,68]
[{"$nulls":11},470,{"$f":"IF(INDEX(Данные[Решен],$M$60-$L531)=\"Да\",1,-1)","v":1},{"$f":"(INDEX(спскВыбора,$M$60-$L531)=N$61)","v":false},{"$f":"(INDEX(спскВыбора,$M$60-$L531)=O$61)","v":false},89,68]
[{"$nulls":11},471,{"$f":"IF(INDEX(Данные[Решен],$M$60-$L532)=\"Да\",1,-1)","v":1},{"$f":"(INDEX(спскВыбора,$M$60-$L532)=N$61)","v":false},{"$f":"(INDEX(спскВыбора,$M$60-$L532)=O$61)","v":false},89,68]
[{"$nulls":11},472,{"$f":"IF(INDEX(Данные[Решен],$M$60-$L533)=\"Да\",1,-1)","v":-1},{"$f":"(INDEX(спскВыбора,$M$60-$L533)=N$61)","v":true},{"$f":"(INDEX(спскВыбора,$M$60-$L533)=O$61)","v":false},90,68]
[{"$nulls":11},473,{"$f":"IF(INDEX(Данные[Решен],$M$60-$L534)=\"Да\",1,-1)","v":1},{"$f":"(INDEX(спскВыбора,$M$60-$L534)=N$61)","v":false},{"$f":"(INDEX(спскВыбора,$M$60-$L534)=O$61)","v":false},90,68]
[{"$nulls":11},474,{"$f":"IF(INDEX(Данные[Решен],$M$60-$L535)=\"Да\",1,-1)","v":-1},{"$f":"(INDEX(спскВыбора,$M$60-$L535)=N$61)","v":false},{"$f":"(INDEX(спскВыбора,$M$60-$L535)=O$61)","v":false},90,68]
[{"$nulls":11},475,{"$f":"IF(INDEX(Данные[Решен],$M$60-$L536)=\"Да\",1,-1)","v":1},{"$f":"(INDEX(спскВыбора,$M$60-$L536)=N$61)","v":true},{"$f":"(INDEX(спскВыбора,$M$60-$L536)=O$61)","v":false},91,68]
[{"$nulls":11},476,{"$f":"IF(INDEX(Данные[Решен],$M$60-$L537)=\"Да\",1,-1)","v":1},{"$f":"(INDEX(спскВыбора,$M$60-$L537)=N$61)","v":false},{"$f":"(INDEX(спскВыбора,$M$60-$L537)=O$61)","v":false},91,68]
[{"$nulls":11},477,{"$f":"IF(INDEX(Данные[Решен],$M$60-$L538)=\"Да\",1,-1)","v":1},{"$f":"(INDEX(спскВыбора,$M$60-$L538)=N$61)","v":false},{"$f":"(INDEX(спскВыбора,$M$60-$L538)=O$61)","v":false},91,68]
[{"$nulls":11},478,{"$f":"IF(INDEX(Данные[Решен],$M$60-$L539)=\"Да\",1,-1)","v":1},{"$f":"(INDEX(спскВыбора,$M$60-$L539)=N$61)","v":false},{"$f":"(INDEX(спскВыбора,$M$60-$L539)=O$61)","v":false},91,68]
[{"$nulls":11},479,{"$f":"IF(INDEX(Данные[Решен],$M$60-$L540)=\"Да\",1,-1)","v":1},{"$f":"(INDEX(спскВыбора,$M$60-$L540)=N$61)","v":false},{"$f":"(INDEX(спскВыбора,$M$60-$L540)=O$61)","v":false},91,68]
[{"$nulls":11},480,{"$f":"IF(INDEX(Данные[Решен],$M$60-$L541)=\"Да\",1,-1)","v":1},{"$f":"(INDEX(спскВыбора,$M$60-$L541)=N$61)","v":false},{"$f":"(INDEX(спскВыбора,$M$60-$L541)=O$61)","v":false},91,68]
[{"$nulls":11},481,{"$f":"IF(INDEX(Данные[Решен],$M$60-$L542)=\"Да\",1,-1)","v":1},{"$f":"(INDEX(спскВыбора,$M$60-$L542)=N$61)","v":true},{"$f":"(INDEX(спскВыбора,$M$60-$L542)=O$61)","v":false},92,68]
[{"$nulls":11},482,{"$f":"IF(INDEX(Данные[Решен],$M$60-$L543)=\"Да\",1,-1)","v":1},{"$f":"(INDEX(спскВыбора,$M$60-$L543)=N$61)","v":false},{"$f":"(INDEX(спскВыбора,$M$60-$L543)=O$61)","v":false},92,68]
[{"$nulls":11},483,{"$f":"IF(INDEX(Данные[Решен],$M$60-$L544)=\"Да\",1,-1)","v":-1},{"$f":"(INDEX(спскВыбора,$M$60-$L544)=N$61)","v":false},{"$f":"(INDEX(спскВыбора,$M$60-$L544)=O$61)","v":false},92,68]
[{"$nulls":11},484,{"$f":"IF(INDEX(Данные[Решен],$M$60-$L545)=\"Да\",1,-1)","v":1},{"$f":"(INDEX(спскВыбора,$M$60-$L545)=N$61)","v":false},{"$f":"(INDEX(спскВыбора,$M$60-$L545)=O$61)","v":false},92,68]
[{"$nulls":11},485,{"$f":"IF(INDEX(Данные[Решен],$M$60-$L546)=\"Да\",1,-1)","v":1},{"$f":"(INDEX(спскВыбора,$M$60-$L546)=N$61)","v":false},{"$f":"(INDEX(спскВыбора,$M$60-$L546)=O$61)","v":false},{"$f":"P545+N546","v":92},{"$f":"Q545+O546","v":68}]
[{"$nulls":11},486,{"$f":"IF(INDEX(Данные[Решен],$M$60-$L547)=\"Да\",1,-1)","v":1},{"$f":"(INDEX(спскВыбора,$M$60-$L547)=N$61)","v":false},{"$f":"(INDEX(спскВыбора,$M$60-$L547)=O$61)","v":false},92,68]
[{"$nulls":11},487,{"$f":"IF(INDEX(Данные[Решен],$M$60-$L548)=\"Да\",1,-1)","v":1},{"$f":"(INDEX(спскВыбора,$M$60-$L548)=N$61)","v":true},{"$f":"(INDEX(спскВыбора,$M$60-$L548)=O$61)","v":false},93,68]
[{"$nulls":11},488,{"$f":"IF(INDEX(Данные[Решен],$M$60-$L549)=\"Да\",1,-1)","v":1},{"$f":"(INDEX(спскВыбора,$M$60-$L549)=N$61)","v":false},{"$f":"(INDEX(спскВыбора,$M$60-$L549)=O$61)","v":false},93,68]
[{"$nulls":11},489,{"$f":"IF(INDEX(Данные[Решен],$M$60-$L550)=\"Да\",1,-1)","v":1},{"$f":"(INDEX(спскВыбора,$M$60-$L550)=N$61)","v":false},{"$f":"(INDEX(спскВыбора,$M$60-$L550)=O$61)","v":false},93,68]
[{"$nulls":11},490,{"$f":"IF(INDEX(Данные[Решен],$M$60-$L551)=\"Да\",1,-1)","v":1},{"$f":"(INDEX(спскВыбора,$M$60-$L551)=N$61)","v":false},{"$f":"(INDEX(спскВыбора,$M$60-$L551)=O$61)","v":false},93,68]
[{"$nulls":11},491,{"$f":"IF(INDEX(Данные[Решен],$M$60-$L552)=\"Да\",1,-1)","v":1},{"$f":"(INDEX(спскВыбора,$M$60-$L552)=N$61)","v":true},{"$f":"(INDEX(спскВыбора,$M$60-$L552)=O$61)","v":false},94,68]
[{"$nulls":11},492,{"$f":"IF(INDEX(Данные[Решен],$M$60-$L553)=\"Да\",1,-1)","v":1},{"$f":"(INDEX(спскВыбора,$M$60-$L553)=N$61)","v":false},{"$f":"(INDEX(спскВыбора,$M$60-$L553)=O$61)","v":false},94,68]
[{"$nulls":11},493,{"$f":"IF(INDEX(Данные[Решен],$M$60-$L554)=\"Да\",1,-1)","v":1},{"$f":"(INDEX(спскВыбора,$M$60-$L554)=N$61)","v":true},{"$f":"(INDEX(спскВыбора,$M$60-$L554)=O$61)","v":false},95,68]
[{"$nulls":11},494,{"$f":"IF(INDEX(Данные[Решен],$M$60-$L555)=\"Да\",1,-1)","v":1},{"$f":"(INDEX(спскВыбора,$M$60-$L555)=N$61)","v":false},{"$f":"(INDEX(спскВыбора,$M$60-$L555)=O$61)","v":false},95,68]
[{"$nulls":11},495,{"$f":"IF(INDEX(Данные[Решен],$M$60-$L556)=\"Да\",1,-1)","v":1},{"$f":"(INDEX(спскВыбора,$M$60-$L556)=N$61)","v":false},{"$f":"(INDEX(спскВыбора,$M$60-$L556)=O$61)","v":true},95,69]
[{"$nulls":11},496,{"$f":"IF(INDEX(Данные[Решен],$M$60-$L557)=\"Да\",1,-1)","v":1},{"$f":"(INDEX(спскВыбора,$M$60-$L557)=N$61)","v":true},{"$f":"(INDEX(спскВыбора,$M$60-$L557)=O$61)","v":false},96,69]
[{"$nulls":11},497,{"$f":"IF(INDEX(Данные[Решен],$M$60-$L558)=\"Да\",1,-1)","v":1},{"$f":"(INDEX(спскВыбора,$M$60-$L558)=N$61)","v":false},{"$f":"(INDEX(спскВыбора,$M$60-$L558)=O$61)","v":true},96,70]
[{"$nulls":11},498,{"$f":"IF(INDEX(Данные[Решен],$M$60-$L559)=\"Да\",1,-1)","v":1},{"$f":"(INDEX(спскВыбора,$M$60-$L559)=N$61)","v":true},{"$f":"(INDEX(спскВыбора,$M$60-$L559)=O$61)","v":false},97,70]
[{"$nulls":11},499,{"$f":"IF(INDEX(Данные[Решен],$M$60-$L560)=\"Да\",1,-1)","v":1},{"$f":"(INDEX(спскВыбора,$M$60-$L560)=N$61)","v":false},{"$f":"(INDEX(спскВыбора,$M$60-$L560)=O$61)","v":true},97,71]
[{"$nulls":11},500,{"$f":"IF(INDEX(Данные[Решен],$M$60-$L561)=\"Да\",1,-1)","v":1},{"$f":"(INDEX(спскВыбора,$M$60-$L561)=N$61)","v":true},{"$f":"(INDEX(спскВыбора,$M$60-$L561)=O$61)","v":false},98,71]
[{"$nulls":11},501,{"$f":"IF(INDEX(Данные[Решен],$M$60-$L562)=\"Да\",1,-1)","v":1},{"$f":"(INDEX(спскВыбора,$M$60-$L562)=N$61)","v":false},{"$f":"(INDEX(спскВыбора,$M$60-$L562)=O$61)","v":true},98,72]
[{"$nulls":11},502,{"$f":"IF(INDEX(Данные[Решен],$M$60-$L563)=\"Да\",1,-1)","v":1},{"$f":"(INDEX(спскВыбора,$M$60-$L563)=N$61)","v":false},{"$f":"(INDEX(спскВыбора,$M$60-$L563)=O$61)","v":false},98,72]
[{"$nulls":11},503,{"$f":"IF(INDEX(Данные[Решен],$M$60-$L564)=\"Да\",1,-1)","v":1},{"$f":"(INDEX(спскВыбора,$M$60-$L564)=N$61)","v":true},{"$f":"(INDEX(спскВыбора,$M$60-$L564)=O$61)","v":false},99,72]
[{"$nulls":11},504,{"$f":"IF(INDEX(Данные[Решен],$M$60-$L565)=\"Да\",1,-1)","v":1},{"$f":"(INDEX(спскВыбора,$M$60-$L565)=N$61)","v":true},{"$f":"(INDEX(спскВыбора,$M$60-$L565)=O$61)","v":false},100,72]
[{"$nulls":11},505,{"$f":"IF(INDEX(Данные[Решен],$M$60-$L566)=\"Да\",1,-1)","v":1},{"$f":"(INDEX(спскВыбора,$M$60-$L566)=N$61)","v":false},{"$f":"(INDEX(спскВыбора,$M$60-$L566)=O$61)","v":false},100,72]
[{"$nulls":11},506,{"$f":"IF(INDEX(Данные[Решен],$M$60-$L567)=\"Да\",1,-1)","v":1},{"$f":"(INDEX(спскВыбора,$M$60-$L567)=N$61)","v":false},{"$f":"(INDEX(спскВыбора,$M$60-$L567)=O$61)","v":false},100,72]
[{"$nulls":11},507,{"$f":"IF(INDEX(Данные[Решен],$M$60-$L568)=\"Да\",1,-1)","v":1},{"$f":"(INDEX(спскВыбора,$M$60-$L568)=N$61)","v":true},{"$f":"(INDEX(спскВыбора,$M$60-$L568)=O$61)","v":false},101,72]
[{"$nulls":11},508,{"$f":"IF(INDEX(Данные[Решен],$M$60-$L569)=\"Да\",1,-1)","v":1},{"$f":"(INDEX(спскВыбора,$M$60-$L569)=N$61)","v":false},{"$f":"(INDEX(спскВыбора,$M$60-$L569)=O$61)","v":true},101,73]
[{"$nulls":11},509,{"$f":"IF(INDEX(Данные[Решен],$M$60-$L570)=\"Да\",1,-1)","v":1},{"$f":"(INDEX(спскВыбора,$M$60-$L570)=N$61)","v":false},{"$f":"(INDEX(спскВыбора,$M$60-$L570)=O$61)","v":true},101,74]
[{"$nulls":11},510,{"$f":"IF(INDEX(Данные[Решен],$M$60-$L571)=\"Да\",1,-1)","v":1},{"$f":"(INDEX(спскВыбора,$M$60-$L571)=N$61)","v":true},{"$f":"(INDEX(спскВыбора,$M$60-$L571)=O$61)","v":false},102,74]
[{"$nulls":11},511,{"$f":"IF(INDEX(Данные[Решен],$M$60-$L572)=\"Да\",1,-1)","v":1},{"$f":"(INDEX(спскВыбора,$M$60-$L572)=N$61)","v":false},{"$f":"(INDEX(спскВыбора,$M$60-$L572)=O$61)","v":false},102,74]
[{"$nulls":11},512,{"$f":"IF(INDEX(Данные[Решен],$M$60-$L573)=\"Да\",1,-1)","v":1},{"$f":"(INDEX(спскВыбора,$M$60-$L573)=N$61)","v":false},{"$f":"(INDEX(спскВыбора,$M$60-$L573)=O$61)","v":false},102,74]
[{"$nulls":11},513,{"$f":"IF(INDEX(Данные[Решен],$M$60-$L574)=\"Да\",1,-1)","v":1},{"$f":"(INDEX(спскВыбора,$M$60-$L574)=N$61)","v":false},{"$f":"(INDEX(спскВыбора,$M$60-$L574)=O$61)","v":false},102,74]
[{"$nulls":11},514,{"$f":"IF(INDEX(Данные[Решен],$M$60-$L575)=\"Да\",1,-1)","v":1},{"$f":"(INDEX(спскВыбора,$M$60-$L575)=N$61)","v":true},{"$f":"(INDEX(спскВыбора,$M$60-$L575)=O$61)","v":false},103,74]
[{"$nulls":11},515,{"$f":"IF(INDEX(Данные[Решен],$M$60-$L576)=\"Да\",1,-1)","v":1},{"$f":"(INDEX(спскВыбора,$M$60-$L576)=N$61)","v":false},{"$f":"(INDEX(спскВыбора,$M$60-$L576)=O$61)","v":false},103,74]
[{"$nulls":11},516,{"$f":"IF(INDEX(Данные[Решен],$M$60-$L577)=\"Да\",1,-1)","v":1},{"$f":"(INDEX(спскВыбора,$M$60-$L577)=N$61)","v":false},{"$f":"(INDEX(спскВыбора,$M$60-$L577)=O$61)","v":false},103,74]
[{"$nulls":11},517,{"$f":"IF(INDEX(Данные[Решен],$M$60-$L578)=\"Да\",1,-1)","v":1},{"$f":"(INDEX(спскВыбора,$M$60-$L578)=N$61)","v":false},{"$f":"(INDEX(спскВыбора,$M$60-$L578)=O$61)","v":false},103,74]
[{"$nulls":11},518,{"$f":"IF(INDEX(Данные[Решен],$M$60-$L579)=\"Да\",1,-1)","v":1},{"$f":"(INDEX(спскВыбора,$M$60-$L579)=N$61)","v":true},{"$f":"(INDEX(спскВыбора,$M$60-$L579)=O$61)","v":false},104,74]
[{"$nulls":11},519,{"$f":"IF(INDEX(Данные[Решен],$M$60-$L580)=\"Да\",1,-1)","v":1},{"$f":"(INDEX(спскВыбора,$M$60-$L580)=N$61)","v":true},{"$f":"(INDEX(спскВыбора,$M$60-$L580)=O$61)","v":false},105,74]
[{"$nulls":11},520,{"$f":"IF(INDEX(Данные[Решен],$M$60-$L581)=\"Да\",1,-1)","v":1},{"$f":"(INDEX(спскВыбора,$M$60-$L581)=N$61)","v":false},{"$f":"(INDEX(спскВыбора,$M$60-$L581)=O$61)","v":false},105,74]
[{"$nulls":11},521,{"$f":"IF(INDEX(Данные[Решен],$M$60-$L582)=\"Да\",1,-1)","v":1},{"$f":"(INDEX(спскВыбора,$M$60-$L582)=N$61)","v":true},{"$f":"(INDEX(спскВыбора,$M$60-$L582)=O$61)","v":false},106,74]
[{"$nulls":11},522,{"$f":"IF(INDEX(Данные[Решен],$M$60-$L583)=\"Да\",1,-1)","v":1},{"$f":"(INDEX(спскВыбора,$M$60-$L583)=N$61)","v":false},{"$f":"(INDEX(спскВыбора,$M$60-$L583)=O$61)","v":false},106,74]
[{"$nulls":11},523,{"$f":"IF(INDEX(Данные[Решен],$M$60-$L584)=\"Да\",1,-1)","v":1},{"$f":"(INDEX(спскВыбора,$M$60-$L584)=N$61)","v":true},{"$f":"(INDEX(спскВыбора,$M$60-$L584)=O$61)","v":false},107,74]
[{"$nulls":11},524,{"$f":"IF(INDEX(Данные[Решен],$M$60-$L585)=\"Да\",1,-1)","v":1},{"$f":"(INDEX(спскВыбора,$M$60-$L585)=N$61)","v":false},{"$f":"(INDEX(спскВыбора,$M$60-$L585)=O$61)","v":true},107,75]
[{"$nulls":11},525,{"$f":"IF(INDEX(Данные[Решен],$M$60-$L586)=\"Да\",1,-1)","v":1},{"$f":"(INDEX(спскВыбора,$M$60-$L586)=N$61)","v":false},{"$f":"(INDEX(спскВыбора,$M$60-$L586)=O$61)","v":false},107,75]
[{"$nulls":11},526,{"$f":"IF(INDEX(Данные[Решен],$M$60-$L587)=\"Да\",1,-1)","v":1},{"$f":"(INDEX(спскВыбора,$M$60-$L587)=N$61)","v":true},{"$f":"(INDEX(спскВыбора,$M$60-$L587)=O$61)","v":false},108,75]
[{"$nulls":11},527,{"$f":"IF(INDEX(Данные[Решен],$M$60-$L588)=\"Да\",1,-1)","v":1},{"$f":"(INDEX(спскВыбора,$M$60-$L588)=N$61)","v":false},{"$f":"(INDEX(спскВыбора,$M$60-$L588)=O$61)","v":false},108,75]
[{"$nulls":11},528,{"$f":"IF(INDEX(Данные[Решен],$M$60-$L589)=\"Да\",1,-1)","v":1},{"$f":"(INDEX(спскВыбора,$M$60-$L589)=N$61)","v":false},{"$f":"(INDEX(спскВыбора,$M$60-$L589)=O$61)","v":false},108,75]
[{"$nulls":11},529,{"$f":"IF(INDEX(Данные[Решен],$M$60-$L590)=\"Да\",1,-1)","v":1},{"$f":"(INDEX(спскВыбора,$M$60-$L590)=N$61)","v":false},{"$f":"(INDEX(спскВыбора,$M$60-$L590)=O$61)","v":false},108,75]
[{"$nulls":11},530,{"$f":"IF(INDEX(Данные[Решен],$M$60-$L591)=\"Да\",1,-1)","v":1},{"$f":"(INDEX(спскВыбора,$M$60-$L591)=N$61)","v":false},{"$f":"(INDEX(спскВыбора,$M$60-$L591)=O$61)","v":false},108,75]
[{"$nulls":11},531,{"$f":"IF(INDEX(Данные[Решен],$M$60-$L592)=\"Да\",1,-1)","v":1},{"$f":"(INDEX(спскВыбора,$M$60-$L592)=N$61)","v":false},{"$f":"(INDEX(спскВыбора,$M$60-$L592)=O$61)","v":false},108,75]
[{"$nulls":11},532,{"$f":"IF(INDEX(Данные[Решен],$M$60-$L593)=\"Да\",1,-1)","v":1},{"$f":"(INDEX(спскВыбора,$M$60-$L593)=N$61)","v":false},{"$f":"(INDEX(спскВыбора,$M$60-$L593)=O$61)","v":false},108,75]
[{"$nulls":11},533,{"$f":"IF(INDEX(Данные[Решен],$M$60-$L594)=\"Да\",1,-1)","v":1},{"$f":"(INDEX(спскВыбора,$M$60-$L594)=N$61)","v":false},{"$f":"(INDEX(спскВыбора,$M$60-$L594)=O$61)","v":false},108,75]
[{"$nulls":11},534,{"$f":"IF(INDEX(Данные[Решен],$M$60-$L595)=\"Да\",1,-1)","v":1},{"$f":"(INDEX(спскВыбора,$M$60-$L595)=N$61)","v":false},{"$f":"(INDEX(спскВыбора,$M$60-$L595)=O$61)","v":false},108,75]
[{"$nulls":11},535,{"$f":"IF(INDEX(Данные[Решен],$M$60-$L596)=\"Да\",1,-1)","v":1},{"$f":"(INDEX(спскВыбора,$M$60-$L596)=N$61)","v":false},{"$f":"(INDEX(спскВыбора,$M$60-$L596)=O$61)","v":false},108,75]
[{"$nulls":11},536,{"$f":"IF(INDEX(Данные[Решен],$M$60-$L597)=\"Да\",1,-1)","v":-1},{"$f":"(INDEX(спскВыбора,$M$60-$L597)=N$61)","v":false},{"$f":"(INDEX(спскВыбора,$M$60-$L597)=O$61)","v":true},108,76]
[{"$nulls":11},537,{"$f":"IF(INDEX(Данные[Решен],$M$60-$L598)=\"Да\",1,-1)","v":1},{"$f":"(INDEX(спскВыбора,$M$60-$L598)=N$61)","v":false},{"$f":"(INDEX(спскВыбора,$M$60-$L598)=O$61)","v":false},108,76]
[{"$nulls":11},538,{"$f":"IF(INDEX(Данные[Решен],$M$60-$L599)=\"Да\",1,-1)","v":1},{"$f":"(INDEX(спскВыбора,$M$60-$L599)=N$61)","v":false},{"$f":"(INDEX(спскВыбора,$M$60-$L599)=O$61)","v":false},108,76]
[{"$nulls":11},539,{"$f":"IF(INDEX(Данные[Решен],$M$60-$L600)=\"Да\",1,-1)","v":1},{"$f":"(INDEX(спскВыбора,$M$60-$L600)=N$61)","v":false},{"$f":"(INDEX(спскВыбора,$M$60-$L600)=O$61)","v":false},108,76]
[{"$nulls":11},540,{"$f":"IF(INDEX(Данные[Решен],$M$60-$L601)=\"Да\",1,-1)","v":1},{"$f":"(INDEX(спскВыбора,$M$60-$L601)=N$61)","v":false},{"$f":"(INDEX(спскВыбора,$M$60-$L601)=O$61)","v":false},108,76]
[{"$nulls":11},541,{"$f":"IF(INDEX(Данные[Решен],$M$60-$L602)=\"Да\",1,-1)","v":1},{"$f":"(INDEX(спскВыбора,$M$60-$L602)=N$61)","v":false},{"$f":"(INDEX(спскВыбора,$M$60-$L602)=O$61)","v":false},108,76]
[{"$nulls":11},542,{"$f":"IF(INDEX(Данные[Решен],$M$60-$L603)=\"Да\",1,-1)","v":1},{"$f":"(INDEX(спскВыбора,$M$60-$L603)=N$61)","v":false},{"$f":"(INDEX(спскВыбора,$M$60-$L603)=O$61)","v":false},108,76]
[{"$nulls":11},543,{"$f":"IF(INDEX(Данные[Решен],$M$60-$L604)=\"Да\",1,-1)","v":1},{"$f":"(INDEX(спскВыбора,$M$60-$L604)=N$61)","v":true},{"$f":"(INDEX(спскВыбора,$M$60-$L604)=O$61)","v":false},109,76]
[{"$nulls":11},544,{"$f":"IF(INDEX(Данные[Решен],$M$60-$L605)=\"Да\",1,-1)","v":1},{"$f":"(INDEX(спскВыбора,$M$60-$L605)=N$61)","v":true},{"$f":"(INDEX(спскВыбора,$M$60-$L605)=O$61)","v":false},110,76]
[{"$nulls":11},545,{"$f":"IF(INDEX(Данные[Решен],$M$60-$L606)=\"Да\",1,-1)","v":1},{"$f":"(INDEX(спскВыбора,$M$60-$L606)=N$61)","v":false},{"$f":"(INDEX(спскВыбора,$M$60-$L606)=O$61)","v":false},110,76]
[{"$nulls":11},546,{"$f":"IF(INDEX(Данные[Решен],$M$60-$L607)=\"Да\",1,-1)","v":1},{"$f":"(INDEX(спскВыбора,$M$60-$L607)=N$61)","v":false},{"$f":"(INDEX(спскВыбора,$M$60-$L607)=O$61)","v":true},110,77]
[{"$nulls":11},547,{"$f":"IF(INDEX(Данные[Решен],$M$60-$L608)=\"Да\",1,-1)","v":-1},{"$f":"(INDEX(спскВыбора,$M$60-$L608)=N$61)","v":false},{"$f":"(INDEX(спскВыбора,$M$60-$L608)=O$61)","v":true},110,78]
[{"$nulls":11},548,{"$f":"IF(INDEX(Данные[Решен],$M$60-$L609)=\"Да\",1,-1)","v":1},{"$f":"(INDEX(спскВыбора,$M$60-$L609)=N$61)","v":true},{"$f":"(INDEX(спскВыбора,$M$60-$L609)=O$61)","v":false},111,78]
[{"$nulls":11},549,{"$f":"IF(INDEX(Данные[Решен],$M$60-$L610)=\"Да\",1,-1)","v":1},{"$f":"(INDEX(спскВыбора,$M$60-$L610)=N$61)","v":true},{"$f":"(INDEX(спскВыбора,$M$60-$L610)=O$61)","v":false},{"$f":"P609+N610","v":112},{"$f":"Q609+O610","v":78}]
[{"$nulls":11},550,{"$f":"IF(INDEX(Данные[Решен],$M$60-$L611)=\"Да\",1,-1)","v":-1},{"$f":"(INDEX(спскВыбора,$M$60-$L611)=N$61)","v":false},{"$f":"(INDEX(спскВыбора,$M$60-$L611)=O$61)","v":false},112,78]
[{"$nulls":11},551,{"$f":"IF(INDEX(Данные[Решен],$M$60-$L612)=\"Да\",1,-1)","v":1},{"$f":"(INDEX(спскВыбора,$M$60-$L612)=N$61)","v":false},{"$f":"(INDEX(спскВыбора,$M$60-$L612)=O$61)","v":false},112,78]
[{"$nulls":11},552,{"$f":"IF(INDEX(Данные[Решен],$M$60-$L613)=\"Да\",1,-1)","v":1},{"$f":"(INDEX(спскВыбора,$M$60-$L613)=N$61)","v":false},{"$f":"(INDEX(спскВыбора,$M$60-$L613)=O$61)","v":true},112,79]
[{"$nulls":11},553,{"$f":"IF(INDEX(Данные[Решен],$M$60-$L614)=\"Да\",1,-1)","v":1},{"$f":"(INDEX(спскВыбора,$M$60-$L614)=N$61)","v":false},{"$f":"(INDEX(спскВыбора,$M$60-$L614)=O$61)","v":true},112,80]
[{"$nulls":11},554,{"$f":"IF(INDEX(Данные[Решен],$M$60-$L615)=\"Да\",1,-1)","v":1},{"$f":"(INDEX(спскВыбора,$M$60-$L615)=N$61)","v":false},{"$f":"(INDEX(спскВыбора,$M$60-$L615)=O$61)","v":false},112,80]
[{"$nulls":11},555,{"$f":"IF(INDEX(Данные[Решен],$M$60-$L616)=\"Да\",1,-1)","v":1},{"$f":"(INDEX(спскВыбора,$M$60-$L616)=N$61)","v":true},{"$f":"(INDEX(спскВыбора,$M$60-$L616)=O$61)","v":false},113,80]
[{"$nulls":11},556,{"$f":"IF(INDEX(Данные[Решен],$M$60-$L617)=\"Да\",1,-1)","v":1},{"$f":"(INDEX(спскВыбора,$M$60-$L617)=N$61)","v":false},{"$f":"(INDEX(спскВыбора,$M$60-$L617)=O$61)","v":false},113,80]
[{"$nulls":11},557,{"$f":"IF(INDEX(Данные[Решен],$M$60-$L618)=\"Да\",1,-1)","v":1},{"$f":"(INDEX(спскВыбора,$M$60-$L618)=N$61)","v":true},{"$f":"(INDEX(спскВыбора,$M$60-$L618)=O$61)","v":false},114,80]
[{"$nulls":11},558,{"$f":"IF(INDEX(Данные[Решен],$M$60-$L619)=\"Да\",1,-1)","v":1},{"$f":"(INDEX(спскВыбора,$M$60-$L619)=N$61)","v":false},{"$f":"(INDEX(спскВыбора,$M$60-$L619)=O$61)","v":false},114,80]
[{"$nulls":11},559,{"$f":"IF(INDEX(Данные[Решен],$M$60-$L620)=\"Да\",1,-1)","v":1},{"$f":"(INDEX(спскВыбора,$M$60-$L620)=N$61)","v":false},{"$f":"(INDEX(спскВыбора,$M$60-$L620)=O$61)","v":false},114,80]
[{"$nulls":11},560,{"$f":"IF(INDEX(Данные[Решен],$M$60-$L621)=\"Да\",1,-1)","v":1},{"$f":"(INDEX(спскВыбора,$M$60-$L621)=N$61)","v":false},{"$f":"(INDEX(спскВыбора,$M$60-$L621)=O$61)","v":false},114,80]
[{"$nulls":11},561,{"$f":"IF(INDEX(Данные[Решен],$M$60-$L622)=\"Да\",1,-1)","v":1},{"$f":"(INDEX(спскВыбора,$M$60-$L622)=N$61)","v":false},{"$f":"(INDEX(спскВыбора,$M$60-$L622)=O$61)","v":false},114,80]
[{"$nulls":11},562,{"$f":"IF(INDEX(Данные[Решен],$M$60-$L623)=\"Да\",1,-1)","v":1},{"$f":"(INDEX(спскВыбора,$M$60-$L623)=N$61)","v":false},{"$f":"(INDEX(спскВыбора,$M$60-$L623)=O$61)","v":false},114,80]
[{"$nulls":11},563,{"$f":"IF(INDEX(Данные[Решен],$M$60-$L624)=\"Да\",1,-1)","v":1},{"$f":"(INDEX(спскВыбора,$M$60-$L624)=N$61)","v":false},{"$f":"(INDEX(спскВыбора,$M$60-$L624)=O$61)","v":true},114,81]
[{"$nulls":11},564,{"$f":"IF(INDEX(Данные[Решен],$M$60-$L625)=\"Да\",1,-1)","v":1},{"$f":"(INDEX(спскВыбора,$M$60-$L625)=N$61)","v":false},{"$f":"(INDEX(спскВыбора,$M$60-$L625)=O$61)","v":true},114,82]
[{"$nulls":11},565,{"$f":"IF(INDEX(Данные[Решен],$M$60-$L626)=\"Да\",1,-1)","v":1},{"$f":"(INDEX(спскВыбора,$M$60-$L626)=N$61)","v":true},{"$f":"(INDEX(спскВыбора,$M$60-$L626)=O$61)","v":false},115,82]
[{"$nulls":11},566,{"$f":"IF(INDEX(Данные[Решен],$M$60-$L627)=\"Да\",1,-1)","v":1},{"$f":"(INDEX(спскВыбора,$M$60-$L627)=N$61)","v":false},{"$f":"(INDEX(спскВыбора,$M$60-$L627)=O$61)","v":false},115,82]
[{"$nulls":11},567,{"$f":"IF(INDEX(Данные[Решен],$M$60-$L628)=\"Да\",1,-1)","v":1},{"$f":"(INDEX(спскВыбора,$M$60-$L628)=N$61)","v":false},{"$f":"(INDEX(спскВыбора,$M$60-$L628)=O$61)","v":false},115,82]
[{"$nulls":11},568,{"$f":"IF(INDEX(Данные[Решен],$M$60-$L629)=\"Да\",1,-1)","v":1},{"$f":"(INDEX(спскВыбора,$M$60-$L629)=N$61)","v":false},{"$f":"(INDEX(спскВыбора,$M$60-$L629)=O$61)","v":false},115,82]
[{"$nulls":11},569,{"$f":"IF(INDEX(Данные[Решен],$M$60-$L630)=\"Да\",1,-1)","v":1},{"$f":"(INDEX(спскВыбора,$M$60-$L630)=N$61)","v":false},{"$f":"(INDEX(спскВыбора,$M$60-$L630)=O$61)","v":false},115,82]
[{"$nulls":11},570,{"$f":"IF(INDEX(Данные[Решен],$M$60-$L631)=\"Да\",1,-1)","v":1},{"$f":"(INDEX(спскВыбора,$M$60-$L631)=N$61)","v":false},{"$f":"(INDEX(спскВыбора,$M$60-$L631)=O$61)","v":false},115,82]
[{"$nulls":11},571,{"$f":"IF(INDEX(Данные[Решен],$M$60-$L632)=\"Да\",1,-1)","v":1},{"$f":"(INDEX(спскВыбора,$M$60-$L632)=N$61)","v":false},{"$f":"(INDEX(спскВыбора,$M$60-$L632)=O$61)","v":false},115,82]
[{"$nulls":11},572,{"$f":"IF(INDEX(Данные[Решен],$M$60-$L633)=\"Да\",1,-1)","v":1},{"$f":"(INDEX(спскВыбора,$M$60-$L633)=N$61)","v":false},{"$f":"(INDEX(спскВыбора,$M$60-$L633)=O$61)","v":true},115,83]
[{"$nulls":11},573,{"$f":"IF(INDEX(Данные[Решен],$M$60-$L634)=\"Да\",1,-1)","v":1},{"$f":"(INDEX(спскВыбора,$M$60-$L634)=N$61)","v":false},{"$f":"(INDEX(спскВыбора,$M$60-$L634)=O$61)","v":false},115,83]
[{"$nulls":11},574,{"$f":"IF(INDEX(Данные[Решен],$M$60-$L635)=\"Да\",1,-1)","v":1},{"$f":"(INDEX(спскВыбора,$M$60-$L635)=N$61)","v":false},{"$f":"(INDEX(спскВыбора,$M$60-$L635)=O$61)","v":false},115,83]
[{"$nulls":11},575,{"$f":"IF(INDEX(Данные[Решен],$M$60-$L636)=\"Да\",1,-1)","v":1},{"$f":"(INDEX(спскВыбора,$M$60-$L636)=N$61)","v":true},{"$f":"(INDEX(спскВыбора,$M$60-$L636)=O$61)","v":false},116,83]
[{"$nulls":11},576,{"$f":"IF(INDEX(Данные[Решен],$M$60-$L637)=\"Да\",1,-1)","v":1},{"$f":"(INDEX(спскВыбора,$M$60-$L637)=N$61)","v":false},{"$f":"(INDEX(спскВыбора,$M$60-$L637)=O$61)","v":false},116,83]
[{"$nulls":11},577,{"$f":"IF(INDEX(Данные[Решен],$M$60-$L638)=\"Да\",1,-1)","v":1},{"$f":"(INDEX(спскВыбора,$M$60-$L638)=N$61)","v":false},{"$f":"(INDEX(спскВыбора,$M$60-$L638)=O$61)","v":false},116,83]
[{"$nulls":11},578,{"$f":"IF(INDEX(Данные[Решен],$M$60-$L639)=\"Да\",1,-1)","v":1},{"$f":"(INDEX(спскВыбора,$M$60-$L639)=N$61)","v":false},{"$f":"(INDEX(спскВыбора,$M$60-$L639)=O$61)","v":false},116,83]
[{"$nulls":11},579,{"$f":"IF(INDEX(Данные[Решен],$M$60-$L640)=\"Да\",1,-1)","v":1},{"$f":"(INDEX(спскВыбора,$M$60-$L640)=N$61)","v":false},{"$f":"(INDEX(спскВыбора,$M$60-$L640)=O$61)","v":true},116,84]
[{"$nulls":11},580,{"$f":"IF(INDEX(Данные[Решен],$M$60-$L641)=\"Да\",1,-1)","v":1},{"$f":"(INDEX(спскВыбора,$M$60-$L641)=N$61)","v":false},{"$f":"(INDEX(спскВыбора,$M$60-$L641)=O$61)","v":true},116,85]
[{"$nulls":11},581,{"$f":"IF(INDEX(Данные[Решен],$M$60-$L642)=\"Да\",1,-1)","v":1},{"$f":"(INDEX(спскВыбора,$M$60-$L642)=N$61)","v":false},{"$f":"(INDEX(спскВыбора,$M$60-$L642)=O$61)","v":false},116,85]
[{"$nulls":11},582,{"$f":"IF(INDEX(Данные[Решен],$M$60-$L643)=\"Да\",1,-1)","v":1},{"$f":"(INDEX(спскВыбора,$M$60-$L643)=N$61)","v":false},{"$f":"(INDEX(спскВыбора,$M$60-$L643)=O$61)","v":false},116,85]
[{"$nulls":11},583,{"$f":"IF(INDEX(Данные[Решен],$M$60-$L644)=\"Да\",1,-1)","v":1},{"$f":"(INDEX(спскВыбора,$M$60-$L644)=N$61)","v":false},{"$f":"(INDEX(спскВыбора,$M$60-$L644)=O$61)","v":false},116,85]
[{"$nulls":11},584,{"$f":"IF(INDEX(Данные[Решен],$M$60-$L645)=\"Да\",1,-1)","v":1},{"$f":"(INDEX(спскВыбора,$M$60-$L645)=N$61)","v":true},{"$f":"(INDEX(спскВыбора,$M$60-$L645)=O$61)","v":false},117,85]
[{"$nulls":11},585,{"$f":"IF(INDEX(Данные[Решен],$M$60-$L646)=\"Да\",1,-1)","v":1},{"$f":"(INDEX(спскВыбора,$M$60-$L646)=N$61)","v":true},{"$f":"(INDEX(спскВыбора,$M$60-$L646)=O$61)","v":false},118,85]
[{"$nulls":11},586,{"$f":"IF(INDEX(Данные[Решен],$M$60-$L647)=\"Да\",1,-1)","v":1},{"$f":"(INDEX(спскВыбора,$M$60-$L647)=N$61)","v":true},{"$f":"(INDEX(спскВыбора,$M$60-$L647)=O$61)","v":false},119,85]
[{"$nulls":11},587,{"$f":"IF(INDEX(Данные[Решен],$M$60-$L648)=\"Да\",1,-1)","v":1},{"$f":"(INDEX(спскВыбора,$M$60-$L648)=N$61)","v":false},{"$f":"(INDEX(спскВыбора,$M$60-$L648)=O$61)","v":true},119,86]
[{"$nulls":11},588,{"$f":"IF(INDEX(Данные[Решен],$M$60-$L649)=\"Да\",1,-1)","v":1},{"$f":"(INDEX(спскВыбора,$M$60-$L649)=N$61)","v":false},{"$f":"(INDEX(спскВыбора,$M$60-$L649)=O$61)","v":true},119,87]
[{"$nulls":11},589,{"$f":"IF(INDEX(Данные[Решен],$M$60-$L650)=\"Да\",1,-1)","v":1},{"$f":"(INDEX(спскВыбора,$M$60-$L650)=N$61)","v":false},{"$f":"(INDEX(спскВыбора,$M$60-$L650)=O$61)","v":false},119,87]
[{"$nulls":11},590,{"$f":"IF(INDEX(Данные[Решен],$M$60-$L651)=\"Да\",1,-1)","v":1},{"$f":"(INDEX(спскВыбора,$M$60-$L651)=N$61)","v":true},{"$f":"(INDEX(спскВыбора,$M$60-$L651)=O$61)","v":false},120,87]
[{"$nulls":11},591,{"$f":"IF(INDEX(Данные[Решен],$M$60-$L652)=\"Да\",1,-1)","v":1},{"$f":"(INDEX(спскВыбора,$M$60-$L652)=N$61)","v":false},{"$f":"(INDEX(спскВыбора,$M$60-$L652)=O$61)","v":false},120,87]
[{"$nulls":11},592,{"$f":"IF(INDEX(Данные[Решен],$M$60-$L653)=\"Да\",1,-1)","v":1},{"$f":"(INDEX(спскВыбора,$M$60-$L653)=N$61)","v":false},{"$f":"(INDEX(спскВыбора,$M$60-$L653)=O$61)","v":false},120,87]
[{"$nulls":11},593,{"$f":"IF(INDEX(Данные[Решен],$M$60-$L654)=\"Да\",1,-1)","v":1},{"$f":"(INDEX(спскВыбора,$M$60-$L654)=N$61)","v":false},{"$f":"(INDEX(спскВыбора,$M$60-$L654)=O$61)","v":false},120,87]
[{"$nulls":11},594,{"$f":"IF(INDEX(Данные[Решен],$M$60-$L655)=\"Да\",1,-1)","v":1},{"$f":"(INDEX(спскВыбора,$M$60-$L655)=N$61)","v":true},{"$f":"(INDEX(спскВыбора,$M$60-$L655)=O$61)","v":false},121,87]
[{"$nulls":11},595,{"$f":"IF(INDEX(Данные[Решен],$M$60-$L656)=\"Да\",1,-1)","v":1},{"$f":"(INDEX(спскВыбора,$M$60-$L656)=N$61)","v":false},{"$f":"(INDEX(спскВыбора,$M$60-$L656)=O$61)","v":false},121,87]
[{"$nulls":11},596,{"$f":"IF(INDEX(Данные[Решен],$M$60-$L657)=\"Да\",1,-1)","v":1},{"$f":"(INDEX(спскВыбора,$M$60-$L657)=N$61)","v":false},{"$f":"(INDEX(спскВыбора,$M$60-$L657)=O$61)","v":false},121,87]
[{"$nulls":11},597,{"$f":"IF(INDEX(Данные[Решен],$M$60-$L658)=\"Да\",1,-1)","v":1},{"$f":"(INDEX(спскВыбора,$M$60-$L658)=N$61)","v":true},{"$f":"(INDEX(спскВыбора,$M$60-$L658)=O$61)","v":false},122,87]
[{"$nulls":11},598,{"$f":"IF(INDEX(Данные[Решен],$M$60-$L659)=\"Да\",1,-1)","v":-1},{"$f":"(INDEX(спскВыбора,$M$60-$L659)=N$61)","v":false},{"$f":"(INDEX(спскВыбора,$M$60-$L659)=O$61)","v":true},122,88]
[{"$nulls":11},599,{"$f":"IF(INDEX(Данные[Решен],$M$60-$L660)=\"Да\",1,-1)","v":1},{"$f":"(INDEX(спскВыбора,$M$60-$L660)=N$61)","v":false},{"$f":"(INDEX(спскВыбора,$M$60-$L660)=O$61)","v":false},122,88]
[{"$nulls":11},600,{"$f":"IF(INDEX(Данные[Решен],$M$60-$L661)=\"Да\",1,-1)","v":1},{"$f":"(INDEX(спскВыбора,$M$60-$L661)=N$61)","v":false},{"$f":"(INDEX(спскВыбора,$M$60-$L661)=O$61)","v":false},122,88]
[{"$nulls":11},601,{"$f":"IF(INDEX(Данные[Решен],$M$60-$L662)=\"Да\",1,-1)","v":1},{"$f":"(INDEX(спскВыбора,$M$60-$L662)=N$61)","v":false},{"$f":"(INDEX(спскВыбора,$M$60-$L662)=O$61)","v":true},122,89]
[{"$nulls":11},602,{"$f":"IF(INDEX(Данные[Решен],$M$60-$L663)=\"Да\",1,-1)","v":1},{"$f":"(INDEX(спскВыбора,$M$60-$L663)=N$61)","v":false},{"$f":"(INDEX(спскВыбора,$M$60-$L663)=O$61)","v":true},122,90]
[{"$nulls":11},603,{"$f":"IF(INDEX(Данные[Решен],$M$60-$L664)=\"Да\",1,-1)","v":1},{"$f":"(INDEX(спскВыбора,$M$60-$L664)=N$61)","v":true},{"$f":"(INDEX(спскВыбора,$M$60-$L664)=O$61)","v":false},123,90]
[{"$nulls":11},604,{"$f":"IF(INDEX(Данные[Решен],$M$60-$L665)=\"Да\",1,-1)","v":1},{"$f":"(INDEX(спскВыбора,$M$60-$L665)=N$61)","v":false},{"$f":"(INDEX(спскВыбора,$M$60-$L665)=O$61)","v":true},123,91]
[{"$nulls":11},605,{"$f":"IF(INDEX(Данные[Решен],$M$60-$L666)=\"Да\",1,-1)","v":1},{"$f":"(INDEX(спскВыбора,$M$60-$L666)=N$61)","v":true},{"$f":"(INDEX(спскВыбора,$M$60-$L666)=O$61)","v":false},124,91]
[{"$nulls":11},606,{"$f":"IF(INDEX(Данные[Решен],$M$60-$L667)=\"Да\",1,-1)","v":1},{"$f":"(INDEX(спскВыбора,$M$60-$L667)=N$61)","v":false},{"$f":"(INDEX(спскВыбора,$M$60-$L667)=O$61)","v":false},124,91]
[{"$nulls":11},607,{"$f":"IF(INDEX(Данные[Решен],$M$60-$L668)=\"Да\",1,-1)","v":1},{"$f":"(INDEX(спскВыбора,$M$60-$L668)=N$61)","v":false},{"$f":"(INDEX(спскВыбора,$M$60-$L668)=O$61)","v":false},124,91]
[{"$nulls":11},608,{"$f":"IF(INDEX(Данные[Решен],$M$60-$L669)=\"Да\",1,-1)","v":1},{"$f":"(INDEX(спскВыбора,$M$60-$L669)=N$61)","v":true},{"$f":"(INDEX(спскВыбора,$M$60-$L669)=O$61)","v":false},125,91]
[{"$nulls":11},609,{"$f":"IF(INDEX(Данные[Решен],$M$60-$L670)=\"Да\",1,-1)","v":-1},{"$f":"(INDEX(спскВыбора,$M$60-$L670)=N$61)","v":false},{"$f":"(INDEX(спскВыбора,$M$60-$L670)=O$61)","v":false},125,91]
[{"$nulls":11},610,{"$f":"IF(INDEX(Данные[Решен],$M$60-$L671)=\"Да\",1,-1)","v":1},{"$f":"(INDEX(спскВыбора,$M$60-$L671)=N$61)","v":false},{"$f":"(INDEX(спскВыбора,$M$60-$L671)=O$61)","v":false},125,91]
[{"$nulls":11},611,{"$f":"IF(INDEX(Данные[Решен],$M$60-$L672)=\"Да\",1,-1)","v":1},{"$f":"(INDEX(спскВыбора,$M$60-$L672)=N$61)","v":false},{"$f":"(INDEX(спскВыбора,$M$60-$L672)=O$61)","v":false},125,91]
[{"$nulls":11},612,{"$f":"IF(INDEX(Данные[Решен],$M$60-$L673)=\"Да\",1,-1)","v":1},{"$f":"(INDEX(спскВыбора,$M$60-$L673)=N$61)","v":false},{"$f":"(INDEX(спскВыбора,$M$60-$L673)=O$61)","v":true},125,92]
[{"$nulls":11},613,{"$f":"IF(INDEX(Данные[Решен],$M$60-$L674)=\"Да\",1,-1)","v":1},{"$f":"(INDEX(спскВыбора,$M$60-$L674)=N$61)","v":false},{"$f":"(INDEX(спскВыбора,$M$60-$L674)=O$61)","v":false},{"$f":"P673+N674","v":125},{"$f":"Q673+O674","v":92}]
[{"$nulls":11},614,{"$f":"IF(INDEX(Данные[Решен],$M$60-$L675)=\"Да\",1,-1)","v":1},{"$f":"(INDEX(спскВыбора,$M$60-$L675)=N$61)","v":false},{"$f":"(INDEX(спскВыбора,$M$60-$L675)=O$61)","v":false},125,92]
[{"$nulls":11},615,{"$f":"IF(INDEX(Данные[Решен],$M$60-$L676)=\"Да\",1,-1)","v":1},{"$f":"(INDEX(спскВыбора,$M$60-$L676)=N$61)","v":false},{"$f":"(INDEX(спскВыбора,$M$60-$L676)=O$61)","v":false},125,92]
[{"$nulls":11},616,{"$f":"IF(INDEX(Данные[Решен],$M$60-$L677)=\"Да\",1,-1)","v":1},{"$f":"(INDEX(спскВыбора,$M$60-$L677)=N$61)","v":false},{"$f":"(INDEX(спскВыбора,$M$60-$L677)=O$61)","v":false},125,92]
[{"$nulls":11},617,{"$f":"IF(INDEX(Данные[Решен],$M$60-$L678)=\"Да\",1,-1)","v":1},{"$f":"(INDEX(спскВыбора,$M$60-$L678)=N$61)","v":false},{"$f":"(INDEX(спскВыбора,$M$60-$L678)=O$61)","v":false},125,92]
[{"$nulls":11},618,{"$f":"IF(INDEX(Данные[Решен],$M$60-$L679)=\"Да\",1,-1)","v":1},{"$f":"(INDEX(спскВыбора,$M$60-$L679)=N$61)","v":false},{"$f":"(INDEX(спскВыбора,$M$60-$L679)=O$61)","v":true},125,93]
[{"$nulls":11},619,{"$f":"IF(INDEX(Данные[Решен],$M$60-$L680)=\"Да\",1,-1)","v":1},{"$f":"(INDEX(спскВыбора,$M$60-$L680)=N$61)","v":false},{"$f":"(INDEX(спскВыбора,$M$60-$L680)=O$61)","v":false},125,93]
[{"$nulls":11},620,{"$f":"IF(INDEX(Данные[Решен],$M$60-$L681)=\"Да\",1,-1)","v":1},{"$f":"(INDEX(спскВыбора,$M$60-$L681)=N$61)","v":false},{"$f":"(INDEX(спскВыбора,$M$60-$L681)=O$61)","v":false},125,93]
[{"$nulls":11},621,{"$f":"IF(INDEX(Данные[Решен],$M$60-$L682)=\"Да\",1,-1)","v":1},{"$f":"(INDEX(спскВыбора,$M$60-$L682)=N$61)","v":false},{"$f":"(INDEX(спскВыбора,$M$60-$L682)=O$61)","v":false},125,93]
[{"$nulls":11},622,{"$f":"IF(INDEX(Данные[Решен],$M$60-$L683)=\"Да\",1,-1)","v":1},{"$f":"(INDEX(спскВыбора,$M$60-$L683)=N$61)","v":false},{"$f":"(INDEX(спскВыбора,$M$60-$L683)=O$61)","v":false},125,93]
[{"$nulls":11},623,{"$f":"IF(INDEX(Данные[Решен],$M$60-$L684)=\"Да\",1,-1)","v":1},{"$f":"(INDEX(спскВыбора,$M$60-$L684)=N$61)","v":true},{"$f":"(INDEX(спскВыбора,$M$60-$L684)=O$61)","v":false},126,93]
[{"$nulls":11},624,{"$f":"IF(INDEX(Данные[Решен],$M$60-$L685)=\"Да\",1,-1)","v":1},{"$f":"(INDEX(спскВыбора,$M$60-$L685)=N$61)","v":false},{"$f":"(INDEX(спскВыбора,$M$60-$L685)=O$61)","v":false},126,93]
[{"$nulls":11},625,{"$f":"IF(INDEX(Данные[Решен],$M$60-$L686)=\"Да\",1,-1)","v":1},{"$f":"(INDEX(спскВыбора,$M$60-$L686)=N$61)","v":false},{"$f":"(INDEX(спскВыбора,$M$60-$L686)=O$61)","v":false},126,93]
[{"$nulls":11},626,{"$f":"IF(INDEX(Данные[Решен],$M$60-$L687)=\"Да\",1,-1)","v":1},{"$f":"(INDEX(спскВыбора,$M$60-$L687)=N$61)","v":false},{"$f":"(INDEX(спскВыбора,$M$60-$L687)=O$61)","v":true},126,94]
[{"$nulls":11},627,{"$f":"IF(INDEX(Данные[Решен],$M$60-$L688)=\"Да\",1,-1)","v":1},{"$f":"(INDEX(спскВыбора,$M$60-$L688)=N$61)","v":false},{"$f":"(INDEX(спскВыбора,$M$60-$L688)=O$61)","v":false},126,94]
[{"$nulls":11},628,{"$f":"IF(INDEX(Данные[Решен],$M$60-$L689)=\"Да\",1,-1)","v":1},{"$f":"(INDEX(спскВыбора,$M$60-$L689)=N$61)","v":false},{"$f":"(INDEX(спскВыбора,$M$60-$L689)=O$61)","v":false},126,94]
[{"$nulls":11},629,{"$f":"IF(INDEX(Данные[Решен],$M$60-$L690)=\"Да\",1,-1)","v":1},{"$f":"(INDEX(спскВыбора,$M$60-$L690)=N$61)","v":false},{"$f":"(INDEX(спскВыбора,$M$60-$L690)=O$61)","v":false},126,94]
[{"$nulls":11},630,{"$f":"IF(INDEX(Данные[Решен],$M$60-$L691)=\"Да\",1,-1)","v":1},{"$f":"(INDEX(спскВыбора,$M$60-$L691)=N$61)","v":true},{"$f":"(INDEX(спскВыбора,$M$60-$L691)=O$61)","v":false},127,94]
[{"$nulls":11},631,{"$f":"IF(INDEX(Данные[Решен],$M$60-$L692)=\"Да\",1,-1)","v":1},{"$f":"(INDEX(спскВыбора,$M$60-$L692)=N$61)","v":false},{"$f":"(INDEX(спскВыбора,$M$60-$L692)=O$61)","v":false},127,94]
[{"$nulls":11},632,{"$f":"IF(INDEX(Данные[Решен],$M$60-$L693)=\"Да\",1,-1)","v":1},{"$f":"(INDEX(спскВыбора,$M$60-$L693)=N$61)","v":false},{"$f":"(INDEX(спскВыбора,$M$60-$L693)=O$61)","v":true},127,95]
[{"$nulls":11},633,{"$f":"IF(INDEX(Данные[Решен],$M$60-$L694)=\"Да\",1,-1)","v":1},{"$f":"(INDEX(спскВыбора,$M$60-$L694)=N$61)","v":false},{"$f":"(INDEX(спскВыбора,$M$60-$L694)=O$61)","v":true},127,96]
[{"$nulls":11},634,{"$f":"IF(INDEX(Данные[Решен],$M$60-$L695)=\"Да\",1,-1)","v":1},{"$f":"(INDEX(спскВыбора,$M$60-$L695)=N$61)","v":false},{"$f":"(INDEX(спскВыбора,$M$60-$L695)=O$61)","v":false},127,96]
[{"$nulls":11},635,{"$f":"IF(INDEX(Данные[Решен],$M$60-$L696)=\"Да\",1,-1)","v":1},{"$f":"(INDEX(спскВыбора,$M$60-$L696)=N$61)","v":false},{"$f":"(INDEX(спскВыбора,$M$60-$L696)=O$61)","v":false},127,96]
[{"$nulls":11},636,{"$f":"IF(INDEX(Данные[Решен],$M$60-$L697)=\"Да\",1,-1)","v":1},{"$f":"(INDEX(спскВыбора,$M$60-$L697)=N$61)","v":false},{"$f":"(INDEX(спскВыбора,$M$60-$L697)=O$61)","v":false},127,96]
[{"$nulls":11},637,{"$f":"IF(INDEX(Данные[Решен],$M$60-$L698)=\"Да\",1,-1)","v":1},{"$f":"(INDEX(спскВыбора,$M$60-$L698)=N$61)","v":false},{"$f":"(INDEX(спскВыбора,$M$60-$L698)=O$61)","v":false},127,96]
[{"$nulls":11},638,{"$f":"IF(INDEX(Данные[Решен],$M$60-$L699)=\"Да\",1,-1)","v":1},{"$f":"(INDEX(спскВыбора,$M$60-$L699)=N$61)","v":false},{"$f":"(INDEX(спскВыбора,$M$60-$L699)=O$61)","v":false},127,96]
[{"$nulls":11},639,{"$f":"IF(INDEX(Данные[Решен],$M$60-$L700)=\"Да\",1,-1)","v":1},{"$f":"(INDEX(спскВыбора,$M$60-$L700)=N$61)","v":false},{"$f":"(INDEX(спскВыбора,$M$60-$L700)=O$61)","v":true},127,97]
[{"$nulls":11},640,{"$f":"IF(INDEX(Данные[Решен],$M$60-$L701)=\"Да\",1,-1)","v":1},{"$f":"(INDEX(спскВыбора,$M$60-$L701)=N$61)","v":false},{"$f":"(INDEX(спскВыбора,$M$60-$L701)=O$61)","v":false},127,97]
[{"$nulls":11},641,{"$f":"IF(INDEX(Данные[Решен],$M$60-$L702)=\"Да\",1,-1)","v":1},{"$f":"(INDEX(спскВыбора,$M$60-$L702)=N$61)","v":true},{"$f":"(INDEX(спскВыбора,$M$60-$L702)=O$61)","v":false},128,97]
[{"$nulls":11},642,{"$f":"IF(INDEX(Данные[Решен],$M$60-$L703)=\"Да\",1,-1)","v":1},{"$f":"(INDEX(спскВыбора,$M$60-$L703)=N$61)","v":false},{"$f":"(INDEX(спскВыбора,$M$60-$L703)=O$61)","v":false},128,97]
[{"$nulls":11},643,{"$f":"IF(INDEX(Данные[Решен],$M$60-$L704)=\"Да\",1,-1)","v":1},{"$f":"(INDEX(спскВыбора,$M$60-$L704)=N$61)","v":true},{"$f":"(INDEX(спскВыбора,$M$60-$L704)=O$61)","v":false},129,97]
[{"$nulls":11},644,{"$f":"IF(INDEX(Данные[Решен],$M$60-$L705)=\"Да\",1,-1)","v":1},{"$f":"(INDEX(спскВыбора,$M$60-$L705)=N$61)","v":false},{"$f":"(INDEX(спскВыбора,$M$60-$L705)=O$61)","v":false},129,97]
[{"$nulls":11},645,{"$f":"IF(INDEX(Данные[Решен],$M$60-$L706)=\"Да\",1,-1)","v":1},{"$f":"(INDEX(спскВыбора,$M$60-$L706)=N$61)","v":false},{"$f":"(INDEX(спскВыбора,$M$60-$L706)=O$61)","v":true},129,98]
[{"$nulls":11},646,{"$f":"IF(INDEX(Данные[Решен],$M$60-$L707)=\"Да\",1,-1)","v":1},{"$f":"(INDEX(спскВыбора,$M$60-$L707)=N$61)","v":true},{"$f":"(INDEX(спскВыбора,$M$60-$L707)=O$61)","v":false},130,98]
[{"$nulls":11},647,{"$f":"IF(INDEX(Данные[Решен],$M$60-$L708)=\"Да\",1,-1)","v":1},{"$f":"(INDEX(спскВыбора,$M$60-$L708)=N$61)","v":false},{"$f":"(INDEX(спскВыбора,$M$60-$L708)=O$61)","v":false},130,98]
[{"$nulls":11},648,{"$f":"IF(INDEX(Данные[Решен],$M$60-$L709)=\"Да\",1,-1)","v":1},{"$f":"(INDEX(спскВыбора,$M$60-$L709)=N$61)","v":false},{"$f":"(INDEX(спскВыбора,$M$60-$L709)=O$61)","v":false},130,98]
[{"$nulls":11},649,{"$f":"IF(INDEX(Данные[Решен],$M$60-$L710)=\"Да\",1,-1)","v":1},{"$f":"(INDEX(спскВыбора,$M$60-$L710)=N$61)","v":false},{"$f":"(INDEX(спскВыбора,$M$60-$L710)=O$61)","v":false},130,98]
[{"$nulls":11},650,{"$f":"IF(INDEX(Данные[Решен],$M$60-$L711)=\"Да\",1,-1)","v":1},{"$f":"(INDEX(спскВыбора,$M$60-$L711)=N$61)","v":false},{"$f":"(INDEX(спскВыбора,$M$60-$L711)=O$61)","v":false},130,98]
[{"$nulls":11},651,{"$f":"IF(INDEX(Данные[Решен],$M$60-$L712)=\"Да\",1,-1)","v":1},{"$f":"(INDEX(спскВыбора,$M$60-$L712)=N$61)","v":false},{"$f":"(INDEX(спскВыбора,$M$60-$L712)=O$61)","v":false},130,98]
[{"$nulls":11},652,{"$f":"IF(INDEX(Данные[Решен],$M$60-$L713)=\"Да\",1,-1)","v":1},{"$f":"(INDEX(спскВыбора,$M$60-$L713)=N$61)","v":true},{"$f":"(INDEX(спскВыбора,$M$60-$L713)=O$61)","v":false},131,98]
[{"$nulls":11},653,{"$f":"IF(INDEX(Данные[Решен],$M$60-$L714)=\"Да\",1,-1)","v":1},{"$f":"(INDEX(спскВыбора,$M$60-$L714)=N$61)","v":false},{"$f":"(INDEX(спскВыбора,$M$60-$L714)=O$61)","v":false},131,98]
[{"$nulls":11},654,{"$f":"IF(INDEX(Данные[Решен],$M$60-$L715)=\"Да\",1,-1)","v":1},{"$f":"(INDEX(спскВыбора,$M$60-$L715)=N$61)","v":false},{"$f":"(INDEX(спскВыбора,$M$60-$L715)=O$61)","v":true},131,99]
[{"$nulls":11},655,{"$f":"IF(INDEX(Данные[Решен],$M$60-$L716)=\"Да\",1,-1)","v":1},{"$f":"(INDEX(спскВыбора,$M$60-$L716)=N$61)","v":false},{"$f":"(INDEX(спскВыбора,$M$60-$L716)=O$61)","v":false},131,99]
[{"$nulls":11},656,{"$f":"IF(INDEX(Данные[Решен],$M$60-$L717)=\"Да\",1,-1)","v":1},{"$f":"(INDEX(спскВыбора,$M$60-$L717)=N$61)","v":false},{"$f":"(INDEX(спскВыбора,$M$60-$L717)=O$61)","v":false},131,99]
[{"$nulls":11},657,{"$f":"IF(INDEX(Данные[Решен],$M$60-$L718)=\"Да\",1,-1)","v":1},{"$f":"(INDEX(спскВыбора,$M$60-$L718)=N$61)","v":false},{"$f":"(INDEX(спскВыбора,$M$60-$L718)=O$61)","v":false},131,99]
[{"$nulls":11},658,{"$f":"IF(INDEX(Данные[Решен],$M$60-$L719)=\"Да\",1,-1)","v":1},{"$f":"(INDEX(спскВыбора,$M$60-$L719)=N$61)","v":true},{"$f":"(INDEX(спскВыбора,$M$60-$L719)=O$61)","v":false},132,99]
[{"$nulls":11},659,{"$f":"IF(INDEX(Данные[Решен],$M$60-$L720)=\"Да\",1,-1)","v":1},{"$f":"(INDEX(спскВыбора,$M$60-$L720)=N$61)","v":false},{"$f":"(INDEX(спскВыбора,$M$60-$L720)=O$61)","v":false},132,99]
[{"$nulls":11},660,{"$f":"IF(INDEX(Данные[Решен],$M$60-$L721)=\"Да\",1,-1)","v":1},{"$f":"(INDEX(спскВыбора,$M$60-$L721)=N$61)","v":true},{"$f":"(INDEX(спскВыбора,$M$60-$L721)=O$61)","v":false},133,99]
[{"$nulls":11},661,{"$f":"IF(INDEX(Данные[Решен],$M$60-$L722)=\"Да\",1,-1)","v":1},{"$f":"(INDEX(спскВыбора,$M$60-$L722)=N$61)","v":false},{"$f":"(INDEX(спскВыбора,$M$60-$L722)=O$61)","v":true},133,100]
[{"$nulls":11},662,{"$f":"IF(INDEX(Данные[Решен],$M$60-$L723)=\"Да\",1,-1)","v":1},{"$f":"(INDEX(спскВыбора,$M$60-$L723)=N$61)","v":false},{"$f":"(INDEX(спскВыбора,$M$60-$L723)=O$61)","v":false},133,100]
[{"$nulls":11},663,{"$f":"IF(INDEX(Данные[Решен],$M$60-$L724)=\"Да\",1,-1)","v":1},{"$f":"(INDEX(спскВыбора,$M$60-$L724)=N$61)","v":false},{"$f":"(INDEX(спскВыбора,$M$60-$L724)=O$61)","v":false},133,100]
[{"$nulls":11},664,{"$f":"IF(INDEX(Данные[Решен],$M$60-$L725)=\"Да\",1,-1)","v":1},{"$f":"(INDEX(спскВыбора,$M$60-$L725)=N$61)","v":false},{"$f":"(INDEX(спскВыбора,$M$60-$L725)=O$61)","v":false},133,100]
[{"$nulls":11},665,{"$f":"IF(INDEX(Данные[Решен],$M$60-$L726)=\"Да\",1,-1)","v":1},{"$f":"(INDEX(спскВыбора,$M$60-$L726)=N$61)","v":false},{"$f":"(INDEX(спскВыбора,$M$60-$L726)=O$61)","v":false},133,100]
[{"$nulls":11},666,{"$f":"IF(INDEX(Данные[Решен],$M$60-$L727)=\"Да\",1,-1)","v":1},{"$f":"(INDEX(спскВыбора,$M$60-$L727)=N$61)","v":false},{"$f":"(INDEX(спскВыбора,$M$60-$L727)=O$61)","v":false},133,100]
[{"$nulls":11},667,{"$f":"IF(INDEX(Данные[Решен],$M$60-$L728)=\"Да\",1,-1)","v":1},{"$f":"(INDEX(спскВыбора,$M$60-$L728)=N$61)","v":false},{"$f":"(INDEX(спскВыбора,$M$60-$L728)=O$61)","v":true},133,101]
[{"$nulls":11},668,{"$f":"IF(INDEX(Данные[Решен],$M$60-$L729)=\"Да\",1,-1)","v":1},{"$f":"(INDEX(спскВыбора,$M$60-$L729)=N$61)","v":false},{"$f":"(INDEX(спскВыбора,$M$60-$L729)=O$61)","v":false},133,101]
[{"$nulls":11},669,{"$f":"IF(INDEX(Данные[Решен],$M$60-$L730)=\"Да\",1,-1)","v":1},{"$f":"(INDEX(спскВыбора,$M$60-$L730)=N$61)","v":false},{"$f":"(INDEX(спскВыбора,$M$60-$L730)=O$61)","v":false},133,101]
[{"$nulls":11},670,{"$f":"IF(INDEX(Данные[Решен],$M$60-$L731)=\"Да\",1,-1)","v":1},{"$f":"(INDEX(спскВыбора,$M$60-$L731)=N$61)","v":false},{"$f":"(INDEX(спскВыбора,$M$60-$L731)=O$61)","v":true},133,102]
[{"$nulls":11},671,{"$f":"IF(INDEX(Данные[Решен],$M$60-$L732)=\"Да\",1,-1)","v":1},{"$f":"(INDEX(спскВыбора,$M$60-$L732)=N$61)","v":false},{"$f":"(INDEX(спскВыбора,$M$60-$L732)=O$61)","v":false},133,102]
[{"$nulls":11},672,{"$f":"IF(INDEX(Данные[Решен],$M$60-$L733)=\"Да\",1,-1)","v":1},{"$f":"(INDEX(спскВыбора,$M$60-$L733)=N$61)","v":false},{"$f":"(INDEX(спскВыбора,$M$60-$L733)=O$61)","v":false},133,102]
[{"$nulls":11},673,{"$f":"IF(INDEX(Данные[Решен],$M$60-$L734)=\"Да\",1,-1)","v":1},{"$f":"(INDEX(спскВыбора,$M$60-$L734)=N$61)","v":false},{"$f":"(INDEX(спскВыбора,$M$60-$L734)=O$61)","v":true},133,103]
[{"$nulls":11},674,{"$f":"IF(INDEX(Данные[Решен],$M$60-$L735)=\"Да\",1,-1)","v":-1},{"$f":"(INDEX(спскВыбора,$M$60-$L735)=N$61)","v":false},{"$f":"(INDEX(спскВыбора,$M$60-$L735)=O$61)","v":false},133,103]
[{"$nulls":11},675,{"$f":"IF(INDEX(Данные[Решен],$M$60-$L736)=\"Да\",1,-1)","v":1},{"$f":"(INDEX(спскВыбора,$M$60-$L736)=N$61)","v":false},{"$f":"(INDEX(спскВыбора,$M$60-$L736)=O$61)","v":false},133,103]
[{"$nulls":11},676,{"$f":"IF(INDEX(Данные[Решен],$M$60-$L737)=\"Да\",1,-1)","v":1},{"$f":"(INDEX(спскВыбора,$M$60-$L737)=N$61)","v":true},{"$f":"(INDEX(спскВыбора,$M$60-$L737)=O$61)","v":false},134,103]
[{"$nulls":11},677,{"$f":"IF(INDEX(Данные[Решен],$M$60-$L738)=\"Да\",1,-1)","v":1},{"$f":"(INDEX(спскВыбора,$M$60-$L738)=N$61)","v":false},{"$f":"(INDEX(спскВыбора,$M$60-$L738)=O$61)","v":false},{"$f":"P737+N738","v":134},{"$f":"Q737+O738","v":103}]
[{"$nulls":11},678,{"$f":"IF(INDEX(Данные[Решен],$M$60-$L739)=\"Да\",1,-1)","v":1},{"$f":"(INDEX(спскВыбора,$M$60-$L739)=N$61)","v":false},{"$f":"(INDEX(спскВыбора,$M$60-$L739)=O$61)","v":false},134,103]
[{"$nulls":11},679,{"$f":"IF(INDEX(Данные[Решен],$M$60-$L740)=\"Да\",1,-1)","v":1},{"$f":"(INDEX(спскВыбора,$M$60-$L740)=N$61)","v":false},{"$f":"(INDEX(спскВыбора,$M$60-$L740)=O$61)","v":true},134,104]
[{"$nulls":11},680,{"$f":"IF(INDEX(Данные[Решен],$M$60-$L741)=\"Да\",1,-1)","v":1},{"$f":"(INDEX(спскВыбора,$M$60-$L741)=N$61)","v":false},{"$f":"(INDEX(спскВыбора,$M$60-$L741)=O$61)","v":false},134,104]
[{"$nulls":11},681,{"$f":"IF(INDEX(Данные[Решен],$M$60-$L742)=\"Да\",1,-1)","v":1},{"$f":"(INDEX(спскВыбора,$M$60-$L742)=N$61)","v":false},{"$f":"(INDEX(спскВыбора,$M$60-$L742)=O$61)","v":false},134,104]
[{"$nulls":11},682,{"$f":"IF(INDEX(Данные[Решен],$M$60-$L743)=\"Да\",1,-1)","v":1},{"$f":"(INDEX(спскВыбора,$M$60-$L743)=N$61)","v":false},{"$f":"(INDEX(спскВыбора,$M$60-$L743)=O$61)","v":true},134,105]
[{"$nulls":11},683,{"$f":"IF(INDEX(Данные[Решен],$M$60-$L744)=\"Да\",1,-1)","v":1},{"$f":"(INDEX(спскВыбора,$M$60-$L744)=N$61)","v":false},{"$f":"(INDEX(спскВыбора,$M$60-$L744)=O$61)","v":false},134,105]
[{"$nulls":11},684,{"$f":"IF(INDEX(Данные[Решен],$M$60-$L745)=\"Да\",1,-1)","v":1},{"$f":"(INDEX(спскВыбора,$M$60-$L745)=N$61)","v":false},{"$f":"(INDEX(спскВыбора,$M$60-$L745)=O$61)","v":true},134,106]
[{"$nulls":11},685,{"$f":"IF(INDEX(Данные[Решен],$M$60-$L746)=\"Да\",1,-1)","v":-1},{"$f":"(INDEX(спскВыбора,$M$60-$L746)=N$61)","v":false},{"$f":"(INDEX(спскВыбора,$M$60-$L746)=O$61)","v":false},134,106]
[{"$nulls":11},686,{"$f":"IF(INDEX(Данные[Решен],$M$60-$L747)=\"Да\",1,-1)","v":1},{"$f":"(INDEX(спскВыбора,$M$60-$L747)=N$61)","v":false},{"$f":"(INDEX(спскВыбора,$M$60-$L747)=O$61)","v":false},134,106]
[{"$nulls":11},687,{"$f":"IF(INDEX(Данные[Решен],$M$60-$L748)=\"Да\",1,-1)","v":-1},{"$f":"(INDEX(спскВыбора,$M$60-$L748)=N$61)","v":false},{"$f":"(INDEX(спскВыбора,$M$60-$L748)=O$61)","v":false},134,106]
[{"$nulls":11},688,{"$f":"IF(INDEX(Данные[Решен],$M$60-$L749)=\"Да\",1,-1)","v":1},{"$f":"(INDEX(спскВыбора,$M$60-$L749)=N$61)","v":true},{"$f":"(INDEX(спскВыбора,$M$60-$L749)=O$61)","v":false},135,106]
[{"$nulls":11},689,{"$f":"IF(INDEX(Данные[Решен],$M$60-$L750)=\"Да\",1,-1)","v":-1},{"$f":"(INDEX(спскВыбора,$M$60-$L750)=N$61)","v":false},{"$f":"(INDEX(спскВыбора,$M$60-$L750)=O$61)","v":false},135,106]
[{"$nulls":11},690,{"$f":"IF(INDEX(Данные[Решен],$M$60-$L751)=\"Да\",1,-1)","v":1},{"$f":"(INDEX(спскВыбора,$M$60-$L751)=N$61)","v":false},{"$f":"(INDEX(спскВыбора,$M$60-$L751)=O$61)","v":true},135,107]
[{"$nulls":11},691,{"$f":"IF(INDEX(Данные[Решен],$M$60-$L752)=\"Да\",1,-1)","v":1},{"$f":"(INDEX(спскВыбора,$M$60-$L752)=N$61)","v":false},{"$f":"(INDEX(спскВыбора,$M$60-$L752)=O$61)","v":false},135,107]
[{"$nulls":11},692,{"$f":"IF(INDEX(Данные[Решен],$M$60-$L753)=\"Да\",1,-1)","v":1},{"$f":"(INDEX(спскВыбора,$M$60-$L753)=N$61)","v":false},{"$f":"(INDEX(спскВыбора,$M$60-$L753)=O$61)","v":false},135,107]
[{"$nulls":11},693,{"$f":"IF(INDEX(Данные[Решен],$M$60-$L754)=\"Да\",1,-1)","v":1},{"$f":"(INDEX(спскВыбора,$M$60-$L754)=N$61)","v":false},{"$f":"(INDEX(спскВыбора,$M$60-$L754)=O$61)","v":true},135,108]
[{"$nulls":11},694,{"$f":"IF(INDEX(Данные[Решен],$M$60-$L755)=\"Да\",1,-1)","v":1},{"$f":"(INDEX(спскВыбора,$M$60-$L755)=N$61)","v":false},{"$f":"(INDEX(спскВыбора,$M$60-$L755)=O$61)","v":false},135,108]
[{"$nulls":11},695,{"$f":"IF(INDEX(Данные[Решен],$M$60-$L756)=\"Да\",1,-1)","v":1},{"$f":"(INDEX(спскВыбора,$M$60-$L756)=N$61)","v":false},{"$f":"(INDEX(спскВыбора,$M$60-$L756)=O$61)","v":true},135,109]
[{"$nulls":11},696,{"$f":"IF(INDEX(Данные[Решен],$M$60-$L757)=\"Да\",1,-1)","v":-1},{"$f":"(INDEX(спскВыбора,$M$60-$L757)=N$61)","v":false},{"$f":"(INDEX(спскВыбора,$M$60-$L757)=O$61)","v":false},135,109]
[{"$nulls":11},697,{"$f":"IF(INDEX(Данные[Решен],$M$60-$L758)=\"Да\",1,-1)","v":1},{"$f":"(INDEX(спскВыбора,$M$60-$L758)=N$61)","v":false},{"$f":"(INDEX(спскВыбора,$M$60-$L758)=O$61)","v":false},135,109]
[{"$nulls":11},698,{"$f":"IF(INDEX(Данные[Решен],$M$60-$L759)=\"Да\",1,-1)","v":1},{"$f":"(INDEX(спскВыбора,$M$60-$L759)=N$61)","v":false},{"$f":"(INDEX(спскВыбора,$M$60-$L759)=O$61)","v":false},135,109]
[{"$nulls":11},699,{"$f":"IF(INDEX(Данные[Решен],$M$60-$L760)=\"Да\",1,-1)","v":1},{"$f":"(INDEX(спскВыбора,$M$60-$L760)=N$61)","v":false},{"$f":"(INDEX(спскВыбора,$M$60-$L760)=O$61)","v":false},135,109]
[{"$nulls":11},700,{"$f":"IF(INDEX(Данные[Решен],$M$60-$L761)=\"Да\",1,-1)","v":1},{"$f":"(INDEX(спскВыбора,$M$60-$L761)=N$61)","v":true},{"$f":"(INDEX(спскВыбора,$M$60-$L761)=O$61)","v":false},136,109]
[{"$nulls":11},701,{"$f":"IF(INDEX(Данные[Решен],$M$60-$L762)=\"Да\",1,-1)","v":1},{"$f":"(INDEX(спскВыбора,$M$60-$L762)=N$61)","v":false},{"$f":"(INDEX(спскВыбора,$M$60-$L762)=O$61)","v":false},136,109]
[{"$nulls":11},702,{"$f":"IF(INDEX(Данные[Решен],$M$60-$L763)=\"Да\",1,-1)","v":1},{"$f":"(INDEX(спскВыбора,$M$60-$L763)=N$61)","v":true},{"$f":"(INDEX(спскВыбора,$M$60-$L763)=O$61)","v":false},137,109]
[{"$nulls":11},703,{"$f":"IF(INDEX(Данные[Решен],$M$60-$L764)=\"Да\",1,-1)","v":1},{"$f":"(INDEX(спскВыбора,$M$60-$L764)=N$61)","v":true},{"$f":"(INDEX(спскВыбора,$M$60-$L764)=O$61)","v":false},138,109]
[{"$nulls":11},704,{"$f":"IF(INDEX(Данные[Решен],$M$60-$L765)=\"Да\",1,-1)","v":1},{"$f":"(INDEX(спскВыбора,$M$60-$L765)=N$61)","v":false},{"$f":"(INDEX(спскВыбора,$M$60-$L765)=O$61)","v":false},138,109]
[{"$nulls":11},705,{"$f":"IF(INDEX(Данные[Решен],$M$60-$L766)=\"Да\",1,-1)","v":1},{"$f":"(INDEX(спскВыбора,$M$60-$L766)=N$61)","v":false},{"$f":"(INDEX(спскВыбора,$M$60-$L766)=O$61)","v":false},138,109]
[{"$nulls":11},706,{"$f":"IF(INDEX(Данные[Решен],$M$60-$L767)=\"Да\",1,-1)","v":1},{"$f":"(INDEX(спскВыбора,$M$60-$L767)=N$61)","v":false},{"$f":"(INDEX(спскВыбора,$M$60-$L767)=O$61)","v":true},138,110]
[{"$nulls":11},707,{"$f":"IF(INDEX(Данные[Решен],$M$60-$L768)=\"Да\",1,-1)","v":1},{"$f":"(INDEX(спскВыбора,$M$60-$L768)=N$61)","v":false},{"$f":"(INDEX(спскВыбора,$M$60-$L768)=O$61)","v":false},138,110]
[{"$nulls":11},708,{"$f":"IF(INDEX(Данные[Решен],$M$60-$L769)=\"Да\",1,-1)","v":1},{"$f":"(INDEX(спскВыбора,$M$60-$L769)=N$61)","v":false},{"$f":"(INDEX(спскВыбора,$M$60-$L769)=O$61)","v":false},138,110]
[{"$nulls":11},709,{"$f":"IF(INDEX(Данные[Решен],$M$60-$L770)=\"Да\",1,-1)","v":1},{"$f":"(INDEX(спскВыбора,$M$60-$L770)=N$61)","v":false},{"$f":"(INDEX(спскВыбора,$M$60-$L770)=O$61)","v":true},138,111]
[{"$nulls":11},710,{"$f":"IF(INDEX(Данные[Решен],$M$60-$L771)=\"Да\",1,-1)","v":1},{"$f":"(INDEX(спскВыбора,$M$60-$L771)=N$61)","v":false},{"$f":"(INDEX(спскВыбора,$M$60-$L771)=O$61)","v":false},138,111]
[{"$nulls":11},711,{"$f":"IF(INDEX(Данные[Решен],$M$60-$L772)=\"Да\",1,-1)","v":1},{"$f":"(INDEX(спскВыбора,$M$60-$L772)=N$61)","v":false},{"$f":"(INDEX(спскВыбора,$M$60-$L772)=O$61)","v":false},138,111]
[{"$nulls":11},712,{"$f":"IF(INDEX(Данные[Решен],$M$60-$L773)=\"Да\",1,-1)","v":1},{"$f":"(INDEX(спскВыбора,$M$60-$L773)=N$61)","v":false},{"$f":"(INDEX(спскВыбора,$M$60-$L773)=O$61)","v":false},138,111]
[{"$nulls":11},713,{"$f":"IF(INDEX(Данные[Решен],$M$60-$L774)=\"Да\",1,-1)","v":1},{"$f":"(INDEX(спскВыбора,$M$60-$L774)=N$61)","v":false},{"$f":"(INDEX(спскВыбора,$M$60-$L774)=O$61)","v":false},138,111]
[{"$nulls":11},714,{"$f":"IF(INDEX(Данные[Решен],$M$60-$L775)=\"Да\",1,-1)","v":1},{"$f":"(INDEX(спскВыбора,$M$60-$L775)=N$61)","v":false},{"$f":"(INDEX(спскВыбора,$M$60-$L775)=O$61)","v":true},138,112]
[{"$nulls":11},715,{"$f":"IF(INDEX(Данные[Решен],$M$60-$L776)=\"Да\",1,-1)","v":1},{"$f":"(INDEX(спскВыбора,$M$60-$L776)=N$61)","v":false},{"$f":"(INDEX(спскВыбора,$M$60-$L776)=O$61)","v":false},138,112]
[{"$nulls":11},716,{"$f":"IF(INDEX(Данные[Решен],$M$60-$L777)=\"Да\",1,-1)","v":1},{"$f":"(INDEX(спскВыбора,$M$60-$L777)=N$61)","v":false},{"$f":"(INDEX(спскВыбора,$M$60-$L777)=O$61)","v":false},138,112]
[{"$nulls":11},717,{"$f":"IF(INDEX(Данные[Решен],$M$60-$L778)=\"Да\",1,-1)","v":1},{"$f":"(INDEX(спскВыбора,$M$60-$L778)=N$61)","v":false},{"$f":"(INDEX(спскВыбора,$M$60-$L778)=O$61)","v":true},138,113]
[{"$nulls":11},718,{"$f":"IF(INDEX(Данные[Решен],$M$60-$L779)=\"Да\",1,-1)","v":1},{"$f":"(INDEX(спскВыбора,$M$60-$L779)=N$61)","v":true},{"$f":"(INDEX(спскВыбора,$M$60-$L779)=O$61)","v":false},139,113]
[{"$nulls":11},719,{"$f":"IF(INDEX(Данные[Решен],$M$60-$L780)=\"Да\",1,-1)","v":1},{"$f":"(INDEX(спскВыбора,$M$60-$L780)=N$61)","v":false},{"$f":"(INDEX(спскВыбора,$M$60-$L780)=O$61)","v":true},139,114]
[{"$nulls":11},720,{"$f":"IF(INDEX(Данные[Решен],$M$60-$L781)=\"Да\",1,-1)","v":1},{"$f":"(INDEX(спскВыбора,$M$60-$L781)=N$61)","v":false},{"$f":"(INDEX(спскВыбора,$M$60-$L781)=O$61)","v":false},139,114]
[{"$nulls":11},721,{"$f":"IF(INDEX(Данные[Решен],$M$60-$L782)=\"Да\",1,-1)","v":1},{"$f":"(INDEX(спскВыбора,$M$60-$L782)=N$61)","v":false},{"$f":"(INDEX(спскВыбора,$M$60-$L782)=O$61)","v":false},139,114]
[{"$nulls":11},722,{"$f":"IF(INDEX(Данные[Решен],$M$60-$L783)=\"Да\",1,-1)","v":1},{"$f":"(INDEX(спскВыбора,$M$60-$L783)=N$61)","v":false},{"$f":"(INDEX(спскВыбора,$M$60-$L783)=O$61)","v":true},139,115]
[{"$nulls":11},723,{"$f":"IF(INDEX(Данные[Решен],$M$60-$L784)=\"Да\",1,-1)","v":1},{"$f":"(INDEX(спскВыбора,$M$60-$L784)=N$61)","v":true},{"$f":"(INDEX(спскВыбора,$M$60-$L784)=O$61)","v":false},140,115]
[{"$nulls":11},724,{"$f":"IF(INDEX(Данные[Решен],$M$60-$L785)=\"Да\",1,-1)","v":1},{"$f":"(INDEX(спскВыбора,$M$60-$L785)=N$61)","v":true},{"$f":"(INDEX(спскВыбора,$M$60-$L785)=O$61)","v":false},141,115]
[{"$nulls":11},725,{"$f":"IF(INDEX(Данные[Решен],$M$60-$L786)=\"Да\",1,-1)","v":1},{"$f":"(INDEX(спскВыбора,$M$60-$L786)=N$61)","v":false},{"$f":"(INDEX(спскВыбора,$M$60-$L786)=O$61)","v":true},141,116]
[{"$nulls":11},726,{"$f":"IF(INDEX(Данные[Решен],$M$60-$L787)=\"Да\",1,-1)","v":1},{"$f":"(INDEX(спскВыбора,$M$60-$L787)=N$61)","v":false},{"$f":"(INDEX(спскВыбора,$M$60-$L787)=O$61)","v":false},141,116]
[{"$nulls":11},727,{"$f":"IF(INDEX(Данные[Решен],$M$60-$L788)=\"Да\",1,-1)","v":1},{"$f":"(INDEX(спскВыбора,$M$60-$L788)=N$61)","v":true},{"$f":"(INDEX(спскВыбора,$M$60-$L788)=O$61)","v":false},142,116]
[{"$nulls":11},728,{"$f":"IF(INDEX(Данные[Решен],$M$60-$L789)=\"Да\",1,-1)","v":1},{"$f":"(INDEX(спскВыбора,$M$60-$L789)=N$61)","v":false},{"$f":"(INDEX(спскВыбора,$M$60-$L789)=O$61)","v":false},142,116]
[{"$nulls":11},729,{"$f":"IF(INDEX(Данные[Решен],$M$60-$L790)=\"Да\",1,-1)","v":1},{"$f":"(INDEX(спскВыбора,$M$60-$L790)=N$61)","v":true},{"$f":"(INDEX(спскВыбора,$M$60-$L790)=O$61)","v":false},143,116]
[{"$nulls":11},730,{"$f":"IF(INDEX(Данные[Решен],$M$60-$L791)=\"Да\",1,-1)","v":1},{"$f":"(INDEX(спскВыбора,$M$60-$L791)=N$61)","v":true},{"$f":"(INDEX(спскВыбора,$M$60-$L791)=O$61)","v":false},144,116]
[{"$nulls":11},731,{"$f":"IF(INDEX(Данные[Решен],$M$60-$L792)=\"Да\",1,-1)","v":1},{"$f":"(INDEX(спскВыбора,$M$60-$L792)=N$61)","v":false},{"$f":"(INDEX(спскВыбора,$M$60-$L792)=O$61)","v":false},144,116]
[{"$nulls":11},732,{"$f":"IF(INDEX(Данные[Решен],$M$60-$L793)=\"Да\",1,-1)","v":1},{"$f":"(INDEX(спскВыбора,$M$60-$L793)=N$61)","v":false},{"$f":"(INDEX(спскВыбора,$M$60-$L793)=O$61)","v":false},144,116]
[{"$nulls":11},733,{"$f":"IF(INDEX(Данные[Решен],$M$60-$L794)=\"Да\",1,-1)","v":1},{"$f":"(INDEX(спскВыбора,$M$60-$L794)=N$61)","v":false},{"$f":"(INDEX(спскВыбора,$M$60-$L794)=O$61)","v":false},144,116]
[{"$nulls":11},734,{"$f":"IF(INDEX(Данные[Решен],$M$60-$L795)=\"Да\",1,-1)","v":1},{"$f":"(INDEX(спскВыбора,$M$60-$L795)=N$61)","v":false},{"$f":"(INDEX(спскВыбора,$M$60-$L795)=O$61)","v":false},144,116]
[{"$nulls":11},735,{"$f":"IF(INDEX(Данные[Решен],$M$60-$L796)=\"Да\",1,-1)","v":1},{"$f":"(INDEX(спскВыбора,$M$60-$L796)=N$61)","v":false},{"$f":"(INDEX(спскВыбора,$M$60-$L796)=O$61)","v":false},144,116]
[{"$nulls":11},736,{"$f":"IF(INDEX(Данные[Решен],$M$60-$L797)=\"Да\",1,-1)","v":1},{"$f":"(INDEX(спскВыбора,$M$60-$L797)=N$61)","v":false},{"$f":"(INDEX(спскВыбора,$M$60-$L797)=O$61)","v":false},144,116]
[{"$nulls":11},737,{"$f":"IF(INDEX(Данные[Решен],$M$60-$L798)=\"Да\",1,-1)","v":1},{"$f":"(INDEX(спскВыбора,$M$60-$L798)=N$61)","v":true},{"$f":"(INDEX(спскВыбора,$M$60-$L798)=O$61)","v":false},145,116]
[{"$nulls":11},738,{"$f":"IF(INDEX(Данные[Решен],$M$60-$L799)=\"Да\",1,-1)","v":1},{"$f":"(INDEX(спскВыбора,$M$60-$L799)=N$61)","v":false},{"$f":"(INDEX(спскВыбора,$M$60-$L799)=O$61)","v":true},145,117]
[{"$nulls":11},739,{"$f":"IF(INDEX(Данные[Решен],$M$60-$L800)=\"Да\",1,-1)","v":1},{"$f":"(INDEX(спскВыбора,$M$60-$L800)=N$61)","v":false},{"$f":"(INDEX(спскВыбора,$M$60-$L800)=O$61)","v":false},145,117]
[{"$nulls":11},740,{"$f":"IF(INDEX(Данные[Решен],$M$60-$L801)=\"Да\",1,-1)","v":1},{"$f":"(INDEX(спскВыбора,$M$60-$L801)=N$61)","v":false},{"$f":"(INDEX(спскВыбора,$M$60-$L801)=O$61)","v":true},145,118]
[{"$nulls":11},741,{"$f":"IF(INDEX(Данные[Решен],$M$60-$L802)=\"Да\",1,-1)","v":1},{"$f":"(INDEX(спскВыбора,$M$60-$L802)=N$61)","v":false},{"$f":"(INDEX(спскВыбора,$M$60-$L802)=O$61)","v":false},{"$f":"P801+N802","v":145},{"$f":"Q801+O802","v":118}]
[{"$nulls":11},742,{"$f":"IF(INDEX(Данные[Решен],$M$60-$L803)=\"Да\",1,-1)","v":1},{"$f":"(INDEX(спскВыбора,$M$60-$L803)=N$61)","v":true},{"$f":"(INDEX(спскВыбора,$M$60-$L803)=O$61)","v":false},146,118]
[{"$nulls":11},743,{"$f":"IF(INDEX(Данные[Решен],$M$60-$L804)=\"Да\",1,-1)","v":-1},{"$f":"(INDEX(спскВыбора,$M$60-$L804)=N$61)","v":false},{"$f":"(INDEX(спскВыбора,$M$60-$L804)=O$61)","v":false},146,118]
[{"$nulls":11},744,{"$f":"IF(INDEX(Данные[Решен],$M$60-$L805)=\"Да\",1,-1)","v":1},{"$f":"(INDEX(спскВыбора,$M$60-$L805)=N$61)","v":false},{"$f":"(INDEX(спскВыбора,$M$60-$L805)=O$61)","v":true},146,119]
[{"$nulls":11},745,{"$f":"IF(INDEX(Данные[Решен],$M$60-$L806)=\"Да\",1,-1)","v":1},{"$f":"(INDEX(спскВыбора,$M$60-$L806)=N$61)","v":false},{"$f":"(INDEX(спскВыбора,$M$60-$L806)=O$61)","v":false},146,119]
[{"$nulls":11},746,{"$f":"IF(INDEX(Данные[Решен],$M$60-$L807)=\"Да\",1,-1)","v":1},{"$f":"(INDEX(спскВыбора,$M$60-$L807)=N$61)","v":false},{"$f":"(INDEX(спскВыбора,$M$60-$L807)=O$61)","v":true},146,120]
[{"$nulls":11},747,{"$f":"IF(INDEX(Данные[Решен],$M$60-$L808)=\"Да\",1,-1)","v":1},{"$f":"(INDEX(спскВыбора,$M$60-$L808)=N$61)","v":false},{"$f":"(INDEX(спскВыбора,$M$60-$L808)=O$61)","v":false},146,120]
[{"$nulls":11},748,{"$f":"IF(INDEX(Данные[Решен],$M$60-$L809)=\"Да\",1,-1)","v":1},{"$f":"(INDEX(спскВыбора,$M$60-$L809)=N$61)","v":false},{"$f":"(INDEX(спскВыбора,$M$60-$L809)=O$61)","v":true},146,121]
[{"$nulls":11},749,{"$f":"IF(INDEX(Данные[Решен],$M$60-$L810)=\"Да\",1,-1)","v":1},{"$f":"(INDEX(спскВыбора,$M$60-$L810)=N$61)","v":true},{"$f":"(INDEX(спскВыбора,$M$60-$L810)=O$61)","v":false},147,121]
[{"$nulls":11},750,{"$f":"IF(INDEX(Данные[Решен],$M$60-$L811)=\"Да\",1,-1)","v":-1},{"$f":"(INDEX(спскВыбора,$M$60-$L811)=N$61)","v":false},{"$f":"(INDEX(спскВыбора,$M$60-$L811)=O$61)","v":false},147,121]
[{"$nulls":11},751,{"$f":"IF(INDEX(Данные[Решен],$M$60-$L812)=\"Да\",1,-1)","v":1},{"$f":"(INDEX(спскВыбора,$M$60-$L812)=N$61)","v":false},{"$f":"(INDEX(спскВыбора,$M$60-$L812)=O$61)","v":false},147,121]
[{"$nulls":11},752,{"$f":"IF(INDEX(Данные[Решен],$M$60-$L813)=\"Да\",1,-1)","v":1},{"$f":"(INDEX(спскВыбора,$M$60-$L813)=N$61)","v":false},{"$f":"(INDEX(спскВыбора,$M$60-$L813)=O$61)","v":false},147,121]
[{"$nulls":11},753,{"$f":"IF(INDEX(Данные[Решен],$M$60-$L814)=\"Да\",1,-1)","v":1},{"$f":"(INDEX(спскВыбора,$M$60-$L814)=N$61)","v":false},{"$f":"(INDEX(спскВыбора,$M$60-$L814)=O$61)","v":true},147,122]
[{"$nulls":11},754,{"$f":"IF(INDEX(Данные[Решен],$M$60-$L815)=\"Да\",1,-1)","v":1},{"$f":"(INDEX(спскВыбора,$M$60-$L815)=N$61)","v":false},{"$f":"(INDEX(спскВыбора,$M$60-$L815)=O$61)","v":false},147,122]
[{"$nulls":11},755,{"$f":"IF(INDEX(Данные[Решен],$M$60-$L816)=\"Да\",1,-1)","v":1},{"$f":"(INDEX(спскВыбора,$M$60-$L816)=N$61)","v":false},{"$f":"(INDEX(спскВыбора,$M$60-$L816)=O$61)","v":false},147,122]
[{"$nulls":11},756,{"$f":"IF(INDEX(Данные[Решен],$M$60-$L817)=\"Да\",1,-1)","v":1},{"$f":"(INDEX(спскВыбора,$M$60-$L817)=N$61)","v":false},{"$f":"(INDEX(спскВыбора,$M$60-$L817)=O$61)","v":false},147,122]
[{"$nulls":11},757,{"$f":"IF(INDEX(Данные[Решен],$M$60-$L818)=\"Да\",1,-1)","v":1},{"$f":"(INDEX(спскВыбора,$M$60-$L818)=N$61)","v":false},{"$f":"(INDEX(спскВыбора,$M$60-$L818)=O$61)","v":false},147,122]
[{"$nulls":11},758,{"$f":"IF(INDEX(Данные[Решен],$M$60-$L819)=\"Да\",1,-1)","v":1},{"$f":"(INDEX(спскВыбора,$M$60-$L819)=N$61)","v":false},{"$f":"(INDEX(спскВыбора,$M$60-$L819)=O$61)","v":false},147,122]
[{"$nulls":11},759,{"$f":"IF(INDEX(Данные[Решен],$M$60-$L820)=\"Да\",1,-1)","v":1},{"$f":"(INDEX(спскВыбора,$M$60-$L820)=N$61)","v":false},{"$f":"(INDEX(спскВыбора,$M$60-$L820)=O$61)","v":true},147,123]
[{"$nulls":11},760,{"$f":"IF(INDEX(Данные[Решен],$M$60-$L821)=\"Да\",1,-1)","v":1},{"$f":"(INDEX(спскВыбора,$M$60-$L821)=N$61)","v":false},{"$f":"(INDEX(спскВыбора,$M$60-$L821)=O$61)","v":false},147,123]
[{"$nulls":11},761,{"$f":"IF(INDEX(Данные[Решен],$M$60-$L822)=\"Да\",1,-1)","v":1},{"$f":"(INDEX(спскВыбора,$M$60-$L822)=N$61)","v":false},{"$f":"(INDEX(спскВыбора,$M$60-$L822)=O$61)","v":true},147,124]
[{"$nulls":11},762,{"$f":"IF(INDEX(Данные[Решен],$M$60-$L823)=\"Да\",1,-1)","v":1},{"$f":"(INDEX(спскВыбора,$M$60-$L823)=N$61)","v":false},{"$f":"(INDEX(спскВыбора,$M$60-$L823)=O$61)","v":false},147,124]
[{"$nulls":11},763,{"$f":"IF(INDEX(Данные[Решен],$M$60-$L824)=\"Да\",1,-1)","v":1},{"$f":"(INDEX(спскВыбора,$M$60-$L824)=N$61)","v":false},{"$f":"(INDEX(спскВыбора,$M$60-$L824)=O$61)","v":false},147,124]
[{"$nulls":11},764,{"$f":"IF(INDEX(Данные[Решен],$M$60-$L825)=\"Да\",1,-1)","v":1},{"$f":"(INDEX(спскВыбора,$M$60-$L825)=N$61)","v":false},{"$f":"(INDEX(спскВыбора,$M$60-$L825)=O$61)","v":true},147,125]
[{"$nulls":11},765,{"$f":"IF(INDEX(Данные[Решен],$M$60-$L826)=\"Да\",1,-1)","v":1},{"$f":"(INDEX(спскВыбора,$M$60-$L826)=N$61)","v":false},{"$f":"(INDEX(спскВыбора,$M$60-$L826)=O$61)","v":false},147,125]
[{"$nulls":11},766,{"$f":"IF(INDEX(Данные[Решен],$M$60-$L827)=\"Да\",1,-1)","v":1},{"$f":"(INDEX(спскВыбора,$M$60-$L827)=N$61)","v":false},{"$f":"(INDEX(спскВыбора,$M$60-$L827)=O$61)","v":false},147,125]
[{"$nulls":11},767,{"$f":"IF(INDEX(Данные[Решен],$M$60-$L828)=\"Да\",1,-1)","v":1},{"$f":"(INDEX(спскВыбора,$M$60-$L828)=N$61)","v":false},{"$f":"(INDEX(спскВыбора,$M$60-$L828)=O$61)","v":false},147,125]
[{"$nulls":11},768,{"$f":"IF(INDEX(Данные[Решен],$M$60-$L829)=\"Да\",1,-1)","v":1},{"$f":"(INDEX(спскВыбора,$M$60-$L829)=N$61)","v":false},{"$f":"(INDEX(спскВыбора,$M$60-$L829)=O$61)","v":false},147,125]
[{"$nulls":11},769,{"$f":"IF(INDEX(Данные[Решен],$M$60-$L830)=\"Да\",1,-1)","v":1},{"$f":"(INDEX(спскВыбора,$M$60-$L830)=N$61)","v":false},{"$f":"(INDEX(спскВыбора,$M$60-$L830)=O$61)","v":false},147,125]
[{"$nulls":11},770,{"$f":"IF(INDEX(Данные[Решен],$M$60-$L831)=\"Да\",1,-1)","v":1},{"$f":"(INDEX(спскВыбора,$M$60-$L831)=N$61)","v":false},{"$f":"(INDEX(спскВыбора,$M$60-$L831)=O$61)","v":true},147,126]
[{"$nulls":11},771,{"$f":"IF(INDEX(Данные[Решен],$M$60-$L832)=\"Да\",1,-1)","v":1},{"$f":"(INDEX(спскВыбора,$M$60-$L832)=N$61)","v":true},{"$f":"(INDEX(спскВыбора,$M$60-$L832)=O$61)","v":false},148,126]
[{"$nulls":11},772,{"$f":"IF(INDEX(Данные[Решен],$M$60-$L833)=\"Да\",1,-1)","v":1},{"$f":"(INDEX(спскВыбора,$M$60-$L833)=N$61)","v":false},{"$f":"(INDEX(спскВыбора,$M$60-$L833)=O$61)","v":true},148,127]
[{"$nulls":11},773,{"$f":"IF(INDEX(Данные[Решен],$M$60-$L834)=\"Да\",1,-1)","v":1},{"$f":"(INDEX(спскВыбора,$M$60-$L834)=N$61)","v":false},{"$f":"(INDEX(спскВыбора,$M$60-$L834)=O$61)","v":false},148,127]
[{"$nulls":11},774,{"$f":"IF(INDEX(Данные[Решен],$M$60-$L835)=\"Да\",1,-1)","v":1},{"$f":"(INDEX(спскВыбора,$M$60-$L835)=N$61)","v":false},{"$f":"(INDEX(спскВыбора,$M$60-$L835)=O$61)","v":false},148,127]
[{"$nulls":11},775,{"$f":"IF(INDEX(Данные[Решен],$M$60-$L836)=\"Да\",1,-1)","v":1},{"$f":"(INDEX(спскВыбора,$M$60-$L836)=N$61)","v":false},{"$f":"(INDEX(спскВыбора,$M$60-$L836)=O$61)","v":false},148,127]
[{"$nulls":11},776,{"$f":"IF(INDEX(Данные[Решен],$M$60-$L837)=\"Да\",1,-1)","v":1},{"$f":"(INDEX(спскВыбора,$M$60-$L837)=N$61)","v":false},{"$f":"(INDEX(спскВыбора,$M$60-$L837)=O$61)","v":false},148,127]
[{"$nulls":11},777,{"$f":"IF(INDEX(Данные[Решен],$M$60-$L838)=\"Да\",1,-1)","v":1},{"$f":"(INDEX(спскВыбора,$M$60-$L838)=N$61)","v":false},{"$f":"(INDEX(спскВыбора,$M$60-$L838)=O$61)","v":false},148,127]
[{"$nulls":11},778,{"$f":"IF(INDEX(Данные[Решен],$M$60-$L839)=\"Да\",1,-1)","v":1},{"$f":"(INDEX(спскВыбора,$M$60-$L839)=N$61)","v":false},{"$f":"(INDEX(спскВыбора,$M$60-$L839)=O$61)","v":false},148,127]
[{"$nulls":11},779,{"$f":"IF(INDEX(Данные[Решен],$M$60-$L840)=\"Да\",1,-1)","v":1},{"$f":"(INDEX(спскВыбора,$M$60-$L840)=N$61)","v":false},{"$f":"(INDEX(спскВыбора,$M$60-$L840)=O$61)","v":false},148,127]
[{"$nulls":11},780,{"$f":"IF(INDEX(Данные[Решен],$M$60-$L841)=\"Да\",1,-1)","v":1},{"$f":"(INDEX(спскВыбора,$M$60-$L841)=N$61)","v":false},{"$f":"(INDEX(спскВыбора,$M$60-$L841)=O$61)","v":false},148,127]
[{"$nulls":11},781,{"$f":"IF(INDEX(Данные[Решен],$M$60-$L842)=\"Да\",1,-1)","v":1},{"$f":"(INDEX(спскВыбора,$M$60-$L842)=N$61)","v":false},{"$f":"(INDEX(спскВыбора,$M$60-$L842)=O$61)","v":false},148,127]
[{"$nulls":11},782,{"$f":"IF(INDEX(Данные[Решен],$M$60-$L843)=\"Да\",1,-1)","v":1},{"$f":"(INDEX(спскВыбора,$M$60-$L843)=N$61)","v":false},{"$f":"(INDEX(спскВыбора,$M$60-$L843)=O$61)","v":false},148,127]
[{"$nulls":11},783,{"$f":"IF(INDEX(Данные[Решен],$M$60-$L844)=\"Да\",1,-1)","v":1},{"$f":"(INDEX(спскВыбора,$M$60-$L844)=N$61)","v":false},{"$f":"(INDEX(спскВыбора,$M$60-$L844)=O$61)","v":false},148,127]
[{"$nulls":11},784,{"$f":"IF(INDEX(Данные[Решен],$M$60-$L845)=\"Да\",1,-1)","v":1},{"$f":"(INDEX(спскВыбора,$M$60-$L845)=N$61)","v":false},{"$f":"(INDEX(спскВыбора,$M$60-$L845)=O$61)","v":false},148,127]
[{"$nulls":11},785,{"$f":"IF(INDEX(Данные[Решен],$M$60-$L846)=\"Да\",1,-1)","v":1},{"$f":"(INDEX(спскВыбора,$M$60-$L846)=N$61)","v":false},{"$f":"(INDEX(спскВыбора,$M$60-$L846)=O$61)","v":false},148,127]
[{"$nulls":11},786,{"$f":"IF(INDEX(Данные[Решен],$M$60-$L847)=\"Да\",1,-1)","v":1},{"$f":"(INDEX(спскВыбора,$M$60-$L847)=N$61)","v":false},{"$f":"(INDEX(спскВыбора,$M$60-$L847)=O$61)","v":false},148,127]
[{"$nulls":11},787,{"$f":"IF(INDEX(Данные[Решен],$M$60-$L848)=\"Да\",1,-1)","v":1},{"$f":"(INDEX(спскВыбора,$M$60-$L848)=N$61)","v":false},{"$f":"(INDEX(спскВыбора,$M$60-$L848)=O$61)","v":false},148,127]
[{"$nulls":11},788,{"$f":"IF(INDEX(Данные[Решен],$M$60-$L849)=\"Да\",1,-1)","v":1},{"$f":"(INDEX(спскВыбора,$M$60-$L849)=N$61)","v":false},{"$f":"(INDEX(спскВыбора,$M$60-$L849)=O$61)","v":false},148,127]
[{"$nulls":11},789,{"$f":"IF(INDEX(Данные[Решен],$M$60-$L850)=\"Да\",1,-1)","v":1},{"$f":"(INDEX(спскВыбора,$M$60-$L850)=N$61)","v":false},{"$f":"(INDEX(спскВыбора,$M$60-$L850)=O$61)","v":true},148,128]
[{"$nulls":11},790,{"$f":"IF(INDEX(Данные[Решен],$M$60-$L851)=\"Да\",1,-1)","v":1},{"$f":"(INDEX(спскВыбора,$M$60-$L851)=N$61)","v":false},{"$f":"(INDEX(спскВыбора,$M$60-$L851)=O$61)","v":false},148,128]
[{"$nulls":11},791,{"$f":"IF(INDEX(Данные[Решен],$M$60-$L852)=\"Да\",1,-1)","v":1},{"$f":"(INDEX(спскВыбора,$M$60-$L852)=N$61)","v":true},{"$f":"(INDEX(спскВыбора,$M$60-$L852)=O$61)","v":false},149,128]
[{"$nulls":11},792,{"$f":"IF(INDEX(Данные[Решен],$M$60-$L853)=\"Да\",1,-1)","v":1},{"$f":"(INDEX(спскВыбора,$M$60-$L853)=N$61)","v":false},{"$f":"(INDEX(спскВыбора,$M$60-$L853)=O$61)","v":true},149,129]
[{"$nulls":11},793,{"$f":"IF(INDEX(Данные[Решен],$M$60-$L854)=\"Да\",1,-1)","v":1},{"$f":"(INDEX(спскВыбора,$M$60-$L854)=N$61)","v":false},{"$f":"(INDEX(спскВыбора,$M$60-$L854)=O$61)","v":true},149,130]
[{"$nulls":11},794,{"$f":"IF(INDEX(Данные[Решен],$M$60-$L855)=\"Да\",1,-1)","v":1},{"$f":"(INDEX(спскВыбора,$M$60-$L855)=N$61)","v":false},{"$f":"(INDEX(спскВыбора,$M$60-$L855)=O$61)","v":false},149,130]
[{"$nulls":11},795,{"$f":"IF(INDEX(Данные[Решен],$M$60-$L856)=\"Да\",1,-1)","v":1},{"$f":"(INDEX(спскВыбора,$M$60-$L856)=N$61)","v":false},{"$f":"(INDEX(спскВыбора,$M$60-$L856)=O$61)","v":true},149,131]
[{"$nulls":11},796,{"$f":"IF(INDEX(Данные[Решен],$M$60-$L857)=\"Да\",1,-1)","v":1},{"$f":"(INDEX(спскВыбора,$M$60-$L857)=N$61)","v":false},{"$f":"(INDEX(спскВыбора,$M$60-$L857)=O$61)","v":false},149,131]
[{"$nulls":11},797,{"$f":"IF(INDEX(Данные[Решен],$M$60-$L858)=\"Да\",1,-1)","v":1},{"$f":"(INDEX(спскВыбора,$M$60-$L858)=N$61)","v":false},{"$f":"(INDEX(спскВыбора,$M$60-$L858)=O$61)","v":true},149,132]
[{"$nulls":11},798,{"$f":"IF(INDEX(Данные[Решен],$M$60-$L859)=\"Да\",1,-1)","v":1},{"$f":"(INDEX(спскВыбора,$M$60-$L859)=N$61)","v":false},{"$f":"(INDEX(спскВыбора,$M$60-$L859)=O$61)","v":false},149,132]
[{"$nulls":11},799,{"$f":"IF(INDEX(Данные[Решен],$M$60-$L860)=\"Да\",1,-1)","v":1},{"$f":"(INDEX(спскВыбора,$M$60-$L860)=N$61)","v":false},{"$f":"(INDEX(спскВыбора,$M$60-$L860)=O$61)","v":false},149,132]
[{"$nulls":11},800,{"$f":"IF(INDEX(Данные[Решен],$M$60-$L861)=\"Да\",1,-1)","v":1},{"$f":"(INDEX(спскВыбора,$M$60-$L861)=N$61)","v":false},{"$f":"(INDEX(спскВыбора,$M$60-$L861)=O$61)","v":false},149,132]
[{"$nulls":11},801,{"$f":"IF(INDEX(Данные[Решен],$M$60-$L862)=\"Да\",1,-1)","v":1},{"$f":"(INDEX(спскВыбора,$M$60-$L862)=N$61)","v":false},{"$f":"(INDEX(спскВыбора,$M$60-$L862)=O$61)","v":true},149,133]
[{"$nulls":11},802,{"$f":"IF(INDEX(Данные[Решен],$M$60-$L863)=\"Да\",1,-1)","v":1},{"$f":"(INDEX(спскВыбора,$M$60-$L863)=N$61)","v":false},{"$f":"(INDEX(спскВыбора,$M$60-$L863)=O$61)","v":false},149,133]
[{"$nulls":11},803,{"$f":"IF(INDEX(Данные[Решен],$M$60-$L864)=\"Да\",1,-1)","v":1},{"$f":"(INDEX(спскВыбора,$M$60-$L864)=N$61)","v":false},{"$f":"(INDEX(спскВыбора,$M$60-$L864)=O$61)","v":false},149,133]
[{"$nulls":11},804,{"$f":"IF(INDEX(Данные[Решен],$M$60-$L865)=\"Да\",1,-1)","v":-1},{"$f":"(INDEX(спскВыбора,$M$60-$L865)=N$61)","v":false},{"$f":"(INDEX(спскВыбора,$M$60-$L865)=O$61)","v":true},149,134]
[{"$nulls":11},805,{"$f":"IF(INDEX(Данные[Решен],$M$60-$L866)=\"Да\",1,-1)","v":1},{"$f":"(INDEX(спскВыбора,$M$60-$L866)=N$61)","v":false},{"$f":"(INDEX(спскВыбора,$M$60-$L866)=O$61)","v":false},{"$f":"P865+N866","v":149},{"$f":"Q865+O866","v":134}]
[{"$nulls":11},806,{"$f":"IF(INDEX(Данные[Решен],$M$60-$L867)=\"Да\",1,-1)","v":1},{"$f":"(INDEX(спскВыбора,$M$60-$L867)=N$61)","v":false},{"$f":"(INDEX(спскВыбора,$M$60-$L867)=O$61)","v":true},149,135]
[{"$nulls":11},807,{"$f":"IF(INDEX(Данные[Решен],$M$60-$L868)=\"Да\",1,-1)","v":1},{"$f":"(INDEX(спскВыбора,$M$60-$L868)=N$61)","v":true},{"$f":"(INDEX(спскВыбора,$M$60-$L868)=O$61)","v":false},150,135]
[{"$nulls":11},808,{"$f":"IF(INDEX(Данные[Решен],$M$60-$L869)=\"Да\",1,-1)","v":1},{"$f":"(INDEX(спскВыбора,$M$60-$L869)=N$61)","v":false},{"$f":"(INDEX(спскВыбора,$M$60-$L869)=O$61)","v":false},150,135]
[{"$nulls":11},809,{"$f":"IF(INDEX(Данные[Решен],$M$60-$L870)=\"Да\",1,-1)","v":1},{"$f":"(INDEX(спскВыбора,$M$60-$L870)=N$61)","v":false},{"$f":"(INDEX(спскВыбора,$M$60-$L870)=O$61)","v":false},150,135]
[{"$nulls":11},810,{"$f":"IF(INDEX(Данные[Решен],$M$60-$L871)=\"Да\",1,-1)","v":1},{"$f":"(INDEX(спскВыбора,$M$60-$L871)=N$61)","v":false},{"$f":"(INDEX(спскВыбора,$M$60-$L871)=O$61)","v":false},150,135]
[{"$nulls":11},811,{"$f":"IF(INDEX(Данные[Решен],$M$60-$L872)=\"Да\",1,-1)","v":1},{"$f":"(INDEX(спскВыбора,$M$60-$L872)=N$61)","v":false},{"$f":"(INDEX(спскВыбора,$M$60-$L872)=O$61)","v":false},150,135]
[{"$nulls":11},812,{"$f":"IF(INDEX(Данные[Решен],$M$60-$L873)=\"Да\",1,-1)","v":1},{"$f":"(INDEX(спскВыбора,$M$60-$L873)=N$61)","v":false},{"$f":"(INDEX(спскВыбора,$M$60-$L873)=O$61)","v":false},150,135]
[{"$nulls":11},813,{"$f":"IF(INDEX(Данные[Решен],$M$60-$L874)=\"Да\",1,-1)","v":1},{"$f":"(INDEX(спскВыбора,$M$60-$L874)=N$61)","v":true},{"$f":"(INDEX(спскВыбора,$M$60-$L874)=O$61)","v":false},151,135]
[{"$nulls":11},814,{"$f":"IF(INDEX(Данные[Решен],$M$60-$L875)=\"Да\",1,-1)","v":1},{"$f":"(INDEX(спскВыбора,$M$60-$L875)=N$61)","v":true},{"$f":"(INDEX(спскВыбора,$M$60-$L875)=O$61)","v":false},152,135]
[{"$nulls":11},815,{"$f":"IF(INDEX(Данные[Решен],$M$60-$L876)=\"Да\",1,-1)","v":1},{"$f":"(INDEX(спскВыбора,$M$60-$L876)=N$61)","v":false},{"$f":"(INDEX(спскВыбора,$M$60-$L876)=O$61)","v":false},152,135]
[{"$nulls":11},816,{"$f":"IF(INDEX(Данные[Решен],$M$60-$L877)=\"Да\",1,-1)","v":1},{"$f":"(INDEX(спскВыбора,$M$60-$L877)=N$61)","v":false},{"$f":"(INDEX(спскВыбора,$M$60-$L877)=O$61)","v":false},152,135]
[{"$nulls":11},817,{"$f":"IF(INDEX(Данные[Решен],$M$60-$L878)=\"Да\",1,-1)","v":1},{"$f":"(INDEX(спскВыбора,$M$60-$L878)=N$61)","v":false},{"$f":"(INDEX(спскВыбора,$M$60-$L878)=O$61)","v":true},152,136]
[{"$nulls":11},818,{"$f":"IF(INDEX(Данные[Решен],$M$60-$L879)=\"Да\",1,-1)","v":1},{"$f":"(INDEX(спскВыбора,$M$60-$L879)=N$61)","v":true},{"$f":"(INDEX(спскВыбора,$M$60-$L879)=O$61)","v":false},153,136]
[{"$nulls":11},819,{"$f":"IF(INDEX(Данные[Решен],$M$60-$L880)=\"Да\",1,-1)","v":1},{"$f":"(INDEX(спскВыбора,$M$60-$L880)=N$61)","v":false},{"$f":"(INDEX(спскВыбора,$M$60-$L880)=O$61)","v":false},153,136]
[{"$nulls":11},820,{"$f":"IF(INDEX(Данные[Решен],$M$60-$L881)=\"Да\",1,-1)","v":1},{"$f":"(INDEX(спскВыбора,$M$60-$L881)=N$61)","v":false},{"$f":"(INDEX(спскВыбора,$M$60-$L881)=O$61)","v":false},153,136]
[{"$nulls":11},821,{"$f":"IF(INDEX(Данные[Решен],$M$60-$L882)=\"Да\",1,-1)","v":1},{"$f":"(INDEX(спскВыбора,$M$60-$L882)=N$61)","v":false},{"$f":"(INDEX(спскВыбора,$M$60-$L882)=O$61)","v":false},153,136]
[{"$nulls":11},822,{"$f":"IF(INDEX(Данные[Решен],$M$60-$L883)=\"Да\",1,-1)","v":1},{"$f":"(INDEX(спскВыбора,$M$60-$L883)=N$61)","v":false},{"$f":"(INDEX(спскВыбора,$M$60-$L883)=O$61)","v":true},153,137]
[{"$nulls":11},823,{"$f":"IF(INDEX(Данные[Решен],$M$60-$L884)=\"Да\",1,-1)","v":1},{"$f":"(INDEX(спскВыбора,$M$60-$L884)=N$61)","v":false},{"$f":"(INDEX(спскВыбора,$M$60-$L884)=O$61)","v":true},153,138]
[{"$nulls":11},824,{"$f":"IF(INDEX(Данные[Решен],$M$60-$L885)=\"Да\",1,-1)","v":1},{"$f":"(INDEX(спскВыбора,$M$60-$L885)=N$61)","v":false},{"$f":"(INDEX(спскВыбора,$M$60-$L885)=O$61)","v":true},153,139]
[{"$nulls":11},825,{"$f":"IF(INDEX(Данные[Решен],$M$60-$L886)=\"Да\",1,-1)","v":1},{"$f":"(INDEX(спскВыбора,$M$60-$L886)=N$61)","v":false},{"$f":"(INDEX(спскВыбора,$M$60-$L886)=O$61)","v":false},153,139]
[{"$nulls":11},826,{"$f":"IF(INDEX(Данные[Решен],$M$60-$L887)=\"Да\",1,-1)","v":-1},{"$f":"(INDEX(спскВыбора,$M$60-$L887)=N$61)","v":false},{"$f":"(INDEX(спскВыбора,$M$60-$L887)=O$61)","v":false},153,139]
[{"$nulls":11},827,{"$f":"IF(INDEX(Данные[Решен],$M$60-$L888)=\"Да\",1,-1)","v":1},{"$f":"(INDEX(спскВыбора,$M$60-$L888)=N$61)","v":false},{"$f":"(INDEX(спскВыбора,$M$60-$L888)=O$61)","v":true},153,140]
[{"$nulls":11},828,{"$f":"IF(INDEX(Данные[Решен],$M$60-$L889)=\"Да\",1,-1)","v":1},{"$f":"(INDEX(спскВыбора,$M$60-$L889)=N$61)","v":false},{"$f":"(INDEX(спскВыбора,$M$60-$L889)=O$61)","v":false},153,140]
[{"$nulls":11},829,{"$f":"IF(INDEX(Данные[Решен],$M$60-$L890)=\"Да\",1,-1)","v":1},{"$f":"(INDEX(спскВыбора,$M$60-$L890)=N$61)","v":true},{"$f":"(INDEX(спскВыбора,$M$60-$L890)=O$61)","v":false},154,140]
[{"$nulls":11},830,{"$f":"IF(INDEX(Данные[Решен],$M$60-$L891)=\"Да\",1,-1)","v":1},{"$f":"(INDEX(спскВыбора,$M$60-$L891)=N$61)","v":false},{"$f":"(INDEX(спскВыбора,$M$60-$L891)=O$61)","v":false},154,140]
[{"$nulls":11},831,{"$f":"IF(INDEX(Данные[Решен],$M$60-$L892)=\"Да\",1,-1)","v":1},{"$f":"(INDEX(спскВыбора,$M$60-$L892)=N$61)","v":false},{"$f":"(INDEX(спскВыбора,$M$60-$L892)=O$61)","v":false},154,140]
[{"$nulls":11},832,{"$f":"IF(INDEX(Данные[Решен],$M$60-$L893)=\"Да\",1,-1)","v":1},{"$f":"(INDEX(спскВыбора,$M$60-$L893)=N$61)","v":false},{"$f":"(INDEX(спскВыбора,$M$60-$L893)=O$61)","v":false},154,140]
[{"$nulls":11},833,{"$f":"IF(INDEX(Данные[Решен],$M$60-$L894)=\"Да\",1,-1)","v":1},{"$f":"(INDEX(спскВыбора,$M$60-$L894)=N$61)","v":false},{"$f":"(INDEX(спскВыбора,$M$60-$L894)=O$61)","v":false},154,140]
[{"$nulls":11},834,{"$f":"IF(INDEX(Данные[Решен],$M$60-$L895)=\"Да\",1,-1)","v":1},{"$f":"(INDEX(спскВыбора,$M$60-$L895)=N$61)","v":false},{"$f":"(INDEX(спскВыбора,$M$60-$L895)=O$61)","v":false},154,140]
[{"$nulls":11},835,{"$f":"IF(INDEX(Данные[Решен],$M$60-$L896)=\"Да\",1,-1)","v":1},{"$f":"(INDEX(спскВыбора,$M$60-$L896)=N$61)","v":false},{"$f":"(INDEX(спскВыбора,$M$60-$L896)=O$61)","v":false},154,140]
[{"$nulls":11},836,{"$f":"IF(INDEX(Данные[Решен],$M$60-$L897)=\"Да\",1,-1)","v":1},{"$f":"(INDEX(спскВыбора,$M$60-$L897)=N$61)","v":false},{"$f":"(INDEX(спскВыбора,$M$60-$L897)=O$61)","v":false},154,140]
[{"$nulls":11},837,{"$f":"IF(INDEX(Данные[Решен],$M$60-$L898)=\"Да\",1,-1)","v":1},{"$f":"(INDEX(спскВыбора,$M$60-$L898)=N$61)","v":false},{"$f":"(INDEX(спскВыбора,$M$60-$L898)=O$61)","v":false},154,140]
[{"$nulls":11},838,{"$f":"IF(INDEX(Данные[Решен],$M$60-$L899)=\"Да\",1,-1)","v":-1},{"$f":"(INDEX(спскВыбора,$M$60-$L899)=N$61)","v":true},{"$f":"(INDEX(спскВыбора,$M$60-$L899)=O$61)","v":false},155,140]
[{"$nulls":11},839,{"$f":"IF(INDEX(Данные[Решен],$M$60-$L900)=\"Да\",1,-1)","v":1},{"$f":"(INDEX(спскВыбора,$M$60-$L900)=N$61)","v":false},{"$f":"(INDEX(спскВыбора,$M$60-$L900)=O$61)","v":false},155,140]
[{"$nulls":11},840,{"$f":"IF(INDEX(Данные[Решен],$M$60-$L901)=\"Да\",1,-1)","v":1},{"$f":"(INDEX(спскВыбора,$M$60-$L901)=N$61)","v":false},{"$f":"(INDEX(спскВыбора,$M$60-$L901)=O$61)","v":true},155,141]
[{"$nulls":11},841,{"$f":"IF(INDEX(Данные[Решен],$M$60-$L902)=\"Да\",1,-1)","v":1},{"$f":"(INDEX(спскВыбора,$M$60-$L902)=N$61)","v":false},{"$f":"(INDEX(спскВыбора,$M$60-$L902)=O$61)","v":false},155,141]
[{"$nulls":11},842,{"$f":"IF(INDEX(Данные[Решен],$M$60-$L903)=\"Да\",1,-1)","v":1},{"$f":"(INDEX(спскВыбора,$M$60-$L903)=N$61)","v":false},{"$f":"(INDEX(спскВыбора,$M$60-$L903)=O$61)","v":false},155,141]
[{"$nulls":11},843,{"$f":"IF(INDEX(Данные[Решен],$M$60-$L904)=\"Да\",1,-1)","v":1},{"$f":"(INDEX(спскВыбора,$M$60-$L904)=N$61)","v":false},{"$f":"(INDEX(спскВыбора,$M$60-$L904)=O$61)","v":false},155,141]
[{"$nulls":11},844,{"$f":"IF(INDEX(Данные[Решен],$M$60-$L905)=\"Да\",1,-1)","v":1},{"$f":"(INDEX(спскВыбора,$M$60-$L905)=N$61)","v":false},{"$f":"(INDEX(спскВыбора,$M$60-$L905)=O$61)","v":false},155,141]
[{"$nulls":11},845,{"$f":"IF(INDEX(Данные[Решен],$M$60-$L906)=\"Да\",1,-1)","v":1},{"$f":"(INDEX(спскВыбора,$M$60-$L906)=N$61)","v":false},{"$f":"(INDEX(спскВыбора,$M$60-$L906)=O$61)","v":true},155,142]
[{"$nulls":11},846,{"$f":"IF(INDEX(Данные[Решен],$M$60-$L907)=\"Да\",1,-1)","v":1},{"$f":"(INDEX(спскВыбора,$M$60-$L907)=N$61)","v":true},{"$f":"(INDEX(спскВыбора,$M$60-$L907)=O$61)","v":false},156,142]
[{"$nulls":11},847,{"$f":"IF(INDEX(Данные[Решен],$M$60-$L908)=\"Да\",1,-1)","v":1},{"$f":"(INDEX(спскВыбора,$M$60-$L908)=N$61)","v":false},{"$f":"(INDEX(спскВыбора,$M$60-$L908)=O$61)","v":false},156,142]
[{"$nulls":11},848,{"$f":"IF(INDEX(Данные[Решен],$M$60-$L909)=\"Да\",1,-1)","v":1},{"$f":"(INDEX(спскВыбора,$M$60-$L909)=N$61)","v":true},{"$f":"(INDEX(спскВыбора,$M$60-$L909)=O$61)","v":false},157,142]
[{"$nulls":11},849,{"$f":"IF(INDEX(Данные[Решен],$M$60-$L910)=\"Да\",1,-1)","v":1},{"$f":"(INDEX(спскВыбора,$M$60-$L910)=N$61)","v":false},{"$f":"(INDEX(спскВыбора,$M$60-$L910)=O$61)","v":false},157,142]
[{"$nulls":11},850,{"$f":"IF(INDEX(Данные[Решен],$M$60-$L911)=\"Да\",1,-1)","v":1},{"$f":"(INDEX(спскВыбора,$M$60-$L911)=N$61)","v":true},{"$f":"(INDEX(спскВыбора,$M$60-$L911)=O$61)","v":false},158,142]
[{"$nulls":11},851,{"$f":"IF(INDEX(Данные[Решен],$M$60-$L912)=\"Да\",1,-1)","v":1},{"$f":"(INDEX(спскВыбора,$M$60-$L912)=N$61)","v":false},{"$f":"(INDEX(спскВыбора,$M$60-$L912)=O$61)","v":true},158,143]
[{"$nulls":11},852,{"$f":"IF(INDEX(Данные[Решен],$M$60-$L913)=\"Да\",1,-1)","v":1},{"$f":"(INDEX(спскВыбора,$M$60-$L913)=N$61)","v":true},{"$f":"(INDEX(спскВыбора,$M$60-$L913)=O$61)","v":false},159,143]
[{"$nulls":11},853,{"$f":"IF(INDEX(Данные[Решен],$M$60-$L914)=\"Да\",1,-1)","v":1},{"$f":"(INDEX(спскВыбора,$M$60-$L914)=N$61)","v":true},{"$f":"(INDEX(спскВыбора,$M$60-$L914)=O$61)","v":false},160,143]
[{"$nulls":11},854,{"$f":"IF(INDEX(Данные[Решен],$M$60-$L915)=\"Да\",1,-1)","v":1},{"$f":"(INDEX(спскВыбора,$M$60-$L915)=N$61)","v":false},{"$f":"(INDEX(спскВыбора,$M$60-$L915)=O$61)","v":true},160,144]
[{"$nulls":11},855,{"$f":"IF(INDEX(Данные[Решен],$M$60-$L916)=\"Да\",1,-1)","v":1},{"$f":"(INDEX(спскВыбора,$M$60-$L916)=N$61)","v":true},{"$f":"(INDEX(спскВыбора,$M$60-$L916)=O$61)","v":false},161,144]
[{"$nulls":11},856,{"$f":"IF(INDEX(Данные[Решен],$M$60-$L917)=\"Да\",1,-1)","v":1},{"$f":"(INDEX(спскВыбора,$M$60-$L917)=N$61)","v":false},{"$f":"(INDEX(спскВыбора,$M$60-$L917)=O$61)","v":false},161,144]
[{"$nulls":11},857,{"$f":"IF(INDEX(Данные[Решен],$M$60-$L918)=\"Да\",1,-1)","v":1},{"$f":"(INDEX(спскВыбора,$M$60-$L918)=N$61)","v":false},{"$f":"(INDEX(спскВыбора,$M$60-$L918)=O$61)","v":false},161,144]
[{"$nulls":11},858,{"$f":"IF(INDEX(Данные[Решен],$M$60-$L919)=\"Да\",1,-1)","v":1},{"$f":"(INDEX(спскВыбора,$M$60-$L919)=N$61)","v":false},{"$f":"(INDEX(спскВыбора,$M$60-$L919)=O$61)","v":false},161,144]
[{"$nulls":11},859,{"$f":"IF(INDEX(Данные[Решен],$M$60-$L920)=\"Да\",1,-1)","v":1},{"$f":"(INDEX(спскВыбора,$M$60-$L920)=N$61)","v":true},{"$f":"(INDEX(спскВыбора,$M$60-$L920)=O$61)","v":false},162,144]
[{"$nulls":11},860,{"$f":"IF(INDEX(Данные[Решен],$M$60-$L921)=\"Да\",1,-1)","v":1},{"$f":"(INDEX(спскВыбора,$M$60-$L921)=N$61)","v":false},{"$f":"(INDEX(спскВыбора,$M$60-$L921)=O$61)","v":true},162,145]
[{"$nulls":11},861,{"$f":"IF(INDEX(Данные[Решен],$M$60-$L922)=\"Да\",1,-1)","v":1},{"$f":"(INDEX(спскВыбора,$M$60-$L922)=N$61)","v":false},{"$f":"(INDEX(спскВыбора,$M$60-$L922)=O$61)","v":false},162,145]
[{"$nulls":11},862,{"$f":"IF(INDEX(Данные[Решен],$M$60-$L923)=\"Да\",1,-1)","v":1},{"$f":"(INDEX(спскВыбора,$M$60-$L923)=N$61)","v":false},{"$f":"(INDEX(спскВыбора,$M$60-$L923)=O$61)","v":true},162,146]
[{"$nulls":11},863,{"$f":"IF(INDEX(Данные[Решен],$M$60-$L924)=\"Да\",1,-1)","v":1},{"$f":"(INDEX(спскВыбора,$M$60-$L924)=N$61)","v":false},{"$f":"(INDEX(спскВыбора,$M$60-$L924)=O$61)","v":false},162,146]
[{"$nulls":11},864,{"$f":"IF(INDEX(Данные[Решен],$M$60-$L925)=\"Да\",1,-1)","v":1},{"$f":"(INDEX(спскВыбора,$M$60-$L925)=N$61)","v":false},{"$f":"(INDEX(спскВыбора,$M$60-$L925)=O$61)","v":false},162,146]
[{"$nulls":11},865,{"$f":"IF(INDEX(Данные[Решен],$M$60-$L926)=\"Да\",1,-1)","v":1},{"$f":"(INDEX(спскВыбора,$M$60-$L926)=N$61)","v":false},{"$f":"(INDEX(спскВыбора,$M$60-$L926)=O$61)","v":false},162,146]
[{"$nulls":11},866,{"$f":"IF(INDEX(Данные[Решен],$M$60-$L927)=\"Да\",1,-1)","v":1},{"$f":"(INDEX(спскВыбора,$M$60-$L927)=N$61)","v":true},{"$f":"(INDEX(спскВыбора,$M$60-$L927)=O$61)","v":false},163,146]
[{"$nulls":11},867,{"$f":"IF(INDEX(Данные[Решен],$M$60-$L928)=\"Да\",1,-1)","v":1},{"$f":"(INDEX(спскВыбора,$M$60-$L928)=N$61)","v":false},{"$f":"(INDEX(спскВыбора,$M$60-$L928)=O$61)","v":false},163,146]
[{"$nulls":11},868,{"$f":"IF(INDEX(Данные[Решен],$M$60-$L929)=\"Да\",1,-1)","v":1},{"$f":"(INDEX(спскВыбора,$M$60-$L929)=N$61)","v":true},{"$f":"(INDEX(спскВыбора,$M$60-$L929)=O$61)","v":false},164,146]
[{"$nulls":11},869,{"$f":"IF(INDEX(Данные[Решен],$M$60-$L930)=\"Да\",1,-1)","v":1},{"$f":"(INDEX(спскВыбора,$M$60-$L930)=N$61)","v":false},{"$f":"(INDEX(спскВыбора,$M$60-$L930)=O$61)","v":false},{"$f":"P929+N930","v":164},{"$f":"Q929+O930","v":146}]
[{"$nulls":11},870,{"$f":"IF(INDEX(Данные[Решен],$M$60-$L931)=\"Да\",1,-1)","v":1},{"$f":"(INDEX(спскВыбора,$M$60-$L931)=N$61)","v":false},{"$f":"(INDEX(спскВыбора,$M$60-$L931)=O$61)","v":false},164,146]
[{"$nulls":11},871,{"$f":"IF(INDEX(Данные[Решен],$M$60-$L932)=\"Да\",1,-1)","v":1},{"$f":"(INDEX(спскВыбора,$M$60-$L932)=N$61)","v":true},{"$f":"(INDEX(спскВыбора,$M$60-$L932)=O$61)","v":false},165,146]
[{"$nulls":11},872,{"$f":"IF(INDEX(Данные[Решен],$M$60-$L933)=\"Да\",1,-1)","v":1},{"$f":"(INDEX(спскВыбора,$M$60-$L933)=N$61)","v":true},{"$f":"(INDEX(спскВыбора,$M$60-$L933)=O$61)","v":false},166,146]
[{"$nulls":11},873,{"$f":"IF(INDEX(Данные[Решен],$M$60-$L934)=\"Да\",1,-1)","v":1},{"$f":"(INDEX(спскВыбора,$M$60-$L934)=N$61)","v":false},{"$f":"(INDEX(спскВыбора,$M$60-$L934)=O$61)","v":false},166,146]
[{"$nulls":11},874,{"$f":"IF(INDEX(Данные[Решен],$M$60-$L935)=\"Да\",1,-1)","v":1},{"$f":"(INDEX(спскВыбора,$M$60-$L935)=N$61)","v":false},{"$f":"(INDEX(спскВыбора,$M$60-$L935)=O$61)","v":false},166,146]
[{"$nulls":11},875,{"$f":"IF(INDEX(Данные[Решен],$M$60-$L936)=\"Да\",1,-1)","v":1},{"$f":"(INDEX(спскВыбора,$M$60-$L936)=N$61)","v":false},{"$f":"(INDEX(спскВыбора,$M$60-$L936)=O$61)","v":false},166,146]
[{"$nulls":11},876,{"$f":"IF(INDEX(Данные[Решен],$M$60-$L937)=\"Да\",1,-1)","v":1},{"$f":"(INDEX(спскВыбора,$M$60-$L937)=N$61)","v":false},{"$f":"(INDEX(спскВыбора,$M$60-$L937)=O$61)","v":true},166,147]
[{"$nulls":11},877,{"$f":"IF(INDEX(Данные[Решен],$M$60-$L938)=\"Да\",1,-1)","v":1},{"$f":"(INDEX(спскВыбора,$M$60-$L938)=N$61)","v":true},{"$f":"(INDEX(спскВыбора,$M$60-$L938)=O$61)","v":false},167,147]
[{"$nulls":11},878,{"$f":"IF(INDEX(Данные[Решен],$M$60-$L939)=\"Да\",1,-1)","v":-1},{"$f":"(INDEX(спскВыбора,$M$60-$L939)=N$61)","v":true},{"$f":"(INDEX(спскВыбора,$M$60-$L939)=O$61)","v":false},168,147]
[{"$nulls":11},879,{"$f":"IF(INDEX(Данные[Решен],$M$60-$L940)=\"Да\",1,-1)","v":-1},{"$f":"(INDEX(спскВыбора,$M$60-$L940)=N$61)","v":false},{"$f":"(INDEX(спскВыбора,$M$60-$L940)=O$61)","v":true},168,148]
[{"$nulls":11},880,{"$f":"IF(INDEX(Данные[Решен],$M$60-$L941)=\"Да\",1,-1)","v":1},{"$f":"(INDEX(спскВыбора,$M$60-$L941)=N$61)","v":false},{"$f":"(INDEX(спскВыбора,$M$60-$L941)=O$61)","v":false},168,148]
[{"$nulls":11},881,{"$f":"IF(INDEX(Данные[Решен],$M$60-$L942)=\"Да\",1,-1)","v":1},{"$f":"(INDEX(спскВыбора,$M$60-$L942)=N$61)","v":false},{"$f":"(INDEX(спскВыбора,$M$60-$L942)=O$61)","v":true},168,149]
[{"$nulls":11},882,{"$f":"IF(INDEX(Данные[Решен],$M$60-$L943)=\"Да\",1,-1)","v":1},{"$f":"(INDEX(спскВыбора,$M$60-$L943)=N$61)","v":false},{"$f":"(INDEX(спскВыбора,$M$60-$L943)=O$61)","v":false},168,149]
[{"$nulls":11},883,{"$f":"IF(INDEX(Данные[Решен],$M$60-$L944)=\"Да\",1,-1)","v":1},{"$f":"(INDEX(спскВыбора,$M$60-$L944)=N$61)","v":false},{"$f":"(INDEX(спскВыбора,$M$60-$L944)=O$61)","v":false},168,149]
[{"$nulls":11},884,{"$f":"IF(INDEX(Данные[Решен],$M$60-$L945)=\"Да\",1,-1)","v":1},{"$f":"(INDEX(спскВыбора,$M$60-$L945)=N$61)","v":true},{"$f":"(INDEX(спскВыбора,$M$60-$L945)=O$61)","v":false},169,149]
[{"$nulls":11},885,{"$f":"IF(INDEX(Данные[Решен],$M$60-$L946)=\"Да\",1,-1)","v":1},{"$f":"(INDEX(спскВыбора,$M$60-$L946)=N$61)","v":false},{"$f":"(INDEX(спскВыбора,$M$60-$L946)=O$61)","v":false},169,149]
[{"$nulls":11},886,{"$f":"IF(INDEX(Данные[Решен],$M$60-$L947)=\"Да\",1,-1)","v":1},{"$f":"(INDEX(спскВыбора,$M$60-$L947)=N$61)","v":false},{"$f":"(INDEX(спскВыбора,$M$60-$L947)=O$61)","v":true},169,150]
[{"$nulls":11},887,{"$f":"IF(INDEX(Данные[Решен],$M$60-$L948)=\"Да\",1,-1)","v":1},{"$f":"(INDEX(спскВыбора,$M$60-$L948)=N$61)","v":false},{"$f":"(INDEX(спскВыбора,$M$60-$L948)=O$61)","v":false},169,150]
[{"$nulls":11},888,{"$f":"IF(INDEX(Данные[Решен],$M$60-$L949)=\"Да\",1,-1)","v":1},{"$f":"(INDEX(спскВыбора,$M$60-$L949)=N$61)","v":true},{"$f":"(INDEX(спскВыбора,$M$60-$L949)=O$61)","v":false},170,150]
[{"$nulls":11},889,{"$f":"IF(INDEX(Данные[Решен],$M$60-$L950)=\"Да\",1,-1)","v":1},{"$f":"(INDEX(спскВыбора,$M$60-$L950)=N$61)","v":false},{"$f":"(INDEX(спскВыбора,$M$60-$L950)=O$61)","v":true},170,151]
[{"$nulls":11},890,{"$f":"IF(INDEX(Данные[Решен],$M$60-$L951)=\"Да\",1,-1)","v":1},{"$f":"(INDEX(спскВыбора,$M$60-$L951)=N$61)","v":false},{"$f":"(INDEX(спскВыбора,$M$60-$L951)=O$61)","v":false},170,151]
[{"$nulls":11},891,{"$f":"IF(INDEX(Данные[Решен],$M$60-$L952)=\"Да\",1,-1)","v":1},{"$f":"(INDEX(спскВыбора,$M$60-$L952)=N$61)","v":false},{"$f":"(INDEX(спскВыбора,$M$60-$L952)=O$61)","v":false},170,151]
[{"$nulls":11},892,{"$f":"IF(INDEX(Данные[Решен],$M$60-$L953)=\"Да\",1,-1)","v":1},{"$f":"(INDEX(спскВыбора,$M$60-$L953)=N$61)","v":false},{"$f":"(INDEX(спскВыбора,$M$60-$L953)=O$61)","v":false},170,151]
[{"$nulls":11},893,{"$f":"IF(INDEX(Данные[Решен],$M$60-$L954)=\"Да\",1,-1)","v":1},{"$f":"(INDEX(спскВыбора,$M$60-$L954)=N$61)","v":false},{"$f":"(INDEX(спскВыбора,$M$60-$L954)=O$61)","v":false},170,151]
[{"$nulls":11},894,{"$f":"IF(INDEX(Данные[Решен],$M$60-$L955)=\"Да\",1,-1)","v":1},{"$f":"(INDEX(спскВыбора,$M$60-$L955)=N$61)","v":false},{"$f":"(INDEX(спскВыбора,$M$60-$L955)=O$61)","v":false},170,151]
[{"$nulls":11},895,{"$f":"IF(INDEX(Данные[Решен],$M$60-$L956)=\"Да\",1,-1)","v":1},{"$f":"(INDEX(спскВыбора,$M$60-$L956)=N$61)","v":false},{"$f":"(INDEX(спскВыбора,$M$60-$L956)=O$61)","v":false},170,151]
[{"$nulls":11},896,{"$f":"IF(INDEX(Данные[Решен],$M$60-$L957)=\"Да\",1,-1)","v":1},{"$f":"(INDEX(спскВыбора,$M$60-$L957)=N$61)","v":false},{"$f":"(INDEX(спскВыбора,$M$60-$L957)=O$61)","v":false},170,151]
[{"$nulls":11},897,{"$f":"IF(INDEX(Данные[Решен],$M$60-$L958)=\"Да\",1,-1)","v":1},{"$f":"(INDEX(спскВыбора,$M$60-$L958)=N$61)","v":false},{"$f":"(INDEX(спскВыбора,$M$60-$L958)=O$61)","v":false},170,151]
[{"$nulls":11},898,{"$f":"IF(INDEX(Данные[Решен],$M$60-$L959)=\"Да\",1,-1)","v":1},{"$f":"(INDEX(спскВыбора,$M$60-$L959)=N$61)","v":false},{"$f":"(INDEX(спскВыбора,$M$60-$L959)=O$61)","v":true},170,152]
[{"$nulls":11},899,{"$f":"IF(INDEX(Данные[Решен],$M$60-$L960)=\"Да\",1,-1)","v":1},{"$f":"(INDEX(спскВыбора,$M$60-$L960)=N$61)","v":false},{"$f":"(INDEX(спскВыбора,$M$60-$L960)=O$61)","v":false},170,152]
[{"$nulls":11},900,{"$f":"IF(INDEX(Данные[Решен],$M$60-$L961)=\"Да\",1,-1)","v":1},{"$f":"(INDEX(спскВыбора,$M$60-$L961)=N$61)","v":false},{"$f":"(INDEX(спскВыбора,$M$60-$L961)=O$61)","v":true},170,153]
[{"$nulls":11},901,{"$f":"IF(INDEX(Данные[Решен],$M$60-$L962)=\"Да\",1,-1)","v":1},{"$f":"(INDEX(спскВыбора,$M$60-$L962)=N$61)","v":false},{"$f":"(INDEX(спскВыбора,$M$60-$L962)=O$61)","v":true},170,154]
[{"$nulls":11},902,{"$f":"IF(INDEX(Данные[Решен],$M$60-$L963)=\"Да\",1,-1)","v":1},{"$f":"(INDEX(спскВыбора,$M$60-$L963)=N$61)","v":false},{"$f":"(INDEX(спскВыбора,$M$60-$L963)=O$61)","v":false},170,154]
[{"$nulls":11},903,{"$f":"IF(INDEX(Данные[Решен],$M$60-$L964)=\"Да\",1,-1)","v":1},{"$f":"(INDEX(спскВыбора,$M$60-$L964)=N$61)","v":false},{"$f":"(INDEX(спскВыбора,$M$60-$L964)=O$61)","v":false},170,154]
[{"$nulls":11},904,{"$f":"IF(INDEX(Данные[Решен],$M$60-$L965)=\"Да\",1,-1)","v":1},{"$f":"(INDEX(спскВыбора,$M$60-$L965)=N$61)","v":false},{"$f":"(INDEX(спскВыбора,$M$60-$L965)=O$61)","v":false},170,154]
[{"$nulls":11},905,{"$f":"IF(INDEX(Данные[Решен],$M$60-$L966)=\"Да\",1,-1)","v":1},{"$f":"(INDEX(спскВыбора,$M$60-$L966)=N$61)","v":false},{"$f":"(INDEX(спскВыбора,$M$60-$L966)=O$61)","v":false},170,154]
[{"$nulls":11},906,{"$f":"IF(INDEX(Данные[Решен],$M$60-$L967)=\"Да\",1,-1)","v":1},{"$f":"(INDEX(спскВыбора,$M$60-$L967)=N$61)","v":false},{"$f":"(INDEX(спскВыбора,$M$60-$L967)=O$61)","v":false},170,154]
[{"$nulls":11},907,{"$f":"IF(INDEX(Данные[Решен],$M$60-$L968)=\"Да\",1,-1)","v":1},{"$f":"(INDEX(спскВыбора,$M$60-$L968)=N$61)","v":false},{"$f":"(INDEX(спскВыбора,$M$60-$L968)=O$61)","v":false},170,154]
[{"$nulls":11},908,{"$f":"IF(INDEX(Данные[Решен],$M$60-$L969)=\"Да\",1,-1)","v":1},{"$f":"(INDEX(спскВыбора,$M$60-$L969)=N$61)","v":false},{"$f":"(INDEX(спскВыбора,$M$60-$L969)=O$61)","v":true},170,155]
[{"$nulls":11},909,{"$f":"IF(INDEX(Данные[Решен],$M$60-$L970)=\"Да\",1,-1)","v":1},{"$f":"(INDEX(спскВыбора,$M$60-$L970)=N$61)","v":false},{"$f":"(INDEX(спскВыбора,$M$60-$L970)=O$61)","v":true},170,156]
[{"$nulls":11},910,{"$f":"IF(INDEX(Данные[Решен],$M$60-$L971)=\"Да\",1,-1)","v":1},{"$f":"(INDEX(спскВыбора,$M$60-$L971)=N$61)","v":false},{"$f":"(INDEX(спскВыбора,$M$60-$L971)=O$61)","v":false},170,156]
[{"$nulls":11},911,{"$f":"IF(INDEX(Данные[Решен],$M$60-$L972)=\"Да\",1,-1)","v":1},{"$f":"(INDEX(спскВыбора,$M$60-$L972)=N$61)","v":false},{"$f":"(INDEX(спскВыбора,$M$60-$L972)=O$61)","v":false},170,156]
[{"$nulls":11},912,{"$f":"IF(INDEX(Данные[Решен],$M$60-$L973)=\"Да\",1,-1)","v":1},{"$f":"(INDEX(спскВыбора,$M$60-$L973)=N$61)","v":false},{"$f":"(INDEX(спскВыбора,$M$60-$L973)=O$61)","v":false},170,156]
[{"$nulls":11},913,{"$f":"IF(INDEX(Данные[Решен],$M$60-$L974)=\"Да\",1,-1)","v":1},{"$f":"(INDEX(спскВыбора,$M$60-$L974)=N$61)","v":true},{"$f":"(INDEX(спскВыбора,$M$60-$L974)=O$61)","v":false},171,156]
[{"$nulls":11},914,{"$f":"IF(INDEX(Данные[Решен],$M$60-$L975)=\"Да\",1,-1)","v":1},{"$f":"(INDEX(спскВыбора,$M$60-$L975)=N$61)","v":false},{"$f":"(INDEX(спскВыбора,$M$60-$L975)=O$61)","v":false},171,156]
[{"$nulls":11},915,{"$f":"IF(INDEX(Данные[Решен],$M$60-$L976)=\"Да\",1,-1)","v":1},{"$f":"(INDEX(спскВыбора,$M$60-$L976)=N$61)","v":false},{"$f":"(INDEX(спскВыбора,$M$60-$L976)=O$61)","v":true},171,157]
[{"$nulls":11},916,{"$f":"IF(INDEX(Данные[Решен],$M$60-$L977)=\"Да\",1,-1)","v":1},{"$f":"(INDEX(спскВыбора,$M$60-$L977)=N$61)","v":false},{"$f":"(INDEX(спскВыбора,$M$60-$L977)=O$61)","v":false},171,157]
[{"$nulls":11},917,{"$f":"IF(INDEX(Данные[Решен],$M$60-$L978)=\"Да\",1,-1)","v":1},{"$f":"(INDEX(спскВыбора,$M$60-$L978)=N$61)","v":true},{"$f":"(INDEX(спскВыбора,$M$60-$L978)=O$61)","v":false},172,157]
[{"$nulls":11},918,{"$f":"IF(INDEX(Данные[Решен],$M$60-$L979)=\"Да\",1,-1)","v":1},{"$f":"(INDEX(спскВыбора,$M$60-$L979)=N$61)","v":false},{"$f":"(INDEX(спскВыбора,$M$60-$L979)=O$61)","v":false},172,157]
[{"$nulls":11},919,{"$f":"IF(INDEX(Данные[Решен],$M$60-$L980)=\"Да\",1,-1)","v":1},{"$f":"(INDEX(спскВыбора,$M$60-$L980)=N$61)","v":false},{"$f":"(INDEX(спскВыбора,$M$60-$L980)=O$61)","v":false},172,157]
[{"$nulls":11},920,{"$f":"IF(INDEX(Данные[Решен],$M$60-$L981)=\"Да\",1,-1)","v":1},{"$f":"(INDEX(спскВыбора,$M$60-$L981)=N$61)","v":false},{"$f":"(INDEX(спскВыбора,$M$60-$L981)=O$61)","v":false},172,157]
[{"$nulls":11},921,{"$f":"IF(INDEX(Данные[Решен],$M$60-$L982)=\"Да\",1,-1)","v":1},{"$f":"(INDEX(спскВыбора,$M$60-$L982)=N$61)","v":true},{"$f":"(INDEX(спскВыбора,$M$60-$L982)=O$61)","v":false},173,157]
[{"$nulls":11},922,{"$f":"IF(INDEX(Данные[Решен],$M$60-$L983)=\"Да\",1,-1)","v":1},{"$f":"(INDEX(спскВыбора,$M$60-$L983)=N$61)","v":false},{"$f":"(INDEX(спскВыбора,$M$60-$L983)=O$61)","v":false},173,157]
[{"$nulls":11},923,{"$f":"IF(INDEX(Данные[Решен],$M$60-$L984)=\"Да\",1,-1)","v":1},{"$f":"(INDEX(спскВыбора,$M$60-$L984)=N$61)","v":false},{"$f":"(INDEX(спскВыбора,$M$60-$L984)=O$61)","v":false},173,157]
[{"$nulls":11},924,{"$f":"IF(INDEX(Данные[Решен],$M$60-$L985)=\"Да\",1,-1)","v":1},{"$f":"(INDEX(спскВыбора,$M$60-$L985)=N$61)","v":false},{"$f":"(INDEX(спскВыбора,$M$60-$L985)=O$61)","v":false},173,157]
[{"$nulls":11},925,{"$f":"IF(INDEX(Данные[Решен],$M$60-$L986)=\"Да\",1,-1)","v":1},{"$f":"(INDEX(спскВыбора,$M$60-$L986)=N$61)","v":false},{"$f":"(INDEX(спскВыбора,$M$60-$L986)=O$61)","v":true},173,158]
[{"$nulls":11},926,{"$f":"IF(INDEX(Данные[Решен],$M$60-$L987)=\"Да\",1,-1)","v":1},{"$f":"(INDEX(спскВыбора,$M$60-$L987)=N$61)","v":false},{"$f":"(INDEX(спскВыбора,$M$60-$L987)=O$61)","v":false},173,158]
[{"$nulls":11},927,{"$f":"IF(INDEX(Данные[Решен],$M$60-$L988)=\"Да\",1,-1)","v":1},{"$f":"(INDEX(спскВыбора,$M$60-$L988)=N$61)","v":false},{"$f":"(INDEX(спскВыбора,$M$60-$L988)=O$61)","v":false},173,158]
[{"$nulls":11},928,{"$f":"IF(INDEX(Данные[Решен],$M$60-$L989)=\"Да\",1,-1)","v":1},{"$f":"(INDEX(спскВыбора,$M$60-$L989)=N$61)","v":false},{"$f":"(INDEX(спскВыбора,$M$60-$L989)=O$61)","v":false},173,158]
[{"$nulls":11},929,{"$f":"IF(INDEX(Данные[Решен],$M$60-$L990)=\"Да\",1,-1)","v":1},{"$f":"(INDEX(спскВыбора,$M$60-$L990)=N$61)","v":false},{"$f":"(INDEX(спскВыбора,$M$60-$L990)=O$61)","v":false},173,158]
[{"$nulls":11},930,{"$f":"IF(INDEX(Данные[Решен],$M$60-$L991)=\"Да\",1,-1)","v":1},{"$f":"(INDEX(спскВыбора,$M$60-$L991)=N$61)","v":false},{"$f":"(INDEX(спскВыбора,$M$60-$L991)=O$61)","v":false},173,158]
[{"$nulls":11},931,{"$f":"IF(INDEX(Данные[Решен],$M$60-$L992)=\"Да\",1,-1)","v":1},{"$f":"(INDEX(спскВыбора,$M$60-$L992)=N$61)","v":false},{"$f":"(INDEX(спскВыбора,$M$60-$L992)=O$61)","v":false},173,158]
[{"$nulls":11},932,{"$f":"IF(INDEX(Данные[Решен],$M$60-$L993)=\"Да\",1,-1)","v":1},{"$f":"(INDEX(спскВыбора,$M$60-$L993)=N$61)","v":false},{"$f":"(INDEX(спскВыбора,$M$60-$L993)=O$61)","v":true},173,159]
[{"$nulls":11},933,{"$f":"IF(INDEX(Данные[Решен],$M$60-$L994)=\"Да\",1,-1)","v":1},{"$f":"(INDEX(спскВыбора,$M$60-$L994)=N$61)","v":true},{"$f":"(INDEX(спскВыбора,$M$60-$L994)=O$61)","v":false},{"$f":"P993+N994","v":174},{"$f":"Q993+O994","v":159}]
[{"$nulls":11},934,{"$f":"IF(INDEX(Данные[Решен],$M$60-$L995)=\"Да\",1,-1)","v":1},{"$f":"(INDEX(спскВыбора,$M$60-$L995)=N$61)","v":false},{"$f":"(INDEX(спскВыбора,$M$60-$L995)=O$61)","v":false},174,159]
[{"$nulls":11},935,{"$f":"IF(INDEX(Данные[Решен],$M$60-$L996)=\"Да\",1,-1)","v":1},{"$f":"(INDEX(спскВыбора,$M$60-$L996)=N$61)","v":false},{"$f":"(INDEX(спскВыбора,$M$60-$L996)=O$61)","v":true},174,160]
[{"$nulls":11},936,{"$f":"IF(INDEX(Данные[Решен],$M$60-$L997)=\"Да\",1,-1)","v":1},{"$f":"(INDEX(спскВыбора,$M$60-$L997)=N$61)","v":false},{"$f":"(INDEX(спскВыбора,$M$60-$L997)=O$61)","v":false},174,160]
[{"$nulls":11},937,{"$f":"IF(INDEX(Данные[Решен],$M$60-$L998)=\"Да\",1,-1)","v":1},{"$f":"(INDEX(спскВыбора,$M$60-$L998)=N$61)","v":false},{"$f":"(INDEX(спскВыбора,$M$60-$L998)=O$61)","v":false},174,160]
[{"$nulls":11},938,{"$f":"IF(INDEX(Данные[Решен],$M$60-$L999)=\"Да\",1,-1)","v":1},{"$f":"(INDEX(спскВыбора,$M$60-$L999)=N$61)","v":false},{"$f":"(INDEX(спскВыбора,$M$60-$L999)=O$61)","v":false},174,160]
[{"$nulls":11},939,{"$f":"IF(INDEX(Данные[Решен],$M$60-$L1000)=\"Да\",1,-1)","v":1},{"$f":"(INDEX(спскВыбора,$M$60-$L1000)=N$61)","v":true},{"$f":"(INDEX(спскВыбора,$M$60-$L1000)=O$61)","v":false},175,160]
[{"$nulls":11},940,{"$f":"IF(INDEX(Данные[Решен],$M$60-$L1001)=\"Да\",1,-1)","v":1},{"$f":"(INDEX(спскВыбора,$M$60-$L1001)=N$61)","v":false},{"$f":"(INDEX(спскВыбора,$M$60-$L1001)=O$61)","v":false},175,160]
[{"$nulls":11},941,{"$f":"IF(INDEX(Данные[Решен],$M$60-$L1002)=\"Да\",1,-1)","v":1},{"$f":"(INDEX(спскВыбора,$M$60-$L1002)=N$61)","v":false},{"$f":"(INDEX(спскВыбора,$M$60-$L1002)=O$61)","v":false},175,160]
[{"$nulls":11},942,{"$f":"IF(INDEX(Данные[Решен],$M$60-$L1003)=\"Да\",1,-1)","v":1},{"$f":"(INDEX(спскВыбора,$M$60-$L1003)=N$61)","v":false},{"$f":"(INDEX(спскВыбора,$M$60-$L1003)=O$61)","v":false},175,160]
[{"$nulls":11},943,{"$f":"IF(INDEX(Данные[Решен],$M$60-$L1004)=\"Да\",1,-1)","v":1},{"$f":"(INDEX(спскВыбора,$M$60-$L1004)=N$61)","v":false},{"$f":"(INDEX(спскВыбора,$M$60-$L1004)=O$61)","v":true},175,161]
[{"$nulls":11},944,{"$f":"IF(INDEX(Данные[Решен],$M$60-$L1005)=\"Да\",1,-1)","v":1},{"$f":"(INDEX(спскВыбора,$M$60-$L1005)=N$61)","v":false},{"$f":"(INDEX(спскВыбора,$M$60-$L1005)=O$61)","v":false},175,161]
[{"$nulls":11},945,{"$f":"IF(INDEX(Данные[Решен],$M$60-$L1006)=\"Да\",1,-1)","v":1},{"$f":"(INDEX(спскВыбора,$M$60-$L1006)=N$61)","v":false},{"$f":"(INDEX(спскВыбора,$M$60-$L1006)=O$61)","v":false},175,161]
[{"$nulls":11},946,{"$f":"IF(INDEX(Данные[Решен],$M$60-$L1007)=\"Да\",1,-1)","v":1},{"$f":"(INDEX(спскВыбора,$M$60-$L1007)=N$61)","v":true},{"$f":"(INDEX(спскВыбора,$M$60-$L1007)=O$61)","v":false},176,161]
[{"$nulls":11},947,{"$f":"IF(INDEX(Данные[Решен],$M$60-$L1008)=\"Да\",1,-1)","v":-1},{"$f":"(INDEX(спскВыбора,$M$60-$L1008)=N$61)","v":true},{"$f":"(INDEX(спскВыбора,$M$60-$L1008)=O$61)","v":false},177,161]
[{"$nulls":11},948,{"$f":"IF(INDEX(Данные[Решен],$M$60-$L1009)=\"Да\",1,-1)","v":1},{"$f":"(INDEX(спскВыбора,$M$60-$L1009)=N$61)","v":false},{"$f":"(INDEX(спскВыбора,$M$60-$L1009)=O$61)","v":false},177,161]
[{"$nulls":11},949,{"$f":"IF(INDEX(Данные[Решен],$M$60-$L1010)=\"Да\",1,-1)","v":1},{"$f":"(INDEX(спскВыбора,$M$60-$L1010)=N$61)","v":false},{"$f":"(INDEX(спскВыбора,$M$60-$L1010)=O$61)","v":false},177,161]
[{"$nulls":11},950,{"$f":"IF(INDEX(Данные[Решен],$M$60-$L1011)=\"Да\",1,-1)","v":1},{"$f":"(INDEX(спскВыбора,$M$60-$L1011)=N$61)","v":true},{"$f":"(INDEX(спскВыбора,$M$60-$L1011)=O$61)","v":false},178,161]
[{"$nulls":11},951,{"$f":"IF(INDEX(Данные[Решен],$M$60-$L1012)=\"Да\",1,-1)","v":1},{"$f":"(INDEX(спскВыбора,$M$60-$L1012)=N$61)","v":false},{"$f":"(INDEX(спскВыбора,$M$60-$L1012)=O$61)","v":false},178,161]
[{"$nulls":11},952,{"$f":"IF(INDEX(Данные[Решен],$M$60-$L1013)=\"Да\",1,-1)","v":1},{"$f":"(INDEX(спскВыбора,$M$60-$L1013)=N$61)","v":false},{"$f":"(INDEX(спскВыбора,$M$60-$L1013)=O$61)","v":false},178,161]
[{"$nulls":11},953,{"$f":"IF(INDEX(Данные[Решен],$M$60-$L1014)=\"Да\",1,-1)","v":1},{"$f":"(INDEX(спскВыбора,$M$60-$L1014)=N$61)","v":false},{"$f":"(INDEX(спскВыбора,$M$60-$L1014)=O$61)","v":false},178,161]
[{"$nulls":11},954,{"$f":"IF(INDEX(Данные[Решен],$M$60-$L1015)=\"Да\",1,-1)","v":1},{"$f":"(INDEX(спскВыбора,$M$60-$L1015)=N$61)","v":false},{"$f":"(INDEX(спскВыбора,$M$60-$L1015)=O$61)","v":false},178,161]
[{"$nulls":11},955,{"$f":"IF(INDEX(Данные[Решен],$M$60-$L1016)=\"Да\",1,-1)","v":1},{"$f":"(INDEX(спскВыбора,$M$60-$L1016)=N$61)","v":false},{"$f":"(INDEX(спскВыбора,$M$60-$L1016)=O$61)","v":false},178,161]
[{"$nulls":11},956,{"$f":"IF(INDEX(Данные[Решен],$M$60-$L1017)=\"Да\",1,-1)","v":1},{"$f":"(INDEX(спскВыбора,$M$60-$L1017)=N$61)","v":false},{"$f":"(INDEX(спскВыбора,$M$60-$L1017)=O$61)","v":false},178,161]
[{"$nulls":11},957,{"$f":"IF(INDEX(Данные[Решен],$M$60-$L1018)=\"Да\",1,-1)","v":1},{"$f":"(INDEX(спскВыбора,$M$60-$L1018)=N$61)","v":true},{"$f":"(INDEX(спскВыбора,$M$60-$L1018)=O$61)","v":false},179,161]
[{"$nulls":11},958,{"$f":"IF(INDEX(Данные[Решен],$M$60-$L1019)=\"Да\",1,-1)","v":1},{"$f":"(INDEX(спскВыбора,$M$60-$L1019)=N$61)","v":false},{"$f":"(INDEX(спскВыбора,$M$60-$L1019)=O$61)","v":false},179,161]
[{"$nulls":11},959,{"$f":"IF(INDEX(Данные[Решен],$M$60-$L1020)=\"Да\",1,-1)","v":1},{"$f":"(INDEX(спскВыбора,$M$60-$L1020)=N$61)","v":false},{"$f":"(INDEX(спскВыбора,$M$60-$L1020)=O$61)","v":false},179,161]
[{"$nulls":11},960,{"$f":"IF(INDEX(Данные[Решен],$M$60-$L1021)=\"Да\",1,-1)","v":1},{"$f":"(INDEX(спскВыбора,$M$60-$L1021)=N$61)","v":false},{"$f":"(INDEX(спскВыбора,$M$60-$L1021)=O$61)","v":false},179,161]
[{"$nulls":11},961,{"$f":"IF(INDEX(Данные[Решен],$M$60-$L1022)=\"Да\",1,-1)","v":1},{"$f":"(INDEX(спскВыбора,$M$60-$L1022)=N$61)","v":false},{"$f":"(INDEX(спскВыбора,$M$60-$L1022)=O$61)","v":true},179,162]
[{"$nulls":11},962,{"$f":"IF(INDEX(Данные[Решен],$M$60-$L1023)=\"Да\",1,-1)","v":1},{"$f":"(INDEX(спскВыбора,$M$60-$L1023)=N$61)","v":true},{"$f":"(INDEX(спскВыбора,$M$60-$L1023)=O$61)","v":false},180,162]
[{"$nulls":11},963,{"$f":"IF(INDEX(Данные[Решен],$M$60-$L1024)=\"Да\",1,-1)","v":1},{"$f":"(INDEX(спскВыбора,$M$60-$L1024)=N$61)","v":true},{"$f":"(INDEX(спскВыбора,$M$60-$L1024)=O$61)","v":false},181,162]
[{"$nulls":11},964,{"$f":"IF(INDEX(Данные[Решен],$M$60-$L1025)=\"Да\",1,-1)","v":1},{"$f":"(INDEX(спскВыбора,$M$60-$L1025)=N$61)","v":true},{"$f":"(INDEX(спскВыбора,$M$60-$L1025)=O$61)","v":false},182,162]
[{"$nulls":11},965,{"$f":"IF(INDEX(Данные[Решен],$M$60-$L1026)=\"Да\",1,-1)","v":1},{"$f":"(INDEX(спскВыбора,$M$60-$L1026)=N$61)","v":false},{"$f":"(INDEX(спскВыбора,$M$60-$L1026)=O$61)","v":false},182,162]
[{"$nulls":11},966,{"$f":"IF(INDEX(Данные[Решен],$M$60-$L1027)=\"Да\",1,-1)","v":1},{"$f":"(INDEX(спскВыбора,$M$60-$L1027)=N$61)","v":false},{"$f":"(INDEX(спскВыбора,$M$60-$L1027)=O$61)","v":false},182,162]
[{"$nulls":11},967,{"$f":"IF(INDEX(Данные[Решен],$M$60-$L1028)=\"Да\",1,-1)","v":1},{"$f":"(INDEX(спскВыбора,$M$60-$L1028)=N$61)","v":false},{"$f":"(INDEX(спскВыбора,$M$60-$L1028)=O$61)","v":true},182,163]
[{"$nulls":11},968,{"$f":"IF(INDEX(Данные[Решен],$M$60-$L1029)=\"Да\",1,-1)","v":1},{"$f":"(INDEX(спскВыбора,$M$60-$L1029)=N$61)","v":false},{"$f":"(INDEX(спскВыбора,$M$60-$L1029)=O$61)","v":false},182,163]
[{"$nulls":11},969,{"$f":"IF(INDEX(Данные[Решен],$M$60-$L1030)=\"Да\",1,-1)","v":1},{"$f":"(INDEX(спскВыбора,$M$60-$L1030)=N$61)","v":false},{"$f":"(INDEX(спскВыбора,$M$60-$L1030)=O$61)","v":false},182,163]
[{"$nulls":11},970,{"$f":"IF(INDEX(Данные[Решен],$M$60-$L1031)=\"Да\",1,-1)","v":1},{"$f":"(INDEX(спскВыбора,$M$60-$L1031)=N$61)","v":false},{"$f":"(INDEX(спскВыбора,$M$60-$L1031)=O$61)","v":true},182,164]
[{"$nulls":11},971,{"$f":"IF(INDEX(Данные[Решен],$M$60-$L1032)=\"Да\",1,-1)","v":1},{"$f":"(INDEX(спскВыбора,$M$60-$L1032)=N$61)","v":false},{"$f":"(INDEX(спскВыбора,$M$60-$L1032)=O$61)","v":false},182,164]
[{"$nulls":11},972,{"$f":"IF(INDEX(Данные[Решен],$M$60-$L1033)=\"Да\",1,-1)","v":1},{"$f":"(INDEX(спскВыбора,$M$60-$L1033)=N$61)","v":false},{"$f":"(INDEX(спскВыбора,$M$60-$L1033)=O$61)","v":false},182,164]
[{"$nulls":11},973,{"$f":"IF(INDEX(Данные[Решен],$M$60-$L1034)=\"Да\",1,-1)","v":1},{"$f":"(INDEX(спскВыбора,$M$60-$L1034)=N$61)","v":false},{"$f":"(INDEX(спскВыбора,$M$60-$L1034)=O$61)","v":true},182,165]
[{"$nulls":11},974,{"$f":"IF(INDEX(Данные[Решен],$M$60-$L1035)=\"Да\",1,-1)","v":1},{"$f":"(INDEX(спскВыбора,$M$60-$L1035)=N$61)","v":false},{"$f":"(INDEX(спскВыбора,$M$60-$L1035)=O$61)","v":false},182,165]
[{"$nulls":11},975,{"$f":"IF(INDEX(Данные[Решен],$M$60-$L1036)=\"Да\",1,-1)","v":1},{"$f":"(INDEX(спскВыбора,$M$60-$L1036)=N$61)","v":false},{"$f":"(INDEX(спскВыбора,$M$60-$L1036)=O$61)","v":false},182,165]
[{"$nulls":11},976,{"$f":"IF(INDEX(Данные[Решен],$M$60-$L1037)=\"Да\",1,-1)","v":1},{"$f":"(INDEX(спскВыбора,$M$60-$L1037)=N$61)","v":false},{"$f":"(INDEX(спскВыбора,$M$60-$L1037)=O$61)","v":false},182,165]
[{"$nulls":11},977,{"$f":"IF(INDEX(Данные[Решен],$M$60-$L1038)=\"Да\",1,-1)","v":1},{"$f":"(INDEX(спскВыбора,$M$60-$L1038)=N$61)","v":false},{"$f":"(INDEX(спскВыбора,$M$60-$L1038)=O$61)","v":false},182,165]
[{"$nulls":11},978,{"$f":"IF(INDEX(Данные[Решен],$M$60-$L1039)=\"Да\",1,-1)","v":1},{"$f":"(INDEX(спскВыбора,$M$60-$L1039)=N$61)","v":false},{"$f":"(INDEX(спскВыбора,$M$60-$L1039)=O$61)","v":true},182,166]
[{"$nulls":11},979,{"$f":"IF(INDEX(Данные[Решен],$M$60-$L1040)=\"Да\",1,-1)","v":1},{"$f":"(INDEX(спскВыбора,$M$60-$L1040)=N$61)","v":true},{"$f":"(INDEX(спскВыбора,$M$60-$L1040)=O$61)","v":false},183,166]
[{"$nulls":11},980,{"$f":"IF(INDEX(Данные[Решен],$M$60-$L1041)=\"Да\",1,-1)","v":1},{"$f":"(INDEX(спскВыбора,$M$60-$L1041)=N$61)","v":false},{"$f":"(INDEX(спскВыбора,$M$60-$L1041)=O$61)","v":false},183,166]
[{"$nulls":11},981,{"$f":"IF(INDEX(Данные[Решен],$M$60-$L1042)=\"Да\",1,-1)","v":1},{"$f":"(INDEX(спскВыбора,$M$60-$L1042)=N$61)","v":false},{"$f":"(INDEX(спскВыбора,$M$60-$L1042)=O$61)","v":false},183,166]
[{"$nulls":11},982,{"$f":"IF(INDEX(Данные[Решен],$M$60-$L1043)=\"Да\",1,-1)","v":1},{"$f":"(INDEX(спскВыбора,$M$60-$L1043)=N$61)","v":false},{"$f":"(INDEX(спскВыбора,$M$60-$L1043)=O$61)","v":false},183,166]
[{"$nulls":11},983,{"$f":"IF(INDEX(Данные[Решен],$M$60-$L1044)=\"Да\",1,-1)","v":1},{"$f":"(INDEX(спскВыбора,$M$60-$L1044)=N$61)","v":false},{"$f":"(INDEX(спскВыбора,$M$60-$L1044)=O$61)","v":true},183,167]
[{"$nulls":11},984,{"$f":"IF(INDEX(Данные[Решен],$M$60-$L1045)=\"Да\",1,-1)","v":1},{"$f":"(INDEX(спскВыбора,$M$60-$L1045)=N$61)","v":false},{"$f":"(INDEX(спскВыбора,$M$60-$L1045)=O$61)","v":true},183,168]
[{"$nulls":11},985,{"$f":"IF(INDEX(Данные[Решен],$M$60-$L1046)=\"Да\",1,-1)","v":1},{"$f":"(INDEX(спскВыбора,$M$60-$L1046)=N$61)","v":false},{"$f":"(INDEX(спскВыбора,$M$60-$L1046)=O$61)","v":false},183,168]
[{"$nulls":11},986,{"$f":"IF(INDEX(Данные[Решен],$M$60-$L1047)=\"Да\",1,-1)","v":1},{"$f":"(INDEX(спскВыбора,$M$60-$L1047)=N$61)","v":false},{"$f":"(INDEX(спскВыбора,$M$60-$L1047)=O$61)","v":true},183,169]
[{"$nulls":11},987,{"$f":"IF(INDEX(Данные[Решен],$M$60-$L1048)=\"Да\",1,-1)","v":1},{"$f":"(INDEX(спскВыбора,$M$60-$L1048)=N$61)","v":false},{"$f":"(INDEX(спскВыбора,$M$60-$L1048)=O$61)","v":false},183,169]
[{"$nulls":11},988,{"$f":"IF(INDEX(Данные[Решен],$M$60-$L1049)=\"Да\",1,-1)","v":1},{"$f":"(INDEX(спскВыбора,$M$60-$L1049)=N$61)","v":false},{"$f":"(INDEX(спскВыбора,$M$60-$L1049)=O$61)","v":false},183,169]
[{"$nulls":11},989,{"$f":"IF(INDEX(Данные[Решен],$M$60-$L1050)=\"Да\",1,-1)","v":1},{"$f":"(INDEX(спскВыбора,$M$60-$L1050)=N$61)","v":false},{"$f":"(INDEX(спскВыбора,$M$60-$L1050)=O$61)","v":false},183,169]
[{"$nulls":11},990,{"$f":"IF(INDEX(Данные[Решен],$M$60-$L1051)=\"Да\",1,-1)","v":1},{"$f":"(INDEX(спскВыбора,$M$60-$L1051)=N$61)","v":false},{"$f":"(INDEX(спскВыбора,$M$60-$L1051)=O$61)","v":false},183,169]
[{"$nulls":11},991,{"$f":"IF(INDEX(Данные[Решен],$M$60-$L1052)=\"Да\",1,-1)","v":1},{"$f":"(INDEX(спскВыбора,$M$60-$L1052)=N$61)","v":false},{"$f":"(INDEX(спскВыбора,$M$60-$L1052)=O$61)","v":false},183,169]
[{"$nulls":11},992,{"$f":"IF(INDEX(Данные[Решен],$M$60-$L1053)=\"Да\",1,-1)","v":1},{"$f":"(INDEX(спскВыбора,$M$60-$L1053)=N$61)","v":true},{"$f":"(INDEX(спскВыбора,$M$60-$L1053)=O$61)","v":false},184,169]
[{"$nulls":11},993,{"$f":"IF(INDEX(Данные[Решен],$M$60-$L1054)=\"Да\",1,-1)","v":1},{"$f":"(INDEX(спскВыбора,$M$60-$L1054)=N$61)","v":false},{"$f":"(INDEX(спскВыбора,$M$60-$L1054)=O$61)","v":false},184,169]
[{"$nulls":11},994,{"$f":"IF(INDEX(Данные[Решен],$M$60-$L1055)=\"Да\",1,-1)","v":1},{"$f":"(INDEX(спскВыбора,$M$60-$L1055)=N$61)","v":false},{"$f":"(INDEX(спскВыбора,$M$60-$L1055)=O$61)","v":false},184,169]
[{"$nulls":11},995,{"$f":"IF(INDEX(Данные[Решен],$M$60-$L1056)=\"Да\",1,-1)","v":1},{"$f":"(INDEX(спскВыбора,$M$60-$L1056)=N$61)","v":false},{"$f":"(INDEX(спскВыбора,$M$60-$L1056)=O$61)","v":false},184,169]
[{"$nulls":11},996,{"$f":"IF(INDEX(Данные[Решен],$M$60-$L1057)=\"Да\",1,-1)","v":1},{"$f":"(INDEX(спскВыбора,$M$60-$L1057)=N$61)","v":false},{"$f":"(INDEX(спскВыбора,$M$60-$L1057)=O$61)","v":false},184,169]
[{"$nulls":11},997,{"$f":"IF(INDEX(Данные[Решен],$M$60-$L1058)=\"Да\",1,-1)","v":1},{"$f":"(INDEX(спскВыбора,$M$60-$L1058)=N$61)","v":false},{"$f":"(INDEX(спскВыбора,$M$60-$L1058)=O$61)","v":false},{"$f":"P1057+N1058","v":184},{"$f":"Q1057+O1058","v":169}]
[{"$nulls":11},998,{"$f":"IF(INDEX(Данные[Решен],$M$60-$L1059)=\"Да\",1,-1)","v":1},{"$f":"(INDEX(спскВыбора,$M$60-$L1059)=N$61)","v":false},{"$f":"(INDEX(спскВыбора,$M$60-$L1059)=O$61)","v":false},184,169]
[{"$nulls":11},999,{"$f":"IF(INDEX(Данные[Решен],$M$60-$L1060)=\"Да\",1,-1)","v":1},{"$f":"(INDEX(спскВыбора,$M$60-$L1060)=N$61)","v":false},{"$f":"(INDEX(спскВыбора,$M$60-$L1060)=O$61)","v":false},184,169]
[{"$nulls":11},1000,{"$f":"IF(INDEX(Данные[Решен],$M$60-$L1061)=\"Да\",1,-1)","v":1},{"$f":"(INDEX(спскВыбора,$M$60-$L1061)=N$61)","v":true},{"$f":"(INDEX(спскВыбора,$M$60-$L1061)=O$61)","v":false},185,169]